Workbook

Sheet пр.взв.
A1: PROTOKOL of weighting and draving or participants
A2: =HYPERLINK([1]реквизиты!$A$2) -> World Cup Stage - XI International Sambo Tournament for General Aslambeck Askakhanov prizes
A3: =HYPERLINK([1]реквизиты!$A$3) -> September 30 - October 02, 2012 Moscow /Russia/
C4: M | D4: 68 kg
A5: № or | B5: № j | C5: Name | D5: Year of a birth | E5: Country/Team | F5: Coach
A6: № or | C6: Name | D6: Yob., Rank | E6: Country/Team | F6: Coach
B7: 16 | C7: ZHARLYGASOV Bagdat | D7: 1990, msic | E7: KAZ
B9: 20 | C9: GEVORGYAN Vaag | D9: 1991, ms | E9: ARM
B11: 9 | C11: KLINOV Anton | D11: 1987, msic | E11: RUS
B13: 1 | C13: BALYKOV Vladimir | D13: 1991, ms | E13: RUS
B15: 3 | C15: VLASOV Maksim | D15: 1990, cms | E15: RUS
B17: 14 | C17: BAZYLEV Dzmitri | D17: 1978, dvms | E17: BLR
B19: 12 | C19: TUTKHALIAN Vae | D19: 1991, ms | E19: BLR
B21: 6 | C21: MUSLUMOV Elgun | D21: 1986, ms | E21: AZE
B23: 10 | C23: ZHARKYNBAY UULU Eldiyar | D23: 1990, msic | E23: KGZ
B25: 18 | C25: KHASANOF Mustafo | D25: 1986, ms | E25: TJK
B27: 7 | C27: KLETSKOV Nikita | D27: 1986, msic | E27: RUS-M
B29: 5 | C29: KLETSKOV Dmitriy | D29: 1986, msic | E29: RUS-M
... B37: 4 | C37: MOVLAMOV Rauf | D37: 1990, ms | E37: AZE
B39: 17
B41: 18
B43: 19
B45: 20
B47: 21
B49: 22
B51: 23
B53: 24
B55: 25
B57: 26
B59: 27
B61: 28
... B69: 32

Sheet полуфинал
A1: PROTOKOL of final
A2: =HYPERLINK([1]реквизиты!$A$2) -> World Cup Stage - XI International Sambo Tournament for General Aslambeck Askakhanov prizes
A3: =HYPERLINK(пр.взв.!A4) | E3: =пр.взв.!C4 -> M | G3: =пр.взв.!D4 -> 68 kg
A4: Fight for 3rd place
A5: Meetings | B5: № j | C5: Color | D5: Name | E5: Yob., Rank | F5: Country | G5: Points | H5: Score | I5: Result | J5: Time | K5: Referee
A6: 1 | B6: 1 | C6: r | D6: =VLOOKUP(B6,пр.взв.!B7:E70,2,FALSE) -> BALYKOV Vladimir | E6: =VLOOKUP(B6,пр.взв.!B7:E70,3,FALSE) -> 1991, ms | F6: =VLOOKUP(B6,пр.взв.!B7:E70,4,FALSE) -> RUS | K6: НM
K7: A
B8: 16 | C8: b | D8: =VLOOKUP(B8,пр.взв.!B7:E70,2,FALSE) -> ZHARLYGASOV Bagdat | E8: =VLOOKUP(B8,пр.взв.!B7:E70,3,FALSE) -> 1990, msic | F8: =VLOOKUP(B8,пр.взв.!B7:E70,4,FALSE) -> KAZ | K8: LJ
A11: Meetings | B11: № j | C11: Color | D11: Name | E11: Yob., Rank | F11: Country | G11: Points | H11: Score | I11: Result | J11: Time | K11: Referee
A12: 2 | B12: =пр.хода!N79 -> 0 | C12: r | D12: =VLOOKUP(B12,пр.взв.!B1:E76,2,FALSE) -> #N/A | E12: =VLOOKUP(B12,пр.взв.!B1:E76,3,FALSE) -> #N/A | F12: =VLOOKUP(B12,пр.взв.!B1:E76,4,FALSE) -> #N/A | K12: НM
K13: A
B14: =пр.хода!N83 -> 0 | C14: b | D14: =VLOOKUP(B14,пр.взв.!B1:E76,2,FALSE) -> #N/A | E14: =VLOOKUP(B14,пр.взв.!B1:E76,3,FALSE) -> #N/A | F14: =VLOOKUP(B14,пр.взв.!B1:E76,4,FALSE) -> #N/A | K14: LJ
E17: =E3 -> M | G17: =G3 -> 68 kg
A18: FINAL
A19: Meetings | B19: № j | C19: Color | D19: Name | E19: Yob., Rank | F19: Country | G19: Points | H19: Score | I19: Result | J19: Time | K19: Referee
B20: =пр.хода!$M$26 -> 7 | C20: r | D20: =VLOOKUP(B20,пр.взв.!B7:E70,2,FALSE) -> KLETSKOV Nikita | E20: =VLOOKUP(B20,пр.взв.!B7:E70,3,FALSE) -> 1986, msic | F20: =VLOOKUP(B20,пр.взв.!B7:E70,4,FALSE) -> RUS-M | K20: НM
K21: A
B22: =пр.хода!$M$60 -> 14 | C22: b | D22: =VLOOKUP(B22,пр.взв.!B7:E70,2,FALSE) -> BAZYLEV Dzmitri | E22: =VLOOKUP(B22,пр.взв.!B7:E70,3,FALSE) -> 1978, dvms | F22: =VLOOKUP(B22,пр.взв.!B7:E70,4,FALSE) -> BLR | K22: LJ
A25: =[1]реквизиты!$A$8 -> Chief referee | H25: =[1]реквизиты!$G$8 -> E. Borkov | K25: =[1]реквизиты!$G$9 -> /RUS/
A27: =[1]реквизиты!$A$10 -> Chief secretary | H27: =[1]реквизиты!$G$10 -> A. Drokov | K27: =[1]реквизиты!$G$11 -> /RUS/

Sheet Стартовый
A1: =пр.взв.!A2 -> World Cup Stage - XI International Sambo Tournament for General Aslambeck Askakhanov prizes | H1: =A1 -> World Cup Stage - XI International Sambo Tournament for General Aslambeck Askakhanov prizes
A2: =пр.хода!A3 -> September 30 - October 02, 2012 Moscow /Russia/ | H2: =A2 -> September 30 - October 02, 2012 Moscow /Russia/
A3: =HYPERLINK(пр.взв.!A4) | H3: =HYPERLINK(пр.взв.!A4)
A5: 1 | B5: =VLOOKUP(A5,пр.взв.!B7:C70,2,FALSE) -> BALYKOV Vladimir | C5: =VLOOKUP(B5,пр.взв.!C7:D70,2,FALSE) -> 1991, ms | D5: =VLOOKUP(A5,пр.взв.!B7:E70,4,FALSE) -> RUS | H5: 2 | I5: =VLOOKUP(H5,пр.взв.!B7:C70,2,FALSE) -> DULO Daniel | J5: =VLOOKUP(H5,пр.взв.!B7:E70,3,FALSE) -> 1985, ms | K5: =VLOOKUP(H5,пр.взв.!B7:E70,4,FALSE) -> SVK
A7: 17 | B7: =VLOOKUP(A7,пр.взв.!B9:C70,2,FALSE) -> 0 | C7: =VLOOKUP(B7,пр.взв.!C9:D70,2,FALSE) -> #N/A | D7: =VLOOKUP(A7,пр.взв.!B7:E70,4,FALSE) -> 0 | H7: 18 | I7: =VLOOKUP(H7,пр.взв.!B9:C70,2,FALSE) -> KHASANOF Mustafo | J7: =VLOOKUP(H7,пр.взв.!B9:E70,3,FALSE) -> 1986, ms | K7: =VLOOKUP(H7,пр.взв.!B9:E70,4,FALSE) -> TJK
A9: 9 | B9: =VLOOKUP(A9,пр.взв.!B11:C70,2,FALSE) -> KLINOV Anton | C9: =VLOOKUP(B9,пр.взв.!C11:D70,2,FALSE) -> 1987, msic | D9: =VLOOKUP(A9,пр.взв.!B7:E70,4,FALSE) -> RUS | H9: 10 | I9: =VLOOKUP(H9,пр.взв.!B11:C70,2,FALSE) -> ZHARKYNBAY UULU Eldiyar | J9: =VLOOKUP(H9,пр.взв.!B11:E70,3,FALSE) -> 1990, msic | K9: =VLOOKUP(H9,пр.взв.!B11:E70,4,FALSE) -> KGZ
A11: 25 | B11: =VLOOKUP(A11,пр.взв.!B13:C70,2,FALSE) -> 0 | C11: =VLOOKUP(B11,пр.взв.!C13:D70,2,FALSE) -> #N/A | D11: =VLOOKUP(A11,пр.взв.!B7:E70,4,FALSE) -> 0 | H11: 26 | I11: =VLOOKUP(H11,пр.взв.!B13:C70,2,FALSE) -> 0 | J11: =VLOOKUP(H11,пр.взв.!B13:E70,3,FALSE) -> 0 | K11: =VLOOKUP(H11,пр.взв.!B13:E70,4,FALSE) -> 0
A13: 5 | B13: =VLOOKUP(A13,пр.взв.!B15:C70,2,FALSE) -> KLETSKOV Dmitriy | C13: =VLOOKUP(B13,пр.взв.!C15:D70,2,FALSE) -> 1986, msic | D13: =VLOOKUP(A13,пр.взв.!B7:E70,4,FALSE) -> RUS-M | H13: 6 | I13: =VLOOKUP(H13,пр.взв.!B15:C70,2,FALSE) -> MUSLUMOV Elgun | J13: =VLOOKUP(H13,пр.взв.!B15:E70,3,FALSE) -> 1986, ms | K13: =VLOOKUP(H13,пр.взв.!B15:E70,4,FALSE) -> AZE
A15: 21 | B15: =VLOOKUP(A15,пр.взв.!B17:C70,2,FALSE) -> 0 | C15: =VLOOKUP(B15,пр.взв.!C17:D70,2,FALSE) -> #N/A | D15: =VLOOKUP(A15,пр.взв.!B7:E70,4,FALSE) -> 0 | H15: 22 | I15: =VLOOKUP(H15,пр.взв.!B17:C70,2,FALSE) -> 0 | J15: =VLOOKUP(H15,пр.взв.!B17:E70,3,FALSE) -> 0 | K15: =VLOOKUP(H15,пр.взв.!B17:E70,4,FALSE) -> 0
A17: 13 | B17: =VLOOKUP(A17,пр.взв.!B19:C70,2,FALSE) -> #N/A | C17: =VLOOKUP(B17,пр.взв.!C19:D70,2,FALSE) -> #N/A | D17: =VLOOKUP(A17,пр.взв.!B7:E68,4,FALSE) -> #N/A | H17: 14 | I17: =VLOOKUP(H17,пр.взв.!B19:C70,2,FALSE) -> #N/A | J17: =VLOOKUP(H17,пр.взв.!B19:E70,3,FALSE) -> #N/A | K17: =VLOOKUP(H17,пр.взв.!B19:E70,4,FALSE) -> #N/A
A19: 29 | B19: =VLOOKUP(A19,пр.взв.!B21:C72,2,FALSE) -> 0 | C19: =VLOOKUP(B19,пр.взв.!C21:D72,2,FALSE) -> #N/A | D19: =VLOOKUP(A19,пр.взв.!B7:E70,4,FALSE) -> 0 | H19: 30 | I19: =VLOOKUP(H19,пр.взв.!B21:C72,2,FALSE) -> 0 | J19: =VLOOKUP(H19,пр.взв.!B21:E72,3,FALSE) -> 0 | K19: =VLOOKUP(H19,пр.взв.!B21:E72,4,FALSE) -> 0
A21: 3 | B21: =VLOOKUP(A21,пр.взв.!B7:C70,2,FALSE) -> VLASOV Maksim | C21: =VLOOKUP(B21,пр.взв.!C7:D70,2,FALSE) -> 1990, cms | D21: =VLOOKUP(A21,пр.взв.!B7:E70,4,FALSE) -> RUS | H21: 4 | I21: =VLOOKUP(H21,пр.взв.!B7:C70,2,FALSE) -> MOVLAMOV Rauf | J21: =VLOOKUP(H21,пр.взв.!B7:E70,3,FALSE) -> 1990, ms | K21: =VLOOKUP(H21,пр.взв.!B7:E70,4,FALSE) -> AZE
A23: 19 | B23: =VLOOKUP(A23,пр.взв.!B25:C76,2,FALSE) -> 0 | C23: =VLOOKUP(B23,пр.взв.!C25:D76,2,FALSE) -> #N/A | D23: =VLOOKUP(A23,пр.взв.!B7:E70,4,FALSE) -> 0 | H23: 20 | I23: =VLOOKUP(H23,пр.взв.!B25:C76,2,FALSE) -> 0 | J23: =VLOOKUP(H23,пр.взв.!B25:E76,3,FALSE) -> 0 | K23: =VLOOKUP(H23,пр.взв.!B25:E76,4,FALSE) -> 0
A25: 11 | B25: =VLOOKUP(A25,пр.взв.!B27:C78,2,FALSE) -> OGARYSHEV Aleksey | C25: =VLOOKUP(B25,пр.взв.!C27:D78,2,FALSE) -> 1988, ms | D25: =VLOOKUP(A25,пр.взв.!B7:E70,4,FALSE) -> RUS | H25: 12 | I25: =VLOOKUP(H25,пр.взв.!B27:C78,2,FALSE) -> #N/A | J25: =VLOOKUP(H25,пр.взв.!B27:E78,3,FALSE) -> #N/A | K25: =VLOOKUP(H25,пр.взв.!B27:E78,4,FALSE) -> #N/A
A27: 27 | B27: =VLOOKUP(A27,пр.взв.!B29:C80,2,FALSE) -> 0 | C27: =VLOOKUP(B27,пр.взв.!C29:D80,2,FALSE) -> #N/A | D27: =VLOOKUP(A27,пр.взв.!B7:E70,4,FALSE) -> 0 | H27: 28 | I27: =VLOOKUP(H27,пр.взв.!B29:C80,2,FALSE) -> 0 | J27: =VLOOKUP(H27,пр.взв.!B29:E80,3,FALSE) -> 0 | K27: =VLOOKUP(H27,пр.взв.!B29:E80,4,FALSE) -> 0
A29: 7 | B29: =VLOOKUP(A29,пр.взв.!B7:C70,2,FALSE) -> KLETSKOV Nikita | C29: =VLOOKUP(B29,пр.взв.!C7:D70,2,FALSE) -> 1986, msic | D29: =VLOOKUP(A29,пр.взв.!B7:E70,4,FALSE) -> RUS-M | H29: 8 | I29: =VLOOKUP(H29,пр.взв.!B7:C70,2,FALSE) -> KURBONOV Farukh | J29: =VLOOKUP(H29,пр.взв.!B7:E70,3,FALSE) -> 1990, ms | K29: =VLOOKUP(H29,пр.взв.!B7:E70,4,FALSE) -> TJK
A31: 23 | B31: =VLOOKUP(A31,пр.взв.!B33:C84,2,FALSE) -> 0 | C31: =VLOOKUP(B31,пр.взв.!C33:D84,2,FALSE) -> #N/A | D31: =VLOOKUP(A31,пр.взв.!B7:E70,4,FALSE) -> 0 | H31: 24 | I31: =VLOOKUP(H31,пр.взв.!B33:C84,2,FALSE) -> 0 | J31: =VLOOKUP(H31,пр.взв.!B33:E84,3,FALSE) -> 0 | K31: =VLOOKUP(H31,пр.взв.!B33:E84,4,FALSE) -> 0
A33: 15 | B33: =VLOOKUP(A33,пр.взв.!B35:C86,2,FALSE) -> #N/A | C33: =VLOOKUP(B33,пр.взв.!C35:D86,2,FALSE) -> #N/A | D33: =VLOOKUP(A33,пр.взв.!B7:E70,4,FALSE) -> #N/A | H33: 16 | I33: =VLOOKUP(H33,пр.взв.!B35:C86,2,FALSE) -> #N/A | J33: =VLOOKUP(H33,пр.взв.!B35:E86,3,FALSE) -> #N/A | K33: =VLOOKUP(H33,пр.взв.!B35:E86,4,FALSE) -> #N/A
A35: 31 | B35: =VLOOKUP(A35,пр.взв.!B37:C88,2,FALSE) -> 0 | C35: =VLOOKUP(B35,пр.взв.!C37:D88,2,FALSE) -> #N/A | D35: =VLOOKUP(A35,пр.взв.!B7:E70,4,FALSE) -> 0 | H35: 32 | I35: =VLOOKUP(H35,пр.взв.!B37:C88,2,FALSE) -> 0 | J35: =VLOOKUP(H35,пр.взв.!B37:E88,3,FALSE) -> 0 | K35: =VLOOKUP(H35,пр.взв.!B37:E88,4,FALSE) -> 0

Sheet Круги
B1: STRUCTURE OF PAIRS ON CIRCLES | K1: STRUCTURE OF PAIRS ON CIRCLES
B2: =HYPERLINK([2]пр.взв.!A4) | K2: =HYPERLINK([2]пр.взв.!A4)
B3: A | C3: CIRCLE (Круг) | D3: 1/16 | F3: =пр.взв.!C4 -> M | G3: =пр.взв.!D4 -> 68 kg | K3: B | L3: CIRCLE (Круг) | M3: 1/16 | O3: =F3 -> M | P3: =G3 -> 68 kg
A4: № m | B4: № j | C4: Name | D4: Yob., Rank | E4: Country | F4: Estimations | G4: Score | H4: Result | I4: tame | J4: № m | K4: № j | L4: Name | M4: Yob., Rank | N4: Country | O4: Estimations | P4: Score | Q4: Result | R4: tame
B5: № j | C5: Name | D5: Yob., Rank | E5: Country | F5: Estimations | I5: tame | K5: № j | L5: Name | M5: Yob., Rank | N5: Country | O5: Estimations | R5: tame
A6: 1 | B6: 1 | C6: =VLOOKUP(B6,пр.взв.!B7:E70,2,FALSE) -> BALYKOV Vladimir | D6: =VLOOKUP(B6,пр.взв.!B7:F70,3,FALSE) -> 1991, ms | E6: =VLOOKUP(B6,пр.взв.!B7:G70,4,FALSE) -> RUS | J6: 1 | K6: 2 | L6: =VLOOKUP(K6,пр.взв.!B7:E70,2,FALSE) -> DULO Daniel | M6: =VLOOKUP(K6,пр.взв.!B7:F70,3,FALSE) -> 1985, ms | N6: =VLOOKUP(K6,пр.взв.!B7:G70,4,FALSE) -> SVK
B8: 17 | C8: =VLOOKUP(B8,пр.взв.!B7:E70,2,FALSE) -> 0 | D8: =VLOOKUP(B8,пр.взв.!B7:F72,3,FALSE) -> 0 | E8: =VLOOKUP(B8,пр.взв.!B7:G72,4,FALSE) -> 0 | K8: 18 | L8: =VLOOKUP(K8,пр.взв.!B7:E70,2,FALSE) -> KHASANOF Mustafo | M8: =VLOOKUP(K8,пр.взв.!B7:F72,3,FALSE) -> 1986, ms | N8: =VLOOKUP(K8,пр.взв.!B7:G72,4,FALSE) -> TJK
A10: 2 | B10: 9 | C10: =VLOOKUP(B10,пр.взв.!B7:E70,2,FALSE) -> KLINOV Anton | D10: =VLOOKUP(B10,пр.взв.!B7:F74,3,FALSE) -> 1987, msic | E10: =VLOOKUP(B10,пр.взв.!B7:G74,4,FALSE) -> RUS | J10: 10 | K10: 10 | L10: =VLOOKUP(K10,пр.взв.!B7:E70,2,FALSE) -> ZHARKYNBAY UULU Eldiyar | M10: =VLOOKUP(K10,пр.взв.!B11:F74,3,FALSE) -> 1990, msic | N10: =VLOOKUP(K10,пр.взв.!B7:G74,4,FALSE) -> KGZ
B12: 25 | C12: =VLOOKUP(B12,пр.взв.!B7:E70,2,FALSE) -> 0 | D12: =VLOOKUP(B12,пр.взв.!B7:F76,3,FALSE) -> 0 | E12: =VLOOKUP(B12,пр.взв.!B7:G76,4,FALSE) -> 0 | K12: 26 | L12: =VLOOKUP(K12,пр.взв.!B7:E70,2,FALSE) -> 0 | M12: =VLOOKUP(K12,пр.взв.!B7:F76,3,FALSE) -> 0 | N12: =VLOOKUP(K12,пр.взв.!B7:G76,4,FALSE) -> 0
A14: 3 | B14: 5 | C14: =VLOOKUP(B14,пр.взв.!B7:E70,2,FALSE) -> KLETSKOV Dmitriy | D14: =VLOOKUP(B14,пр.взв.!B7:F78,3,FALSE) -> 1986, msic | E14: =VLOOKUP(B14,пр.взв.!B7:G78,4,FALSE) -> RUS-M | J14: 11 | K14: 6 | L14: =VLOOKUP(K14,пр.взв.!B7:E70,2,FALSE) -> MUSLUMOV Elgun | M14: =VLOOKUP(K14,пр.взв.!B7:F78,3,FALSE) -> 1986, ms | N14: =VLOOKUP(K14,пр.взв.!B7:G78,4,FALSE) -> AZE
B16: 21 | C16: =VLOOKUP(B16,пр.взв.!B7:E70,2,FALSE) -> 0 | D16: =VLOOKUP(B16,пр.взв.!B7:F80,3,FALSE) -> 0 | E16: =VLOOKUP(B16,пр.взв.!B7:G80,4,FALSE) -> 0 | K16: 22 | L16: =VLOOKUP(K16,пр.взв.!B7:E70,2,FALSE) -> 0 | M16: =VLOOKUP(K16,пр.взв.!B7:F80,3,FALSE) -> 0 | N16: =VLOOKUP(K16,пр.взв.!B7:G80,4,FALSE) -> 0
A18: 4 | B18: 13 | C18: =VLOOKUP(B18,пр.взв.!B7:E70,2,FALSE) -> #N/A | D18: =VLOOKUP(B18,пр.взв.!B7:F82,3,FALSE) -> #N/A | E18: =VLOOKUP(B18,пр.взв.!B7:G82,4,FALSE) -> #N/A | J18: 12 | K18: 14 | L18: =VLOOKUP(K18,пр.взв.!B7:E70,2,FALSE) -> BAZYLEV Dzmitri | M18: =VLOOKUP(K18,пр.взв.!B7:F82,3,FALSE) -> 1978, dvms | N18: =VLOOKUP(K18,пр.взв.!B7:G82,4,FALSE) -> BLR
B20: 29 | C20: =VLOOKUP(B20,пр.взв.!B7:E70,2,FALSE) -> 0 | D20: =VLOOKUP(B20,пр.взв.!B7:F84,3,FALSE) -> 0 | E20: =VLOOKUP(B20,пр.взв.!B7:G84,4,FALSE) -> 0 | K20: 30 | L20: =VLOOKUP(K20,пр.взв.!B7:E70,2,FALSE) -> 0 | M20: =VLOOKUP(K20,пр.взв.!B7:F84,3,FALSE) -> 0 | N20: =VLOOKUP(K20,пр.взв.!B7:G84,4,FALSE) -> 0
A22: 5 | B22: 3 | C22: =VLOOKUP(B22,пр.взв.!B7:E70,2,FALSE) -> VLASOV Maksim | D22: =VLOOKUP(B22,пр.взв.!B7:F86,3,FALSE) -> 1990, cms | E22: =VLOOKUP(B22,пр.взв.!B7:G86,4,FALSE) -> RUS | J22: 2 | K22: 4 | L22: =VLOOKUP(K22,пр.взв.!B7:E70,2,FALSE) -> MOVLAMOV Rauf | M22: =VLOOKUP(K22,пр.взв.!B7:F86,3,FALSE) -> 1990, ms | N22: =VLOOKUP(K22,пр.взв.!B7:G86,4,FALSE) -> AZE
B24: 19 | C24: =VLOOKUP(B24,пр.взв.!B7:E70,2,FALSE) -> 0 | D24: =VLOOKUP(B24,пр.взв.!B7:F88,3,FALSE) -> 0 | E24: =VLOOKUP(B24,пр.взв.!B7:G88,4,FALSE) -> 0 | K24: 20 | L24: =VLOOKUP(K24,пр.взв.!B7:E70,2,FALSE) -> GEVORGYAN Vaag | M24: =VLOOKUP(K24,пр.взв.!B7:F88,3,FALSE) -> 1991, ms | N24: =VLOOKUP(K24,пр.взв.!B7:G88,4,FALSE) -> ARM
A26: 6 | B26: 11 | C26: =VLOOKUP(B26,пр.взв.!B7:E70,2,FALSE) -> OGARYSHEV Aleksey | D26: =VLOOKUP(B26,пр.взв.!B7:F90,3,FALSE) -> 1988, ms | E26: =VLOOKUP(B26,пр.взв.!B7:G90,4,FALSE) -> RUS | J26: 14 | K26: 12 | L26: =VLOOKUP(K26,пр.взв.!B7:E70,2,FALSE) -> TUTKHALIAN Vae | M26: =VLOOKUP(K26,пр.взв.!B7:F90,3,FALSE) -> 1991, ms | N26: =VLOOKUP(K26,пр.взв.!B7:G90,4,FALSE) -> BLR
B28: 27 | C28: =VLOOKUP(B28,пр.взв.!B7:E70,2,FALSE) -> 0 | D28: =VLOOKUP(B28,пр.взв.!B7:F92,3,FALSE) -> 0 | E28: =VLOOKUP(B28,пр.взв.!B7:G92,4,FALSE) -> 0 | K28: 28 | L28: =VLOOKUP(K28,пр.взв.!B7:E70,2,FALSE) -> 0 | M28: =VLOOKUP(K28,пр.взв.!B7:F92,3,FALSE) -> 0 | N28: =VLOOKUP(K28,пр.взв.!B7:G92,4,FALSE) -> 0
A30: 7 | B30: 7 | C30: =VLOOKUP(B30,пр.взв.!B7:E70,2,FALSE) -> KLETSKOV Nikita | D30: =VLOOKUP(B30,пр.взв.!B7:F94,3,FALSE) -> 1986, msic | E30: =VLOOKUP(B30,пр.взв.!B7:G94,4,FALSE) -> RUS-M | J30: 15 | K30: 8 | L30: =VLOOKUP(K30,пр.взв.!B7:E70,2,FALSE) -> KURBONOV Farukh | M30: =VLOOKUP(K30,пр.взв.!B7:F94,3,FALSE) -> 1990, ms | N30: =VLOOKUP(K30,пр.взв.!B7:G94,4,FALSE) -> TJK
B32: 23 | C32: =VLOOKUP(B32,пр.взв.!B7:E70,2,FALSE) -> 0 | D32: =VLOOKUP(B32,пр.взв.!B7:F96,3,FALSE) -> 0 | E32: =VLOOKUP(B32,пр.взв.!B7:G96,4,FALSE) -> 0 | K32: 24 | L32: =VLOOKUP(K32,пр.взв.!B7:E70,2,FALSE) -> 0 | M32: =VLOOKUP(K32,пр.взв.!B7:F96,3,FALSE) -> 0 | N32: =VLOOKUP(K32,пр.взв.!B7:G96,4,FALSE) -> 0
A34: 8 | B34: 15 | C34: =VLOOKUP(B34,пр.взв.!B7:E70,2,FALSE) -> #N/A | D34: =VLOOKUP(B34,пр.взв.!B7:F98,3,FALSE) -> #N/A | E34: =VLOOKUP(B34,пр.взв.!B7:G98,4,FALSE) -> #N/A | J34: 16 | K34: 16 | L34: =VLOOKUP(K34,пр.взв.!B7:E70,2,FALSE) -> ZHARLYGASOV Bagdat | M34: =VLOOKUP(K34,пр.взв.!B7:F98,3,FALSE) -> 1990, msic | N34: =VLOOKUP(K34,пр.взв.!B7:G98,4,FALSE) -> KAZ
B36: 31 | C36: =VLOOKUP(B36,пр.взв.!B7:E70,2,FALSE) -> 0 | D36: =VLOOKUP(B36,пр.взв.!B7:F100,3,FALSE) -> 0 | E36: =VLOOKUP(B36,пр.взв.!B7:G100,4,FALSE) -> 0 | K36: 32 | L36: =VLOOKUP(K36,пр.взв.!B7:E70,2,FALSE) -> 0 | M36: =VLOOKUP(K36,пр.взв.!B7:F100,3,FALSE) -> 0 | N36: =VLOOKUP(K36,пр.взв.!B7:G100,4,FALSE) -> 0
B39: A | C39: CIRCLE (Круг) | D39: 1/8 | F39: =F3 -> M | G39: =P39 -> 68 kg | K39: B | L39: CIRCLE (Круг) | M39: 1/8 | P39: =P3 -> 68 kg
A40: № m | B40: № j | C40: Name | D40: Yob., Rank | E40: Country | F40: Estimations | G40: Score | H40: Result | I40: Time | J40: № m | K40: № j | L40: Name | M40: Yob., Rank | N40: Country | O40: Estimations | P40: Score | Q40: Result | R40: Time
B41: № j | C41: Name | D41: Yob., Rank | E41: Country | F41: Estimations | I41: tame | K41: № j | L41: Name | M41: Yob., Rank | N41: Country | O41: Estimations | R41: tame
A42: 3 | B42: =пр.хода!G12 -> 1 | C42: =VLOOKUP(B42,пр.взв.!B7:E70,2,FALSE) -> BALYKOV Vladimir | D42: =VLOOKUP(B42,пр.взв.!B7:F106,3,FALSE) -> 1991, ms | E42: =VLOOKUP(B42,пр.взв.!B7:G106,4,FALSE) -> RUS | J42: 5 | K42: =пр.хода!G46 -> 18 | L42: =VLOOKUP(K42,пр.взв.!B7:E70,2,FALSE) -> KHASANOF Mustafo | M42: =VLOOKUP(K42,пр.взв.!B7:F106,3,FALSE) -> 1986, ms | N42: =VLOOKUP(K42,пр.взв.!B7:G106,4,FALSE) -> TJK
B44: =пр.хода!G16 -> 9 | C44: =VLOOKUP(B44,пр.взв.!B7:E70,2,FALSE) -> KLINOV Anton | D44: =VLOOKUP(B44,пр.взв.!B7:F108,3,FALSE) -> 1987, msic | E44: =VLOOKUP(B44,пр.взв.!B7:G108,4,FALSE) -> RUS | K44: =пр.хода!G50 -> 10 | L44: =VLOOKUP(K44,пр.взв.!B7:E70,2,FALSE) -> ZHARKYNBAY UULU Eldiyar | M44: =VLOOKUP(K44,пр.взв.!B7:F108,3,FALSE) -> 1990, msic | N44: =VLOOKUP(K44,пр.взв.!B7:G108,4,FALSE) -> KGZ
B46: =пр.хода!G20 -> 5 | C46: =VLOOKUP(B46,пр.взв.!B7:E70,2,FALSE) -> KLETSKOV Dmitriy | D46: =VLOOKUP(B46,пр.взв.!B7:F110,3,FALSE) -> 1986, msic | E46: =VLOOKUP(B46,пр.взв.!B7:G110,4,FALSE) -> RUS-M | F46: свободен | J46: 6 | K46: =пр.хода!G54 -> 6 | L46: =VLOOKUP(K46,пр.взв.!B7:E70,2,FALSE) -> MUSLUMOV Elgun | M46: =VLOOKUP(K46,пр.взв.!B7:F110,3,FALSE) -> 1986, ms | N46: =VLOOKUP(K46,пр.взв.!B7:G110,4,FALSE) -> AZE
B48: =пр.хода!G24 -> 0 | C48: =VLOOKUP(B48,пр.взв.!B7:E70,2,FALSE) -> #N/A | D48: =VLOOKUP(B48,пр.взв.!B7:F112,3,FALSE) -> #N/A | E48: =VLOOKUP(B48,пр.взв.!B7:G112,4,FALSE) -> #N/A | K48: =пр.хода!G58 -> 14 | L48: =VLOOKUP(K48,пр.взв.!B7:E70,2,FALSE) -> BAZYLEV Dzmitri | M48: =VLOOKUP(K48,пр.взв.!B7:F112,3,FALSE) -> 1978, dvms | N48: =VLOOKUP(K48,пр.взв.!B7:G112,4,FALSE) -> BLR
A50: 4 | B50: =пр.хода!G28 -> 3 | C50: =VLOOKUP(B50,пр.взв.!B7:E70,2,FALSE) -> VLASOV Maksim | D50: =VLOOKUP(B50,пр.взв.!B7:F114,3,FALSE) -> 1990, cms | E50: =VLOOKUP(B50,пр.взв.!B7:G114,4,FALSE) -> RUS | J50: 7 | K50: =пр.хода!G62 -> 4 | L50: =VLOOKUP(K50,пр.взв.!B7:E70,2,FALSE) -> MOVLAMOV Rauf | M50: =VLOOKUP(K50,пр.взв.!B7:F114,3,FALSE) -> 1990, ms | N50: =VLOOKUP(K50,пр.взв.!B7:G114,4,FALSE) -> AZE
B52: =пр.хода!G32 -> 11 | C52: =VLOOKUP(B52,пр.взв.!B7:E70,2,FALSE) -> OGARYSHEV Aleksey | D52: =VLOOKUP(B52,пр.взв.!B7:F116,3,FALSE) -> 1988, ms | E52: =VLOOKUP(B52,пр.взв.!B7:G116,4,FALSE) -> RUS | K52: =пр.хода!G66 -> 12 | L52: =VLOOKUP(K52,пр.взв.!B7:E70,2,FALSE) -> TUTKHALIAN Vae | M52: =VLOOKUP(K52,пр.взв.!B7:F116,3,FALSE) -> 1991, ms | N52: =VLOOKUP(K52,пр.взв.!B7:G116,4,FALSE) -> BLR
B54: =пр.хода!G36 -> 7 | C54: =VLOOKUP(B54,пр.взв.!B7:E70,2,FALSE) -> KLETSKOV Nikita | D54: =VLOOKUP(B54,пр.взв.!B7:F118,3,FALSE) -> 1986, msic | E54: =VLOOKUP(B54,пр.взв.!B7:G118,4,FALSE) -> RUS-M | F54: свободен | J54: 8 | K54: =пр.хода!G70 -> 8 | L54: =VLOOKUP(K54,пр.взв.!B7:E70,2,FALSE) -> KURBONOV Farukh | M54: =VLOOKUP(K54,пр.взв.!B7:F118,3,FALSE) -> 1990, ms | N54: =VLOOKUP(K54,пр.взв.!B7:G118,4,FALSE) -> TJK
B56: =пр.хода!G40 -> 0 | C56: =VLOOKUP(B56,пр.взв.!B7:E70,2,FALSE) -> #N/A | D56: =VLOOKUP(B56,пр.взв.!B7:F120,3,FALSE) -> #N/A | E56: =VLOOKUP(B56,пр.взв.!B7:G120,4,FALSE) -> #N/A | K56: =пр.хода!G74 -> 16 | L56: =VLOOKUP(K56,пр.взв.!B7:E70,2,FALSE) -> ZHARLYGASOV Bagdat | M56: =VLOOKUP(K56,пр.взв.!B7:F120,3,FALSE) -> 1990, msic | N56: =VLOOKUP(K56,пр.взв.!B7:G120,4,FALSE) -> KAZ
B59: A | C59: CIRCLE (Круг) | D59: 1/4 | F59: =F3 -> M | G59: =G39 -> 68 kg | K59: B | L59: CIRCLE (Круг) | M59: 1/4 | O59: =F59 -> M | P59: =P39 -> 68 kg
A60: № m | B60: № j | C60: Name | D60: Yob., Rank | E60: Country | F60: Estimations | G60: Score | H60: Result | I60: Time | J60: № m | K60: № j | L60: Name | M60: Yob., Rank | N60: Country | O60: Estimations | P60: Score | Q60: Result | R60: Time
B61: № j | C61: Name | D61: Yob., Rank | E61: Country | F61: Estimations | I61: tame | K61: № j | L61: Name | M61: Yob., Rank | N61: Country | O61: Estimations | R61: tame
A62: 9 | B62: =пр.хода!I14 -> 1 | C62: =VLOOKUP(B62,пр.взв.!B7:E70,2,FALSE) -> BALYKOV Vladimir | D62: =VLOOKUP(B62,пр.взв.!B7:F126,3,FALSE) -> 1991, ms | E62: =VLOOKUP(B62,пр.взв.!B7:G126,4,FALSE) -> RUS | J62: 11 | K62: =пр.хода!I48 -> 18 | L62: =VLOOKUP(K62,пр.взв.!B7:E70,2,FALSE) -> KHASANOF Mustafo | M62: =VLOOKUP(K62,пр.взв.!B7:F126,3,FALSE) -> 1986, ms | N62: =VLOOKUP(K62,пр.взв.!B7:G126,4,FALSE) -> TJK
B64: =пр.хода!I22 -> 5 | C64: =VLOOKUP(B64,пр.взв.!B7:E70,2,FALSE) -> KLETSKOV Dmitriy | D64: =VLOOKUP(B64,пр.взв.!B7:F128,3,FALSE) -> 1986, msic | E64: =VLOOKUP(B64,пр.взв.!B7:G128,4,FALSE) -> RUS-M | K64: =пр.хода!I56 -> 14 | L64: =VLOOKUP(K64,пр.взв.!B7:E70,2,FALSE) -> BAZYLEV Dzmitri | M64: =VLOOKUP(K64,пр.взв.!B7:F128,3,FALSE) -> 1978, dvms | N64: =VLOOKUP(K64,пр.взв.!B7:G128,4,FALSE) -> BLR
A66: 10 | B66: =пр.хода!I30 -> 11 | C66: =VLOOKUP(B66,пр.взв.!B7:E70,2,FALSE) -> OGARYSHEV Aleksey | D66: =VLOOKUP(B66,пр.взв.!B7:F130,3,FALSE) -> 1988, ms | E66: =VLOOKUP(B66,пр.взв.!B7:G130,4,FALSE) -> RUS | J66: 12 | K66: =пр.хода!I64 -> 12 | L66: =VLOOKUP(K66,пр.взв.!B7:E70,2,FALSE) -> TUTKHALIAN Vae | M66: =VLOOKUP(K66,пр.взв.!B7:F130,3,FALSE) -> 1991, ms | N66: =VLOOKUP(K66,пр.взв.!B7:G130,4,FALSE) -> BLR
B68: =пр.хода!I38 -> 7 | C68: =VLOOKUP(B68,пр.взв.!B7:E70,2,FALSE) -> KLETSKOV Nikita | D68: =VLOOKUP(B68,пр.взв.!B7:F132,3,FALSE) -> 1986, msic | E68: =VLOOKUP(B68,пр.взв.!B7:G132,4,FALSE) -> RUS-M | K68: =пр.хода!I72 -> 16 | L68: =VLOOKUP(K68,пр.взв.!B7:E70,2,FALSE) -> ZHARLYGASOV Bagdat | M68: =VLOOKUP(K68,пр.взв.!B7:F132,3,FALSE) -> 1990, msic | N68: =VLOOKUP(K68,пр.взв.!B7:G132,4,FALSE) -> KAZ
B71: A | C71: Semifinal (Полуфинал) | F71: =F59 -> M | G71: =G59 -> 68 kg | K71: B | L71: Semifinal (Полуфинал) | O71: =F59 -> M | P71: =P59 -> 68 kg
A72: № m | B72: № j | C72: Name | D72: Yob., Rank | E72: Country | F72: Estimations | G72: Score | H72: Result | I72: Time | J72: № m | K72: № j | L72: Name | M72: Yob., Rank | N72: Country | O72: Estimations | P72: Score | Q72: Result | R72: Time
B73: № j | C73: Name | D73: Yob., Rank | E73: Country | F73: Estimations | I73: tame | K73: № j | L73: Name | M73: Yob., Rank | N73: Country | O73: Estimations | R73: tame
A74: 13 | B74: =пр.хода!K18 -> 1 | C74: =VLOOKUP(B74,пр.взв.!B7:E70,2,FALSE) -> BALYKOV Vladimir | D74: =VLOOKUP(B74,пр.взв.!B7:F138,3,FALSE) -> 1991, ms | E74: =VLOOKUP(B74,пр.взв.!B7:G138,4,FALSE) -> RUS | J74: 14 | K74: 14 | L74: =VLOOKUP(K74,пр.взв.!B7:E70,2,FALSE) -> BAZYLEV Dzmitri | M74: =VLOOKUP(K74,пр.взв.!B7:F138,3,FALSE) -> 1978, dvms | N74: =VLOOKUP(K74,пр.взв.!B7:G138,4,FALSE) -> BLR
B76: =пр.хода!K34 -> 7 | C76: =VLOOKUP(B76,пр.взв.!B7:E70,2,FALSE) -> KLETSKOV Nikita | D76: =VLOOKUP(B76,пр.взв.!B7:F140,3,FALSE) -> 1986, msic | E76: =VLOOKUP(B76,пр.взв.!B7:G140,4,FALSE) -> RUS-M | K76: 16 | L76: =VLOOKUP(K76,пр.взв.!B7:E70,2,FALSE) -> ZHARLYGASOV Bagdat | M76: =VLOOKUP(K76,пр.взв.!B7:F140,3,FALSE) -> 1990, msic | N76: =VLOOKUP(K76,пр.взв.!B7:G140,4,FALSE) -> KAZ
A79: Consolatory meetings (Утешительные встречи) | J79: Consolatory meetings (Утешительные встречи)
B80: A | F80: =F71 -> M | G80: =G71 -> 68 kg | K80: B | O80: =O71 -> M | P80: =P71 -> 68 kg
A81: № m | B81: № j | C81: Name | D81: Yob., Rank | E81: Country | F81: Estimations | G81: Score | H81: Result | I81: Time | J81: № m | K81: № j | L81: Name | M81: Yob., Rank | N81: Country | O81: Estimations | P81: Score | Q81: Result | R81: Time
B82: № j | C82: Name | D82: Yob., Rank | E82: Country | F82: Estimations | I82: tame | K82: № j | L82: Name | M82: Yob., Rank | N82: Country | O82: Estimations | R82: tame
A83: 15 | B83: 5 | C83: =VLOOKUP(B83,пр.взв.!B1:E79,2,FALSE) -> KLETSKOV Dmitriy | D83: =VLOOKUP(B83,пр.взв.!B1:F147,3,FALSE) -> 1986, msic | E83: =VLOOKUP(B83,пр.взв.!B1:G147,4,FALSE) -> RUS-M | J83: 16 | K83: 18 | L83: =VLOOKUP(K83,пр.взв.!B1:E79,2,FALSE) -> KHASANOF Mustafo | M83: =VLOOKUP(K83,пр.взв.!B1:F147,3,FALSE) -> 1986, ms | N83: =VLOOKUP(K83,пр.взв.!B1:G147,4,FALSE) -> TJK
B85: 11 | C85: =VLOOKUP(B85,пр.взв.!B1:E79,2,FALSE) -> OGARYSHEV Aleksey | D85: =VLOOKUP(B85,пр.взв.!B1:F149,3,FALSE) -> 1988, ms | E85: =VLOOKUP(B85,пр.взв.!B1:G149,4,FALSE) -> RUS | K85: 12 | L85: =VLOOKUP(K85,пр.взв.!B1:E79,2,FALSE) -> TUTKHALIAN Vae | M85: =VLOOKUP(K85,пр.взв.!B1:F149,3,FALSE) -> 1991, ms | N85: =VLOOKUP(K85,пр.взв.!B1:G149,4,FALSE) -> BLR
A87: 2 | B87: =пр.хода!J75 -> 0 | C87: =VLOOKUP(B87,пр.взв.!B2:E83,2,FALSE) -> #N/A | D87: =VLOOKUP(B87,пр.взв.!B2:F151,3,FALSE) -> #N/A | E87: =VLOOKUP(B87,пр.взв.!B2:G151,4,FALSE) -> #N/A | J87: 4 | K87: =пр.хода!L77 -> 0 | L87: =VLOOKUP(K87,пр.взв.!B20:E83,2,FALSE) -> #N/A | M87: =VLOOKUP(K87,пр.взв.!B20:F151,3,FALSE) -> #N/A | N87: =VLOOKUP(K87,пр.взв.!B20:G151,4,FALSE) -> #N/A
B89: =пр.хода!J79 -> 0 | C89: =VLOOKUP(B89,пр.взв.!B2:E83,2,FALSE) -> #N/A | D89: =VLOOKUP(B89,пр.взв.!B2:F153,3,FALSE) -> #N/A | E89: =VLOOKUP(B89,пр.взв.!B2:G153,4,FALSE) -> #N/A | K89: =пр.хода!L81 -> 0 | L89: =VLOOKUP(K89,пр.взв.!B2:E83,2,FALSE) -> #N/A | M89: =VLOOKUP(K89,пр.взв.!B2:F153,3,FALSE) -> #N/A | N89: =VLOOKUP(K89,пр.взв.!B2:G153,4,FALSE) -> #N/A

Sheet наградной лист
A1: =[1]реквизиты!$A$2 -> World Cup Stage - XI International Sambo Tournament for General Aslambeck Askakhanov prizes
A2: =[1]реквизиты!$A$3 -> September 30 - October 02, 2012 Moscow /Russia/
A3: SHEET FOR REWARDING
C4: =пр.взв.!C4 -> M | E4: =пр.взв.!D4 -> 68 kg
A6: I p | B6: =VLOOKUP(J6,пр.взв.!B7:F70,2,FALSE) -> KLETSKOV Nikita | H6: =VLOOKUP(J6,пр.взв.!B7:F70,3,FALSE) -> 1986, msic | J6: 7
B7: =VLOOKUP(J7,[3]пр.взв.!B8:F23,2,FALSE) -> #N/A
B8: =VLOOKUP(J6,пр.взв.!B7:F70,4,FALSE) -> RUS-M
B9: =VLOOKUP(J7,[3]пр.взв.!B8:F23,4,FALSE) -> #N/A
A11: II p | B11: =VLOOKUP(J11,пр.взв.!B1:F75,2,FALSE) -> BAZYLEV Dzmitri | H11: =VLOOKUP(J11,пр.взв.!B1:F75,3,FALSE) -> 1978, dvms | J11: 14
B12: =VLOOKUP(J12,[3]пр.взв.!B13:F28,2,FALSE) -> #N/A
B13: =VLOOKUP(J11,пр.взв.!B1:F75,4,FALSE) -> BLR
B14: =VLOOKUP(J12,[3]пр.взв.!B13:F28,4,FALSE) -> #N/A
A16: III p | B16: =VLOOKUP(J16,пр.взв.!B1:F80,2,FALSE) -> BALYKOV Vladimir | H16: =VLOOKUP(J16,пр.взв.!B1:F80,3,FALSE) -> 1991, ms | J16: 1
B17: =VLOOKUP(J17,[3]пр.взв.!B18:F33,2,FALSE) -> #N/A
B18: =VLOOKUP(J16,пр.взв.!B1:F80,4,FALSE) -> RUS
B19: =VLOOKUP(J17,[3]пр.взв.!B18:F33,4,FALSE) -> #N/A
A21: III p | B21: =VLOOKUP(J21,пр.взв.!B2:F85,2,FALSE) -> #N/A | H21: =VLOOKUP(J21,пр.взв.!B2:F85,3,FALSE) -> #N/A
B22: =VLOOKUP(J22,[3]пр.взв.!B23:F38,2,FALSE) -> #N/A
B23: =VLOOKUP(J21,пр.взв.!B2:F85,4,FALSE) -> #N/A
B24: =VLOOKUP(J22,[3]пр.взв.!B23:F38,4,FALSE) -> #N/A
A26: The сoach of the winner
A32: Awards hand over:

Sheet пр.хода
A1: =пр.взв.!A2 -> World Cup Stage - XI International Sambo Tournament for General Aslambeck Askakhanov prizes
A3: =пр.взв.!A3 -> September 30 - October 02, 2012 Moscow /Russia/
A5: =пр.взв.!C4 -> M | D5: =пр.взв.!D4 -> 68 kg | E5: 16 participants
P10: 1 | Q10: =N43 -> 7 | R10: =VLOOKUP(Q10,пр.взв.!B7:E70,2,FALSE) -> KLETSKOV Nikita | S10: =VLOOKUP(Q10,пр.взв.!B7:E70,4,FALSE) -> RUS-M
A11: Pool A1 | C11: 1 | D11: =VLOOKUP(C11,пр.взв.!B7:F70,2,FALSE) -> BALYKOV Vladimir | E11: =VLOOKUP(C11,пр.взв.!B7:F70,3,FALSE) -> 1991, ms | F11: =VLOOKUP(C11,пр.взв.!B7:F70,4,FALSE) -> RUS | R11: =VLOOKUP(Q11,пр.взв.!B7:E70,2,FALSE) -> #N/A | S11: =VLOOKUP(Q11,пр.взв.!B7:E70,4,FALSE) -> #N/A
D12: =пр.взв.!C8 -> 0 | F12: =пр.взв.!E8 -> 0 | G12: 1 | P12: 2 | Q12: 14 | R12: =VLOOKUP(Q12,пр.взв.!B7:F70,2,FALSE) -> BAZYLEV Dzmitri | S12: =VLOOKUP(Q12,пр.взв.!B7:E70,4,FALSE) -> BLR
C13: 17 | D13: =VLOOKUP(пр.хода!C13,пр.взв.!B7:F70,2,FALSE) -> 0 | E13: =VLOOKUP(C13,пр.взв.!B7:F70,3,FALSE) -> 0 | F13: =VLOOKUP(C13,пр.взв.!B7:F70,4,FALSE) -> 0 | R13: =VLOOKUP(Q13,пр.взв.!B2:E72,2,FALSE) -> #N/A | S13: =VLOOKUP(Q13,пр.взв.!B1:E72,4,FALSE) -> #N/A
D14: =пр.взв.!C40 -> 0 | F14: =пр.взв.!E40 -> 0 | I14: 1 | P14: 3 | Q14: 1 | R14: =VLOOKUP(Q14,пр.взв.!B7:F70,2,FALSE) -> BALYKOV Vladimir | S14: =VLOOKUP(Q14,пр.взв.!B7:E70,4,FALSE) -> RUS
C15: 9 | D15: =VLOOKUP(C15,пр.взв.!B7:F70,2,FALSE) -> KLINOV Anton | E15: =VLOOKUP(C15,пр.взв.!B7:F70,3,FALSE) -> 1987, msic | F15: =VLOOKUP(C15,пр.взв.!B7:F70,4,FALSE) -> RUS | R15: =VLOOKUP(Q15,пр.взв.!B1:E74,2,FALSE) -> #N/A | S15: =VLOOKUP(Q15,пр.взв.!B1:E74,4,FALSE) -> #N/A
D16: =пр.взв.!C24 -> 0 | F16: =пр.взв.!E24 -> 0 | G16: 9 | P16: 4 | Q16: 16 | R16: =VLOOKUP(Q16,пр.взв.!B7:E70,2,FALSE) -> ZHARLYGASOV Bagdat | S16: =VLOOKUP(Q16,пр.взв.!B7:E70,4,FALSE) -> KAZ
C17: 25 | D17: =VLOOKUP(пр.хода!C17,пр.взв.!B7:F70,2,FALSE) -> 0 | E17: =VLOOKUP(C17,пр.взв.!B7:F70,3,FALSE) -> 0 | F17: =VLOOKUP(C17,пр.взв.!B7:F70,4,FALSE) -> 0 | R17: =VLOOKUP(Q17,пр.взв.!B3:E76,2,FALSE) -> #N/A | S17: =VLOOKUP(Q17,пр.взв.!B3:E76,4,FALSE) -> #N/A
D18: =пр.взв.!C56 -> 0 | F18: =пр.взв.!E56 -> 0 | K18: 1 | P18: 5-6 | Q18: 5 | R18: =VLOOKUP(Q18,пр.взв.!B7:E70,2,FALSE) -> KLETSKOV Dmitriy | S18: =VLOOKUP(Q18,пр.взв.!B7:E70,4,FALSE) -> RUS-M
C19: 5 | D19: =VLOOKUP(пр.хода!C19,пр.взв.!B7:F70,2,FALSE) -> KLETSKOV Dmitriy | E19: =VLOOKUP(C19,пр.взв.!B7:F70,3,FALSE) -> 1986, msic | F19: =VLOOKUP(C19,пр.взв.!B7:F70,4,FALSE) -> RUS-M | R19: =VLOOKUP(Q19,пр.взв.!B5:E78,2,FALSE) -> #N/A | S19: =VLOOKUP(Q19,пр.взв.!B5:E78,4,FALSE) -> #N/A
D20: =пр.взв.!C16 -> 0 | F20: =пр.взв.!E16 -> 0 | G20: 5 | P20: 5-6 | Q20: 18 | R20: =VLOOKUP(Q20,пр.взв.!B7:E70,2,FALSE) -> KHASANOF Mustafo | S20: =VLOOKUP(Q20,пр.взв.!B7:E70,4,FALSE) -> TJK
C21: 21 | D21: =VLOOKUP(пр.хода!C21,пр.взв.!B7:F70,2,FALSE) -> 0 | E21: =VLOOKUP(C21,пр.взв.!B7:F70,3,FALSE) -> 0 | F21: =VLOOKUP(C21,пр.взв.!B7:F70,4,FALSE) -> 0 | R21: =VLOOKUP(Q21,пр.взв.!B1:E80,2,FALSE) -> #N/A | S21: =VLOOKUP(Q21,пр.взв.!B7:E80,4,FALSE) -> #N/A
D22: =пр.взв.!C46 -> 0 | F22: =пр.взв.!E46 -> 0 | I22: 5 | P22: 7-8 | Q22: 11 | R22: =VLOOKUP(Q22,пр.взв.!B7:E70,2,FALSE) -> OGARYSHEV Aleksey | S22: =VLOOKUP(Q22,пр.взв.!B7:E70,4,FALSE) -> RUS
C23: 13 | D23: =VLOOKUP(пр.хода!C23,пр.взв.!B7:F70,2,FALSE) -> #N/A | E23: =VLOOKUP(C23,пр.взв.!B7:F70,3,FALSE) -> #N/A | F23: =VLOOKUP(C23,пр.взв.!B7:F70,4,FALSE) -> #N/A | R23: =VLOOKUP(Q23,пр.взв.!B1:E82,2,FALSE) -> #N/A | S23: =VLOOKUP(Q23,пр.взв.!B1:E82,4,FALSE) -> #N/A
D24: =пр.взв.!C32 -> 0 | F24: =пр.взв.!E32 -> 0 | P24: 7-8 | Q24: 12 | R24: =VLOOKUP(Q24,пр.взв.!B7:E70,2,FALSE) -> TUTKHALIAN Vae | S24: =VLOOKUP(Q24,пр.взв.!B7:E70,4,FALSE) -> BLR
C25: 29 | D25: =VLOOKUP(пр.хода!C25,пр.взв.!B7:F70,2,FALSE) -> 0 | E25: =VLOOKUP(C25,пр.взв.!B7:F70,3,FALSE) -> 0 | F25: =VLOOKUP(C25,пр.взв.!B7:F70,4,FALSE) -> 0 | R25: =VLOOKUP(Q25,пр.взв.!B1:E84,2,FALSE) -> #N/A | S25: =VLOOKUP(Q25,пр.взв.!B1:E84,4,FALSE) -> #N/A
D26: =пр.взв.!C64 -> 0 | F26: =пр.взв.!E64 -> 0 | M26: 7 | P26: 9-14 | Q26: 9 | R26: =VLOOKUP(Q26,пр.взв.!B7:E70,2,FALSE) -> KLINOV Anton | S26: =VLOOKUP(Q26,пр.взв.!B7:E70,4,FALSE) -> RUS
A27: Pool A2 | C27: 3 | D27: =VLOOKUP(C27,пр.взв.!B7:F70,2,FALSE) -> VLASOV Maksim | E27: =VLOOKUP(C27,пр.взв.!B7:F70,3,FALSE) -> 1990, cms | F27: =VLOOKUP(C27,пр.взв.!B7:F70,4,FALSE) -> RUS | R27: =VLOOKUP(Q27,пр.взв.!B2:E86,2,FALSE) -> #N/A | S27: =VLOOKUP(Q27,пр.взв.!B2:E86,4,FALSE) -> #N/A
D28: =пр.взв.!C12 -> 0 | F28: =пр.взв.!E12 -> 0 | G28: 3 | P28: 9-14 | Q28: 3 | R28: =VLOOKUP(Q28,пр.взв.!B7:E70,2,FALSE) -> VLASOV Maksim | S28: =VLOOKUP(Q28,пр.взв.!B7:E70,4,FALSE) -> RUS
C29: 19 | D29: =VLOOKUP(пр.хода!C29,пр.взв.!B7:F70,2,FALSE) -> 0 | E29: =VLOOKUP(C29,пр.взв.!B7:F70,3,FALSE) -> 0 | F29: =VLOOKUP(C29,пр.взв.!B7:F70,4,FALSE) -> 0 | R29: =VLOOKUP(Q29,пр.взв.!B5:E88,2,FALSE) -> #N/A | S29: =VLOOKUP(Q29,пр.взв.!B2:E88,4,FALSE) -> #N/A
D30: =пр.взв.!C44 -> 0 | F30: =пр.взв.!E44 -> 0 | I30: 11 | P30: 9-14 | Q30: 10 | R30: =VLOOKUP(Q30,пр.взв.!B7:E70,2,FALSE) -> ZHARKYNBAY UULU Eldiyar | S30: =VLOOKUP(Q30,пр.взв.!B7:E70,4,FALSE) -> KGZ
C31: 11 | D31: =VLOOKUP(пр.хода!C31,пр.взв.!B7:F70,2,FALSE) -> OGARYSHEV Aleksey | E31: =VLOOKUP(C31,пр.взв.!B7:F70,3,FALSE) -> 1988, ms | F31: =VLOOKUP(C31,пр.взв.!B7:F70,4,FALSE) -> RUS | R31: =VLOOKUP(Q31,пр.взв.!B2:E90,2,FALSE) -> #N/A | S31: =VLOOKUP(Q31,пр.взв.!B7:E90,4,FALSE) -> #N/A
D32: =пр.взв.!C28 -> 0 | F32: =пр.взв.!E28 -> 0 | G32: 11 | P32: 9-14 | Q32: 6 | R32: =VLOOKUP(Q32,пр.взв.!B7:E70,2,FALSE) -> MUSLUMOV Elgun | S32: =VLOOKUP(Q32,пр.взв.!B7:E70,4,FALSE) -> AZE
C33: 27 | D33: =VLOOKUP(пр.хода!C33,пр.взв.!B7:F70,2,FALSE) -> 0 | E33: =VLOOKUP(C33,пр.взв.!B7:F70,3,FALSE) -> 0 | F33: =VLOOKUP(C33,пр.взв.!B7:F70,4,FALSE) -> 0 | R33: =VLOOKUP(Q33,пр.взв.!B2:E92,2,FALSE) -> #N/A | S33: =VLOOKUP(Q33,пр.взв.!B2:E92,4,FALSE) -> #N/A
D34: =пр.взв.!C60 -> 0 | F34: =пр.взв.!E60 -> 0 | K34: 7 | P34: 9-14 | Q34: 4 | R34: =VLOOKUP(Q34,пр.взв.!B7:E70,2,FALSE) -> MOVLAMOV Rauf | S34: =VLOOKUP(Q34,пр.взв.!B7:F70,4,FALSE) -> AZE
C35: 7 | D35: =VLOOKUP(C35,пр.взв.!B7:F70,2,FALSE) -> KLETSKOV Nikita | E35: =VLOOKUP(C35,пр.взв.!B7:F70,3,FALSE) -> 1986, msic | F35: =VLOOKUP(C35,пр.взв.!B7:F70,4,FALSE) -> RUS-M | R35: =VLOOKUP(Q35,пр.взв.!B1:E94,2,FALSE) -> #N/A | S35: =VLOOKUP(Q35,пр.взв.!B1:E94,4,FALSE) -> #N/A
D36: =пр.взв.!C20 -> 0 | F36: =пр.взв.!E20 -> 0 | G36: 7 | P36: 9-14 | Q36: 8 | R36: =VLOOKUP(Q36,пр.взв.!B7:E70,2,FALSE) -> KURBONOV Farukh | S36: =VLOOKUP(Q36,пр.взв.!B7:E70,4,FALSE) -> TJK
C37: 23 | D37: =VLOOKUP(пр.хода!C37,пр.взв.!B7:F70,2,FALSE) -> 0 | E37: =VLOOKUP(C37,пр.взв.!B7:F70,3,FALSE) -> 0 | F37: =VLOOKUP(C37,пр.взв.!B7:F70,4,FALSE) -> 0 | R37: =VLOOKUP(Q37,пр.взв.!B3:E96,2,FALSE) -> #N/A | S37: =VLOOKUP(Q37,пр.взв.!B3:E96,4,FALSE) -> #N/A
D38: =пр.взв.!C52 -> 0 | F38: =пр.взв.!E52 -> 0 | I38: 7 | P38: 15-16 | Q38: 2 | R38: =VLOOKUP(Q38,пр.взв.!B7:E70,2,FALSE) -> DULO Daniel | S38: =VLOOKUP(Q38,пр.взв.!B7:E70,4,FALSE) -> SVK
C39: 15 | D39: =VLOOKUP(пр.хода!C39,пр.взв.!B7:F70,2,FALSE) -> #N/A | E39: =VLOOKUP(C39,пр.взв.!B7:F70,3,FALSE) -> #N/A | F39: =VLOOKUP(C39,пр.взв.!B7:F70,4,FALSE) -> #N/A | R39: =VLOOKUP(Q39,пр.взв.!B5:E98,2,FALSE) -> #N/A | S39: =VLOOKUP(Q39,пр.взв.!B3:E98,4,FALSE) -> #N/A
D40: =пр.взв.!C36 -> 0 | F40: =пр.взв.!E36 -> 0 | P40: 15-16 | Q40: 20 | R40: =VLOOKUP(Q40,пр.взв.!B7:E70,2,FALSE) -> GEVORGYAN Vaag | S40: =VLOOKUP(Q40,пр.взв.!B7:E70,4,FALSE) -> ARM
C41: 31 | D41: =VLOOKUP(пр.хода!C41,пр.взв.!B7:F70,2,FALSE) -> 0 | E41: =VLOOKUP(C41,пр.взв.!B7:F70,3,FALSE) -> 0 | F41: =VLOOKUP(C41,пр.взв.!B7:F70,4,FALSE) -> 0 | R41: =VLOOKUP(Q41,пр.взв.!B3:E100,2,FALSE) -> #N/A | S41: =VLOOKUP(Q41,пр.взв.!B3:E100,4,FALSE) -> #N/A
D42: =пр.взв.!C68 -> 0 | F42: =пр.взв.!E68 -> 0
N43: 7
A45: Pool B1 | C45: 2 | D45: =VLOOKUP(C45,пр.взв.!B7:F70,2,FALSE) -> DULO Daniel | E45: =VLOOKUP(C45,пр.взв.!B7:F70,3,FALSE) -> 1985, ms | F45: =VLOOKUP(C45,пр.взв.!B7:F70,4,FALSE) -> SVK
D46: =пр.взв.!C10 -> 0 | F46: =пр.взв.!E10 -> 0 | G46: 18
C47: 18 | D47: =VLOOKUP(C47,пр.взв.!B7:F70,2,FALSE) -> KHASANOF Mustafo | E47: =VLOOKUP(C47,пр.взв.!B7:F70,3,FALSE) -> 1986, ms | F47: =VLOOKUP(C47,пр.взв.!B7:F70,4,FALSE) -> TJK
D48: =пр.взв.!C42 -> 0 | F48: =пр.взв.!E42 -> 0 | I48: 18
C49: 10 | D49: =VLOOKUP(C49,пр.взв.!B7:F70,2,FALSE) -> ZHARKYNBAY UULU Eldiyar | E49: =VLOOKUP(C49,пр.взв.!B7:F70,3,FALSE) -> 1990, msic | F49: =VLOOKUP(C49,пр.взв.!B7:F70,4,FALSE) -> KGZ
D50: =пр.взв.!C26 -> 0 | F50: =пр.взв.!E26 -> 0 | G50: 10
C51: 26 | D51: =VLOOKUP(C51,пр.взв.!B7:F70,2,FALSE) -> 0 | E51: =VLOOKUP(C51,пр.взв.!B7:F70,3,FALSE) -> 0 | F51: =VLOOKUP(C51,пр.взв.!B7:F70,4,FALSE) -> 0
D52: =пр.взв.!C58 -> 0 | F52: =пр.взв.!E58 -> 0 | K52: 14
C53: 6 | D53: =VLOOKUP(C53,пр.взв.!B7:F70,2,FALSE) -> MUSLUMOV Elgun | E53: =VLOOKUP(C53,пр.взв.!B7:F70,3,FALSE) -> 1986, ms | F53: =VLOOKUP(C53,пр.взв.!B7:F70,4,FALSE) -> AZE
D54: =пр.взв.!C18 -> 0 | F54: =пр.взв.!E18 -> 0 | G54: 6
C55: 22 | D55: =VLOOKUP(C55,пр.взв.!B7:F70,2,FALSE) -> 0 | E55: =VLOOKUP(C55,пр.взв.!B7:F70,3,FALSE) -> 0 | F55: =VLOOKUP(C55,пр.взв.!B7:F70,4,FALSE) -> 0
D56: =пр.взв.!C50 -> 0 | F56: =пр.взв.!E50 -> 0 | I56: 14
C57: 14 | D57: =VLOOKUP(C57,пр.взв.!B7:F70,2,FALSE) -> BAZYLEV Dzmitri | E57: =VLOOKUP(C57,пр.взв.!B7:F70,3,FALSE) -> 1978, dvms | F57: =VLOOKUP(C57,пр.взв.!B7:F70,4,FALSE) -> BLR
D58: =пр.взв.!C34 -> 0 | F58: =пр.взв.!E34 -> 0 | G58: 14
C59: 30 | D59: =VLOOKUP(C59,пр.взв.!B7:F70,2,FALSE) -> 0 | E59: =VLOOKUP(C59,пр.взв.!B7:F70,3,FALSE) -> 0 | F59: =VLOOKUP(C59,пр.взв.!B7:F70,4,FALSE) -> 0
D60: =пр.взв.!C66 -> 0 | F60: =пр.взв.!E66 -> 0 | M60: 14
A61: Pool B2 | C61: 4 | D61: =VLOOKUP(C61,пр.взв.!B7:F70,2,FALSE) -> MOVLAMOV Rauf | E61: =VLOOKUP(C61,пр.взв.!B7:F70,3,FALSE) -> 1990, ms | F61: =VLOOKUP(C61,пр.взв.!B7:F70,4,FALSE) -> AZE
D62: =пр.взв.!C14 -> 0 | F62: =пр.взв.!E14 -> 0 | G62: 4
C63: 20 | D63: =VLOOKUP(C63,пр.взв.!B7:F70,2,FALSE) -> GEVORGYAN Vaag | E63: =VLOOKUP(C63,пр.взв.!B7:F70,3,FALSE) -> 1991, ms | F63: =VLOOKUP(C63,пр.взв.!B7:F70,4,FALSE) -> ARM
D64: =пр.взв.!C46 -> 0 | F64: =пр.взв.!E46 -> 0 | I64: 12
C65: 12 | D65: =VLOOKUP(C65,пр.взв.!B7:F70,2,FALSE) -> TUTKHALIAN Vae | E65: =VLOOKUP(C65,пр.взв.!B7:F70,3,FALSE) -> 1991, ms | F65: =VLOOKUP(C65,пр.взв.!B7:F70,4,FALSE) -> BLR
D66: =пр.взв.!C30 -> 0 | F66: =пр.взв.!E30 -> 0 | G66: 12
C67: 28 | D67: =VLOOKUP(C67,пр.взв.!B7:F70,2,FALSE) -> 0 | E67: =VLOOKUP(C67,пр.взв.!B7:F70,3,FALSE) -> 0 | F67: =VLOOKUP(C67,пр.взв.!B7:F70,4,FALSE) -> 0
D68: =пр.взв.!C62 -> 0 | F68: =пр.взв.!E62 -> 0 | K68: 16
C69: 8 | D69: =VLOOKUP(C69,пр.взв.!B7:F70,2,FALSE) -> KURBONOV Farukh | E69: =VLOOKUP(C69,пр.взв.!B7:F70,3,FALSE) -> 1990, ms | F69: =VLOOKUP(C69,пр.взв.!B7:F70,4,FALSE) -> TJK
D70: =пр.взв.!C22 -> 0 | F70: =пр.взв.!E22 -> 0 | G70: 8
C71: 24 | D71: =VLOOKUP(C71,пр.взв.!B7:F70,2,FALSE) -> 0 | E71: =VLOOKUP(C71,пр.взв.!B7:F70,3,FALSE) -> 0 | F71: =VLOOKUP(C71,пр.взв.!B7:F70,4,FALSE) -> 0
D72: =пр.взв.!C54 -> 0 | F72: =пр.взв.!E54 -> 0 | I72: 16
C73: 16 | D73: =VLOOKUP(C73,пр.взв.!B7:F70,2,FALSE) -> ZHARLYGASOV Bagdat | E73: =VLOOKUP(C73,пр.взв.!B7:F70,3,FALSE) -> 1990, msic | F73: =VLOOKUP(C73,пр.взв.!B7:F70,4,FALSE) -> KAZ
D74: =пр.взв.!C38 -> 0 | F74: =пр.взв.!E38 -> 0 | G74: 16 | P74: 1 | Q74: 7 | R74: =D35 -> KLETSKOV Nikita | S74: =F35 -> RUS-M
C75: 32 | D75: =VLOOKUP(C75,пр.взв.!B7:F70,2,FALSE) -> 0 | E75: =VLOOKUP(C75,пр.взв.!B7:F70,3,FALSE) -> 0 | F75: =VLOOKUP(C75,пр.взв.!B7:F70,4,FALSE) -> 0
D76: =пр.взв.!C70 -> 0 | F76: =пр.взв.!E70 -> 0 | P76: 2 | Q76: 1 | R76: =D11 -> BALYKOV Vladimir | S76: =F11 -> RUS
A77: Fight for 3 place | E77: Fight for the 3rd place in minor final
A78: 1 | D78: "А" | E78: 5 | H78: "B" | I78: 18 | P78: 3 | Q78: 5 | R78: =D19 -> KLETSKOV Dmitriy | S78: =F19 -> RUS-M
C80: 1 | G80: 5 | K80: 18
P81: 1 | Q81: 14 | R81: =D57 -> BAZYLEV Dzmitri | S81: =F57 -> BLR
A82: 16 | E82: 11 | I82: 12
P83: 2 | Q83: 16 | R83: =D73 -> ZHARLYGASOV Bagdat | S83: =F73 -> KAZ
A85: Chief referee | E85: E.Borkov | G85: =HYPERLINK([4]реквизиты!$G$9) -> /RUS/ | P85: 3 | Q85: 18 | R85: =D47 -> KHASANOF Mustafo | S85: =F47 -> TJK
A87: Chief secretary | E87: A. Drokov | G87: =HYPERLINK([4]реквизиты!$G$11) -> /RUS/
