Workbook

Sheet И.ПР
A1: ВСЕРОССИЙСКАЯ ФЕДЕРАЦИЯ САМБО
A2: ИТОГОВЫЙ ПРОТОКОЛ
A3: ='пр.хода'!C3 -> #REF!
A4: ='пр.хода'!C4 -> #REF!
D5: =HYPERLINK('пр.взв.'!D4) -> в.к. 82 кг
A6: место | B6: № п/ж | C6: Ф.И.О. | D6: Дата рожд., разряд | E6: Округ, субъект, город, ведомство | G6: № карточки | H6: Тренер
A8: 1 | B8: ='пр.хода'!H9 -> 2 | C8: =VLOOKUP(B8,'пр.взв.'!B7:H22,2,FALSE) -> Куржев Уали Рамазанович | D8: =VLOOKUP(B8,'пр.взв.'!B7:H22,3,FALSE) -> 28.04.1989, ЗМС | E8: ЦФО | F8: =VLOOKUP(B8,'пр.взв.'!B7:H22,5,FALSE) -> Рязанская обл. | G8: =VLOOKUP(B8,'пр.взв.'!B7:H22,6,FALSE) | H8: =VLOOKUP(B8,'пр.взв.'!B7:H22,7,FALSE) -> Фофанов К.Н., Серегин С.М.
A10: 2 | B10: ='пр.хода'!H14 -> 1 | C10: =VLOOKUP(B10,'пр.взв.'!B7:H22,2,FALSE) -> Юдин Максим Валерьевич | D10: =VLOOKUP(B10,'пр.взв.'!B7:H22,3,FALSE) -> 13.05.1995, МСМК | E10: ЦФО | F10: =VLOOKUP(B10,'пр.взв.'!B7:H22,5,FALSE) -> Рязанская обл. | G10: =VLOOKUP(B10,'пр.взв.'!B7:H22,6,FALSE) | H10: =VLOOKUP(B10,'пр.взв.'!B7:H22,7,FALSE) -> Фофанов К.Н., Серегин С.М.
A12: 3 | B12: ='пр.хода'!E25 -> 4 | C12: =VLOOKUP(B12,'пр.взв.'!B7:H22,2,FALSE) -> Муртазин Сулейман Фаридович | D12: =VLOOKUP(B12,'пр.взв.'!B7:H22,3,FALSE) -> 22.01.1993, МС | E12: ПФО | F12: =VLOOKUP(B12,'пр.взв.'!B7:H22,5,FALSE) -> Р.Башкортостан | G12: =VLOOKUP(B12,'пр.взв.'!B7:H22,6,FALSE) | H12: =VLOOKUP(B12,'пр.взв.'!B7:H22,7,FALSE) -> Ахуньянов Р.М., Залеев Р.Г.
A14: 3 | B14: ='пр.хода'!Q25 -> 3 | C14: =VLOOKUP(B14,'пр.взв.'!B7:H22,2,FALSE) -> Кукушкин Фёдор Андреевич | D14: =VLOOKUP(B14,'пр.взв.'!B7:H22,3,FALSE) -> 16.06.1993, МС | E14: ЦФО | F14: =VLOOKUP(B14,'пр.взв.'!B1:H24,5,FALSE) -> Ивановская область | G14: =VLOOKUP(B14,'пр.взв.'!B7:H22,6,FALSE) | H14: =VLOOKUP(B14,'пр.взв.'!B7:H22,7,FALSE) -> Кузнецов В.А.
A16: 5 | B16: 5 | C16: =VLOOKUP(B16,'пр.взв.'!B7:H30,2,FALSE) -> Нелюбин Артур Алексеевич | D16: =VLOOKUP(B16,'пр.взв.'!B7:H22,3,FALSE) -> 12.03.2001, КМС | E16: ПФО | F16: =VLOOKUP(B16,'пр.взв.'!B3:H26,5,FALSE) -> Пензенская обл. | G16: =VLOOKUP(B16,'пр.взв.'!B7:H22,6,FALSE) | H16: =VLOOKUP(B16,'пр.взв.'!B7:H22,7,FALSE) -> Голованов О.И.
A18: 5 | C18: =VLOOKUP(B18,'пр.взв.'!B7:H22,2,FALSE) -> #N/A | D18: =VLOOKUP(B18,'пр.взв.'!B7:H22,3,FALSE) -> #N/A | E18: =VLOOKUP(B18,'пр.взв.'!B1:H32,4,FALSE) -> #N/A | F18: =VLOOKUP(B18,'пр.взв.'!B7:H22,5,FALSE) -> #N/A | G18: =VLOOKUP(B18,'пр.взв.'!B7:H22,6,FALSE) -> #N/A | H18: =VLOOKUP(B18,'пр.взв.'!B7:H22,7,FALSE) -> #N/A
A20: 7-8 | C20: =VLOOKUP(B20,'пр.взв.'!B7:H22,2,FALSE) -> #N/A | D20: =VLOOKUP(B20,'пр.взв.'!B7:H22,3,FALSE) -> #N/A | E20: =VLOOKUP(B20,'пр.взв.'!B1:H34,4,FALSE) -> #N/A | F20: =VLOOKUP(B20,'пр.взв.'!B7:H22,5,FALSE) -> #N/A | G20: =VLOOKUP(B20,'пр.взв.'!B7:H22,6,FALSE) -> #N/A | H20: =VLOOKUP(B20,'пр.взв.'!B7:H22,7,FALSE) -> #N/A
A22: 7-8 | C22: =VLOOKUP(B22,'пр.взв.'!B7:H22,2,FALSE) -> #N/A | D22: =VLOOKUP(B22,'пр.взв.'!B7:H22,3,FALSE) -> #N/A | E22: =VLOOKUP(B22,'пр.взв.'!B2:H36,4,FALSE) -> #N/A | F22: =VLOOKUP(B22,'пр.взв.'!B7:H22,5,FALSE) -> #N/A | G22: =VLOOKUP(B22,'пр.взв.'!B7:H22,6,FALSE) -> #N/A | H22: =VLOOKUP(B22,'пр.взв.'!B7:H22,7,FALSE) -> #N/A
A31: =HYPERLINK('[1]реквизиты'!$A$6) -> #REF! | G31: ='[2]реквизиты'!$G$7 -> #REF!
G32: ='[2]реквизиты'!$G$8 -> #REF!
A34: =HYPERLINK('[1]реквизиты'!$A$8) -> #REF! | G34: ='[2]реквизиты'!$G$9 -> #REF!
G35: ='[2]реквизиты'!$G$10 -> #REF!

Sheet полуфинал
A1: ='пр.хода'!C3 -> #REF!
D2: В.К. | F2: =HYPERLINK('пр.взв.'!D4) -> в.к. 82 кг
C3: ЗА 3 МЕСТО
C4: ВСТРЕЧА 1
A5: Цвет | B5: № п/ж | C5: Ф.И.О. | D5: Д. р., разряд | E5: Вед., регион | G5: Оценки | H5: Рез-т | I5: Время
B7: ='пр.хода'!C22 -> 5 | C7: =VLOOKUP(B7,'пр.взв.'!B7:D22,2,FALSE) -> Нелюбин Артур Алексеевич | D7: =VLOOKUP(B7,'пр.взв.'!B7:F22,3,FALSE) -> 12.03.2001, КМС | E7: =VLOOKUP(B7,'пр.взв.'!B7:F22,4,FALSE) -> Пензенская обл. | F7: =VLOOKUP(B7,'пр.взв.'!B7:G22,5,FALSE) -> Пензенская обл.
B9: ='пр.хода'!B27 -> 4 | C9: =VLOOKUP(B9,'пр.взв.'!B7:D24,2,FALSE) -> Муртазин Сулейман Фаридович | D9: =VLOOKUP(B9,'пр.взв.'!B7:F24,3,FALSE) -> 22.01.1993, МС | E9: =VLOOKUP(B9,'пр.взв.'!B9:F24,4,FALSE) -> Р. Башкортостан | F9: =VLOOKUP(B9,'пр.взв.'!B7:G24,5,FALSE) -> Р.Башкортостан
A11: Руководитель ковра
B12: А
B13: Б
C15: ЗА 3 МЕСТО
C16: ВСТРЕЧА 2 | F16: =HYPERLINK('пр.взв.'!D4) -> в.к. 82 кг
A17: Цвет | B17: № п/ж | C17: Ф.И.О. | D17: Д. р., разряд | E17: Вед., регион | G17: Оценки | H17: Рез-т | I17: Время
B19: ='пр.хода'!R22 -> 0 | C19: =VLOOKUP(B19,'пр.взв.'!B7:F22,2,FALSE) -> #N/A | D19: =VLOOKUP(B19,'пр.взв.'!B7:G22,3,FALSE) -> #N/A | E19: =VLOOKUP(B19,'пр.взв.'!B1:F34,4,FALSE) -> #N/A | F19: =VLOOKUP(B19,'пр.взв.'!B7:H22,5,FALSE) -> #N/A
B21: ='пр.хода'!S27 -> 3 | C21: =VLOOKUP(B21,'пр.взв.'!B7:F24,2,FALSE) -> Кукушкин Фёдор Андреевич | D21: =VLOOKUP(B21,'пр.взв.'!B7:G24,3,FALSE) -> 16.06.1993, МС | E21: =VLOOKUP(B21,'пр.взв.'!B2:F36,4,FALSE) -> Ивановская область | F21: =VLOOKUP(B21,'пр.взв.'!B7:H24,5,FALSE) -> Ивановская область
A23: Руководитель ковра
B24: А
B25: Б
C29: ФИНАЛ | F29: =HYPERLINK('пр.взв.'!D4) -> в.к. 82 кг
A30: Цвет | B30: № п/ж | C30: Ф.И.О. | D30: Д. р., разряд | E30: Вед., регион | G30: Оценки | H30: Рез-т | I30: Время
B32: ='пр.хода'!G11 -> 1 | C32: =VLOOKUP(B32,'пр.взв.'!B7:F35,2,FALSE) -> Юдин Максим Валерьевич | D32: =VLOOKUP(B32,'пр.взв.'!B7:G35,3,FALSE) -> 13.05.1995, МСМК | E32: =VLOOKUP(B32,'пр.взв.'!B2:F47,4,FALSE) -> Рязанская обл. | F32: =VLOOKUP(B32,'пр.взв.'!B7:H35,5,FALSE) -> Рязанская обл.
B34: ='пр.хода'!O11 -> 2 | C34: =VLOOKUP(B34,'пр.взв.'!B7:F37,2,FALSE) -> Куржев Уали Рамазанович | D34: =VLOOKUP(B34,'пр.взв.'!B7:G37,3,FALSE) -> 28.04.1989, ЗМС | E34: =VLOOKUP(B34,'пр.взв.'!B3:F49,4,FALSE) -> Рязанская обл. | F34: =VLOOKUP(B34,'пр.взв.'!B7:H37,5,FALSE) -> Рязанская обл.
A36: Руководитель ковра
B37: А
B38: Б
A42: =HYPERLINK('[1]реквизиты'!$A$20) -> #REF! | G42: =HYPERLINK('[1]реквизиты'!$G$20) -> #REF! | H42: =HYPERLINK('[1]реквизиты'!$G$21) -> #REF!
A44: =HYPERLINK('[1]реквизиты'!$A$22) -> #REF! | G44: =HYPERLINK('[1]реквизиты'!$G$22) -> #REF! | H44: =HYPERLINK('[1]реквизиты'!$G$23) -> #REF!

Sheet пр.взв.
A1: ПРОТОКОЛ ВЗВЕШИВАНИЯ
A2: ='пр.хода'!C3 -> #REF!
A3: =HYPERLINK('[1]реквизиты'!$A$3) -> #REF!
D4: в.к. 82 кг
A5: № п\п | B5: № п/ж | C5: Ф.И.О. | D5: Дата рожд., разряд | E5: Округ, субъект, город, ведомство | G5: № карточки | H5: Тренер
B7: 1 | C7: Юдин Максим Валерьевич | D7: 13.05.1995, МСМК | E7: Рязанская обл. | F7: Рязанская обл. | H7: Фофанов К.Н., Серегин С.М.
B9: 2 | C9: Куржев Уали Рамазанович | D9: 28.04.1989, ЗМС | E9: Рязанская обл. | F9: Рязанская обл. | H9: Фофанов К.Н., Серегин С.М.
B11: 3 | C11: Кукушкин Фёдор Андреевич | D11: 16.06.1993, МС | E11: Ивановская область | F11: Ивановская область | H11: Кузнецов В.А.
B13: 4 | C13: Муртазин Сулейман Фаридович | D13: 22.01.1993, МС | E13: Р. Башкортостан | F13: Р.Башкортостан | H13: Ахуньянов Р.М., Залеев Р.Г.
B15: 5 | C15: Нелюбин Артур Алексеевич | D15: 12.03.2001, КМС | E15: Пензенская обл. | F15: Пензенская обл. | H15: Голованов О.И.

Sheet круги
B1: ВСТРЕЧИ ПО КРУГАМ | K1: ВСТРЕЧИ ПО КРУГАМ
B2: ='пр.взв.'!D4 -> в.к. 82 кг | K2: ='пр.взв.'!D4 -> в.к. 82 кг
B3: A | C3: (Круг) | D3: 1/4 | K3: Б | L3: (Круг) | M3: 1/4
A4: № встр | B4: № п/ж | C4: Ф.И.О. | D4: Д. р., разряд | E4: Вед., регион | F4: Оценки | G4: Очки | H4: Результат | I4: Время | J4: № встр | K4: № п/ж | L4: Ф.И.О. | M4: Д. р., разряд | N4: Вед., регион | O4: Оценки | P4: Очки | Q4: Результат | R4: Время
A6: 1 | B6: 1 | C6: =VLOOKUP(B6,'пр.взв.'!B7:F70,2,FALSE) -> Юдин Максим Валерьевич | D6: =VLOOKUP(B6,'пр.взв.'!B7:G126,3,FALSE) -> 13.05.1995, МСМК | E6: =VLOOKUP(B6,'пр.взв.'!B7:H126,4,FALSE) -> Рязанская обл. | J6: 5 | K6: 2 | L6: =VLOOKUP(K6,'пр.взв.'!B7:F70,2,FALSE) -> Куржев Уали Рамазанович | M6: =VLOOKUP(K6,'пр.взв.'!B7:G126,3,FALSE) -> 28.04.1989, ЗМС | N6: =VLOOKUP(K6,'пр.взв.'!B7:H126,4,FALSE) -> Рязанская обл.
B8: 5 | C8: =VLOOKUP(B8,'пр.взв.'!B7:F70,2,FALSE) -> Нелюбин Артур Алексеевич | D8: =VLOOKUP(B8,'пр.взв.'!B7:G128,3,FALSE) -> 12.03.2001, КМС | E8: =VLOOKUP(B8,'пр.взв.'!B7:H128,4,FALSE) -> Пензенская обл. | K8: 6 | L8: =VLOOKUP(K8,'пр.взв.'!B7:F70,2,FALSE) -> #N/A | M8: =VLOOKUP(K8,'пр.взв.'!B7:G128,3,FALSE) -> #N/A | N8: =VLOOKUP(K8,'пр.взв.'!B7:H128,4,FALSE) -> #N/A
A10: 2 | B10: 3 | C10: =VLOOKUP(B10,'пр.взв.'!B7:F70,2,FALSE) -> Кукушкин Фёдор Андреевич | D10: =VLOOKUP(B10,'пр.взв.'!B7:G130,3,FALSE) -> 16.06.1993, МС | E10: =VLOOKUP(B10,'пр.взв.'!B7:H130,4,FALSE) -> Ивановская область | J10: 6 | K10: 4 | L10: =VLOOKUP(K10,'пр.взв.'!B7:F70,2,FALSE) -> Муртазин Сулейман Фаридович | M10: =VLOOKUP(K10,'пр.взв.'!B7:G130,3,FALSE) -> 22.01.1993, МС | N10: =VLOOKUP(K10,'пр.взв.'!B7:H130,4,FALSE) -> Р. Башкортостан
B12: 7 | C12: =VLOOKUP(B12,'пр.взв.'!B7:F70,2,FALSE) -> #N/A | D12: =VLOOKUP(B12,'пр.взв.'!B7:G132,3,FALSE) -> #N/A | E12: =VLOOKUP(B12,'пр.взв.'!B2:H132,4,FALSE) -> #N/A | K12: 8 | L12: =VLOOKUP(K12,'пр.взв.'!B7:F70,2,FALSE) -> #N/A | M12: =VLOOKUP(K12,'пр.взв.'!B7:G132,3,FALSE) -> #N/A | N12: =VLOOKUP(K12,'пр.взв.'!B7:H132,4,FALSE) -> #N/A
B15: A | C15: Полуфинал | F15: ='пр.взв.'!D4 -> в.к. 82 кг | K15: Б | L15: Полуфинал | O15: ='пр.взв.'!D4 -> в.к. 82 кг
A16: № встр | B16: № п/ж | C16: Ф.И.О. | D16: Д. р., разряд | E16: Вед., регион | F16: Оценки | G16: Очки | H16: Результат | I16: Время | J16: № встр | K16: № п/ж | L16: Ф.И.О. | M16: Д. р., разряд | N16: Вед., регион | O16: Оценки | P16: Очки | Q16: Результат | R16: Время
A18: 1 | B18: ='пр.хода'!E9 -> 1 | C18: =VLOOKUP(B18,'пр.взв.'!B1:F82,2,FALSE) -> Юдин Максим Валерьевич | D18: =VLOOKUP(B18,'пр.взв.'!B1:G138,3,FALSE) -> 13.05.1995, МСМК | E18: =VLOOKUP(B18,'пр.взв.'!B1:H138,4,FALSE) -> Рязанская обл. | J18: 2 | K18: ='пр.хода'!Q9 -> 2 | L18: =VLOOKUP(K18,'пр.взв.'!B1:F78,2,FALSE) -> Куржев Уали Рамазанович | M18: =VLOOKUP(K18,'пр.взв.'!B1:G138,3,FALSE) -> 28.04.1989, ЗМС | N18: =VLOOKUP(K18,'пр.взв.'!B1:H138,4,FALSE) -> Рязанская обл.
B20: ='пр.хода'!E13 -> 3 | C20: =VLOOKUP(B20,'пр.взв.'!B1:F82,2,FALSE) -> Кукушкин Фёдор Андреевич | D20: =VLOOKUP(B20,'пр.взв.'!B1:G140,3,FALSE) -> 16.06.1993, МС | E20: =VLOOKUP(B20,'пр.взв.'!B1:H140,4,FALSE) -> Ивановская область | K20: ='пр.хода'!Q13 -> 4 | L20: =VLOOKUP(K20,'пр.взв.'!B1:F78,2,FALSE) -> Муртазин Сулейман Фаридович | M20: =VLOOKUP(K20,'пр.взв.'!B1:G140,3,FALSE) -> 22.01.1993, МС | N20: =VLOOKUP(K20,'пр.взв.'!B1:H140,4,FALSE) -> Р. Башкортостан
A23: (Утешительные встречи) | J23: (Утешительные встречи)
B24: A | F24: ='пр.взв.'!D4 -> в.к. 82 кг | K24: Б | O24: ='пр.взв.'!D4 -> в.к. 82 кг
A25: № встр | B25: № п/ж | C25: Ф.И.О. | D25: Д. р., разряд | E25: Вед., регион | F25: Оценки | G25: Очки | H25: Результат | I25: Время | J25: № встр | K25: № п/ж | L25: Ф.И.О. | M25: Д. р., разряд | N25: Вед., регион | O25: Оценки | P25: Очки | Q25: Результат | R25: Время
A27: 1 | B27: ='пр.хода'!A21 -> 5 | C27: =VLOOKUP(B27,'пр.взв.'!B2:F91,2,FALSE) -> Нелюбин Артур Алексеевич | D27: =VLOOKUP(B27,'пр.взв.'!B2:G147,3,FALSE) -> 12.03.2001, КМС | E27: =VLOOKUP(B27,'пр.взв.'!B2:H147,4,FALSE) -> Пензенская обл. | J27: 2 | K27: ='пр.хода'!U21 -> 0 | L27: =VLOOKUP(K27,'пр.взв.'!B2:F91,2,FALSE) -> #N/A | M27: =VLOOKUP(K27,'пр.взв.'!B2:G147,3,FALSE) -> #N/A | N27: =VLOOKUP(K27,'пр.взв.'!B2:H147,4,FALSE) -> #N/A
B29: ='пр.хода'!A23 -> 0 | C29: =VLOOKUP(B29,'пр.взв.'!B2:F91,2,FALSE) -> #N/A | D29: =VLOOKUP(B29,'пр.взв.'!B2:G149,3,FALSE) -> #N/A | E29: =VLOOKUP(B29,'пр.взв.'!B2:H149,4,FALSE) -> #N/A | K29: ='пр.хода'!U23 -> 0 | L29: =VLOOKUP(K29,'пр.взв.'!B2:F91,2,FALSE) -> #N/A | M29: =VLOOKUP(K29,'пр.взв.'!B2:G149,3,FALSE) -> #N/A | N29: =VLOOKUP(K29,'пр.взв.'!B2:H149,4,FALSE) -> #N/A

Sheet стартвый 
C1: ПРОТОКОЛ ХОДА СОРЕВНОВАНИЙ
C2: =HYPERLINK('[1]реквизиты'!$A$2) -> #REF!
F4: =HYPERLINK('пр.взв.'!D4) -> в.к. 82 кг
A5: А
A6: 1 | B6: =VLOOKUP('стартвый '!A6:A7,'пр.взв.'!B6:C21,2,FALSE) -> Юдин Максим Валерьевич | C6: =VLOOKUP(A6,'пр.взв.'!B6:H21,3,FALSE) -> 13.05.1995, МСМК | D6: =VLOOKUP(A6,'пр.взв.'!B6:H21,4,FALSE) -> Рязанская обл.
A8: 5 | B8: =VLOOKUP('стартвый '!A8:A9,'пр.взв.'!B8:C23,2,FALSE) -> Нелюбин Артур Алексеевич | C8: =VLOOKUP(A8,'пр.взв.'!B6:H21,3,FALSE) -> 12.03.2001, КМС | D8: =VLOOKUP(A8,'пр.взв.'!B6:H21,4,FALSE) -> Пензенская обл.
A10: 3 | B10: =VLOOKUP('стартвый '!A10:A11,'пр.взв.'!B10:C25,2,FALSE) -> Кукушкин Фёдор Андреевич | C10: =VLOOKUP(A10,'пр.взв.'!B6:H21,3,FALSE) -> 16.06.1993, МС | D10: =VLOOKUP(A10,'пр.взв.'!B6:H21,4,FALSE) -> Ивановская область
A12: 7 | B12: =VLOOKUP('стартвый '!A12:A13,'пр.взв.'!B12:C27,2,FALSE) -> #N/A | C12: =VLOOKUP(A12,'пр.взв.'!B6:H21,3,FALSE) -> #N/A | D12: =VLOOKUP(A12,'пр.взв.'!B6:H21,4,FALSE) -> #N/A
A16: Б
A17: 2 | B17: =VLOOKUP(A17,'пр.взв.'!B7:H22,2,FALSE) -> Куржев Уали Рамазанович | C17: =VLOOKUP(A17,'пр.взв.'!B7:H22,3,FALSE) -> 28.04.1989, ЗМС | D17: =VLOOKUP(A17,'пр.взв.'!B7:H22,4,FALSE) -> Рязанская обл.
A19: 6 | B19: =VLOOKUP('стартвый '!A19:A20,'пр.взв.'!B7:H22,2,FALSE) -> #N/A | C19: =VLOOKUP(A19,'пр.взв.'!B7:H22,3,FALSE) -> #N/A | D19: =VLOOKUP(A19,'пр.взв.'!B7:H22,4,FALSE) -> #N/A
A21: 4 | B21: =VLOOKUP('стартвый '!A21:A22,'пр.взв.'!B7:H22,2,FALSE) -> Муртазин Сулейман Фаридович | C21: =VLOOKUP(A21,'пр.взв.'!B7:H22,3,FALSE) -> 22.01.1993, МС | D21: =VLOOKUP(A21,'пр.взв.'!B7:H22,4,FALSE) -> Р. Башкортостан
A23: 8 | B23: =VLOOKUP('стартвый '!A23:A24,'пр.взв.'!B7:H22,2,FALSE) -> #N/A | C23: =VLOOKUP(A23,'пр.взв.'!B7:H22,3,FALSE) -> #N/A | D23: =VLOOKUP(A23,'пр.взв.'!B7:H22,4,FALSE) -> #N/A
A27: А1 | G27: Б1
B38: =HYPERLINK('[1]реквизиты'!$A$20) -> #REF! | I38: =HYPERLINK('[1]реквизиты'!$G$20) -> #REF! | K38: =HYPERLINK('[1]реквизиты'!$G$21) -> #REF!
B40: =HYPERLINK('[1]реквизиты'!$A$22) -> #REF! | I40: =HYPERLINK('[1]реквизиты'!$G$22) -> #REF! | K40: =HYPERLINK('[1]реквизиты'!$G$23) -> #REF!

Sheet наградной лист
A1: ='пр.хода'!C3 -> #REF!
A2: ='пр.хода'!C4 -> #REF!
A3: НАГРАДНОЙ ЛИСТ
D4: =HYPERLINK('пр.взв.'!D4) -> в.к. 82 кг
A6: I м | B6: =VLOOKUP(J6,'пр.взв.'!B6:H133,2,FALSE) -> Куржев Уали Рамазанович | H6: =VLOOKUP(J6,'пр.взв.'!B6:H133,3,FALSE) -> 28.04.1989, ЗМС | J6: ='пр.хода'!H9 -> 2
B8: =VLOOKUP(J6,'пр.взв.'!B6:H133,4,FALSE) -> Рязанская обл.
A11: II м | B11: =VLOOKUP(J11,'пр.взв.'!B6:H133,2,FALSE) -> Юдин Максим Валерьевич | H11: =VLOOKUP(J11,'пр.взв.'!B6:H133,3,FALSE) -> 13.05.1995, МСМК | J11: ='пр.хода'!H14 -> 1
B13: =VLOOKUP(J11,'пр.взв.'!B6:H133,4,FALSE) -> Рязанская обл.
A16: III м | B16: =VLOOKUP(J16,'пр.взв.'!B6:H133,2,FALSE) -> Муртазин Сулейман Фаридович | H16: =VLOOKUP(J16,'пр.взв.'!B6:H133,3,FALSE) -> 22.01.1993, МС | J16: ='пр.хода'!E25 -> 4
B18: =VLOOKUP(J16,'пр.взв.'!B6:H133,4,FALSE) -> Р. Башкортостан
A21: III м | B21: =VLOOKUP(J21,'пр.взв.'!B6:H133,2,FALSE) -> Куржев Уали Рамазанович | H21: =VLOOKUP(J21,'пр.взв.'!B7:H138,3,FALSE) -> 28.04.1989, ЗМС | J21: ='пр.хода'!H9 -> 2
B23: =VLOOKUP(J21,'пр.взв.'!B6:H133,4,FALSE) -> Рязанская обл.
A26: Тренер победителя:
A28: =VLOOKUP(J28,'пр.взв.'!B7:H22,7,FALSE) -> Фофанов К.Н., Серегин С.М. | J28: ='пр.хода'!H9 -> 2
A32: Награждение проводят:

Sheet пр.хода
A1: ВСЕРОССИЙСКАЯ ФЕДЕРАЦИЯ САМБО
C2: ПРОТОКОЛ ХОДА СОРЕВНОВАНИЙ
C3: ='[2]реквизиты'!$A$2 -> #REF!
C4: ='[2]реквизиты'!$A$3 -> #REF!
H5: =HYPERLINK('пр.взв.'!D4) -> в.к. 82 кг
A7: А | I7: ФИНАЛ | T7: Б
A8: 1 | B8: =VLOOKUP('пр.хода'!A8,'пр.взв.'!B7:C22,2,FALSE) -> Юдин Максим Валерьевич | C8: =VLOOKUP(A8,'пр.взв.'!B7:H22,3,FALSE) -> 13.05.1995, МСМК | D8: =VLOOKUP(A8,'пр.взв.'!B7:H22,4,FALSE) -> Рязанская обл. | I8: 1 место | R8: =VLOOKUP(U8,'пр.взв.'!B7:F22,2,FALSE) -> Куржев Уали Рамазанович | S8: =VLOOKUP(U8,'пр.взв.'!B7:F22,3,FALSE) -> 28.04.1989, ЗМС | T8: =VLOOKUP(U8,'пр.взв.'!B7:F22,4,FALSE) -> Рязанская обл. | U8: 2
E9: 1 | H9: 2 | I9: =VLOOKUP(H9,'пр.взв.'!B7:F22,2,FALSE) -> Куржев Уали Рамазанович | Q9: 2
A10: 5 | B10: =VLOOKUP('пр.хода'!A10,'пр.взв.'!B9:C24,2,FALSE) -> Нелюбин Артур Алексеевич | C10: =VLOOKUP(A10,'пр.взв.'!B7:H22,3,FALSE) -> 12.03.2001, КМС | D10: =VLOOKUP(A10,'пр.взв.'!B7:H22,4,FALSE) -> Пензенская обл. | R10: =VLOOKUP(U10,'пр.взв.'!B9:F24,2,FALSE) -> #N/A | S10: =VLOOKUP(U10,'пр.взв.'!B9:F24,3,FALSE) -> #N/A | T10: =VLOOKUP(U10,'пр.взв.'!B9:F24,4,FALSE) -> #N/A | U10: 6
G11: 1 | O11: 2
A12: 3 | B12: =VLOOKUP('пр.хода'!A12,'пр.взв.'!B11:C26,2,FALSE) -> Кукушкин Фёдор Андреевич | C12: =VLOOKUP(A12,'пр.взв.'!B7:H22,3,FALSE) -> 16.06.1993, МС | D12: =VLOOKUP(A12,'пр.взв.'!B7:H22,4,FALSE) -> Ивановская область | R12: =VLOOKUP(U12,'пр.взв.'!B11:F26,2,FALSE) -> Муртазин Сулейман Фаридович | S12: =VLOOKUP(U12,'пр.взв.'!B11:F26,3,FALSE) -> 22.01.1993, МС | T12: =VLOOKUP(U12,'пр.взв.'!B11:F26,4,FALSE) -> Р. Башкортостан | U12: 4
E13: 3 | I13: 2 место | Q13: 4
A14: 7 | B14: =VLOOKUP('пр.хода'!A14,'пр.взв.'!B13:C28,2,FALSE) -> #N/A | C14: =VLOOKUP(A14,'пр.взв.'!B7:H22,3,FALSE) -> #N/A | D14: =VLOOKUP(A14,'пр.взв.'!B7:H22,4,FALSE) -> #N/A | H14: 1 | I14: =VLOOKUP(H14,'пр.взв.'!B5:F27,2,FALSE) -> Юдин Максим Валерьевич | R14: =VLOOKUP(U14,'пр.взв.'!B13:F28,2,FALSE) -> #N/A | S14: =VLOOKUP(U14,'пр.взв.'!B13:F28,3,FALSE) -> #N/A | T14: =VLOOKUP(U14,'пр.взв.'!B13:F28,4,FALSE) -> #N/A | U14: 8
A17: А1 | U17: Б1
G18: УТЕШИТЕЛЬНЫЕ ВСТРЕЧИ
A21: 5 | B21: =VLOOKUP(A21,'пр.взв.'!B7:F22,2,FALSE) -> Нелюбин Артур Алексеевич | S21: =VLOOKUP(U21,'пр.взв.'!B7:F22,2,FALSE) -> #N/A | U21: 0
C22: 5 | R22: 0
A23: 0 | B23: =VLOOKUP(A23,'пр.взв.'!B7:F22,2,FALSE) -> #N/A | G23: 3 место | N23: 3 место | S23: =VLOOKUP(U23,'пр.взв.'!B7:F22,2,FALSE) -> #N/A | U23: 0
E25: 4 | F25: =VLOOKUP(E25,'пр.взв.'!B7:D22,2,FALSE) -> Муртазин Сулейман Фаридович | M25: =VLOOKUP(Q25,'пр.взв.'!B7:C22,2,FALSE) -> Кукушкин Фёдор Андреевич | Q25: 3
B27: 4 | C27: =VLOOKUP(B27,'пр.взв.'!B7:F22,2,FALSE) -> Муртазин Сулейман Фаридович | R27: =VLOOKUP(S27,'пр.взв.'!B7:F22,2,FALSE) -> Кукушкин Фёдор Андреевич | S27: 3
B31: =HYPERLINK('[1]реквизиты'!$A$6) -> #REF! | N31: ='[2]реквизиты'!$G$7 -> #REF! | R31: ='[2]реквизиты'!$G$8 -> #REF!
B34: =HYPERLINK('[1]реквизиты'!$A$8) -> #REF! | N34: ='[2]реквизиты'!$G$9 -> #REF! | R34: ='[2]реквизиты'!$G$10 -> #REF!
