Workbook

Sheet 2стр (2)
A1: ВСЕРОССИЙСКАЯ ФЕДЕРАЦИЯ САМБО
A2: СПИСОК ПРИЗЕРОВ
A3: Первенство Республики Алтай по самбо среди юношей и девушек 2002-03г.р. (Отбор на первенство СФО)
A4: 03-04 марта 2018г. г.Горно-Алтайск
B6: МЕСТО | C6: Ф.И.О | D6: Дата рожд., разряд | E6: округ | F6: субъект, город, ведомство | H6: Тренер
A8: 72 кг | B8: 1 | C8: АСТАХОВ Николай | D8: 2002г | E8: Р.Алт | F8: Горно-Алтайск, Спарта | H8: Угрюмов А.А.
B9: 2 | C9: ЩАНИН Илья | D9: 2002г | E9: Р.Алт | F9: Горно-Алтайск, Спарта | H9: Угрюмов А.А.
B10: 3 | C10: НУГУМАНОВ Алимурат | D10: 2003г | E10: Р.Алт | F10: Кош-Агач | H10: Рамазанов Р.М.
B11: 3 | C11: ЗАРЕЧНЕВ Александр | D11: 2003г | E11: Р.Алт | F11: Усть-Кан | H11: Бакрасов Б.М.
A13: 78 кг | B13: 1 | C13: #N/A | D13: #N/A | E13: #N/A | F13: #N/A | G13: #N/A | H13: #N/A
B14: 2 | C14: #N/A | D14: #N/A | E14: #N/A | F14: #N/A | G14: #N/A | H14: #N/A
B15: 3 | C15: #N/A | D15: #N/A | E15: #N/A | F15: #N/A | G15: #N/A | H15: #N/A
B16: 3 | C16: #N/A | D16: #N/A | E16: #N/A | F16: #N/A | G16: #N/A | H16: #N/A
A18: 84 кг | B18: 1 | C18: СИГАРЕВ Герман | D18: 2002г | E18: Р.Алт | F18: Усть-Кокса | H18: Сульянов Е.И.
B19: 2 | C19: ЗАЙЦЕВ Дмитрий | D19: 2003г | E19: Р.Алт | F19: Горно-Алтайск, СДЮШОР | H19: Чичинов Р.Р. Аткунов С.Ю.
B20: 3 | C20: ПОСАЖЕНКО Захар | D20: 2003г | E20: Р.Алт | F20: Майма | H20: Мордовин С.Н.
B21: 3 | C21: ШИПУЛИН Вячеслав | D21: 2002г | E21: Р.Алт | F21: Усть-Кокса | H21: Черепанов В.А.
A23: св 84 кг | B23: 1 | C23: ТАДИН Артем | D23: 2003г | E23: Р.Алт | F23: Чемал | H23: Акопян Н.Н. | I23: 0
B24: 2 | C24: #N/A | D24: #N/A | E24: #N/A | F24: #N/A | H24: #N/A | I24: 0
B25: 3 | C25: #N/A | D25: #N/A | E25: #N/A | F25: #N/A | G25: #N/A | H25: #N/A
B26: 3 | C26: #N/A | D26: #N/A | E26: #N/A | F26: #N/A | G26: #N/A | H26: #N/A
B29: Гл. судья, судья ВК | F29: С.Ю.Аткунов
F30: /Горно-Алтайск/
B31: Гл. секретарь, судья ВК | F31: С.Н. Мордовин
F32: / Майма /
S37: ю

Sheet 1стр (2)
A1: ВСЕРОССИЙСКАЯ ФЕДЕРАЦИЯ САМБО
A2: СПИСОК ПРИЗЕРОВ
A3: Первенство Республики Алтай по самбо среди юношей и девушек 2002-03г.р. (Отбор на первенство СФО)
A4: 03-04 марта 2018г. г.Горно-Алтайск
B6: МЕСТО | C6: Ф.И.О | D6: Дата рожд., разряд | E6: округ | F6: субъект, город, ведомство | H6: Тренер
A8: 42 кг | B8: 1 | C8: КУДЮШЕВ Аткыр | D8: 2004г | E8: Р.Алт | F8: Улаган | H8: Сартаков А.С. | J8: 1
B9: 2 | C9: ЧАЧИЯКОВ Айан | D9: 2003г | E9: Р.Алт | F9: Онгудай | H9: Ялчин С.П.
B10: 3 | C10: МЕШКЕЕВ Сергей | D10: 2002г | E10: Р.Алт | F10: Кош-Агач | H10: Канапиянов Е.Д. | J10: 2
B11: 3 | C11: ЧУЛУНОВ Расул | D11: 2003г | E11: Р.Алт | F11: Улаган | H11: Санин А.А.
B12: 3 | C12: ЕРИШЕВ Алан | D12: 2003г | E12: Р.Алт | F12: Усть-Кан | H12: Тукешев А.Б. | J12: 3
B14: 3 | C14: 0 | D14: 0 | E14: 0 | F14: 0 | H14: 0 | J14: 4
B16: 5 | C16: ЧЕЛЧУШЕВ Олег Олегович | D16: 02.04.1996, КМС | E16: СФО | F16: Р.Алтай, Г-Алтайск | H16: Тайпинов В.Л., Челчушев В.В.
B18: 5 | C18: БЕДАРЕВ Алексей Александрович | D18: 30.11.1995, КМС | E18: СФО | F18: Омская, Омск, МО, СибГУФК | H18: Горбунов АВ Бобровский ВА
A21: 46 кг | B21: 1 | C21: КОНЗОШЕВ Артем | D21: 2002г | E21: Р.Алт | F21: Улаган | H21: Тадышев Ю.Н.
B22: 2 | C22: ОЧУРДЯПОВ Амаду | D22: 2003г | E22: Р.Алт | F22: Кош-Агач | H22: Ядогаев А.О.
B23: 3 | C23: МАЙНАКОВ Алексей | D23: 2002г | E23: Р.Алт | F23: Горно-Алтайск, СДЮШОР | H23: Чичинов Р.Р. Аткунов С.Ю.
B24: 3 | C24: КАРЫБАЕВ Аймерген | D24: 2003г | E24: Р.Алт | F24: Кош-Агач | H24: Нукеев Е.С.
A26: 50 кг | B26: 1 | C26: ШАДРИН Кирилл | D26: 2002г | E26: Р.Алт | F26: Горно-Алтайск, Спарта | H26: Угрюмов А.А.
B27: 2 | C27: ХАЛУЕВ Аслан | D27: 2003г | E27: Р.Алт | F27: Кош-Агач | H27: Мажетканов Р.М.
B28: 3 | C28: СОРОЧИНСКИЙ Вадим | D28: 2002г | E28: Р.Алт | F28: Усть-Кан | H28: Бакрасов Б.М.
B29: 3 | C29: ПЕШТИНОВ Батыр | D29: 2002г | E29: Р.Алт | F29: Горно-Алтайск | H29: Семендеев Э.С.
A31: 55 кг | B31: 1 | C31: ОКЕЕВ Касым | D31: 2003г | E31: Р.Алт | F31: Кош-Агач | H31: Мажетканов Р.М.
B32: 2 | C32: КАЛБУКОВ Шуну | D32: 2002г | E32: Р.Алт | F32: Горно-Алтайск, СДЮШОР | H32: Чичинов Р.Р. Аткунов С.Ю.
B33: 3 | C33: КАЛБУКОВ Ажу | D33: 2003г | E33: Р.Алт | F33: Горно-Алтайск, СДЮШОР | H33: Чичинов Р.Р. Аткунов С.Ю.
B34: 3 | C34: САМАРХАНОВ Амир | D34: 2003г | E34: Р.Алт | F34: Кош-Агач | H34: Мажетканов Р.М.
A36: 60 кг | B36: 1 | C36: КУНДИН Дмитрий | D36: 2002г | E36: Р.Алт | F36: Усть-Кокса | H36: Сульянов Е.И.
B37: 2 | C37: КАЛКИН Сергей | D37: 2002г | E37: Р.Алт | F37: Улаган | H37: Бабаков Д.Н.
B38: 3 | C38: СОГОДИН Санат | D38: 2002г | E38: Р.Алт | F38: Усть-Кан | H38: Бакрасов Б.М.
B39: 3 | C39: МАРУКЯН Эдгар | D39: 2002г | E39: Р.Алт | F39: Горно-Алтайск, Спарта | H39: Угрюмов А.А.
B40: 5 | C40: ВОРОБЬЁВА Ангелина Олеговна | D40: 27.07.96, КМС | E40: ПФО | F40: Р.Татарстан, Казань, ФСОП "Россия" | H40: Ахметзянов Р.Р. Сагдиев А.В.
B41: 5 | C41: ШЕСТАКОВА Алина Романовна | D41: 30.09.99, КМС | E41: ЦФО | F41: Тульская, Тула | H41: Афонина ИП Ворфоломеев ВП
A43: 66 кг | B43: 1 | C43: БРАУН Ярослав | D43: 2003г | E43: Р.Алт | F43: Майма | H43: Мордовин С.Н.
B44: 2 | C44: КОНЫШЕВ Ирбис | D44: 2003г | E44: Р.Алт | F44: Улаган | H44: Сартаков А.С.
B45: 3 | C45: КЫНОВ Айсанат | D45: 2002г | E45: Р.Алт | F45: Усть-Кан | H45: Тукешев А.Б.
B46: 3 | C46: ДОРОФЕЕВ Дмитрий | D46: 2003г | E46: Р.Алт | F46: Горно-Алтайск, Спарта | H46: Угрюмов А.А.
B47: 5 | C47: САСЕВА Ангелина Вячеславовна | D47: 10.07.97, МС | E47: ЦФО | F47: Смоленская, , | G47: 0 | H47: Катцин Ю.П.Федяев В.А
B48: 5 | C48: ДУДАЕВА Регина Львовна | D48: 03.11.98, КМС | E48: ЮФО | F48: Ростовская, Ростов | G48: 0 | H48: Петрова О.А. Пантелеева Е.А.
A50: 72 кг | B50: 1 | C50: КРЮКОВА Ольга Владимировна | D50: 16.03.95, МС | E50: ПФО | F50: Самарская, Самара, | G50: 0 | H50: Сараева А.А.
B51: 2 | C51: КОЧНЕВА Юлия Александровна | D51: 26.09.95, МС | E51: ПФО | F51: Нижегородская, Кстово | G51: 0 | H51: Кожемякин В.С.
B52: 3 | C52: АНИСИМОВА Валерия Александровна | D52: 09.05.98, МС | E52: СФО | F52: Томская, Северск, ОГУ ТО СШОР | G52: 0 | H52: Вышегородцев ДЕ Вахмистрова НА
B53: 3 | C53: САЛЬНИКОВА Ксения Витальевна | D53: 24.07.99, КМС | E53: ПФО | F53: Пермский, Березники, МО | G53: 0 | H53: Клинов Э.Н.
B55: Гл. судья, судья ВК | F55: С.Ю.Аткунов
F56: /Горно-Алтайск/
B57: Гл. секретарь, судья ВК | F57: С.Н. Мордовин
F58: / Майма /
S63: ю

Sheet ФИН
A1: ВСЕРОССИЙСКАЯ ФЕДЕРАЦИЯ САМБО
A2: СПИСОК ПОПАВШИХ НА ФИНАЛ ЧЕМПИОНАТА РОССИИ
A3: =[1]реквизиты!$A$2 -> Первенство России по самбо среди юношей и девушек 2002-03г.р. (15-16 лет)
A4: =[1]реквизиты!$A$3 -> 26-30.09.2018г. г.Раменское
B6: МЕСТО | C6: Ф.И.О | D6: Дата рожд., разряд | E6: округ | F6: субъект, город, ведомство | H6: Тренер
A8: =призеры!A8 -> 42 кг | B8: 1 | C8: =призеры!C8 -> УСОЛЬЦЕВ Богдан Сергеевич | D8: =призеры!D8 -> 24.08.04, 1р | E8: =призеры!E8 -> ЦФО | F8: =призеры!F8 -> Московская, МАУ "ФОК", МО | G8: =призеры!G8 -> 0 | H8: =призеры!H8 -> Абрамов А.Г. Герасименко Д.В. | J8: 1
B10: 2 | C10: =призеры!C9 -> ИСАЯН Владислав Валерьевич | D10: =призеры!D9 -> 09.08.02, КМС | E10: =призеры!E9 -> СФО | F10: =призеры!F9 -> Алтайский, Заринск, МО | G10: =призеры!G9 -> 0 | H10: =призеры!H9 -> Блинов А.В. Тюкин СГ | J10: 2
A13: =призеры!A15 -> 46 кг | B13: 1 | C13: =призеры!C15 -> АРБУЗОВ Тимур Денисович | D13: =призеры!D15 -> 14.04.04, 1юн | E13: =призеры!E15 -> ЮФО | F13: =призеры!F15 -> Краснодарский, Тихорецкий | G13: =призеры!G15 -> 0 | H13: =призеры!H15 -> Козлова ВВ | J13: 5
B14: 2 | C14: =призеры!C16 -> АХМЕДОВ Ахмед Ихтибарович | D14: =призеры!D16 -> 04.11.03, 1р | E14: =призеры!E16 -> ПФО | F14: =призеры!F16 -> Саратовская, Саратов, "Динамо" | G14: =призеры!G16 -> 0 | H14: =призеры!H16 -> Рожков В.И. | J14: 6
A16: =призеры!A22 -> 50 кг | B16: 1 | C16: =призеры!C22 -> ШАМСУТДИНОВ Дамир Фаргатович | D16: =призеры!D22 -> 01.07.02, кмс | E16: =призеры!E22 -> ПФО | F16: =призеры!F22 -> Башкортостан, Давлеканово, ЮР | G16: =призеры!G22 -> 0 | H16: =призеры!H22 -> Лоншаков ЮБ | J16: 9
B17: 2 | C17: =призеры!C23 -> АГАДЖАНЯН Ален Ишханович | D17: =призеры!D23 -> 07.01.02, КМС | E17: =призеры!E23 -> СФО | F17: =призеры!F23 -> Красноярский, Красноярск, МО | G17: =призеры!G23 -> 0 | H17: =призеры!H23 -> Гусаров В.П. | J17: 10
A19: =призеры!A29 -> 55 кг | B19: 1 | C19: =призеры!C29 -> КОЛЬЖАНОВ Денис Игоревич | D19: =призеры!D29 -> 29.07.02, 1р | E19: =призеры!E29 -> ПФО | F19: =призеры!F29 -> Саратовская, Балашов, ФСОП "Россия" | G19: =призеры!G29 -> 0 | H19: =призеры!H29 -> Разваляев С.В. | J19: 13
B20: 2 | C20: =призеры!C30 -> ДАГОЕВ Али Ахмедович | D20: =призеры!D30 -> 26.03.02, кмс | E20: =призеры!E30 -> МОС | F20: =призеры!F30 -> Москва, ГБОУ ЦСиО "Самбо-70" Москомспорта | G20: =призеры!G30 -> 0 | H20: =призеры!H30 -> Богомолов В.А., Мартынов И.В. | J20: 14
A22: =призеры!A36 -> 60 кг | B22: 1 | C22: =призеры!C36 -> ЛОБАНОВ Максим Георгиевич | D22: =призеры!D36 -> 06.03.02, кмс | E22: =призеры!E36 -> МОС | F22: =призеры!F36 -> Москва, ГБОУ ЦСиО "Самбо-70" Москомспорта | G22: =призеры!G36 -> 0 | H22: =призеры!H36 -> Кузнецов С.В., Вашурин В.В. | J22: 17
B23: 2 | C23: =призеры!C37 -> ПЕТРОВ Владимир Владимирович | D23: =призеры!D37 -> 01.07.02, кмс | E23: =призеры!E37 -> ЦФО | F23: =призеры!F37 -> Тульская, Тула | G23: =призеры!G37 -> 0 | H23: =призеры!H37 -> Самборский СВ | J23: 18
A25: =призеры!A43 -> 66 кг | B25: 1 | C25: =призеры!C43 -> ТЮХЛОВ Иван Дмитриевич | D25: =призеры!D43 -> 25.02.03, кмс | E25: =призеры!E43 -> ЦФО | F25: =призеры!F43 -> Московская, Можайск, МО | G25: =призеры!G43 -> 0 | H25: =призеры!H43 -> Нагулин В.А. | J25: 21
B26: 2 | C26: =призеры!C44 -> СЁМОЧКИН Максим Романович | D26: =призеры!D44 -> 21.03.02, 3р | E26: =призеры!E44 -> МОС | F26: =призеры!F44 -> Москва, ГБОУ ЦСиО "Самбо-70" Москомспорта | G26: =призеры!G44 -> 0 | H26: =призеры!H44 -> Богомолов В.А., Мартынов И.В. | J26: 22
A28: =призеры!A50 -> 72 кг | B28: 1 | C28: =призеры!C50 -> ОРЛОВ Даниил Владимирович | D28: =призеры!D50 -> 24.01.02, 1р | E28: =призеры!E50 -> ПФО | F28: =призеры!F50 -> Чувашская, Чебоксары, МС | G28: =призеры!G50 -> 0 | H28: =призеры!H50 -> Малов СА Ильин ГА | J28: 25
B29: 2 | C29: =призеры!C51 -> КЛЮЧКИН Михаил Владимирович | D29: =призеры!D51 -> 16.01.02, кмс | E29: =призеры!E51 -> МОС | F29: =призеры!F51 -> Москва, ГБОУ ЦСиО "Самбо-70" Москомспорта | G29: =призеры!G51 -> 0 | H29: =призеры!H51 -> Богомолов В.А., Мартынов И.В. | J29: 26
A31: =призеры!A57 -> 78 кг | B31: 1 | C31: =призеры!C57 -> ХАДЖИМУРАДОВ Тамерлан Русланович | D31: =призеры!D57 -> 11.10.02, кмс | E31: =призеры!E57 -> СКФО | F31: =призеры!F57 -> Чеченская, Грозный, МС | G31: =призеры!G57 -> 0 | H31: =призеры!H57 -> Успаев БА, Кагерманов РБ | J31: 29
B32: 2 | C32: =призеры!C58 -> ЗАТЫЛКИН Илья Игоревич | D32: =призеры!D58 -> 18.03.02, кмс | E32: =призеры!E58 -> ПФО | F32: =призеры!F58 -> Пензенская, МО | G32: =призеры!G58 -> 0 | H32: =призеры!H58 -> Гритчин ВВ | J32: 30
A34: =призеры!A64 -> 84 кг | B34: 1 | C34: =призеры!C64 -> КАНАТЧИКОВ Александр Андреевич | D34: =призеры!D64 -> 25.05.02, кмс | E34: =призеры!E64 -> ПФО | F34: =призеры!F64 -> Пензенская, МО | G34: =призеры!G64 -> 0 | H34: =призеры!H64 -> Гритчин ВВ | J34: 33
B35: 2 | C35: =призеры!C65 -> ЗАМКОВОЙ Глеб Дмитриевич | D35: =призеры!D65 -> 25.05.02, кмс | E35: =призеры!E65 -> СП | F35: =призеры!F65 -> Санкт-Петербург, СКА | G35: =призеры!G65 -> 0 | H35: =призеры!H65 -> Солдатов ВВ, Солдатов НВ | J35: 34
A37: =призеры!A71 -> св 84 кг | B37: 1 | C37: =призеры!C71 -> ЖЕЛТОВ Роман Игоревич | D37: =призеры!D71 -> 14.08.02, кмс | E37: =призеры!E71 -> УФО | F37: =призеры!F71 -> Свердловская, Екатеринбург, СШ | G37: =призеры!G71 -> 0 | H37: =призеры!H71 -> Бабкин АН, Бородин О.Б. | I37: 0 | J37: 37
B38: 2 | C38: =призеры!C72 -> МАГОМЕДОВ Шамиль Рамазанович | D38: =призеры!D72 -> 01.08.02, кмс | E38: =призеры!E72 -> МОС | F38: =призеры!F72 -> Москва, ГБОУ ЦСиО "Самбо-70" Москомспорта | G38: =призеры!G72 -> 0 | H38: =призеры!H72 -> Богомолов В.А., Мартынов И.В. | I38: 0 | J38: 38
B41: =[1]реквизиты!$A$6 -> Гл. судья, судья ВК | F41: =[1]реквизиты!$G$6 -> И.Р.Стахеев
F42: =[1]реквизиты!$G$7 -> /ЦФО Владимирская/
B43: =[1]реквизиты!$A$8 -> Гл. секретарь, судья ВК | F43: =[1]реквизиты!$G$8 -> Д.Е.Вышегородцев
F44: =[1]реквизиты!$G$9 -> /СФО Томская/
S49: ю

Sheet 2стр
A1: ВСЕРОССИЙСКАЯ ФЕДЕРАЦИЯ САМБО
A2: СПИСОК ПРИЗЕРОВ ЮНОШИ
A3: =[1]реквизиты!$A$2 -> Первенство России по самбо среди юношей и девушек 2002-03г.р. (15-16 лет)
A4: =[1]реквизиты!$A$3 -> 26-30.09.2018г. г.Раменское
B6: МЕСТО | C6: Ф.И.О | D6: Дата рожд., разряд | E6: округ | F6: субъект, город, ведомство | H6: Тренер
A8: =призеры!A50 -> 72 кг | B8: 1 | C8: =призеры!C50 -> ОРЛОВ Даниил Владимирович | D8: =призеры!D50 -> 24.01.02, 1р | E8: =призеры!E50 -> ПФО | F8: =призеры!F50 -> Чувашская, Чебоксары, МС | H8: =призеры!H50 -> Малов СА Ильин ГА
B9: 2 | C9: =призеры!C51 -> КЛЮЧКИН Михаил Владимирович | D9: =призеры!D51 -> 16.01.02, кмс | E9: =призеры!E51 -> МОС | F9: =призеры!F51 -> Москва, ГБОУ ЦСиО "Самбо-70" Москомспорта | H9: =призеры!H51 -> Богомолов В.А., Мартынов И.В.
B10: 3 | C10: =призеры!C52 -> УДАРЦЕВ Кирилл Вадимович | D10: =призеры!D52 -> 15.10.02, кмс | E10: =призеры!E52 -> ЦФО | F10: =призеры!F52 -> Московская, Дубна, МО | H10: =призеры!H52 -> Малышев Н.Н.
B11: 3 | C11: =призеры!C53 -> КАРАСЬ Матвей Романович | D11: =призеры!D53 -> 01.08.02, 1юн | E11: =призеры!E53 -> ЮФО | F11: =призеры!F53 -> Краснодарский, Сочи | H11: =призеры!H53 -> Демура АВ
A13: =призеры!A57 -> 78 кг | B13: 1 | C13: =призеры!C57 -> ХАДЖИМУРАДОВ Тамерлан Русланович | D13: =призеры!D57 -> 11.10.02, кмс | E13: =призеры!E57 -> СКФО | F13: =призеры!F57 -> Чеченская, Грозный, МС | H13: =призеры!H57 -> Успаев БА, Кагерманов РБ
B14: 2 | C14: =призеры!C58 -> ЗАТЫЛКИН Илья Игоревич | D14: =призеры!D58 -> 18.03.02, кмс | E14: =призеры!E58 -> ПФО | F14: =призеры!F58 -> Пензенская, МО | H14: =призеры!H58 -> Гритчин ВВ
B15: 3 | C15: =призеры!C59 -> ФОМИЧЕВ Никита Андреевич | D15: =призеры!D59 -> 26.06.03, 1р | E15: =призеры!E59 -> ЦФО | F15: =призеры!F59 -> Смоленская, Смоленск | H15: =призеры!H59 -> Ермаченков СА
B16: 3 | C16: =призеры!C60 -> ШУРАЛЕВ Александр Александрович | D16: =призеры!D60 -> 05.09.02, кмс | E16: =призеры!E60 -> ЦФО | F16: =призеры!F60 -> Московская, ГБУ МО "СШОР по единоборствам", МО | H16: =призеры!H60 -> Баринова М.В., Волкова А.А., Облезнева М.В.
A18: =призеры!A64 -> 84 кг | B18: 1 | C18: =призеры!C64 -> КАНАТЧИКОВ Александр Андреевич | D18: =призеры!D64 -> 25.05.02, кмс | E18: =призеры!E64 -> ПФО | F18: =призеры!F64 -> Пензенская, МО | H18: =призеры!H64 -> Гритчин ВВ
B19: 2 | C19: =призеры!C65 -> ЗАМКОВОЙ Глеб Дмитриевич | D19: =призеры!D65 -> 25.05.02, кмс | E19: =призеры!E65 -> СП | F19: =призеры!F65 -> Санкт-Петербург, СКА | H19: =призеры!H65 -> Солдатов ВВ, Солдатов НВ
B20: 3 | C20: =призеры!C66 -> АБРАМОВ Александр Михайлович | D20: =призеры!D66 -> 06.11.02, кмс | E20: =призеры!E66 -> МОС | F20: =призеры!F66 -> Москва, ГБОУ ЦСиО "Самбо-70" Москомспорта | H20: =призеры!H66 -> Богомолов В.А., Мартынов И.В.
B21: 3 | C21: =призеры!C67 -> КРАВЦОВ Владимир Константинович | D21: =призеры!D67 -> 31.05.02, кмс | E21: =призеры!E67 -> ЦФО | F21: =призеры!F67 -> Московская, Дмитров, МО | H21: =призеры!H67 -> Бондарь А.Ю. Храпов А.В.Шкарин И.Н.
A23: =призеры!A71 -> св 84 кг | B23: 1 | C23: =призеры!C71 -> ЖЕЛТОВ Роман Игоревич | D23: =призеры!D71 -> 14.08.02, кмс | E23: =призеры!E71 -> УФО | F23: =призеры!F71 -> Свердловская, Екатеринбург, СШ | H23: =призеры!H71 -> Бабкин АН, Бородин О.Б. | I23: 0
B24: 2 | C24: =призеры!C72 -> МАГОМЕДОВ Шамиль Рамазанович | D24: =призеры!D72 -> 01.08.02, кмс | E24: =призеры!E72 -> МОС | F24: =призеры!F72 -> Москва, ГБОУ ЦСиО "Самбо-70" Москомспорта | H24: =призеры!H72 -> Богомолов В.А., Мартынов И.В. | I24: 0
B25: 3 | C25: =призеры!C73 -> САФАРОВ Булуд Рамиз Оглы | D25: =призеры!D73 -> 14.05.02, 2р | E25: =призеры!E73 -> УФО | F25: =призеры!F73 -> Свердловская, Екатеринбург, СШ | G25: =призеры!G73 -> 0 | H25: =призеры!H73 -> Селянина О.В., Федосеев М.Е.
B26: 3 | C26: =призеры!C74 -> БУДАШ Илья Алексеевич | D26: =призеры!D74 -> 21.07.02, КМС | E26: =призеры!E74 -> ЦФО | F26: =призеры!F74 -> Владимирская, Александров | G26: =призеры!G74 -> 0 | H26: =призеры!H74 -> Рычев СВ
B29: =[1]реквизиты!$A$6 -> Гл. судья, судья ВК | F29: =[1]реквизиты!$G$6 -> И.Р.Стахеев
F30: =[1]реквизиты!$G$7 -> /ЦФО Владимирская/
B31: =[1]реквизиты!$A$8 -> Гл. секретарь, судья ВК | F31: =[1]реквизиты!$G$8 -> Д.Е.Вышегородцев
F32: =[1]реквизиты!$G$9 -> /СФО Томская/
S37: ю

Sheet 1стр
A1: ВСЕРОССИЙСКАЯ ФЕДЕРАЦИЯ САМБО
A2: СПИСОК ПРИЗЕРОВ ЮНОШИ
A3: =[1]реквизиты!$A$2 -> Первенство России по самбо среди юношей и девушек 2002-03г.р. (15-16 лет)
A4: =[1]реквизиты!$A$3 -> 26-30.09.2018г. г.Раменское
B6: МЕСТО | C6: Ф.И.О | D6: Дата рожд., разряд | E6: округ | F6: субъект, город, ведомство | H6: Тренер
A8: =призеры!A8 -> 42 кг | B8: 1 | C8: =призеры!C8 -> УСОЛЬЦЕВ Богдан Сергеевич | D8: =призеры!D8 -> 24.08.04, 1р | E8: =призеры!E8 -> ЦФО | F8: =призеры!F8 -> Московская, МАУ "ФОК", МО | H8: =призеры!H8 -> Абрамов А.Г. Герасименко Д.В. | J8: 1
B9: 2 | C9: =призеры!C9 -> ИСАЯН Владислав Валерьевич | D9: =призеры!D9 -> 09.08.02, КМС | E9: =призеры!E9 -> СФО | F9: =призеры!F9 -> Алтайский, Заринск, МО | H9: =призеры!H9 -> Блинов А.В. Тюкин СГ
B10: 3 | C10: =призеры!C10 -> ПЕНЬКОВИЧ Егор Сергеевич | D10: =призеры!D10 -> 23.01.03, 1р | E10: =призеры!E10 -> СФО | F10: =призеры!F10 -> Иркутская, Иркутск, МО | H10: =призеры!H10 -> Пенькович Н. С. | J10: 2
B11: 3 | C11: =призеры!C11 -> КУЗЬМИН Егор Романович | D11: =призеры!D11 -> 06.05.03, 1р | E11: =призеры!E11 -> МОС | F11: =призеры!F11 -> Москва, СШ "Борец" | H11: =призеры!H11 -> Бойченко И.А.
B12: 3 | C12: =призеры!C12 -> ЕРМОЛЕНКО Данил Алексеевич | D12: =призеры!D12 -> 12.10.02, 1р | E12: =призеры!E12 -> ПФО | F12: =призеры!F12 -> Нижегородская, Н.Новгород, ПР | H12: =призеры!H12 -> Додонов АИ Мокеичев АВ | J12: 3
B14: 3 | C14: =призеры!C14 -> 0 | D14: =призеры!D14 -> 0 | E14: =призеры!E14 -> 0 | F14: =призеры!F14 -> 0 | H14: =призеры!H14 -> 0 | J14: 4
B16: 5 | C16: ЧЕЛЧУШЕВ Олег Олегович | D16: 02.04.1996, КМС | E16: СФО | F16: Р.Алтай, Г-Алтайск | H16: Тайпинов В.Л., Челчушев В.В.
B18: 5 | C18: БЕДАРЕВ Алексей Александрович | D18: 30.11.1995, КМС | E18: СФО | F18: Омская, Омск, МО, СибГУФК | H18: Горбунов АВ Бобровский ВА
A21: =призеры!A15 -> 46 кг | B21: 1 | C21: =призеры!C15 -> АРБУЗОВ Тимур Денисович | D21: =призеры!D15 -> 14.04.04, 1юн | E21: =призеры!E15 -> ЮФО | F21: =призеры!F15 -> Краснодарский, Тихорецкий | H21: =призеры!H15 -> Козлова ВВ
B22: 2 | C22: =призеры!C16 -> АХМЕДОВ Ахмед Ихтибарович | D22: =призеры!D16 -> 04.11.03, 1р | E22: =призеры!E16 -> ПФО | F22: =призеры!F16 -> Саратовская, Саратов, "Динамо" | H22: =призеры!H16 -> Рожков В.И.
B23: 3 | C23: =призеры!C17 -> ЯКОВЛЕВ Денис Вадимович | D23: =призеры!D17 -> 12.07.03, 1р | E23: =призеры!E17 -> СФО | F23: =призеры!F17 -> Новосибирская, Новосибирск, МО | H23: =призеры!H17 -> Лепяхов С.В. Лепяхова Н.А
B24: 3 | C24: =призеры!C18 -> ИВАНОВ Алексей Викторович | D24: =призеры!D18 -> 08.01.02, кмс | E24: =призеры!E18 -> УФО | F24: =призеры!F18 -> Курганская, Курган, СШОР | H24: =призеры!H18 -> Осипов В.Ю. Печерских В.И.
A26: =призеры!A22 -> 50 кг | B26: 1 | C26: =призеры!C22 -> ШАМСУТДИНОВ Дамир Фаргатович | D26: =призеры!D22 -> 01.07.02, кмс | E26: =призеры!E22 -> ПФО | F26: =призеры!F22 -> Башкортостан, Давлеканово, ЮР | H26: =призеры!H22 -> Лоншаков ЮБ
B27: 2 | C27: =призеры!C23 -> АГАДЖАНЯН Ален Ишханович | D27: =призеры!D23 -> 07.01.02, КМС | E27: =призеры!E23 -> СФО | F27: =призеры!F23 -> Красноярский, Красноярск, МО | H27: =призеры!H23 -> Гусаров В.П.
B28: 3 | C28: =призеры!C24 -> ТУГУЗ Тагир Муратович | D28: =призеры!D24 -> 03.12.03, 1р | E28: =призеры!E24 -> ЮФО | F28: =призеры!F24 -> Р.Адыгея, Майкоп | H28: =призеры!H24 -> Хабаху, А, Хакуринов Д
B29: 3 | C29: =призеры!C25 -> КУКУШКИН Иван Сергеевич | D29: =призеры!D25 -> 11.06.03, 1р | E29: =призеры!E25 -> ЦФО | F29: =призеры!F25 -> Ярославская, Ярославль, ЮР | H29: =призеры!H25 -> Сапожников СВ, Сапожников В.С.
A31: =призеры!A29 -> 55 кг | B31: 1 | C31: =призеры!C29 -> КОЛЬЖАНОВ Денис Игоревич | D31: =призеры!D29 -> 29.07.02, 1р | E31: =призеры!E29 -> ПФО | F31: =призеры!F29 -> Саратовская, Балашов, ФСОП "Россия" | H31: =призеры!H29 -> Разваляев С.В.
B32: 2 | C32: =призеры!C30 -> ДАГОЕВ Али Ахмедович | D32: =призеры!D30 -> 26.03.02, кмс | E32: =призеры!E30 -> МОС | F32: =призеры!F30 -> Москва, ГБОУ ЦСиО "Самбо-70" Москомспорта | H32: =призеры!H30 -> Богомолов В.А., Мартынов И.В.
B33: 3 | C33: =призеры!C31 -> ДЕДОВ Вадим Вячеславович | D33: =призеры!D31 -> 31.10.02, кмс | E33: =призеры!E31 -> МОС | F33: =призеры!F31 -> Москва, СШ "Битца" | H33: =призеры!H31 -> Абрамов А.Г. Герасименко Д.В.
B34: 3 | C34: =призеры!C32 -> ШЕТКИН Артем Алексеевич | D34: =призеры!D32 -> 23.10.03, 1р | E34: =призеры!E32 -> ЦФО | F34: =призеры!F32 -> Московская, Можайск, МО | H34: =призеры!H32 -> Нагулин А.В. Степанов И.М.
A36: =призеры!A36 -> 60 кг | B36: 1 | C36: =призеры!C36 -> ЛОБАНОВ Максим Георгиевич | D36: =призеры!D36 -> 06.03.02, кмс | E36: =призеры!E36 -> МОС | F36: =призеры!F36 -> Москва, ГБОУ ЦСиО "Самбо-70" Москомспорта | H36: =призеры!H36 -> Кузнецов С.В., Вашурин В.В.
B37: 2 | C37: =призеры!C37 -> ПЕТРОВ Владимир Владимирович | D37: =призеры!D37 -> 01.07.02, кмс | E37: =призеры!E37 -> ЦФО | F37: =призеры!F37 -> Тульская, Тула | H37: =призеры!H37 -> Самборский СВ
B38: 3 | C38: =призеры!C38 -> ДЗАУРОВ Хусен Алиевич | D38: =призеры!D38 -> 03.05.02, 1р | E38: =призеры!E38 -> МОС | F38: =призеры!F38 -> Москва, Юность Москвы | H38: =призеры!H38 -> Никитин А.М.
B39: 3 | C39: =призеры!C39 -> КАНИДОВ Михаил Васильевич | D39: =призеры!D39 -> 23.05.02, кмс | E39: =призеры!E39 -> ЦФО | F39: =призеры!F39 -> Рязанская, Рязань, ПР | H39: =призеры!H39 -> Яковенко ДВ Савельев ЕА
B40: 5 | C40: ВОРОБЬЁВА Ангелина Олеговна | D40: 27.07.96, КМС | E40: ПФО | F40: Р.Татарстан, Казань, ФСОП "Россия" | H40: Ахметзянов Р.Р. Сагдиев А.В.
B41: 5 | C41: ШЕСТАКОВА Алина Романовна | D41: 30.09.99, КМС | E41: ЦФО | F41: Тульская, Тула | H41: Афонина ИП Ворфоломеев ВП
A43: =призеры!A43 -> 66 кг | B43: 1 | C43: =призеры!C43 -> ТЮХЛОВ Иван Дмитриевич | D43: =призеры!D43 -> 25.02.03, кмс | E43: =призеры!E43 -> ЦФО | F43: =призеры!F43 -> Московская, Можайск, МО | H43: =призеры!H43 -> Нагулин В.А.
B44: 2 | C44: =призеры!C44 -> СЁМОЧКИН Максим Романович | D44: =призеры!D44 -> 21.03.02, 3р | E44: =призеры!E44 -> МОС | F44: =призеры!F44 -> Москва, ГБОУ ЦСиО "Самбо-70" Москомспорта | H44: =призеры!H44 -> Богомолов В.А., Мартынов И.В.
B45: 3 | C45: =призеры!C45 -> СТЕФАНОВ Павел Васильевич | D45: =призеры!D45 -> 13.07.02, 3р | E45: =призеры!E45 -> МОС | F45: =призеры!F45 -> Москва, ГБОУ ЦСиО "Самбо-70" Москомспорта | H45: =призеры!H45 -> Кабанов Д.Б., Богатырёв Д.В.
B46: 3 | C46: =призеры!C46 -> КУКУ Евгений Айдерович | D46: =призеры!D46 -> 10.01.02, 1юн | E46: =призеры!E46 -> МОС | F46: =призеры!F46 -> Москва, СШ МГФСО | H46: =призеры!H46 -> Аветисов А.В.
B47: 5 | C47: САСЕВА Ангелина Вячеславовна | D47: 10.07.97, МС | E47: ЦФО | F47: Смоленская, , | G47: 0 | H47: Катцин Ю.П.Федяев В.А
B48: 5 | C48: ДУДАЕВА Регина Львовна | D48: 03.11.98, КМС | E48: ЮФО | F48: Ростовская, Ростов | G48: 0 | H48: Петрова О.А. Пантелеева Е.А.
A50: =призеры!A50 -> 72 кг | B50: 1 | C50: КРЮКОВА Ольга Владимировна | D50: 16.03.95, МС | E50: ПФО | F50: Самарская, Самара, | G50: 0 | H50: Сараева А.А.
B51: 2 | C51: КОЧНЕВА Юлия Александровна | D51: 26.09.95, МС | E51: ПФО | F51: Нижегородская, Кстово | G51: 0 | H51: Кожемякин В.С.
B52: 3 | C52: АНИСИМОВА Валерия Александровна | D52: 09.05.98, МС | E52: СФО | F52: Томская, Северск, ОГУ ТО СШОР | G52: 0 | H52: Вышегородцев ДЕ Вахмистрова НА
B53: 3 | C53: САЛЬНИКОВА Ксения Витальевна | D53: 24.07.99, КМС | E53: ПФО | F53: Пермский, Березники, МО | G53: 0 | H53: Клинов Э.Н.
B55: =[1]реквизиты!$A$6 -> Гл. судья, судья ВК | F55: =[1]реквизиты!$G$6 -> И.Р.Стахеев
F56: =[1]реквизиты!$G$7 -> /ЦФО Владимирская/
B57: =[1]реквизиты!$A$8 -> Гл. секретарь, судья ВК | F57: =[1]реквизиты!$G$8 -> Д.Е.Вышегородцев
F58: =[1]реквизиты!$G$9 -> /СФО Томская/
S63: ю

Sheet призеры
A1: ВСЕРОССИЙСКАЯ ФЕДЕРАЦИЯ САМБО
A2: СПИСОК ПРИЗЕРОВ ЮНОШИ
A3: ='1стр'!A3:I3 -> Первенство России по самбо среди юношей и девушек 2002-03г.р. (15-16 лет)
A4: ='1стр'!A4:I4 -> 26-30.09.2018г. г.Раменское
A6: В.К. | B6: МЕСТО | C6: Ф.И.О | D6: Дата рожд., разряд | E6: округ | F6: субъект, город, ведомство | G6: № | H6: Тренер
A8: 42 кг | B8: 1 | C8: =[2]ит.пр!C6 -> УСОЛЬЦЕВ Богдан Сергеевич | D8: =[2]ит.пр!D6 -> 24.08.04, 1р | E8: =[2]ит.пр!E6 -> ЦФО | F8: =[2]ит.пр!F6 -> Московская, МАУ "ФОК", МО | H8: =[2]ит.пр!H6 -> Абрамов А.Г. Герасименко Д.В.
B9: 2 | C9: =[2]ит.пр!C7 -> ИСАЯН Владислав Валерьевич | D9: =[2]ит.пр!D7 -> 09.08.02, КМС | E9: =[2]ит.пр!E7 -> СФО | F9: =[2]ит.пр!F7 -> Алтайский, Заринск, МО | H9: =[2]ит.пр!H7 -> Блинов А.В. Тюкин СГ
B10: 3 | C10: =[2]ит.пр!C8 -> ПЕНЬКОВИЧ Егор Сергеевич | D10: =[2]ит.пр!D8 -> 23.01.03, 1р | E10: =[2]ит.пр!E8 -> СФО | F10: =[2]ит.пр!F8 -> Иркутская, Иркутск, МО | H10: =[2]ит.пр!H8 -> Пенькович Н. С.
B11: 3 | C11: =[2]ит.пр!C9 -> КУЗЬМИН Егор Романович | D11: =[2]ит.пр!D9 -> 06.05.03, 1р | E11: =[2]ит.пр!E9 -> МОС | F11: =[2]ит.пр!F9 -> Москва, СШ "Борец" | H11: =[2]ит.пр!H9 -> Бойченко И.А.
B12: 5 | C12: =[2]ит.пр!C10 -> ЕРМОЛЕНКО Данил Алексеевич | D12: =[2]ит.пр!D10 -> 12.10.02, 1р | E12: =[2]ит.пр!E10 -> ПФО | F12: =[2]ит.пр!F10 -> Нижегородская, Н.Новгород, ПР | H12: =[2]ит.пр!H10 -> Додонов АИ Мокеичев АВ
B13: 6 | C13: =[2]ит.пр!C11 -> ПЛЕХАНОВ Александр Сергеевич | D13: =[2]ит.пр!D11 -> 06.02.04, 3р | E13: =[2]ит.пр!E11 -> ЦФО | F13: =[2]ит.пр!F11 -> Московская, ГБУ МО "СШОР по единоборствам", МО | H13: =[2]ит.пр!H11 -> Комаров А.В., Малов М.В
A15: 46 кг | B15: 1 | C15: =[3]ит.пр!C6 -> АРБУЗОВ Тимур Денисович | D15: =[3]ит.пр!D6 -> 14.04.04, 1юн | E15: =[3]ит.пр!E6 -> ЮФО | F15: =[3]ит.пр!F6 -> Краснодарский, Тихорецкий | H15: =[3]ит.пр!H6 -> Козлова ВВ
B16: 2 | C16: =[3]ит.пр!C7 -> АХМЕДОВ Ахмед Ихтибарович | D16: =[3]ит.пр!D7 -> 04.11.03, 1р | E16: =[3]ит.пр!E7 -> ПФО | F16: =[3]ит.пр!F7 -> Саратовская, Саратов, "Динамо" | H16: =[3]ит.пр!H7 -> Рожков В.И.
B17: 3 | C17: =[3]ит.пр!C8 -> ЯКОВЛЕВ Денис Вадимович | D17: =[3]ит.пр!D8 -> 12.07.03, 1р | E17: =[3]ит.пр!E8 -> СФО | F17: =[3]ит.пр!F8 -> Новосибирская, Новосибирск, МО | H17: =[3]ит.пр!H8 -> Лепяхов С.В. Лепяхова Н.А
B18: 3 | C18: =[3]ит.пр!C9 -> ИВАНОВ Алексей Викторович | D18: =[3]ит.пр!D9 -> 08.01.02, кмс | E18: =[3]ит.пр!E9 -> УФО | F18: =[3]ит.пр!F9 -> Курганская, Курган, СШОР | H18: =[3]ит.пр!H9 -> Осипов В.Ю. Печерских В.И.
B19: 5 | C19: =[3]ит.пр!C10 -> БАГДАСАРЯН Эрик Арменович | D19: =[3]ит.пр!D10 -> 13.10.03, 1юн | E19: =[3]ит.пр!E10 -> ЮФО | F19: =[3]ит.пр!F10 -> Ростовская, Ростов-на-Дону | H19: =[3]ит.пр!H10 -> Пантелеев ЕА
B20: 6 | C20: =[3]ит.пр!C11 -> ШАМСУТДИНОВ Дамир Фаргатович | D20: =[3]ит.пр!D11 -> 01.07.02, 1р | E20: =[3]ит.пр!E11 -> ПФО | F20: =[3]ит.пр!F11 -> Р.Башкортостан, Давлеканово, ЮР | H20: =[3]ит.пр!H11 -> Лоншаков ЮБ
A22: 50 кг | B22: 1 | C22: =[4]ит.пр!C6 -> ШАМСУТДИНОВ Дамир Фаргатович | D22: =[4]ит.пр!D6 -> 01.07.02, кмс | E22: =[4]ит.пр!E6 -> ПФО | F22: =[4]ит.пр!F6 -> Башкортостан, Давлеканово, ЮР | H22: =[4]ит.пр!H6 -> Лоншаков ЮБ
B23: 2 | C23: =[4]ит.пр!C7 -> АГАДЖАНЯН Ален Ишханович | D23: =[4]ит.пр!D7 -> 07.01.02, КМС | E23: =[4]ит.пр!E7 -> СФО | F23: =[4]ит.пр!F7 -> Красноярский, Красноярск, МО | H23: =[4]ит.пр!H7 -> Гусаров В.П.
B24: 3 | C24: =[4]ит.пр!C8 -> ТУГУЗ Тагир Муратович | D24: =[4]ит.пр!D8 -> 03.12.03, 1р | E24: =[4]ит.пр!E8 -> ЮФО | F24: =[4]ит.пр!F8 -> Р.Адыгея, Майкоп | H24: =[4]ит.пр!H8 -> Хабаху, А, Хакуринов Д
B25: 3 | C25: =[4]ит.пр!C9 -> КУКУШКИН Иван Сергеевич | D25: =[4]ит.пр!D9 -> 11.06.03, 1р | E25: =[4]ит.пр!E9 -> ЦФО | F25: =[4]ит.пр!F9 -> Ярославская, Ярославль, ЮР | H25: =[4]ит.пр!H9 -> Сапожников СВ, Сапожников В.С.
B26: 5 | C26: =[4]ит.пр!C10 -> ПЕТРОВ Глеб Владимирович | D26: =[4]ит.пр!D10 -> 22.05.02, кмс | E26: =[4]ит.пр!E10 -> ЦФО | F26: =[4]ит.пр!F10 -> Тульская, Тула | H26: =[4]ит.пр!H10 -> Копейкин ПС
B27: 5 | C27: =[4]ит.пр!C11 -> ФУНТИКОВ Александр Викторович | D27: =[4]ит.пр!D11 -> 06.08.02, кмс | E27: =[4]ит.пр!E11 -> МОС | F27: =[4]ит.пр!F11 -> Москва, ГБОУ ЦСиО "Самбо-70" Москомспорта | H27: =[4]ит.пр!H11 -> Кузнецов С.В., Вашурин В.В.
A29: 55 кг | B29: 1 | C29: =[5]ит.пр!C6 -> КОЛЬЖАНОВ Денис Игоревич | D29: =[5]ит.пр!D6 -> 29.07.02, 1р | E29: =[5]ит.пр!E6 -> ПФО | F29: =[5]ит.пр!F6 -> Саратовская, Балашов, ФСОП "Россия" | H29: =[5]ит.пр!H6 -> Разваляев С.В.
B30: 2 | C30: =[5]ит.пр!C7 -> ДАГОЕВ Али Ахмедович | D30: =[5]ит.пр!D7 -> 26.03.02, кмс | E30: =[5]ит.пр!E7 -> МОС | F30: =[5]ит.пр!F7 -> Москва, ГБОУ ЦСиО "Самбо-70" Москомспорта | H30: =[5]ит.пр!H7 -> Богомолов В.А., Мартынов И.В.
B31: 3 | C31: =[5]ит.пр!C8 -> ДЕДОВ Вадим Вячеславович | D31: =[5]ит.пр!D8 -> 31.10.02, кмс | E31: =[5]ит.пр!E8 -> МОС | F31: =[5]ит.пр!F8 -> Москва, СШ "Битца" | H31: =[5]ит.пр!H8 -> Абрамов А.Г. Герасименко Д.В.
B32: 3 | C32: =[5]ит.пр!C9 -> ШЕТКИН Артем Алексеевич | D32: =[5]ит.пр!D9 -> 23.10.03, 1р | E32: =[5]ит.пр!E9 -> ЦФО | F32: =[5]ит.пр!F9 -> Московская, Можайск, МО | H32: =[5]ит.пр!H9 -> Нагулин А.В. Степанов И.М.
B33: 5 | C33: =[5]ит.пр!C10 -> САМОЙЛЕНКО Андрей Алексеевич | D33: =[5]ит.пр!D10 -> 15.10.02, кмс | E33: =[5]ит.пр!E10 -> ЦФО | F33: =[5]ит.пр!F10 -> Московская, ГБУ ДО МО СШОР по единоборствам, МО | H33: =[5]ит.пр!H10 -> Поликарпов А.А., Гончаров Ю.С.
B34: 6 | C34: =[5]ит.пр!C11 -> КУСТОВ Владимир Витальевич | D34: =[5]ит.пр!D11 -> 15.05.02, 1юн | E34: =[5]ит.пр!E11 -> ДВФО | F34: =[5]ит.пр!F11 -> Амурская, Свободный | H34: =[5]ит.пр!H11 -> Сенопальников АС
A36: 60 кг | B36: 1 | C36: =[6]ит.пр!C6 -> ЛОБАНОВ Максим Георгиевич | D36: =[6]ит.пр!D6 -> 06.03.02, кмс | E36: =[6]ит.пр!E6 -> МОС | F36: =[6]ит.пр!F6 -> Москва, ГБОУ ЦСиО "Самбо-70" Москомспорта | H36: =[6]ит.пр!H6 -> Кузнецов С.В., Вашурин В.В.
B37: 2 | C37: =[6]ит.пр!C7 -> ПЕТРОВ Владимир Владимирович | D37: =[6]ит.пр!D7 -> 01.07.02, кмс | E37: =[6]ит.пр!E7 -> ЦФО | F37: =[6]ит.пр!F7 -> Тульская, Тула | H37: =[6]ит.пр!H7 -> Самборский СВ
B38: 3 | C38: =[6]ит.пр!C8 -> ДЗАУРОВ Хусен Алиевич | D38: =[6]ит.пр!D8 -> 03.05.02, 1р | E38: =[6]ит.пр!E8 -> МОС | F38: =[6]ит.пр!F8 -> Москва, Юность Москвы | H38: =[6]ит.пр!H8 -> Никитин А.М.
B39: 3 | C39: =[6]ит.пр!C9 -> КАНИДОВ Михаил Васильевич | D39: =[6]ит.пр!D9 -> 23.05.02, кмс | E39: =[6]ит.пр!E9 -> ЦФО | F39: =[6]ит.пр!F9 -> Рязанская, Рязань, ПР | H39: =[6]ит.пр!H9 -> Яковенко ДВ Савельев ЕА | I39: Нариманов ТА Ходорев АН
B40: 5 | C40: =[6]ит.пр!C10 -> ЛИЗНЕВ Анатолий Анатольевич | D40: =[6]ит.пр!D10 -> 30.07.02, 2р | E40: =[6]ит.пр!E10 -> СФО | F40: =[6]ит.пр!F10 -> Кемеровская, Прокопьевск, МБОУ ДО "ДЮСШ №3" | H40: =[6]ит.пр!H10 -> Цыганов С,В,
B41: 6 | C41: =[6]ит.пр!C11 -> ЛАЗУКИН Алексей Валерьевич | D41: =[6]ит.пр!D11 -> 31.10.02, кмс | E41: =[6]ит.пр!E11 -> ЮФО | F41: =[6]ит.пр!F11 -> Краснодарский, Армавир | H41: =[6]ит.пр!H11 -> Бородин ВГ Мгдасян ЕЗ
A43: 66 кг | B43: 1 | C43: =[7]ит.пр!C6 -> ТЮХЛОВ Иван Дмитриевич | D43: =[7]ит.пр!D6 -> 25.02.03, кмс | E43: =[7]ит.пр!E6 -> ЦФО | F43: =[7]ит.пр!F6 -> Московская, Можайск, МО | H43: =[7]ит.пр!H6 -> Нагулин В.А.
B44: 2 | C44: =[7]ит.пр!C7 -> СЁМОЧКИН Максим Романович | D44: =[7]ит.пр!D7 -> 21.03.02, 3р | E44: =[7]ит.пр!E7 -> МОС | F44: =[7]ит.пр!F7 -> Москва, ГБОУ ЦСиО "Самбо-70" Москомспорта | H44: =[7]ит.пр!H7 -> Богомолов В.А., Мартынов И.В.
B45: 3 | C45: =[7]ит.пр!C8 -> СТЕФАНОВ Павел Васильевич | D45: =[7]ит.пр!D8 -> 13.07.02, 3р | E45: =[7]ит.пр!E8 -> МОС | F45: =[7]ит.пр!F8 -> Москва, ГБОУ ЦСиО "Самбо-70" Москомспорта | H45: =[7]ит.пр!H8 -> Кабанов Д.Б., Богатырёв Д.В.
B46: 3 | C46: =[7]ит.пр!C9 -> КУКУ Евгений Айдерович | D46: =[7]ит.пр!D9 -> 10.01.02, 1юн | E46: =[7]ит.пр!E9 -> МОС | F46: =[7]ит.пр!F9 -> Москва, СШ МГФСО | H46: =[7]ит.пр!H9 -> Аветисов А.В.
B47: 5 | C47: =[7]ит.пр!C10 -> ГОНЧАРОВ Андрей Максимович | D47: =[7]ит.пр!D10 -> 05.08.02, 1юн | E47: =[7]ит.пр!E10 -> ДВФО | F47: =[7]ит.пр!F10 -> Приморский, Владивосток | H47: =[7]ит.пр!H10 -> Денисов ВЛ Федосв ИВ
B48: 5 | C48: =[7]ит.пр!C11 -> АЛЕКСАНДРОВ Никита Владимирович | D48: =[7]ит.пр!D11 -> 14.06.02, 1р | E48: =[7]ит.пр!E11 -> ПФО | F48: =[7]ит.пр!F11 -> Чувашская, Чебоксары, МС | H48: =[7]ит.пр!H11 -> Малов СА Ильин ГА
A50: 72 кг | B50: 1 | C50: =[8]ит.пр!C6 -> ОРЛОВ Даниил Владимирович | D50: =[8]ит.пр!D6 -> 24.01.02, 1р | E50: =[8]ит.пр!E6 -> ПФО | F50: =[8]ит.пр!F6 -> Чувашская, Чебоксары, МС | H50: =[8]ит.пр!H6 -> Малов СА Ильин ГА
B51: 2 | C51: =[8]ит.пр!C7 -> КЛЮЧКИН Михаил Владимирович | D51: =[8]ит.пр!D7 -> 16.01.02, кмс | E51: =[8]ит.пр!E7 -> МОС | F51: =[8]ит.пр!F7 -> Москва, ГБОУ ЦСиО "Самбо-70" Москомспорта | H51: =[8]ит.пр!H7 -> Богомолов В.А., Мартынов И.В.
B52: 3 | C52: =[8]ит.пр!C8 -> УДАРЦЕВ Кирилл Вадимович | D52: =[8]ит.пр!D8 -> 15.10.02, кмс | E52: =[8]ит.пр!E8 -> ЦФО | F52: =[8]ит.пр!F8 -> Московская, Дубна, МО | H52: =[8]ит.пр!H8 -> Малышев Н.Н.
B53: 3 | C53: =[8]ит.пр!C9 -> КАРАСЬ Матвей Романович | D53: =[8]ит.пр!D9 -> 01.08.02, 1юн | E53: =[8]ит.пр!E9 -> ЮФО | F53: =[8]ит.пр!F9 -> Краснодарский, Сочи | H53: =[8]ит.пр!H9 -> Демура АВ
B54: 5 | C54: =[8]ит.пр!C10 -> МАЛАШЕНКО Артём Игоревич | D54: =[8]ит.пр!D10 -> 23.09.02, 1р | E54: =[8]ит.пр!E10 -> МОС | F54: =[8]ит.пр!F10 -> Москва, ГБОУ ЦСиО "Самбо-70" Москомспорта | H54: =[8]ит.пр!H10 -> Кузнецов С.В., Вашурин В.В.
B55: 6 | C55: =[8]ит.пр!C11 -> ДЬЯЧЕНКО Александр Вячеславович | D55: =[8]ит.пр!D11 -> 23.04.02, 1юн | E55: =[8]ит.пр!E11 -> ЮФО | F55: =[8]ит.пр!F11 -> Краснодарский, Краснодар | H55: =[8]ит.пр!H11 -> Ковалев СВ
A57: 78 кг | B57: 1 | C57: =[9]ит.пр!C6 -> ХАДЖИМУРАДОВ Тамерлан Русланович | D57: =[9]ит.пр!D6 -> 11.10.02, кмс | E57: =[9]ит.пр!E6 -> СКФО | F57: =[9]ит.пр!F6 -> Чеченская, Грозный, МС | H57: =[9]ит.пр!H6 -> Успаев БА, Кагерманов РБ
B58: 2 | C58: =[9]ит.пр!C7 -> ЗАТЫЛКИН Илья Игоревич | D58: =[9]ит.пр!D7 -> 18.03.02, кмс | E58: =[9]ит.пр!E7 -> ПФО | F58: =[9]ит.пр!F7 -> Пензенская, МО | H58: =[9]ит.пр!H7 -> Гритчин ВВ
B59: 3 | C59: =[9]ит.пр!C8 -> ФОМИЧЕВ Никита Андреевич | D59: =[9]ит.пр!D8 -> 26.06.03, 1р | E59: =[9]ит.пр!E8 -> ЦФО | F59: =[9]ит.пр!F8 -> Смоленская, Смоленск | H59: =[9]ит.пр!H8 -> Ермаченков СА
B60: 3 | C60: =[9]ит.пр!C9 -> ШУРАЛЕВ Александр Александрович | D60: =[9]ит.пр!D9 -> 05.09.02, кмс | E60: =[9]ит.пр!E9 -> ЦФО | F60: =[9]ит.пр!F9 -> Московская, ГБУ МО "СШОР по единоборствам", МО | H60: =[9]ит.пр!H9 -> Баринова М.В., Волкова А.А., Облезнева М.В.
B61: 5 | C61: =[9]ит.пр!C10 -> МЕРЗЛЯКОВ Максим Максимович | D61: =[9]ит.пр!D10 -> 23.09.03, кмс | E61: =[9]ит.пр!E10 -> СП | F61: =[9]ит.пр!F10 -> Санкт-Петербург, Л | H61: =[9]ит.пр!H10 -> Селяков СВ, Мизяев КГ
B62: 5 | C62: =[9]ит.пр!C11 -> ЛОПОВОК Ефим Александрович | D62: =[9]ит.пр!D11 -> 04.02.03, КМС | E62: =[9]ит.пр!E11 -> ПФО | F62: =[9]ит.пр!F11 -> Нижегородская, Кстово, ПР | H62: =[9]ит.пр!H11 -> Лоповок СЕ, Сурков СН
A64: 84 кг | B64: 1 | C64: =[10]ит.пр!C6 -> КАНАТЧИКОВ Александр Андреевич | D64: =[10]ит.пр!D6 -> 25.05.02, кмс | E64: =[10]ит.пр!E6 -> ПФО | F64: =[10]ит.пр!F6 -> Пензенская, МО | H64: =[10]ит.пр!H6 -> Гритчин ВВ
B65: 2 | C65: =[10]ит.пр!C7 -> ЗАМКОВОЙ Глеб Дмитриевич | D65: =[10]ит.пр!D7 -> 25.05.02, кмс | E65: =[10]ит.пр!E7 -> СП | F65: =[10]ит.пр!F7 -> Санкт-Петербург, СКА | H65: =[10]ит.пр!H7 -> Солдатов ВВ, Солдатов НВ
B66: 3 | C66: =[10]ит.пр!C8 -> АБРАМОВ Александр Михайлович | D66: =[10]ит.пр!D8 -> 06.11.02, кмс | E66: =[10]ит.пр!E8 -> МОС | F66: =[10]ит.пр!F8 -> Москва, ГБОУ ЦСиО "Самбо-70" Москомспорта | H66: =[10]ит.пр!H8 -> Богомолов В.А., Мартынов И.В.
B67: 3 | C67: =[10]ит.пр!C9 -> КРАВЦОВ Владимир Константинович | D67: =[10]ит.пр!D9 -> 31.05.02, кмс | E67: =[10]ит.пр!E9 -> ЦФО | F67: =[10]ит.пр!F9 -> Московская, Дмитров, МО | H67: =[10]ит.пр!H9 -> Бондарь А.Ю. Храпов А.В.Шкарин И.Н.
B68: 5 | C68: =[10]ит.пр!C10 -> ЖИЛИН Владислав Сергеевич | D68: =[10]ит.пр!D10 -> 14.01.02, 1р | E68: =[10]ит.пр!E10 -> ЦФО | F68: =[10]ит.пр!F10 -> Белгородская, С.Оскол, ЮР | H68: =[10]ит.пр!H10 -> Гребенкин АВ Безрук АН
B69: 5 | C69: =[10]ит.пр!C11 -> СМИРНОВ Вячеслав Сергеевич | D69: =[10]ит.пр!D11 -> 14.01.02, кмс | E69: =[10]ит.пр!E11 -> ЦФО | F69: =[10]ит.пр!F11 -> Ярославская, Рыбинск | H69: =[10]ит.пр!H11 -> Хорев ЮА
A71: св 84 кг | B71: 1 | C71: =[11]ит.пр!C6 -> ЖЕЛТОВ Роман Игоревич | D71: =[11]ит.пр!D6 -> 14.08.02, кмс | E71: =[11]ит.пр!E6 -> УФО | F71: =[11]ит.пр!F6 -> Свердловская, Екатеринбург, СШ | H71: =[11]ит.пр!H6 -> Бабкин АН, Бородин О.Б.
B72: 2 | C72: =[11]ит.пр!C7 -> МАГОМЕДОВ Шамиль Рамазанович | D72: =[11]ит.пр!D7 -> 01.08.02, кмс | E72: =[11]ит.пр!E7 -> МОС | F72: =[11]ит.пр!F7 -> Москва, ГБОУ ЦСиО "Самбо-70" Москомспорта | H72: =[11]ит.пр!H7 -> Богомолов В.А., Мартынов И.В.
B73: 3 | C73: =[11]ит.пр!C8 -> САФАРОВ Булуд Рамиз Оглы | D73: =[11]ит.пр!D8 -> 14.05.02, 2р | E73: =[11]ит.пр!E8 -> УФО | F73: =[11]ит.пр!F8 -> Свердловская, Екатеринбург, СШ | H73: =[11]ит.пр!H8 -> Селянина О.В., Федосеев М.Е.
B74: 3 | C74: =[11]ит.пр!C9 -> БУДАШ Илья Алексеевич | D74: =[11]ит.пр!D9 -> 21.07.02, КМС | E74: =[11]ит.пр!E9 -> ЦФО | F74: =[11]ит.пр!F9 -> Владимирская, Александров | H74: =[11]ит.пр!H9 -> Рычев СВ
B75: 5 | C75: =[11]ит.пр!C10 -> НОВИКОВ Илья Вячеславович | D75: =[11]ит.пр!D10 -> 23.07.02, 1р | E75: =[11]ит.пр!E10 -> МОС | F75: =[11]ит.пр!F10 -> Москва, ГБОУ ЦСиО "Самбо-70" Москомспорта | H75: =[11]ит.пр!H10 -> Филимонов С.Н., Леонтьев А.А.
B76: 6 | C76: =[11]ит.пр!C11 -> КУЛЕВ Владислав Вячеславович | D76: =[11]ит.пр!D11 -> 28.03.02, 1р | E76: =[11]ит.пр!E11 -> ЦФО | F76: =[11]ит.пр!F11 -> Смоленская, Гагарин | H76: =[11]ит.пр!H11 -> Шкатов ВЮ
I77: 0
I78: 0
B79: =[1]реквизиты!$A$6 -> Гл. судья, судья ВК | F79: ='1стр'!F55 -> И.Р.Стахеев
F80: =[1]реквизиты!$I$7 -> ЦФО Владимирская
B81: =[1]реквизиты!$A$8 -> Гл. секретарь, судья ВК | F81: =[1]реквизиты!$G$8 -> Д.Е.Вышегородцев
F82: =[1]реквизиты!$G$9 -> /СФО Томская/
S93: ю
