Workbook

Sheet 1
A1: ВСЕРОССИЙСКАЯ ФЕДЕРАЦИЯ САМБО
A2: СПИСОК СБОРНОЙ КОМАНДЫ УФО ПО БОЕВОМУ САМБО
A3: по итогам Чемпионата УФО по САМБО среди МУЖЧИН
A4: =[1]реквизиты!$A$3 -> 17-18 декабря 2016. г.Верхняя Пышма
B5: 52 | C5: Ф.И.О | D5: Дата рожд., разряд | E5: Округ | F5: Субъект, город, ведомство | G5: № карточки, паспорт | H5: Тренер | J5: 57 | K5: Ф.И.О | L5: Дата рожд., разряд | M5: Округ | N5: Субъект, город, ведомство | O5: № карточки, паспорт | P5: Тренер
A7: =[2]Итоговый!$B$6 -> 9 | B7: 1 | C7: ПИЛЬ Евгений Александрович | D7: 22.06.92 1р | E7: Свердловская | F7: г. Екатеринбург, УТ МВД России по УрФО | G7: 0 | H7: Пышминцев ВА | I7: =[3]Итоговый!$B$6 -> 8 | J7: 1 | K7: ЗУБКОВ Игорь Сергеевич | L7: 03.09.97 кмс | M7: Челябинская | N7: г. Челябинск | O7: 0 | P7: Якупов РГ
A9: =[2]Итоговый!$B$8 -> 2 | B9: 2 | C9: ЮЛДАШЕВ Асаддуло Юнусович | D9: 09.09.94 кмс | E9: Курганская | F9: г.Курган, КФК-20 | G9: 0 | H9: Стенников МГ Сабанин АМ | I9: =[3]Итоговый!$B$8 -> 3 | J9: 2 | K9: АХМЕДЬЯНОВ Данил Умелович | L9: 22.11.90 мс | M9: Челябинская | N9: с. Аргаяш | O9: 0 | P9: Акуин Д Хафизов РА
A11: =[2]Итоговый!$B$10 -> 13 | B11: 3 | C11: МАХМУДОВ Фируз Шарофович | D11: 19.08.1991. КМС | E11: Свердловская | F11: г. Арти,ДЮСШ | G11: 0 | H11: Савинский В.С. | I11: =[3]Итоговый!$B$10 -> 22 | J11: 3 | K11: РАХМАТОВ Ахмат Рустамович | L11: 08.09.94 мс | M11: Свердловская | N11: г. Качканар, ДЮСШ, МО | O11: 0 | P11: Сапунов ДП Мещерский ВВ
A13: =[2]Итоговый!$B$12 -> 19 | B13: 3 | C13: ПОЧАЕВ Дмитрий Анатольевич | D13: 20.10.1990. КМС | E13: Свердловская | F13: г Арти,ДЮСШ | G13: 0 | H13: Савинский В.С. | I13: =[3]Итоговый!$B$12 -> 1 | J13: 3 | K13: БУРКАН Уллу Тилекбай | L13: 10.04.94 1р | M13: Свердловская | N13: г. Ирбит, ДЮСШ | O13: 0 | P13: Фефелов ЮА
A15: =[2]Итоговый!$B$14 -> 4 | B15: 5 | C15: БРОВИН Евгений Николаевич | D15: 06.03.86 кмс | E15: Челябинская | F15: г.Челябинск | G15: 0 | H15: Якупов РГ | I15: =[3]Итоговый!$B$14 -> 11 | J15: 5 | K15: РЕШЕТНИКОВ Владлен Сергеевич | L15: 07.02.98 кмс | M15: Тюменская | N15: г. Тюмень, ВС | O15: 0 | P15: Гаранин ЕА Бондарь ЕВ
A17: =[2]Итоговый!$B$16 -> 10 | B17: 5 | C17: СИРАЖИТДИНОВ Денис Хамматович | D17: 25.07.91 кмс | E17: Челябинская | F17: с. Аргаяш | G17: 0 | H17: Гарипов РМ Хафизов РА | I17: =[3]Итоговый!$B$16 -> 14 | J17: 5 | K17: ДЕГТЯРЕВ Павел Валерьевич | L17: 18.09.85 мс | M17: Свердловская | N17: г. Екатеринбург, ДЮСШ по самбо | O17: 0 | P17: Козлов АА
B19: 62 | J19: 68
A20: =[4]Итоговый!$B$6 -> 17 | B20: 1 | C20: ГАЛИЕВ Вальмир Равилевич | D20: 03.11.98 кмс | E20: Тюменская | F20: г. Тюмень, ВС | G20: 0 | H20: Гаранин ЕА Бондарь ЕВ | I20: =[5]Итоговый!$B$6 -> 31 | J20: 1 | K20: ЯНЫШЕВ Александр Владимирович | L20: 15.12.90 мс | M20: Свердловская | N20: г. Екатеринбург, "ДЮСШ по самбо" | O20: 0 | P20: Галиев ВЗ
A22: =[4]Итоговый!$B$8 -> 10 | B22: 2 | C22: БАГЫШОВ Насыр Насиф оглы | D22: 14.04.93 кмс | E22: Свердловская | F22: г. Ревда | G22: 0 | H22: Селиванов ВВ | I22: =[5]Итоговый!$B$8 -> 36 | J22: 2 | K22: БУГАЙЦЕВ Александр Евгеньевич | L22: 08.09.97 кмс | M22: Челябинская | N22: г. Челябинск | O22: 0 | P22: Мисбахов ВН
A24: =[4]Итоговый!$B$10 -> 19 | B24: 3 | C24: ШТИН Александр Сергеевич | D24: 02.06.97 кмс | E24: Тюменская | F24: г. Тюмень, ВС | G24: 0 | H24: Гаранин ЕА Бондарь ЕВ | I24: =[5]Итоговый!$B$10 -> 30 | J24: 3 | K24: ШТИН Иван Сергеевич | L24: 18.05.96 кмс | M24: Тюменская | N24: г. Тюмень, ВС | O24: 0 | P24: Гаранин ЕА Бондарь ЕВ
A26: =[4]Итоговый!$B$12 -> 12 | B26: 3 | C26: ПИНАЕВ Дмитрий Сергеевич | D26: 28.06.98 1р | E26: Свердловская | F26: г. Екатеринбург, "ДЮСШ по самбо" | G26: 0 | H26: Цырке ВВ | I26: =[5]Итоговый!$B$12 -> 29 | J26: 3 | K26: ИСКАНДЫРОВ Булат Галимжанович | L26: 25.11.87 мс | M26: Челябинская | N26: г. Магнитогорск | O26: 0 | P26: Клочков СЮ
A28: =[4]Итоговый!$B$14 -> 16 | B28: 5 | C28: БОПХОЕВ Рамзан Тамерланович | D28: 29.01.97 кмс | E28: Челябинская | F28: г. Челябинск | G28: 0 | H28: Мисбахов ВН | I28: =[5]Итоговый!$B$14 -> 13 | J28: 5 | K28: АЛИБЕКОВ Зухраб Эседуллаевич | L28: 01.01.98 1р | M28: Свердловская | N28: г. Екатеринбург, "ДЮСШ по самбо" | O28: 0 | P28: Афиногеев ИН
A30: =[4]Итоговый!$B$16 -> 15 | B30: 5 | C30: РАМАЗАНОВ Реван Ильманович | D30: 12.08.92 1р | E30: Свердловская | F30: г. Екатеринбург, "ДЮСШ по самбо" | G30: 0 | H30: Афиногеев ИН | I30: =[5]Итоговый!$B$16 -> 20 | J30: 5 | K30: ЗАГИДУЛЛИН Дмитрий Реадович | L30: 19.06.98 кмс | M30: Тюменская | N30: г. Тюмень, ВС | O30: 0 | P30: Гаранин ЕА Бондарь ЕВ
B32: 74 | J32: 82
A33: =[6]Итоговый!$B$6 -> 20 | B33: 1 | C33: ОЧКИН Иван Николаевич | D33: 01.04.94 кмс | E33: Тюменская | F33: г. Тюмень, ВС | G33: 0 | H33: Гаранин ЕА Бондарь ЕВ | I33: =[7]Итоговый!$B$6 -> 14 | J33: 1 | K33: МАГОМЕДОВ Билал Шахбанович | L33: 09.09.94 кмс | M33: Тюменская | N33: г. Тюмень, ВС | O33: 0 | P33: Гаранин ЕА Бондарь ЕВ
A35: =[6]Итоговый!$B$8 -> 7 | B35: 2 | C35: ХАБИБУЛАЕВ Алибек Расулович | D35: 14.11.86 кмс | E35: ХМАО-ЮГРА | F35: г. Лангепас, ЛГ МАУ" Спортивный комплекс" | G35: 0 | H35: Мамедов РА | I35: =[7]Итоговый!$B$8 -> 21 | J35: 2 | K35: КОРЕПИН Константин Андреевич | L35: 06.09.85 мс | M35: Курганская | N35: г. Курган, Динамо | O35: 0 | P35: Стенников МГ
A37: =[6]Итоговый!$B$10 -> 15 | B37: 3 | C37: ИЗМОДЕНОВ Денис Сергеевич | D37: 08.01.92 мс | E37: Свердловская | F37: г. Екатеринбург, "ДЮСШ по самбо" | G37: 0 | H37: Галиев ВЗ | I37: =[7]Итоговый!$B$10 -> 13 | J37: 3 | K37: БЕЛЯКОВ Роман Валерьевич | L37: 24.10.89. кмс | M37: Свердловская | N37: г. Екатеринбург, УТ МВД России по УрФО | O37: 0 | P37: Пышминцев ВА
A39: =[6]Итоговый!$B$12 -> 14 | B39: 3 | C39: КУЧМАР Сергей Геннадьевич | D39: 05.07.94 кмс | E39: Челябинская | F39: г. Челябинск | G39: 0 | H39: Мисбахов ВН | I39: =[7]Итоговый!$B$12 -> 11 | J39: 3 | K39: ВАРЗИН Евгений Алексеевич | L39: 04.11.92 1р | M39: Свердловская | N39: ДЮСШ Белоярского ГО | O39: 0 | P39: Хизбуллин ИВ
A41: =[6]Итоговый!$B$14 -> 26 | B41: 5 | C41: ВАРЕНИК Максим Витальевич | D41: 02.01.89 мс | E41: Свердловская | F41: г. Екатеринбург, "ДЮСШ по самбо" | G41: 0 | H41: Размыслов ВП | I41: =[7]Итоговый!$B$14 -> 4 | J41: 5 | K41: МОРКОВИН Василий Александрович | L41: 19.05.85 1р | M41: Курганская | N41: г. Курган, Динамо | O41: 0 | P41: Стенников МГ
A43: =[6]Итоговый!$B$16 -> 21 | B43: 5 | C43: ВОРОБЬЕВ Роман Андреевич | D43: 08.04.94 кмс | E43: Челябинская | F43: г. Челябинск | G43: 0 | H43: Мисбахов ВН | I43: =[7]Итоговый!$B$16 -> 12 | J43: 5 | K43: МАГОМЕДОВ Магомед Исмаилович | L43: 06.11.90 мс | M43: Челябинская | N43: г. Магнитогорск | O43: 0 | P43: Клочков СЮ Мисбахов ВН
B47: 90 | J47: 100
A48: =#REF! -> #REF! | B48: 1 | C48: МХИТАРЯН Тигран Андраникович | D48: 20.09.96 1р | E48: Свердловская | F48: г. Алапаевск, СК Боец | G48: 0 | H48: Далгатов А.М. | I48: =#REF! -> #REF! | J48: 1 | K48: ПЕДЬКО Михаил Андреевич | L48: 23.06.91 мс | M48: Челябинская | N48: г.Челябинск | O48: 0 | P48: Педько МА
A50: =#REF! -> #REF! | B50: 2 | C50: ЕМЕЦ Вячеслав Эдуардович | D50: 03.10.94 кмс | E50: Челябинская | F50: г.Челябинск | G50: 0 | H50: Якупов РГ Кадолин ВИ | I50: =#REF! -> #REF! | J50: 2 | K50: ДАЛГАТОВ Абдула Магомедович | L50: 27.04.1985 кмс | M50: Свердловская | N50: г. Алапаевск, СК Боец | O50: 0 | P50: Далгатов А.М.
A52: =#REF! -> #REF! | B52: 3 | C52: ГИЗАТУЛИН Султан Рамилевич | D52: 06.11.95 1р | E52: Челябинская | F52: г. Магнитогорск | G52: 0 | H52: Клочков СЮ | I52: =#REF! -> #REF! | J52: 3 | K52: ГОРБУНОВ Вячеслав Александрович | L52: 11.07.90 1р | M52: Свердловская | N52: г. Екатеринбург, "ДЮСШ по самбо" | O52: 0 | P52: Галиев ВЗ
A54: =#REF! -> #REF! | B54: 3 | C54: ЛАПТЕВ Александр Александрович | D54: 05.09.84 кмс | E54: Свердловская | F54: г. Екатеринбург, "ДЮСШ по самбо" | G54: 0 | H54: Галиев ВЗ | I54: =#REF! -> #REF! | J54: 3 | K54: КУРБАНОВ Шамиль Мутагаджиевич | L54: 19.08.95 1р | M54: Свердловская | N54: г. Н-Тагил, СК "АЛМАЗ" "ПЛАНТА" | O54: 0 | P54: Матвеев СВ Гориславский ИА
A56: =#REF! -> #REF! | B56: 5 | C56: МУРЗИН Кирилл Дмитриевич | D56: 23.07.1995. 1р. | E56: Свердловская | F56: г. Алапаевск, СК Боец | G56: 0 | H56: Далгатов А.М. | I56: =#REF! -> #REF! | J56: 5 | K56: ДЕРЕВЯНКО Александр Владимирович | L56: 02.11.82 1р | M56: Свердловская | N56: г. Екатеринбург, "ДЮСШ по самбо" | O56: 0 | P56: Галиев ВЗ
A58: =#REF! -> #REF! | B58: 5 | C58: НЕМЧИНОВ Виталий Эдуардович | D58: 30.04.91 кмс | E58: Челябинская | F58: г. Челябинск | G58: 0 | H58: Кузьмин ДС | I58: =#REF! -> #REF! | J58: 5
B60: св100
A61: =#REF! -> #REF! | B61: 1 | C61: ПИВИКОВ Иван Валерьевич | D61: 20.07.89 кмс | E61: Свердловская | F61: г. Н-Тагил, СК "АЛМАЗ" "ПЛАНТА" | G61: 0 | H61: Матвеев СВ Гориславский ИА
A63: =#REF! -> #REF! | B63: 2 | C63: ЗАКИРОВ Руслан Каримович | D63: 12.04.85 кмс | E63: Челябинская | F63: г.Челябинск | G63: 0 | H63: Якупов РГ Кадолин ВИ | K63: =[1]реквизиты!$A$6 -> Гл. судья, судья ВК | O63: =[1]реквизиты!$G$7 -> М.И.Суханов
O64: =[1]реквизиты!$G$8 -> /г.В-Пышма/
A65: =#REF! -> #REF! | B65: 3 | C65: ГОРШКОВ Максим Викторович | D65: 17.10.95 кмс | E65: Курганская | F65: г. Лебяжье, Лебяжьевская ДЮСШ | G65: 0 | H65: Герасимов ДВ Никитюк АВ
A67: =#REF! -> #REF! | B67: 3 | C67: МАНУКЯН Гарник Норайрович | D67: 28.04.92 1р | E67: Свердловская | F67: г. Екатеринбург, "ДЮСШ по самбо" | G67: 0 | H67: Галиев ВЗ
A69: =#REF! -> #REF! | B69: 5 | C69: ХАБИБЖАНОВ Руслан Ниязович | D69: 16.04.85 мс | E69: Челябинская | F69: г. Челябинск | G69: 0 | H69: Якупов РГ | K69: =[1]реквизиты!$A$8 -> Гл. секретарь, судья ВК | O69: =[1]реквизиты!$G$9 -> Д.П.Сапунов
O70: =[1]реквизиты!$G$10 -> /г.Качканар/
A71: =#REF! -> #REF! | B71: 5 | C71: ДАВЛЕТШИН Данил Дамирович | D71: 12.05.95 кмс | E71: Челябинская | F71: г. Челябинск | G71: 0 | H71: Саломатин СВ

Sheet Лист1
