Workbook
Name разряд: 'пр.взв'!$K$7:$K$70
Name Е5кр: 'пр.хода'!$BZ$6:$BZ$117
Name разряд: #REF!
Name НетПустых: 'пр.хода'!$BS$6:$BS$23
Name субъект: 'пр.взв'!$L$7:$L$70
Name ЕстьПустые: 'пр.хода'!$BQ$6:$BQ$117
Name Е4кр: 'пр.хода'!$BT$6:$BT$117
Name Е6кр: 'пр.хода'!$CF$6:$CF$117
Name Н5кр: 'пр.хода'!$CA$6:$CA$117
Name Н4кр: 'пр.хода'!$BU$6:$BU$117
Name субъект: #REF!
Name Н6кр: 'пр.хода'!$CG$6:$CG$117

Sheet пр.взв
A1: select Col1,Col3,Col4,Col5,Col6,Col10,Col12,Col13,Col14,Col15,Col16,Col17 WHERE Col1>1 | C1: ПРОТОКОЛ ВЗВЕШИВАНИЯ | N1: https://docs.google.com/spreadsheets/d/1AFqodVR3gZnmrPNswjQbv4xdpoh_tP0UGgXHnewkrXw/edit#gid=946786355 | O1: =IF(O2="98+",99,O2) -> 88
C2: =IFERROR(__xludf.DUMMYFUNCTION("IMPORTRANGE(N1,""Реквизиты!A1"")"),"Чемпионат России по самбо среди мужчин (отбор на Чемпионат Мира и Европы) ЕКП № 23747") -> Чемпионат России по самбо среди мужчин (отбор на Чемпионат Мира и Европы) ЕКП № 23747 | O2: 88 | P2: В.к. | Q2: кг
C3: =IFERROR(__xludf.DUMMYFUNCTION("IMPORTRANGE(N1,""Реквизиты!A3"")"),"27.02 - 03.03.2023 г. г. Пермь") -> 27.02 - 03.03.2023 г. г. Пермь | O3: 38 | P3: участников | AX3: =SUM(AX7:AX12) -> 0
G4: =P2&" "&O2&" "&Q2 -> В.к. 88 кг | Y4: Мандатка
A5: ВК | B5: ВК | C5: № п/п | D5: № п/ж | E5: Ф.И.О. | F5: Ф.И.О. | G5: Дата рожд., разряд | H5: Разряд | I5: Округ, субъект, город, ведомство | K5: Субъект | L5: № карточки | M5: Тренер
A6: 88 | B6: 88 | C6: 4 | D6: 12 | E6: КАЗАРЯН Самвел | F6: КАЗАРЯН Самвел Ааронович | G6: 03.04.97, ЗМС | H6: ЗМС | I6: ДВФО | J6: Амурская обл., Благовещенск, Школа Олимпийского резерва | K6: Амурская | M6: Богодист Дмитрий Ильич | N6: {=IF(D6:D1602="","",(LEFT(F6:F1602,FIND(" ",F6:F1602)-1)))} -> КАЗАРЯН | O6: 53 | R6: =N8 -> УВАРОВ | S6: =N9 -> ПЕРЕПЕЛЮК | T6: =N10 -> СУРОВЦЕВ | U6: =N11 -> ОСИПЮК | V6: =N12 -> РЯБОВ | W6: =N13 -> ГАДЖИЕВ | Y6: Субъект, город. | Z6: =Q6 | AA6: =R6 -> УВАРОВ | AB6: =S6 -> ПЕРЕПЕЛЮК | AC6: =T6 -> СУРОВЦЕВ | AD6: =U6 -> ОСИПЮК | AE6: =V6 -> РЯБОВ | AF6: =W6 -> ГАДЖИЕВ
A7: 88 | B7: 88 | C7: 36 | D7: 17 | E7: МОНАКОВ Данила | F7: МОНАКОВ Данила Александрович | G7: 07.07.00, МС | H7: МС | I7: ДВФО | J7: Хабаровский край, Хабаровск, ДЮСШ «Самбо-90» | K7: Хабаровский | M7: Куликов И.В., Шилакин Б.В. | N7: МОНАКОВ | O7: 58 | R7: =SUMIFS($J$7:$J$88,$L$7:$L$88,P7,$K$7:$K$88,R$6) -> 0 | S7: =SUMIFS($J$7:$J$88,$L$7:$L$88,P7,$K$7:$K$88,S$6) -> 0 | T7: =SUMIFS($J$7:$J$88,$L$7:$L$88,P7,$K$7:$K$88,T$6) -> 0 | U7: =SUMIFS($J$7:$J$88,$L$7:$L$88,P7,$K$7:$K$88,U$6) -> 0 | V7: =SUMIFS($J$7:$J$88,$L$7:$L$88,P7,$K$7:$K$88,V$6) -> 0 | W7: =SUMIFS($J$7:$J$88,$L$7:$L$88,P7,$K$7:$K$88,W$6) -> 0 | Y7: =P7 | Z7: =IF(Q7=0," ",Q7) | AA7: =IF(R7=0," ",R7) | AB7: =IF(S7=0," ",S7) | AC7: =IF(T7=0," ",T7) | AD7: =IF(U7=0," ",U7) | AE7: =IF(V7=0," ",V7) | AF7: =IF(W7=0," ",W7)
A8: 88 | B8: 88 | C8: 19 | D8: 22 | E8: УВАРОВ Андрей | F8: УВАРОВ Андрей Владимирович | G8: 26.04.99, МСМК | H8: МСМК | I8: МОС | J8: г. Москва, , Самбо-70 | K8: Москва | M8: Юхарев С.С. Павлов Д.А. | N8: УВАРОВ | O8: 64 | R8: =SUMIFS($J$7:$J$88,$L$7:$L$88,P8,$K$7:$K$88,R$6) -> 0 | S8: =SUMIFS($J$7:$J$88,$L$7:$L$88,P8,$K$7:$K$88,S$6) -> 0 | T8: =SUMIFS($J$7:$J$88,$L$7:$L$88,P8,$K$7:$K$88,T$6) -> 0 | U8: =SUMIFS($J$7:$J$88,$L$7:$L$88,P8,$K$7:$K$88,U$6) -> 0 | V8: =SUMIFS($J$7:$J$88,$L$7:$L$88,P8,$K$7:$K$88,V$6) -> 0 | W8: =SUMIFS($J$7:$J$88,$L$7:$L$88,P8,$K$7:$K$88,W$6) -> 0 | Y8: =P8 | Z8: =IF($Y$8=$Y$7," ",IF(Q8=0," ",Q8)) | AA8: =IF($Y$8=$Y$7," ",IF(R8=0," ",R8)) | AB8: =IF($Y$8=$Y$7," ",IF(S8=0," ",S8)) | AC8: =IF($Y$8=$Y$7," ",IF(T8=0," ",T8)) | AD8: =IF(U8=0," ",U8) | AE8: =IF(V8=0," ",V8) | AF8: =IF(W8=0," ",W8)
A9: 88 | B9: 88 | C9: 19 | D9: 20 | E9: ПЕРЕПЕЛЮК Андрей | F9: ПЕРЕПЕЛЮК Андрей Александрович | G9: 06.08.85, МСМК | H9: МСМК | I9: МОС | J9: г. Москва, Москва, ГБОУ «ЦСиО «Самбо-70» | K9: Москва | M9: Фунтиков П.В. , Павлов Д.А. | N9: ПЕРЕПЕЛЮК | O9: 71 | R9: =SUMIFS($J$7:$J$88,$L$7:$L$88,P9,$K$7:$K$88,R$6) -> 0 | S9: =SUMIFS($J$7:$J$88,$L$7:$L$88,P9,$K$7:$K$88,S$6) -> 0 | T9: =SUMIFS($J$7:$J$88,$L$7:$L$88,P9,$K$7:$K$88,T$6) -> 0 | U9: =SUMIFS($J$7:$J$88,$L$7:$L$88,P9,$K$7:$K$88,U$6) -> 0 | V9: =SUMIFS($J$7:$J$88,$L$7:$L$88,P9,$K$7:$K$88,V$6) -> 0 | W9: =SUMIFS($J$7:$J$88,$L$7:$L$88,P9,$K$7:$K$88,W$6) -> 0 | Y9: =P9 | Z9: =IF(OR($Y9=$Y7,$Y9=$Y8)," ",IF(Q9=0," ",Q9)) | AA9: =IF(OR($Y9=$Y7,$Y9=$Y8)," ",IF(R9=0," ",R9)) | AB9: =IF(OR($Y9=$Y7,$Y9=$Y8)," ",IF(S9=0," ",S9)) | AC9: =IF(OR($Y9=$Y7,$Y9=$Y8)," ",IF(T9=0," ",T9)) | AD9: =IF(U9=0," ",U9) | AE9: =IF(V9=0," ",V9) | AF9: =IF(W9=0," ",W9)
A10: 88 | B10: 88 | C10: 19 | D10: 32 | E10: СУРОВЦЕВ Антон | F10: СУРОВЦЕВ Антон Александрович | G10: 05.10.96, МСМК | H10: МСМК | I10: МОС | J10: г. Москва, Москва, ГБОУ «ЦСиО самбо-70» | K10: Москва | M10: Фунтиков П.В Власов С.Ю | N10: СУРОВЦЕВ | O10: 79 | R10: =SUMIFS($J$7:$J$88,$L$7:$L$88,P10,$K$7:$K$88,R$6) -> 0 | S10: =SUMIFS($J$7:$J$88,$L$7:$L$88,P10,$K$7:$K$88,S$6) -> 0 | T10: =SUMIFS($J$7:$J$88,$L$7:$L$88,P10,$K$7:$K$88,T$6) -> 0 | U10: =SUMIFS($J$7:$J$88,$L$7:$L$88,P10,$K$7:$K$88,U$6) -> 0 | V10: =SUMIFS($J$7:$J$88,$L$7:$L$88,P10,$K$7:$K$88,V$6) -> 0 | W10: =SUMIFS($J$7:$J$88,$L$7:$L$88,P10,$K$7:$K$88,W$6) -> 0 | Y10: =P10 | Z10: =IF(OR($Y10=$Y8,$Y10=$Y9,$Y10=$Y7)," ",IF(Q10=0," ",Q10)) | AA10: =IF(OR($Y10=$Y8,$Y10=$Y9,$Y10=$Y7)," ",IF(R10=0," ",R10)) | AB10: =IF(OR($Y10=$Y8,$Y10=$Y9,$Y10=$Y7)," ",IF(S10=0," ",S10)) | AC10: =IF(OR($Y10=$Y8,$Y10=$Y9,$Y10=$Y7)," ",IF(T10=0," ",T10)) | AD10: =IF(U10=0," ",U10) | AE10: =IF(V10=0," ",V10) | AF10: =IF(W10=0," ",W10)
A11: 88 | B11: 88 | C11: 19 | D11: 15 | E11: ОСИПЮК Тарас | F11: ОСИПЮК Тарас Михайлович | G11: 08.01.00, МС | H11: МС | I11: МОС | J11: г. Москва, Москва, ГБОУ «ЦСиО Самбо-70» | K11: Москва | M11: Павлов Д.А., Гусаров А.А.. | N11: ОСИПЮК | O11: 88 | R11: =SUMIFS($J$7:$J$88,$L$7:$L$88,P11,$K$7:$K$88,R$6) -> 0 | S11: =SUMIFS($J$7:$J$88,$L$7:$L$88,P11,$K$7:$K$88,S$6) -> 0 | T11: =SUMIFS($J$7:$J$88,$L$7:$L$88,P11,$K$7:$K$88,T$6) -> 0 | U11: =SUMIFS($J$7:$J$88,$L$7:$L$88,P11,$K$7:$K$88,U$6) -> 0 | V11: =SUMIFS($J$7:$J$88,$L$7:$L$88,P11,$K$7:$K$88,V$6) -> 0 | W11: =SUMIFS($J$7:$J$88,$L$7:$L$88,P11,$K$7:$K$88,W$6) -> 0 | Y11: =P11 | Z11: =IF(OR($Y11=$Y9,$Y11=$Y10,$Y11=$Y8,$Y11=$Y7)," ",IF(Q11=0," ",Q11)) | AA11: =IF(OR($Y11=$Y9,$Y11=$Y10,$Y11=$Y8,$Y11=$Y7)," ",IF(R11=0," ",R11)) | AB11: =IF(OR($Y11=$Y9,$Y11=$Y10,$Y11=$Y8,$Y11=$Y7)," ",IF(S11=0," ",S11)) | AC11: =IF(OR($Y11=$Y9,$Y11=$Y10,$Y11=$Y8,$Y11=$Y7)," ",IF(T11=0," ",T11)) | AD11: =IF(U11=0," ",U11) | AE11: =IF(V11=0," ",V11) | AF11: =IF(W11=0," ",W11)
A12: 88 | B12: 88 | C12: 19 | D12: 33 | E12: РЯБОВ Сергей | F12: РЯБОВ Сергей Викторович | G12: 23.09.88, ЗМС | H12: ЗМС | I12: МОС | J12: г. Москва, Москва, Самбо-70 | K12: Москва | M12: Фунтиков П. В., Бвков В.Н. | N12: РЯБОВ | O12: 98 | R12: =SUMIFS($J$7:$J$88,$L$7:$L$88,P12,$K$7:$K$88,R$6) -> 0 | S12: =SUMIFS($J$7:$J$88,$L$7:$L$88,P12,$K$7:$K$88,S$6) -> 0 | T12: =SUMIFS($J$7:$J$88,$L$7:$L$88,P12,$K$7:$K$88,T$6) -> 0 | U12: =SUMIFS($J$7:$J$88,$L$7:$L$88,P12,$K$7:$K$88,U$6) -> 0 | V12: =SUMIFS($J$7:$J$88,$L$7:$L$88,P12,$K$7:$K$88,V$6) -> 0 | W12: =SUMIFS($J$7:$J$88,$L$7:$L$88,P12,$K$7:$K$88,W$6) -> 0 | Y12: =P12 | Z12: =IF(OR($Y12=$Y10,$Y12=$Y11,$Y12=$Y9,$Y12=$Y8,$Y12=$Y7)," ",IF(Q12=0," ",Q12)) | AA12: =IF(OR($Y12=$Y10,$Y12=$Y11,$Y12=$Y9,$Y12=$Y8,$Y12=$Y7)," ",IF(R12=0," ",R12)) | AB12: =IF(OR($Y12=$Y10,$Y12=$Y11,$Y12=$Y9,$Y12=$Y8,$Y12=$Y7)," ",IF(S12=0," ",S12)) | AC12: =IF(OR($Y12=$Y10,$Y12=$Y11,$Y12=$Y9,$Y12=$Y8,$Y12=$Y7)," ",IF(T12=0," ",T12)) | AD12: =IF(U12=0," ",U12) | AE12: =IF(V12=0," ",V12) | AF12: =IF(W12=0," ",W12)
A13: 88 | B13: 88 | C13: 19 | D13: 18 | E13: ГАДЖИЕВ Шамиль | F13: ГАДЖИЕВ Шамиль Магомедович | G13: 14.01.98, МСМК | H13: МСМК | I13: МОС | J13: г. Москва, Москва, Самбо-70 | K13: Москва | M13: Кабанов Дмитрий Борисович | N13: ГАДЖИЕВ | O13: 98+ | R13: =SUMIFS($J$7:$J$88,$L$7:$L$88,P13,$K$7:$K$88,R$6) -> 0 | S13: =SUMIFS($J$7:$J$88,$L$7:$L$88,P13,$K$7:$K$88,S$6) -> 0 | T13: =SUMIFS($J$7:$J$88,$L$7:$L$88,P13,$K$7:$K$88,T$6) -> 0 | U13: =SUMIFS($J$7:$J$88,$L$7:$L$88,P13,$K$7:$K$88,U$6) -> 0 | V13: =SUMIFS($J$7:$J$88,$L$7:$L$88,P13,$K$7:$K$88,V$6) -> 0 | W13: =SUMIFS($J$7:$J$88,$L$7:$L$88,P13,$K$7:$K$88,W$6) -> 0 | Y13: =P13 | Z13: =IF(OR($Y13=$Y11,$Y13=$Y12,$Y13=$Y10,$Y13=$Y9,$Y13=$Y8,$Y13=$Y7)," ",IF(Q13=0," ",Q13)) | AA13: =IF(OR($Y13=$Y11,$Y13=$Y12,$Y13=$Y10,$Y13=$Y9,$Y13=$Y8,$Y13=$Y7)," ",IF(R13=0," ",R13)) | AB13: =IF(OR($Y13=$Y11,$Y13=$Y12,$Y13=$Y10,$Y13=$Y9,$Y13=$Y8,$Y13=$Y7)," ",IF(S13=0," ",S13)) | AC13: =IF(OR($Y13=$Y11,$Y13=$Y12,$Y13=$Y10,$Y13=$Y9,$Y13=$Y8,$Y13=$Y7)," ",IF(T13=0," ",T13)) | AD13: =IF(U13=0," ",U13) | AE13: =IF(V13=0," ",V13) | AF13: =IF(W13=0," ",W13)
A14: 88 | B14: 88 | C14: 19 | D14: 35 | E14: ЛОМАКИН Александр | F14: ЛОМАКИН Александр Евгеньевич | G14: 27.02.98, МС | H14: МСМК | I14: МОС | J14: Зеленоградский АО, Москва, Самбо70 | K14: Москва | M14: Бобылев А.Б, Кабанов Д.Б. | N14: ЛОМАКИН | R14: =SUMIFS($J$7:$J$88,$L$7:$L$88,P14,$K$7:$K$88,R$6) -> 0 | S14: =SUMIFS($J$7:$J$88,$L$7:$L$88,P14,$K$7:$K$88,S$6) -> 0 | T14: =SUMIFS($J$7:$J$88,$L$7:$L$88,P14,$K$7:$K$88,T$6) -> 0 | U14: =SUMIFS($J$7:$J$88,$L$7:$L$88,P14,$K$7:$K$88,U$6) -> 0 | V14: =SUMIFS($J$7:$J$88,$L$7:$L$88,P14,$K$7:$K$88,V$6) -> 0 | W14: =SUMIFS($J$7:$J$88,$L$7:$L$88,P14,$K$7:$K$88,W$6) -> 0 | Y14: =P14 | Z14: =IF(OR($Y14=$Y12,$Y14=$Y13,$Y14=$Y11,$Y14=$Y10,$Y14=$Y9,$Y14=$Y7)," ",IF(Q14=0," ",Q14)) | AA14: =IF(OR($Y14=$Y12,$Y14=$Y13,$Y14=$Y11,$Y14=$Y10,$Y14=$Y9,$Y14=$Y7)," ",IF(R14=0," ",R14)) | AB14: =IF(OR($Y14=$Y12,$Y14=$Y13,$Y14=$Y11,$Y14=$Y10,$Y14=$Y9,$Y14=$Y7)," ",IF(S14=0," ",S14)) | AC14: =IF(OR($Y14=$Y12,$Y14=$Y13,$Y14=$Y11,$Y14=$Y10,$Y14=$Y9,$Y14=$Y7)," ",IF(T14=0," ",T14)) | AD14: =IF(U14=0," ",U14) | AE14: =IF(V14=0," ",V14) | AF14: =IF(W14=0," ",W14)
A15: 88 | B15: 88 | C15: 6 | D15: 16 | E15: АСКЕРОВ Джавид | F15: АСКЕРОВ Джавид Фаигович | G15: 23.07.02, МС | H15: МС | I15: ПФО | J15: Нижегородская обл., Кстово, СШОР Кстово | K15: Нижегородская | M15: Болонский Сергей Геннадьевич,Шкапов Павел Юрьевич | N15: АСКЕРОВ | R15: =SUMIFS($J$7:$J$88,$L$7:$L$88,P15,$K$7:$K$88,R$6) -> 0 | S15: =SUMIFS($J$7:$J$88,$L$7:$L$88,P15,$K$7:$K$88,S$6) -> 0 | T15: =SUMIFS($J$7:$J$88,$L$7:$L$88,P15,$K$7:$K$88,T$6) -> 0 | U15: =SUMIFS($J$7:$J$88,$L$7:$L$88,P15,$K$7:$K$88,U$6) -> 0 | V15: =SUMIFS($J$7:$J$88,$L$7:$L$88,P15,$K$7:$K$88,V$6) -> 0 | W15: =SUMIFS($J$7:$J$88,$L$7:$L$88,P15,$K$7:$K$88,W$6) -> 0 | Y15: =P15 | Z15: =IF(OR($Y15=$Y13,$Y15=$Y14,$Y15=$Y12,$Y15=$Y11,$Y15=$Y10,$Y15=$Y8,$Y15=$Y7)," ",IF(Q15=0," ",Q15)) | AA15: =IF(OR($Y15=$Y13,$Y15=$Y14,$Y15=$Y12,$Y15=$Y11,$Y15=$Y10,$Y15=$Y8,$Y15=$Y7)," ",IF(R15=0," ",R15)) | AB15: =IF(OR($Y15=$Y13,$Y15=$Y14,$Y15=$Y12,$Y15=$Y11,$Y15=$Y10,$Y15=$Y8,$Y15=$Y7)," ",IF(S15=0," ",S15)) | AC15: =IF(OR($Y15=$Y13,$Y15=$Y14,$Y15=$Y12,$Y15=$Y11,$Y15=$Y10,$Y15=$Y8,$Y15=$Y7)," ",IF(T15=0," ",T15)) | AD15: =IF(U15=0," ",U15) | AE15: =IF(V15=0," ",V15) | AF15: =IF(W15=0," ",W15)
A16: 88 | B16: 88 | C16: 5 | D16: 14 | E16: БУДИМИРОВ Алексей | F16: БУДИМИРОВ Алексей Евгеньевич | G16: 06.03.90, МС | H16: МС | I16: ПФО | J16: Пензенская обл., Пенза, МБУ СШОР | K16: Пензенская | M16: Дуднев Виктор Владимирович | N16: БУДИМИРОВ | R16: =SUMIFS($J$7:$J$88,$L$7:$L$88,P16,$K$7:$K$88,R$6) -> 0 | S16: =SUMIFS($J$7:$J$88,$L$7:$L$88,P16,$K$7:$K$88,S$6) -> 0 | T16: =SUMIFS($J$7:$J$88,$L$7:$L$88,P16,$K$7:$K$88,T$6) -> 0 | U16: =SUMIFS($J$7:$J$88,$L$7:$L$88,P16,$K$7:$K$88,U$6) -> 0 | V16: =SUMIFS($J$7:$J$88,$L$7:$L$88,P16,$K$7:$K$88,V$6) -> 0 | W16: =SUMIFS($J$7:$J$88,$L$7:$L$88,P16,$K$7:$K$88,W$6) -> 0 | Y16: =P16 | Z16: =IF(OR($Y16=$Y14,$Y16=$Y15,$Y16=$Y13,$Y16=$Y12,$Y16=$Y11,$Y16=$Y9,$Y16=$Y8,$Y16=$Y7)," ",IF(Q16=0," ",Q16)) | AA16: =IF(OR($Y16=$Y14,$Y16=$Y15,$Y16=$Y13,$Y16=$Y12,$Y16=$Y11,$Y16=$Y9,$Y16=$Y8,$Y16=$Y7)," ",IF(R16=0," ",R16)) | AB16: =IF(OR($Y16=$Y14,$Y16=$Y15,$Y16=$Y13,$Y16=$Y12,$Y16=$Y11,$Y16=$Y9,$Y16=$Y8,$Y16=$Y7)," ",IF(S16=0," ",S16)) | AC16: =IF(OR($Y16=$Y14,$Y16=$Y15,$Y16=$Y13,$Y16=$Y12,$Y16=$Y11,$Y16=$Y9,$Y16=$Y8,$Y16=$Y7)," ",IF(T16=0," ",T16)) | AD16: =IF(U16=0," ",U16) | AE16: =IF(V16=0," ",V16) | AF16: =IF(W16=0," ",W16)
A17: 88 | B17: 88 | C17: 7 | D17: 13 | E17: ЕЛИСЕЕВ Михаил | F17: ЕЛИСЕЕВ Михаил Сергеевич | G17: 04.08.03, КМС | H17: КМС | I17: ПФО | J17: Пермский край, Пермь, ПВИ ВНГ | K17: Пермский | M17: Лузин С.В. | N17: ЕЛИСЕЕВ | R17: =SUMIFS($J$7:$J$88,$L$7:$L$88,P17,$K$7:$K$88,R$6) -> 0 | S17: =SUMIFS($J$7:$J$88,$L$7:$L$88,P17,$K$7:$K$88,S$6) -> 0 | T17: =SUMIFS($J$7:$J$88,$L$7:$L$88,P17,$K$7:$K$88,T$6) -> 0 | U17: =SUMIFS($J$7:$J$88,$L$7:$L$88,P17,$K$7:$K$88,U$6) -> 0 | V17: =SUMIFS($J$7:$J$88,$L$7:$L$88,P17,$K$7:$K$88,V$6) -> 0 | W17: =SUMIFS($J$7:$J$88,$L$7:$L$88,P17,$K$7:$K$88,W$6) -> 0 | Y17: =P17 | Z17: =IF(OR($Y17=$Y15,$Y17=$Y16,$Y17=$Y14,$Y17=$Y13,$Y17=$Y12,$Y17=$Y10,$Y17=$Y9,$Y17=$Y8,$Y17=$Y7)," ",IF(Q17=0," ",Q17)) | AA17: =IF(OR($Y17=$Y15,$Y17=$Y16,$Y17=$Y14,$Y17=$Y13,$Y17=$Y12,$Y17=$Y10,$Y17=$Y9,$Y17=$Y8,$Y17=$Y7)," ",IF(R17=0," ",R17)) | AB17: =IF(OR($Y17=$Y15,$Y17=$Y16,$Y17=$Y14,$Y17=$Y13,$Y17=$Y12,$Y17=$Y10,$Y17=$Y9,$Y17=$Y8,$Y17=$Y7)," ",IF(S17=0," ",S17)) | AC17: =IF(OR($Y17=$Y15,$Y17=$Y16,$Y17=$Y14,$Y17=$Y13,$Y17=$Y12,$Y17=$Y10,$Y17=$Y9,$Y17=$Y8,$Y17=$Y7)," ",IF(T17=0," ",T17)) | AD17: =IF(U17=0," ",U17) | AE17: =IF(V17=0," ",V17) | AF17: =IF(W17=0," ",W17)
A18: 88 | B18: 88 | C18: 46 | D18: 7 | E18: ЖДАНОВ Даниил | F18: ЖДАНОВ Даниил Артемович | G18: 10.05.01, МС | H18: МС | I18: ПФО | J18: Самарская обл., Самара, «СШОР-11» им В.В. Ольховского | K18: Самарская | M18: Становкин М.Н, Родомакин Ю.С | N18: ЖДАНОВ | R18: =SUMIFS($J$7:$J$88,$L$7:$L$88,P18,$K$7:$K$88,R$6) -> 0 | S18: =SUMIFS($J$7:$J$88,$L$7:$L$88,P18,$K$7:$K$88,S$6) -> 0 | T18: =SUMIFS($J$7:$J$88,$L$7:$L$88,P18,$K$7:$K$88,T$6) -> 0 | U18: =SUMIFS($J$7:$J$88,$L$7:$L$88,P18,$K$7:$K$88,U$6) -> 0 | V18: =SUMIFS($J$7:$J$88,$L$7:$L$88,P18,$K$7:$K$88,V$6) -> 0 | W18: =SUMIFS($J$7:$J$88,$L$7:$L$88,P18,$K$7:$K$88,W$6) -> 0 | Y18: =P18 | Z18: =IF(OR($Y18=$Y16,$Y18=$Y17,$Y18=$Y15,$Y18=$Y14,$Y18=$Y13,$Y18=$Y11,$Y18=$Y10,$Y18=$Y9,$Y18=$Y8,$Y18=$Y7)," ",IF(Q18=0," ",Q18)) | AA18: =IF(OR($Y18=$Y16,$Y18=$Y17,$Y18=$Y15,$Y18=$Y14,$Y18=$Y13,$Y18=$Y11,$Y18=$Y10,$Y18=$Y9,$Y18=$Y8,$Y18=$Y7)," ",IF(R18=0," ",R18)) | AB18: =IF(OR($Y18=$Y16,$Y18=$Y17,$Y18=$Y15,$Y18=$Y14,$Y18=$Y13,$Y18=$Y11,$Y18=$Y10,$Y18=$Y9,$Y18=$Y8,$Y18=$Y7)," ",IF(S18=0," ",S18)) | AC18: =IF(OR($Y18=$Y16,$Y18=$Y17,$Y18=$Y15,$Y18=$Y14,$Y18=$Y13,$Y18=$Y11,$Y18=$Y10,$Y18=$Y9,$Y18=$Y8,$Y18=$Y7)," ",IF(T18=0," ",T18)) | AD18: =IF(U18=0," ",U18) | AE18: =IF(V18=0," ",V18) | AF18: =IF(W18=0," ",W18)
A19: 88 | B19: 88 | C19: 21 | D19: 25 | E19: ИВАНОВ Максим | F19: ИВАНОВ Максим Константинович | G19: 21.02.93, МСМК | H19: МСМК | I19: ПФО | J19: Чувашская Республика - Чувашия, Чебоксары, СОШ | K19: Чувашская | M19: Ильин.Г.А | N19: ИВАНОВ | R19: =SUMIFS($J$7:$J$88,$L$7:$L$88,P19,$K$7:$K$88,R$6) -> 0 | S19: =SUMIFS($J$7:$J$88,$L$7:$L$88,P19,$K$7:$K$88,S$6) -> 0 | T19: =SUMIFS($J$7:$J$88,$L$7:$L$88,P19,$K$7:$K$88,T$6) -> 0 | U19: =SUMIFS($J$7:$J$88,$L$7:$L$88,P19,$K$7:$K$88,U$6) -> 0 | V19: =SUMIFS($J$7:$J$88,$L$7:$L$88,P19,$K$7:$K$88,V$6) -> 0 | W19: =SUMIFS($J$7:$J$88,$L$7:$L$88,P19,$K$7:$K$88,W$6) -> 0 | Y19: =P19 | Z19: =IF(Q19=0," ",Q19) | AA19: =IF(R19=0," ",R19) | AB19: =IF(S19=0," ",S19) | AC19: =IF(T19=0," ",T19) | AD19: =IF(U19=0," ",U19) | AE19: =IF(V19=0," ",V19) | AF19: =IF(W19=0," ",W19)
A20: 88 | B20: 88 | C20: 12 | D20: 8 | E20: ШОГЕНОВ Ислам | F20: ШОГЕНОВ Ислам Асланович | G20: 20.07.98, МС | H20: МС | I20: СКФО | J20: Респ. Кабардино-Балкарская, Нальчик, Динамо | K20: КБР | M20: Ким Руслан Константинович | N20: ШОГЕНОВ | R20: =SUMIFS($J$7:$J$88,$L$7:$L$88,P20,$K$7:$K$88,R$6) -> 0 | S20: =SUMIFS($J$7:$J$88,$L$7:$L$88,P20,$K$7:$K$88,S$6) -> 0 | T20: =SUMIFS($J$7:$J$88,$L$7:$L$88,P20,$K$7:$K$88,T$6) -> 0 | U20: =SUMIFS($J$7:$J$88,$L$7:$L$88,P20,$K$7:$K$88,U$6) -> 0 | V20: =SUMIFS($J$7:$J$88,$L$7:$L$88,P20,$K$7:$K$88,V$6) -> 0 | W20: =SUMIFS($J$7:$J$88,$L$7:$L$88,P20,$K$7:$K$88,W$6) -> 0 | Y20: =P20 | Z20: =IF(Q20=0," ",Q20) | AA20: =IF(R20=0," ",R20) | AB20: =IF(S20=0," ",S20) | AC20: =IF(T20=0," ",T20) | AD20: =IF(U20=0," ",U20) | AE20: =IF(V20=0," ",V20) | AF20: =IF(W20=0," ",W20)
A21: 88 | B21: 88 | C21: 29 | D21: 23 | E21: КУРБАНОВ Аслан | F21: КУРБАНОВ Аслан Юрьевич | G21: 17.10.91, МС | H21: МС | I21: СКФО | J21: Респ. Дагестан, Махачкала, Сшор | K21: Р.Дагестан | M21: Магомедов М.А. Курбанов Ю..И | N21: КУРБАНОВ | R21: =SUMIFS($J$7:$J$88,$L$7:$L$88,P21,$K$7:$K$88,R$6) -> 0 | S21: =SUMIFS($J$7:$J$88,$L$7:$L$88,P21,$K$7:$K$88,S$6) -> 0 | T21: =SUMIFS($J$7:$J$88,$L$7:$L$88,P21,$K$7:$K$88,T$6) -> 0 | U21: =SUMIFS($J$7:$J$88,$L$7:$L$88,P21,$K$7:$K$88,U$6) -> 0 | V21: =SUMIFS($J$7:$J$88,$L$7:$L$88,P21,$K$7:$K$88,V$6) -> 0 | W21: =SUMIFS($J$7:$J$88,$L$7:$L$88,P21,$K$7:$K$88,W$6) -> 0 | Y21: =P21 | Z21: =IF(Q21=0," ",Q21) | AA21: =IF(R21=0," ",R21) | AB21: =IF(S21=0," ",S21) | AC21: =IF(T21=0," ",T21) | AD21: =IF(U21=0," ",U21) | AE21: =IF(V21=0," ",V21) | AF21: =IF(W21=0," ",W21)
A22: 88 | B22: 88 | C22: 38 | D22: 6 | E22: ХАЧИРОВ Петр | F22: ХАЧИРОВ Петр Черменович | G22: 01.03.93, МС | H22: МС | I22: СКФО | J22: Респ. Северная Осетия - Алания, Владикавказ, ДЮСША | K22: РСО-Алания | M22: Козаев А.Т., Гасиев П | N22: ХАЧИРОВ | R22: =SUMIFS($J$7:$J$88,$L$7:$L$88,P22,$K$7:$K$88,R$6) -> 0 | S22: =SUMIFS($J$7:$J$88,$L$7:$L$88,P22,$K$7:$K$88,S$6) -> 0 | T22: =SUMIFS($J$7:$J$88,$L$7:$L$88,P22,$K$7:$K$88,T$6) -> 0 | U22: =SUMIFS($J$7:$J$88,$L$7:$L$88,P22,$K$7:$K$88,U$6) -> 0 | V22: =SUMIFS($J$7:$J$88,$L$7:$L$88,P22,$K$7:$K$88,V$6) -> 0 | W22: =SUMIFS($J$7:$J$88,$L$7:$L$88,P22,$K$7:$K$88,W$6) -> 0 | Y22: =P22 | Z22: =IF(Q22=0," ",Q22) | AA22: =IF(R22=0," ",R22) | AB22: =IF(S22=0," ",S22) | AC22: =IF(T22=0," ",T22) | AD22: =IF(U22=0," ",U22) | AE22: =IF(V22=0," ",V22) | AF22: =IF(W22=0," ",W22)
A23: 88 | B23: 88 | C23: 11 | D23: 3 | E23: ПАНАИТОВ Артур | F23: ПАНАИТОВ Артур Панаитов | G23: 16.04.98, МС | H23: МС | I23: СПБ | J23: г. Санкт-Петербург, Санкт-Петербург, ГБУ СШОР №1 Адмиралтейского района | K23: Санкт-Петербург | M23: Болов Вадим Викторович | N23: ПАНАИТОВ | R23: =SUMIFS($J$7:$J$88,$L$7:$L$88,P23,$K$7:$K$88,R$6) -> 0 | S23: =SUMIFS($J$7:$J$88,$L$7:$L$88,P23,$K$7:$K$88,S$6) -> 0 | T23: =SUMIFS($J$7:$J$88,$L$7:$L$88,P23,$K$7:$K$88,T$6) -> 0 | U23: =SUMIFS($J$7:$J$88,$L$7:$L$88,P23,$K$7:$K$88,U$6) -> 0 | V23: =SUMIFS($J$7:$J$88,$L$7:$L$88,P23,$K$7:$K$88,V$6) -> 0 | W23: =SUMIFS($J$7:$J$88,$L$7:$L$88,P23,$K$7:$K$88,W$6) -> 0 | Y23: =P23 | Z23: =IF(Q23=0," ",Q23) | AA23: =IF(R23=0," ",R23) | AB23: =IF(S23=0," ",S23) | AC23: =IF(T23=0," ",T23) | AD23: =IF(U23=0," ",U23) | AE23: =IF(V23=0," ",V23) | AF23: =IF(W23=0," ",W23)
A24: 88 | B24: 88 | C24: 11 | D24: 30 | E24: КИРЮХИН Сергей | F24: КИРЮХИН Сергей Александрович | G24: 23.02.87, ЗМС | H24: ЗМС | I24: СПБ | J24: г. Санкт-Петербург, Санкт-Петербург, КШВСМ | K24: Санкт-Петербург | M24: Кусакин С.И., Поддубный А.Е. | N24: КИРЮХИН | R24: =SUMIFS($J$7:$J$88,$L$7:$L$88,P24,$K$7:$K$88,R$6) -> 0 | S24: =SUMIFS($J$7:$J$88,$L$7:$L$88,P24,$K$7:$K$88,S$6) -> 0 | T24: =SUMIFS($J$7:$J$88,$L$7:$L$88,P24,$K$7:$K$88,T$6) -> 0 | U24: =SUMIFS($J$7:$J$88,$L$7:$L$88,P24,$K$7:$K$88,U$6) -> 0 | V24: =SUMIFS($J$7:$J$88,$L$7:$L$88,P24,$K$7:$K$88,V$6) -> 0 | W24: =SUMIFS($J$7:$J$88,$L$7:$L$88,P24,$K$7:$K$88,W$6) -> 0 | Y24: =P24 | Z24: =IF(Q24=0," ",Q24) | AA24: =IF(R24=0," ",R24) | AB24: =IF(S24=0," ",S24) | AC24: =IF(T24=0," ",T24) | AD24: =IF(U24=0," ",U24) | AE24: =IF(V24=0," ",V24) | AF24: =IF(W24=0," ",W24)
A25: 88 | B25: 88 | C25: 11 | D25: 38 | E25: НЕДОБЕЖКИН Игорь | F25: НЕДОБЕЖКИН Игорь Николаевич | G25: 10.11.99, МС | H25: МС | I25: СПБ | J25: г. Санкт-Петербург, Санкт-Петербург, КШВСМ | K25: Санкт-Петербург | M25: Микайлов М.М., Савельев А.В. | N25: НЕДОБЕЖКИН | R25: =SUMIFS($J$7:$J$88,$L$7:$L$88,P25,$K$7:$K$88,R$6) -> 0 | S25: =SUMIFS($J$7:$J$88,$L$7:$L$88,P25,$K$7:$K$88,S$6) -> 0 | T25: =SUMIFS($J$7:$J$88,$L$7:$L$88,P25,$K$7:$K$88,T$6) -> 0 | U25: =SUMIFS($J$7:$J$88,$L$7:$L$88,P25,$K$7:$K$88,U$6) -> 0 | V25: =SUMIFS($J$7:$J$88,$L$7:$L$88,P25,$K$7:$K$88,V$6) -> 0 | W25: =SUMIFS($J$7:$J$88,$L$7:$L$88,P25,$K$7:$K$88,W$6) -> 0 | Y25: =P25 | Z25: =IF(Q25=0," ",Q25) | AA25: =IF(R25=0," ",R25) | AB25: =IF(S25=0," ",S25) | AC25: =IF(T25=0," ",T25) | AD25: =IF(U25=0," ",U25) | AE25: =IF(V25=0," ",V25) | AF25: =IF(W25=0," ",W25)
A26: 88 | B26: 88 | C26: 11 | D26: 1 | E26: БЕЛЕВ Вадим | F26: БЕЛЕВ Вадим Геннадьевич | G26: 01.07.02, КМС | H26: КМС | I26: СПБ | J26: г. Санкт-Петербург, Санкт-Петербург, КШВСМ | K26: Санкт-Петербург | M26: Савельев А.В., Кирюхин С.А. | N26: БЕЛЕВ | R26: =SUMIFS($J$7:$J$88,$L$7:$L$88,P26,$K$7:$K$88,R$6) -> 0 | S26: =SUMIFS($J$7:$J$88,$L$7:$L$88,P26,$K$7:$K$88,S$6) -> 0 | T26: =SUMIFS($J$7:$J$88,$L$7:$L$88,P26,$K$7:$K$88,T$6) -> 0 | U26: =SUMIFS($J$7:$J$88,$L$7:$L$88,P26,$K$7:$K$88,U$6) -> 0 | V26: =SUMIFS($J$7:$J$88,$L$7:$L$88,P26,$K$7:$K$88,V$6) -> 0 | W26: =SUMIFS($J$7:$J$88,$L$7:$L$88,P26,$K$7:$K$88,W$6) -> 0 | Y26: =P26 | Z26: =IF(Q26=0," ",Q26) | AA26: =IF(R26=0," ",R26) | AB26: =IF(S26=0," ",S26) | AC26: =IF(T26=0," ",T26) | AD26: =IF(U26=0," ",U26) | AE26: =IF(V26=0," ",V26) | AF26: =IF(W26=0," ",W26)
A27: 88 | B27: 88 | C27: 11 | D27: 28 | E27: ГЕРЕКОВ Рустам | F27: ГЕРЕКОВ Рустам Магомедрасулович | G27: 25.07.95, МСМК | H27: МСМК | I27: СПБ | J27: г. Санкт-Петербург, Санкт-Петербург, СШОР 1 Адмиралтейского района | K27: Санкт-Петербург | M27: Болов Вадим Викторович | N27: ГЕРЕКОВ | R27: =SUMIFS($J$7:$J$88,$L$7:$L$88,P27,$K$7:$K$88,R$6) -> 0 | S27: =SUMIFS($J$7:$J$88,$L$7:$L$88,P27,$K$7:$K$88,S$6) -> 0 | T27: =SUMIFS($J$7:$J$88,$L$7:$L$88,P27,$K$7:$K$88,T$6) -> 0 | U27: =SUMIFS($J$7:$J$88,$L$7:$L$88,P27,$K$7:$K$88,U$6) -> 0 | V27: =SUMIFS($J$7:$J$88,$L$7:$L$88,P27,$K$7:$K$88,V$6) -> 0 | W27: =SUMIFS($J$7:$J$88,$L$7:$L$88,P27,$K$7:$K$88,W$6) -> 0 | Y27: =P27 | Z27: =IF(Q27=0," ",Q27) | AA27: =IF(R27=0," ",R27) | AB27: =IF(S27=0," ",S27) | AC27: =IF(T27=0," ",T27) | AD27: =IF(U27=0," ",U27) | AE27: =IF(V27=0," ",V27) | AF27: =IF(W27=0," ",W27)
A28: 88 | B28: 88 | C28: 3 | D28: 36 | E28: БЕРЛИН Павел | F28: БЕРЛИН Павел Вячеславович | G28: 30.08.98, КМС | H28: КМС | I28: СФО | J28: Красноярский край, Красноярск, СШОР им. Б.Х. Сайтиева | K28: Красноярский | M28: Новолодский М.В., Бориловский А.В. | N28: БЕРЛИН | R28: =SUMIFS($J$7:$J$88,$L$7:$L$88,P28,$K$7:$K$88,R$6) -> 0 | S28: =SUMIFS($J$7:$J$88,$L$7:$L$88,P28,$K$7:$K$88,S$6) -> 0 | T28: =SUMIFS($J$7:$J$88,$L$7:$L$88,P28,$K$7:$K$88,T$6) -> 0 | U28: =SUMIFS($J$7:$J$88,$L$7:$L$88,P28,$K$7:$K$88,U$6) -> 0 | V28: =SUMIFS($J$7:$J$88,$L$7:$L$88,P28,$K$7:$K$88,V$6) -> 0 | W28: =SUMIFS($J$7:$J$88,$L$7:$L$88,P28,$K$7:$K$88,W$6) -> 0 | Y28: =P28 | Z28: =IF(Q28=0," ",Q28) | AA28: =IF(R28=0," ",R28) | AB28: =IF(S28=0," ",S28) | AC28: =IF(T28=0," ",T28) | AD28: =IF(U28=0," ",U28) | AE28: =IF(V28=0," ",V28) | AF28: =IF(W28=0," ",W28)
A29: 88 | B29: 88 | C29: 3 | D29: 37 | E29: ПАНОВ Владислав | F29: ПАНОВ Владислав Александрович | G29: 15.03.98, МС | H29: МС | I29: СФО | J29: Красноярский край, Сосновоборск, СШ | K29: Красноярский | M29: Батурин А.В., Хрыкин М.М. | N29: ПАНОВ | R29: =SUMIFS($J$7:$J$88,$L$7:$L$88,P29,$K$7:$K$88,R$6) -> 0 | S29: =SUMIFS($J$7:$J$88,$L$7:$L$88,P29,$K$7:$K$88,S$6) -> 0 | T29: =SUMIFS($J$7:$J$88,$L$7:$L$88,P29,$K$7:$K$88,T$6) -> 0 | U29: =SUMIFS($J$7:$J$88,$L$7:$L$88,P29,$K$7:$K$88,U$6) -> 0 | V29: =SUMIFS($J$7:$J$88,$L$7:$L$88,P29,$K$7:$K$88,V$6) -> 0 | W29: =SUMIFS($J$7:$J$88,$L$7:$L$88,P29,$K$7:$K$88,W$6) -> 0 | Y29: =P29 | Z29: =IF(Q29=0," ",Q29) | AA29: =IF(R29=0," ",R29) | AB29: =IF(S29=0," ",S29) | AC29: =IF(T29=0," ",T29) | AD29: =IF(U29=0," ",U29) | AE29: =IF(V29=0," ",V29) | AF29: =IF(W29=0," ",W29)
A30: 88 | B30: 88 | C30: 2 | D30: 27 | E30: МЕРКУЛЬЕВ Виктор | F30: МЕРКУЛЬЕВ Виктор Анатольевич | G30: 24.12.95, КМС | H30: КМС | I30: СФО | J30: Р.Алтай, ГорноАлтайск, МО | K30: Р.Алтай | M30: Грушин С.Н. Субботин С.А. | N30: МЕРКУЛЬЕВ | R30: =SUMIFS($J$7:$J$88,$L$7:$L$88,P30,$K$7:$K$88,R$6) -> 0 | S30: =SUMIFS($J$7:$J$88,$L$7:$L$88,P30,$K$7:$K$88,S$6) -> 0 | T30: =SUMIFS($J$7:$J$88,$L$7:$L$88,P30,$K$7:$K$88,T$6) -> 0 | U30: =SUMIFS($J$7:$J$88,$L$7:$L$88,P30,$K$7:$K$88,U$6) -> 0 | V30: =SUMIFS($J$7:$J$88,$L$7:$L$88,P30,$K$7:$K$88,V$6) -> 0 | W30: =SUMIFS($J$7:$J$88,$L$7:$L$88,P30,$K$7:$K$88,W$6) -> 0 | Y30: =P30 | Z30: =IF(Q30=0," ",Q30) | AA30: =IF(R30=0," ",R30) | AB30: =IF(S30=0," ",S30) | AC30: =IF(T30=0," ",T30) | AD30: =IF(U30=0," ",U30) | AE30: =IF(V30=0," ",V30) | AF30: =IF(W30=0," ",W30)
... A36: 88 | B36: 88 | C36: 33 | D36: 21 | E36: БОЖА Юрий | F36: БОЖА Юрий Михайлович | G36: 09.06.97, КМС | H36: КМС | I36: ЦФО | J36: Брянская обл., Брянск, СДЮСШОР по борьбе | K36: Брянская | M36: Михалин И.В., Михалин В.И. | N36: БОЖА | R36: =SUMIFS($J$7:$J$88,$L$7:$L$88,P36,$K$7:$K$88,R$6) -> 0 | S36: =SUMIFS($J$7:$J$88,$L$7:$L$88,P36,$K$7:$K$88,S$6) -> 0 | T36: =SUMIFS($J$7:$J$88,$L$7:$L$88,P36,$K$7:$K$88,T$6) -> 0 | U36: =SUMIFS($J$7:$J$88,$L$7:$L$88,P36,$K$7:$K$88,U$6) -> 0 | V36: =SUMIFS($J$7:$J$88,$L$7:$L$88,P36,$K$7:$K$88,V$6) -> 0 | W36: =SUMIFS($J$7:$J$88,$L$7:$L$88,P36,$K$7:$K$88,W$6) -> 0 | Y36: =P36 | Z36: =IF(Q36=0," ",Q36) | AA36: =IF(R36=0," ",R36) | AB36: =IF(S36=0," ",S36) | AC36: =IF(T36=0," ",T36) | AD36: =IF(U36=0," ",U36) | AE36: =IF(V36=0," ",V36) | AF36: =IF(W36=0," ",W36)
A37: 88 | B37: 88 | D37: 2 | E37: ОСИПЕНКО Виктор | F37: ОСИПЕНКО Виктор Иванович | G37: 08.01.91, МСМК | H37: МСМК | I37: ЦФО | J37: Брянская, Брянск, Д | K37: Брянская | M37: Портнов СВ, Иванов ПИ | N37: ОСИПЕНКО | R37: =SUMIFS($J$7:$J$88,$L$7:$L$88,P37,$K$7:$K$88,R$6) -> 0 | S37: =SUMIFS($J$7:$J$88,$L$7:$L$88,P37,$K$7:$K$88,S$6) -> 0 | T37: =SUMIFS($J$7:$J$88,$L$7:$L$88,P37,$K$7:$K$88,T$6) -> 0 | U37: =SUMIFS($J$7:$J$88,$L$7:$L$88,P37,$K$7:$K$88,U$6) -> 0 | V37: =SUMIFS($J$7:$J$88,$L$7:$L$88,P37,$K$7:$K$88,V$6) -> 0 | W37: =SUMIFS($J$7:$J$88,$L$7:$L$88,P37,$K$7:$K$88,W$6) -> 0 | Y37: =P37 | Z37: =IF(Q37=0," ",Q37) | AA37: =IF(R37=0," ",R37) | AB37: =IF(S37=0," ",S37) | AC37: =IF(T37=0," ",T37) | AD37: =IF(U37=0," ",U37) | AE37: =IF(V37=0," ",V37) | AF37: =IF(W37=0," ",W37)
A38: 88 | B38: 88 | C38: 17 | D38: 9 | E38: ЗИМИН Максим | F38: ЗИМИН Максим Андреевич | G38: 31.01.95, МС | H38: МС | I38: ЦФО | J38: Воронежская обл., Воронеж, Воронеж | K38: Воронежская | M38: Зимин М.А. | N38: ЗИМИН | R38: =SUMIFS($J$7:$J$88,$L$7:$L$88,P38,$K$7:$K$88,R$6) -> 0 | S38: =SUMIFS($J$7:$J$88,$L$7:$L$88,P38,$K$7:$K$88,S$6) -> 0 | T38: =SUMIFS($J$7:$J$88,$L$7:$L$88,P38,$K$7:$K$88,T$6) -> 0 | U38: =SUMIFS($J$7:$J$88,$L$7:$L$88,P38,$K$7:$K$88,U$6) -> 0 | V38: =SUMIFS($J$7:$J$88,$L$7:$L$88,P38,$K$7:$K$88,V$6) -> 0 | W38: =SUMIFS($J$7:$J$88,$L$7:$L$88,P38,$K$7:$K$88,W$6) -> 0 | Y38: =P38 | Z38: =IF(Q38=0," ",Q38) | AA38: =IF(R38=0," ",R38) | AB38: =IF(S38=0," ",S38) | AC38: =IF(T38=0," ",T38) | AD38: =IF(U38=0," ",U38) | AE38: =IF(V38=0," ",V38) | AF38: =IF(W38=0," ",W38)
A39: 88 | B39: 88 | C39: 40 | D39: 11 | E39: МАКСИМОВ Евгений | F39: МАКСИМОВ Евгений Олегович | G39: 05.03.87, МСМК | H39: МСМК | I39: ЦФО | J39: Московская обл., Подольск, Федерация самбо и дзюдо Подольска | K39: Московская | M39: Воробьев Д.В. | N39: МАКСИМОВ | R39: =SUMIFS($J$7:$J$88,$L$7:$L$88,P39,$K$7:$K$88,R$6) -> 0 | S39: =SUMIFS($J$7:$J$88,$L$7:$L$88,P39,$K$7:$K$88,S$6) -> 0 | T39: =SUMIFS($J$7:$J$88,$L$7:$L$88,P39,$K$7:$K$88,T$6) -> 0 | U39: =SUMIFS($J$7:$J$88,$L$7:$L$88,P39,$K$7:$K$88,U$6) -> 0 | V39: =SUMIFS($J$7:$J$88,$L$7:$L$88,P39,$K$7:$K$88,V$6) -> 0 | W39: =SUMIFS($J$7:$J$88,$L$7:$L$88,P39,$K$7:$K$88,W$6) -> 0 | X39: =SUM(Q7:T38) -> 0 | Y39: =P39 | Z39: =IF(Q39=0," ",Q39) | AA39: =IF(R39=0," ",R39) | AB39: =IF(S39=0," ",S39) | AC39: =IF(T39=0," ",T39) | AD39: =IF(U39=0," ",U39) | AE39: =IF(V39=0," ",V39) | AF39: =IF(W39=0," ",W39)
A40: 88 | B40: 88 | C40: 26 | D40: 26 | E40: БАБАЕВ Рауль | F40: БАБАЕВ Рауль Аббревиатура | G40: 16.01.01, МС | H40: МС | I40: ЦФО | J40: Рязанская, Рязань , Д | K40: Рязанская | M40: Казимов Т.С. Савельев Е.А. | N40: БАБАЕВ | R40: =SUMIFS($J$7:$J$88,$L$7:$L$88,P40,$K$7:$K$88,R$6) -> 0 | S40: =SUMIFS($J$7:$J$88,$L$7:$L$88,P40,$K$7:$K$88,S$6) -> 0 | T40: =SUMIFS($J$7:$J$88,$L$7:$L$88,P40,$K$7:$K$88,T$6) -> 0 | U40: =SUMIFS($J$7:$J$88,$L$7:$L$88,P40,$K$7:$K$88,U$6) -> 0 | V40: =SUMIFS($J$7:$J$88,$L$7:$L$88,P40,$K$7:$K$88,V$6) -> 0 | W40: =SUMIFS($J$7:$J$88,$L$7:$L$88,P40,$K$7:$K$88,W$6) -> 0 | Y40: =P40 | Z40: =IF(Q40=0," ",Q40) | AA40: =IF(R40=0," ",R40) | AB40: =IF(S40=0," ",S40) | AC40: =IF(T40=0," ",T40) | AD40: =IF(U40=0," ",U40) | AE40: =IF(V40=0," ",V40) | AF40: =IF(W40=0," ",W40)
A41: 88 | B41: 88 | C41: 28 | D41: 31 | E41: АБАЗОВ Аслан | F41: АБАЗОВ Аслан Муратович | G41: 26.08.02, МС | H41: МС | I41: ЮФО | J41: Краснодарский край, Армавир, Цоп | K41: Краснодарский | M41: Псеунов М.А | N41: АБАЗОВ | R41: =SUMIFS($J$7:$J$88,$L$7:$L$88,P41,$K$7:$K$88,R$6) -> 0 | S41: =SUMIFS($J$7:$J$88,$L$7:$L$88,P41,$K$7:$K$88,S$6) -> 0 | T41: =SUMIFS($J$7:$J$88,$L$7:$L$88,P41,$K$7:$K$88,T$6) -> 0 | U41: =SUMIFS($J$7:$J$88,$L$7:$L$88,P41,$K$7:$K$88,U$6) -> 0 | V41: =SUMIFS($J$7:$J$88,$L$7:$L$88,P41,$K$7:$K$88,V$6) -> 0 | W41: =SUMIFS($J$7:$J$88,$L$7:$L$88,P41,$K$7:$K$88,W$6) -> 0 | Y41: =P41 | Z41: =IF(Q41=0," ",Q41) | AA41: =IF(R41=0," ",R41) | AB41: =IF(S41=0," ",S41) | AC41: =IF(T41=0," ",T41) | AD41: =IF(U41=0," ",U41) | AE41: =IF(V41=0," ",V41) | AF41: =IF(W41=0," ",W41)
A42: 88 | B42: 88 | C42: 28 | D42: 34 | E42: МАНУКЯН Леван | F42: МАНУКЯН Леван Гарикович | G42: 22.11.02, МСМК | H42: МСМК | I42: ЮФО | J42: Краснодарский край, Сочи, СШОР №4 | K42: Краснодарский | M42: Антонян Р.А. | N42: МАНУКЯН | R42: =SUMIFS($J$7:$J$88,$L$7:$L$88,P42,$K$7:$K$88,R$6) -> 0 | S42: =SUMIFS($J$7:$J$88,$L$7:$L$88,P42,$K$7:$K$88,S$6) -> 0 | T42: =SUMIFS($J$7:$J$88,$L$7:$L$88,P42,$K$7:$K$88,T$6) -> 0 | U42: =SUMIFS($J$7:$J$88,$L$7:$L$88,P42,$K$7:$K$88,U$6) -> 0 | V42: =SUMIFS($J$7:$J$88,$L$7:$L$88,P42,$K$7:$K$88,V$6) -> 0 | W42: =SUMIFS($J$7:$J$88,$L$7:$L$88,P42,$K$7:$K$88,W$6) -> 0 | Y42: =P42 | Z42: =IF(Q42=0," ",Q42) | AA42: =IF(R42=0," ",R42) | AB42: =IF(S42=0," ",S42) | AC42: =IF(T42=0," ",T42) | AD42: =IF(U42=0," ",U42) | AE42: =IF(V42=0," ",V42) | AF42: =IF(W42=0," ",W42)
A43: 88 | B43: 88 | C43: 14 | D43: 29 | E43: НУЖНЕНКОВ Александр | F43: НУЖНЕНКОВ Александр Романович | G43: 29.08.99, МС | H43: МС | I43: ЮФО | J43: Ростовская обл., Новочеркасск, Спортивная школа олимпийского резерва 1, Новочеркасск | K43: Ростовская | M43: Нужненков АВ | N43: НУЖНЕНКОВ | R43: =SUMIFS($J$7:$J$88,$L$7:$L$88,P43,$K$7:$K$88,R$6) -> 0 | S43: =SUMIFS($J$7:$J$88,$L$7:$L$88,P43,$K$7:$K$88,S$6) -> 0 | T43: =SUMIFS($J$7:$J$88,$L$7:$L$88,P43,$K$7:$K$88,T$6) -> 0 | U43: =SUMIFS($J$7:$J$88,$L$7:$L$88,P43,$K$7:$K$88,U$6) -> 0 | V43: =SUMIFS($J$7:$J$88,$L$7:$L$88,P43,$K$7:$K$88,V$6) -> 0 | W43: =SUMIFS($J$7:$J$88,$L$7:$L$88,P43,$K$7:$K$88,W$6) -> 0 | Y43: =P43 | Z43: =IF(Q43=0," ",Q43) | AA43: =IF(R43=0," ",R43) | AB43: =IF(S43=0," ",S43) | AC43: =IF(T43=0," ",T43) | AD43: =IF(U43=0," ",U43) | AE43: =IF(V43=0," ",V43) | AF43: =IF(W43=0," ",W43)
R44: =SUMIFS($J$7:$J$88,$L$7:$L$88,P44,$K$7:$K$88,R$6) -> 0 | S44: =SUMIFS($J$7:$J$88,$L$7:$L$88,P44,$K$7:$K$88,S$6) -> 0 | T44: =SUMIFS($J$7:$J$88,$L$7:$L$88,P44,$K$7:$K$88,T$6) -> 0 | U44: =SUMIFS($J$7:$J$88,$L$7:$L$88,P44,$K$7:$K$88,U$6) -> 0 | V44: =SUMIFS($J$7:$J$88,$L$7:$L$88,P44,$K$7:$K$88,V$6) -> 0 | W44: =SUMIFS($J$7:$J$88,$L$7:$L$88,P44,$K$7:$K$88,W$6) -> 0 | Y44: =P44 | Z44: =IF(Q44=0," ",Q44) | AA44: =IF(R44=0," ",R44) | AB44: =IF(S44=0," ",S44) | AC44: =IF(T44=0," ",T44) | AD44: =IF(U44=0," ",U44) | AE44: =IF(V44=0," ",V44) | AF44: =IF(W44=0," ",W44)
R45: =SUMIFS($J$7:$J$88,$L$7:$L$88,P45,$K$7:$K$88,R$6) -> 0 | S45: =SUMIFS($J$7:$J$88,$L$7:$L$88,P45,$K$7:$K$88,S$6) -> 0 | T45: =SUMIFS($J$7:$J$88,$L$7:$L$88,P45,$K$7:$K$88,T$6) -> 0 | U45: =SUMIFS($J$7:$J$88,$L$7:$L$88,P45,$K$7:$K$88,U$6) -> 0 | V45: =SUMIFS($J$7:$J$88,$L$7:$L$88,P45,$K$7:$K$88,V$6) -> 0 | W45: =SUMIFS($J$7:$J$88,$L$7:$L$88,P45,$K$7:$K$88,W$6) -> 0 | Y45: =P45 | Z45: =IF(Q45=0," ",Q45) | AA45: =IF(R45=0," ",R45) | AB45: =IF(S45=0," ",S45) | AC45: =IF(T45=0," ",T45) | AD45: =IF(U45=0," ",U45) | AE45: =IF(V45=0," ",V45) | AF45: =IF(W45=0," ",W45)
...

Sheet пр.хода
F1: ВСЕРОССИЙСКАЯ ФЕДЕРАЦИЯ САМБО | AC1: ='пр.взв'!$D$4 | AD1: ='пр.взв'!G4 -> В.к. 88 кг
F2: ПРОТОКОЛ ХОДА СОРЕВНОВАНИЙ МУЖЧИНЫ
B3: ='пр.взв'!C2 -> Чемпионат России по самбо среди мужчин (отбор на Чемпионат Мира и Европы) ЕКП № 23747 | AD3: =AH3&" "&AI3 -> 38 участников | AH3: ='пр.взв'!O3 -> 38 | AI3: участников
A4: Подгруппа А | H4: ='пр.взв'!C3 -> 27.02 - 03.03.2023 г. г. Пермь | AB4: Подгруппа Б
A5: 1 | B5: =IFERROR(VLOOKUP(A5,'пр.взв'!$D$6:$Q$70,2,0),"") -> БЕЛЕВ Вадим | C5: =IFERROR(VLOOKUP(A5,'пр.взв'!$D$6:$Q$70,5,0),"") -> КМС | D5: =IFERROR(VLOOKUP(A5,'пр.взв'!$D$6:$Q$70,8,0),"") -> Санкт-Петербург | AB5: =IFERROR(VLOOKUP(AE5,'пр.взв'!$D$6:$Q$70,2,0),"") -> ОСИПЕНКО Виктор | AC5: =IFERROR(VLOOKUP(AE5,'пр.взв'!$D$6:$Q$70,5,0),"") -> МСМК | AD5: =IFERROR(VLOOKUP(AE5,'пр.взв'!$D$6:$Q$70,8,0),"") -> Брянская | AE5: 2 | AH5: =IF(K20=""," ",IF(K20=A5,A7,IF(K20=A7,A5,IF(K20=A9,A11,IF(K20=A11,A9,IF(K20=A13,A15,IF(K20=A15,A13,IF(K20=A17,A19,IF(K20=A19,A17,0))))))))) | AI5: =IF(K20=""," ",IF(K20=A21,A23,IF(K20=A23,A21,IF(K20=A25,A27,IF(K20=A27,A25,IF(K20=A29,A31,IF(K20=A31,A29,IF(K20=A33,A35,IF(K20=A35,A33,0)))))))))
N6: А1 | AG6: =IF(AH5=""," ",IF(AH5=0,AI5,AH5)) | AH6: =IF(K53=""," ",IF(K53=A54,A56,IF(K53=A56,A54,IF(K53=A58,A60,IF(K53=A60,A58,IF(K53=A62,A64,IF(K53=A64,A62,IF(K53=A66,A68,IF(K53=A68,A66,0))))))))) | AI6: =IF(K53=""," ",IF(K53=A38,A40,IF(K53=A40,A38,IF(K53=A42,A44,IF(K53=A44,A42,IF(K53=A46,A48,IF(K53=A48,A46,IF(K53=A50,A52,IF(K53=A52,A50,0)))))))))
A7: 33 | B7: =IFERROR(VLOOKUP(A7,'пр.взв'!$D$6:$Q$70,2,0),"") -> РЯБОВ Сергей | C7: =IFERROR(VLOOKUP(A7,'пр.взв'!$D$6:$Q$70,5,0),"") -> ЗМС | D7: =IFERROR(VLOOKUP(A7,'пр.взв'!$D$6:$Q$70,8,0),"") -> Москва | L7: =AG6 | AB7: =IFERROR(VLOOKUP(AE7,'пр.взв'!$D$6:$Q$70,2,0),"") -> МАНУКЯН Леван | AC7: =IFERROR(VLOOKUP(AE7,'пр.взв'!$D$6:$Q$70,5,0),"") -> МСМК | AD7: =IFERROR(VLOOKUP(AE7,'пр.взв'!$D$6:$Q$70,8,0),"") -> Краснодарский | AE7: 34 | AG7: =IF(K20=""," ",IF(K20=E6,E10,IF(K20=E10,E6,IF(K20=E14,E18,IF(K20=E18,E14,IF(K20=E22,E26,IF(K20=E26,E22,IF(K20=E30,E34,E30)))))))) | AH7: =IF(U20=""," ",IF(U20=AE5,AE7,IF(U20=AE7,AE5,IF(U20=AE9,AE11,IF(U20=AE11,AE9,IF(U20=AE13,AE15,IF(U20=AE15,AE13,IF(U20=AE17,AE19,IF(U20=AE19,AE17,0))))))))) | AI7: =IF(U20=""," ",IF(U20=AE21,AE23,IF(U20=AE23,AE21,IF(U20=AE25,AE27,IF(U20=AE27,AE25,IF(U20=AE29,AE31,IF(U20=AE31,AE29,IF(U20=AE33,AE35,IF(U20=AE35,AE33,0)))))))))
AG8: =IF(K20=""," ",IF(K20=G8,G16,IF(K20=G16,G8,IF(K20=G24,G32,G24)))) | AH8: =IF(U53=""," ",IF(U53=AE54,AE56,IF(U53=AE56,AE54,IF(U53=AE58,AE60,IF(U53=AE60,AE58,IF(U53=AE62,AE64,IF(U53=AE64,AE62,IF(U53=AE66,AE68,IF(U53=AE68,AE66,0))))))))) | AI8: =IF(U53=""," ",IF(U53=AE38,AE40,IF(U53=AE40,AE38,IF(U53=AE42,AE44,IF(U53=AE44,AE42,IF(U53=AE46,AE48,IF(U53=AE48,AE46,IF(U53=AE50,AE52,IF(U53=AE52,AE50,0)))))))))
A9: 17 | B9: =IFERROR(VLOOKUP(A9,'пр.взв'!$D$6:$Q$70,2,0),"") -> МОНАКОВ Данила | C9: =IFERROR(VLOOKUP(A9,'пр.взв'!$D$6:$Q$70,5,0),"") -> МС | D9: =IFERROR(VLOOKUP(A9,'пр.взв'!$D$6:$Q$70,8,0),"") -> Хабаровский | AB9: =IFERROR(VLOOKUP(AE9,'пр.взв'!$D$6:$Q$70,2,0),"") -> ГАДЖИЕВ Шамиль | AC9: =IFERROR(VLOOKUP(AE9,'пр.взв'!$D$6:$Q$70,5,0),"") -> МСМК | AD9: =IFERROR(VLOOKUP(AE9,'пр.взв'!$D$6:$Q$70,8,0),"") -> Москва | AE9: 18 | AG9: =IF(K20=""," ",IF(K20=I12,I28,I12)) | AI9: м1 | AK9: м1 | AL9: м1 | AM9: ум
E10: 17 | L10: =AG7 | AA10: 18 | AG10: =IF(AH6=0,AI6,AH6) | AH10: =IF(OR(K$20=A5,K$20=A7)," ",IF(E6=A5,A7,A5)) -> 1 | AI10: =IF(AH10=" ",AH11,AH10) -> 1 | AJ10: =IF(OR(K$20=E6,K$20=E10)," ",IF(G8=E6,E10,E6)) | AK10: =IF(AJ10=" ",AJ11,AJ10) -> 9 | AL10: =IF(OR(K$20=G8,K$20=G16)," ",IF(I12=G8,G16,G8)) | AM10: =IF(N8=L7,L10,L7)
A11: 49 | B11: =IFERROR(VLOOKUP(A11,'пр.взв'!$D$6:$Q$70,2,0),"") | C11: =IFERROR(VLOOKUP(A11,'пр.взв'!$D$6:$Q$70,5,0),"") | D11: =IFERROR(VLOOKUP(A11,'пр.взв'!$D$6:$Q$70,8,0),"") | N11: =AG8 | AB11: =IFERROR(VLOOKUP(AE11,'пр.взв'!$D$6:$Q$70,2,0),"") | AC11: =IFERROR(VLOOKUP(AE11,'пр.взв'!$D$6:$Q$70,5,0),"") | AD11: =IFERROR(VLOOKUP(AE11,'пр.взв'!$D$6:$Q$70,8,0),"") | AE11: 50 | AG11: =IF(K53=""," ",IF(K53=E39,E43,IF(K53=E43,E39,IF(K53=E47,E51,IF(K53=E51,E47,IF(K53=E55,E59,IF(K53=E59,E55,IF(K53=E63,E67,E63)))))))) | AH11: =IF(OR(K$20=A9,K$20=A11)," ",IF(E10=A9,A11,A9)) -> 49 | AI11: =IF(OR(AH10=" ",AH11=" "),AH12,AH11) -> 49 | AJ11: =IF(OR(K$20=E14,K$20=E18)," ",IF(G16=E14,E18,E14)) -> 9 | AK11: =IF(OR(AJ10=" ",AJ11=" "),AJ12,AJ11) | AL11: =IF(AND(OR(K20=G8,K20=G16),I28=G24),G32,IF(AND(OR(K20=G8,K20=G16),I28=G32),G24,IF(I12=G8,G16,G8))) | AM11: =IF(N57=L56,L59,L56)
AG12: =IF(K53=""," ",IF(K53=G41,G49,IF(K53=G49,G41,IF(K53=G57,G65,G57)))) | AH12: =IF(OR(K$20=A13,K$20=A15)," ",IF(E14=A13,A15,A13)) -> 41 | AI12: =IF(OR(AH10=" ",AH11=" ",AH12=" "),AH13,AH12) -> 41 | AJ12: =IF(OR(K$20=E22,K$20=E26)," ",IF(G24=E22,E26,E22)) | AK12: =IF(OR(AJ10=" ",AJ11=" ",AJ12=" "),AJ13,AJ12) -> 13 | AM12: =IF(N15=L14,L17,L14)
A13: 9 | B13: =IFERROR(VLOOKUP(A13,'пр.взв'!$D$6:$Q$70,2,0),"") -> ЗИМИН Максим | C13: =IFERROR(VLOOKUP(A13,'пр.взв'!$D$6:$Q$70,5,0),"") -> МС | D13: =IFERROR(VLOOKUP(A13,'пр.взв'!$D$6:$Q$70,8,0),"") -> Воронежская | O13: =AG9 | AB13: =IFERROR(VLOOKUP(AE13,'пр.взв'!$D$6:$Q$70,2,0),"") -> СУХАНОВ Денис | AC13: =IFERROR(VLOOKUP(AE13,'пр.взв'!$D$6:$Q$70,5,0),"") -> МСМК | AD13: =IFERROR(VLOOKUP(AE13,'пр.взв'!$D$6:$Q$70,8,0),"") -> Свердловская-Курганская | AE13: 10 | AG13: =IF(K53=""," ",IF(K53=I46,I61,I46)) | AH13: =IF(OR(K$20=A17,K$20=A19)," ",IF(E18=A17,A19,A17)) -> 57 | AI13: =IF(OR(AH10=" ",AH11=" ",AH12=" ",AH13=" "),AH14,AH13) -> 57 | AJ13: =IF(OR(K$20=E30,K$20=E34)," ",IF(G32=E30,E34,E30)) -> 13 | AM13: =IF(N64=L63,L66,L63)
E14: 9 | L14: =AG10 | AA14: 10 | AG14: =IF(S36="","",IF(S36=U20,U53,U20)) | AH14: =IF(OR(K$20=A21,K$20=A23)," ",IF(E22=A21,A23,A21)) -> 5 | AI14: =IF(OR(AH10=" ",AH11=" ",AH12=" ",AH13=" ",AH14=" "),AH15,AH14) -> 5 | AM14: ум
A15: 41 | B15: =IFERROR(VLOOKUP(A15,'пр.взв'!$D$6:$Q$70,2,0),"") | C15: =IFERROR(VLOOKUP(A15,'пр.взв'!$D$6:$Q$70,5,0),"") | D15: =IFERROR(VLOOKUP(A15,'пр.взв'!$D$6:$Q$70,8,0),"") | AB15: =IFERROR(VLOOKUP(AE15,'пр.взв'!$D$6:$Q$70,2,0),"") | AC15: =IFERROR(VLOOKUP(AE15,'пр.взв'!$D$6:$Q$70,5,0),"") | AD15: =IFERROR(VLOOKUP(AE15,'пр.взв'!$D$6:$Q$70,8,0),"") | AE15: 42 | AG15: =IF(M32="","",IF(M32=M36,S36,M36)) | AH15: =IF(OR(K$20=A25,K$20=A27)," ",IF(E26=A25,A27,A25)) -> 53 | AI15: =IF(OR(AH10=" ",AH11=" ",AH12=" ",AH13=" ",AH14=" ",AH15=" "),AH16,AH15) -> 53 | AM15: =IF(O10=N8,N11,N8)
AH16: =IF(OR(K$20=A29,K$20=A31)," ",IF(E30=A29,A31,A29)) -> 45 | AI16: =IF(OR(AH10=" ",AH11=" ",AH12=" ",AH13=" ",AH14=" ",AH15=" ",AH16=" "),AH17,AH16) -> 45 | AM16: =IF(O59=N57,N60,N57)
A17: 25 | B17: =IFERROR(VLOOKUP(A17,'пр.взв'!$D$6:$Q$70,2,0),"") -> ИВАНОВ Максим | C17: =IFERROR(VLOOKUP(A17,'пр.взв'!$D$6:$Q$70,5,0),"") -> МСМК | D17: =IFERROR(VLOOKUP(A17,'пр.взв'!$D$6:$Q$70,8,0),"") -> Чувашская | L17: =AG11 | AB17: =IFERROR(VLOOKUP(AE17,'пр.взв'!$D$6:$Q$70,2,0),"") -> БАБАЕВ Рауль | AC17: =IFERROR(VLOOKUP(AE17,'пр.взв'!$D$6:$Q$70,5,0),"") -> МС | AD17: =IFERROR(VLOOKUP(AE17,'пр.взв'!$D$6:$Q$70,8,0),"") -> Рязанская | AE17: 26 | AH17: =IF(OR(K$20=A33,K$20=A35)," ",IF(E34=A33,A35,A33)) -> 61 | AM17: =IF(O17=N15,N18,N15)
E18: 25 | N18: =AG12 | AA18: 26 | AI18: м3 | AK18: м3 | AL18: м3 | AM18: =IF(O66=N64,N67,N64)
A19: 57 | B19: =IFERROR(VLOOKUP(A19,'пр.взв'!$D$6:$Q$70,2,0),"") | C19: =IFERROR(VLOOKUP(A19,'пр.взв'!$D$6:$Q$70,5,0),"") | D19: =IFERROR(VLOOKUP(A19,'пр.взв'!$D$6:$Q$70,8,0),"") | AB19: =IFERROR(VLOOKUP(AE19,'пр.взв'!$D$6:$Q$70,2,0),"") | AC19: =IFERROR(VLOOKUP(AE19,'пр.взв'!$D$6:$Q$70,5,0),"") | AD19: =IFERROR(VLOOKUP(AE19,'пр.взв'!$D$6:$Q$70,8,0),"") | AE19: 58 | AH19: =IF(OR(K$53=A38,K$53=A40)," ",IF(E39=A38,A40,A38)) -> 3 | AI19: =IF(AH19=" ",AH20,AH19) -> 3 | AJ19: =IF(OR(K$53=E39,K$53=E43)," ",IF(G41=E39,E43,E39)) | AK19: =IF(AJ19=" ",AJ20,AJ19) -> 11 | AM19: ум
O20: =AG13 | AH20: =IF(OR(K$53=A42,K$53=A44)," ",IF(E43=A42,A44,A42)) -> 51 | AI20: =IF(OR(AH18=" ",AH19=" ",AH20=" "),AH21,AH20) -> 51 | AJ20: =IF(OR(K$53=E47,K$53=E51)," ",IF(G49=E47,E51,E47)) -> 11 | AK20: =IF(OR(AJ18=" ",AJ19=" ",AJ20=" "),AJ21,AJ20) -> 7 | AL20: =IF(AND(OR(K53=G41,K53=G49),I61=G57),G65,IF(AND(OR(K53=G41,K53=G49),I61=G65),G57,IF(I46=G41,G49,G41))) | AM20: =IF(P12=O10,O13,O10)
A21: 5 | B21: =IFERROR(VLOOKUP(A21,'пр.взв'!$D$6:$Q$70,2,0),"") -> КАНАТЧИКОВ Александр | C21: =IFERROR(VLOOKUP(A21,'пр.взв'!$D$6:$Q$70,5,0),"") -> МС | D21: =IFERROR(VLOOKUP(A21,'пр.взв'!$D$6:$Q$70,8,0),"") -> Свердловская | AB21: =IFERROR(VLOOKUP(AE21,'пр.взв'!$D$6:$Q$70,2,0),"") -> ХАЧИРОВ Петр | AC21: =IFERROR(VLOOKUP(AE21,'пр.взв'!$D$6:$Q$70,5,0),"") -> МС | AD21: =IFERROR(VLOOKUP(AE21,'пр.взв'!$D$6:$Q$70,8,0),"") -> РСО-Алания | AE21: 6 | AH21: =IF(OR(K$53=A46,K$53=A48)," ",IF(E47=A46,A48,A46)) -> 43 | AI21: =IF(OR(AH18=" ",AH19=" ",AH20=" ",AH21=" "),AH22,AH21) -> 43 | AJ21: =IF(OR(K$53=E55,K$53=E59)," ",IF(G57=E55,E59,E55)) -> 7 | AK21: =IF(OR(AJ18=" ",AJ19=" ",AJ20=" ",AJ21=" "),AJ22,AJ21) -> 15 | AM21: =IF(P61=O59,O62,O59)
AH22: =IF(OR(K$53=A50,K$53=A52)," ",IF(E51=A50,A52,A50)) -> 59 | AI22: =IF(OR(AH18=" ",AH19=" ",AH20=" ",AH21=" ",AH22=" "),AH23,AH22) -> 59 | AJ22: =IF(OR(K$53=E63,K$53=E67)," ",IF(G65=E63,E67,E63)) -> 15 | AM22: =IF(P19=O17,O20,O17)
A23: 37 | B23: =IFERROR(VLOOKUP(A23,'пр.взв'!$D$6:$Q$70,2,0),"") -> ПАНОВ Владислав | C23: =IFERROR(VLOOKUP(A23,'пр.взв'!$D$6:$Q$70,5,0),"") -> МС | D23: =IFERROR(VLOOKUP(A23,'пр.взв'!$D$6:$Q$70,8,0),"") -> Красноярский | AB23: =IFERROR(VLOOKUP(AE23,'пр.взв'!$D$6:$Q$70,2,0),"") -> НЕДОБЕЖКИН Игорь | AC23: =IFERROR(VLOOKUP(AE23,'пр.взв'!$D$6:$Q$70,5,0),"") -> МС | AD23: =IFERROR(VLOOKUP(AE23,'пр.взв'!$D$6:$Q$70,8,0),"") -> Санкт-Петербург | AE23: 38 | AH23: =IF(OR(K$53=A54,K$53=A56)," ",IF(E55=A54,A56,A54)) -> 39 | AI23: =IF(OR(AH18=" ",AH19=" ",AH20=" ",AH21=" ",AH22=" ",AH23=" "),AH24,AH23) -> 39 | AM23: =IF(P68=O66,O69,O66)
AH24: =IF(OR(K$53=A58,K$53=A60)," ",IF(E59=A58,A60,A58)) -> 55 | AI24: =IF(OR(AH18=" ",AH19=" ",AH20=" ",AH21=" ",AH22=" ",AH23=" ",AH24=" "),AH25,AH24) -> 55 | AM24: ум
A25: 21 | B25: =IFERROR(VLOOKUP(A25,'пр.взв'!$D$6:$Q$70,2,0),"") -> БОЖА Юрий | C25: =IFERROR(VLOOKUP(A25,'пр.взв'!$D$6:$Q$70,5,0),"") -> КМС | D25: =IFERROR(VLOOKUP(A25,'пр.взв'!$D$6:$Q$70,8,0),"") -> Брянская | AB25: =IFERROR(VLOOKUP(AE25,'пр.взв'!$D$6:$Q$70,2,0),"") -> УВАРОВ Андрей | AC25: =IFERROR(VLOOKUP(AE25,'пр.взв'!$D$6:$Q$70,5,0),"") -> МСМК | AD25: =IFERROR(VLOOKUP(AE25,'пр.взв'!$D$6:$Q$70,8,0),"") -> Москва | AE25: 22 | AH25: =IF(OR(K$53=A62,K$53=A64)," ",IF(E63=A62,A64,A62)) -> 47 | AI25: =IF(OR(AH18=" ",AH19=" ",AH20=" ",AH21=" ",AH22=" ",AH23=" ",AH24=" ",AH25=" "),AH26,AH25) -> 47 | AM25: =IF('пр.хода'!Q15='пр.хода'!P12,'пр.хода'!P19,'пр.хода'!P12)
E26: 21 | P26: 3 м | AA26: 22 | AH26: =IF(OR(K$53=A66,K$53=A68)," ",IF(E67=A66,A68,A66)) -> 63 | AM26: =IF('пр.хода'!Q64='пр.хода'!P61,'пр.хода'!P68,'пр.хода'!P61)
A27: 53 | B27: =IFERROR(VLOOKUP(A27,'пр.взв'!$D$6:$Q$70,2,0),"") | C27: =IFERROR(VLOOKUP(A27,'пр.взв'!$D$6:$Q$70,5,0),"") | D27: =IFERROR(VLOOKUP(A27,'пр.взв'!$D$6:$Q$70,8,0),"") | N27: =IFERROR(VLOOKUP(R18,'пр.взв'!$D$6:$Q$70,2,0),"") | AB27: =IFERROR(VLOOKUP(AE27,'пр.взв'!$D$6:$Q$70,2,0),"") | AC27: =IFERROR(VLOOKUP(AE27,'пр.взв'!$D$6:$Q$70,5,0),"") | AD27: =IFERROR(VLOOKUP(AE27,'пр.взв'!$D$6:$Q$70,8,0),"") | AE27: 54 | AI27: м2 | AK27: м2 | AL27: м2 | AM27: ум
AH28: =IF(OR(U$20=AE5,U$20=AE7)," ",IF(AA6=AE5,AE7,AE5)) -> 2 | AI28: =IF(AH28=" ",AH29,AH28) -> 2 | AJ28: =IF(OR(U$20=AA6,U$20=AA10)," ",IF(Y8=AA6,AA10,AA6)) | AK28: =IF(AJ28=" ",AJ29,AJ28) -> 10 | AM28: =IF('пр.хода'!R18='пр.хода'!Q15,'пр.хода'!Q21,'пр.хода'!Q15)
A29: 13 | B29: =IFERROR(VLOOKUP(A29,'пр.взв'!$D$6:$Q$70,2,0),"") -> ЕЛИСЕЕВ Михаил | C29: =IFERROR(VLOOKUP(A29,'пр.взв'!$D$6:$Q$70,5,0),"") -> КМС | D29: =IFERROR(VLOOKUP(A29,'пр.взв'!$D$6:$Q$70,8,0),"") -> Пермский | AB29: =IFERROR(VLOOKUP(AE29,'пр.взв'!$D$6:$Q$70,2,0),"") -> БУДИМИРОВ Алексей | AC29: =IFERROR(VLOOKUP(AE29,'пр.взв'!$D$6:$Q$70,5,0),"") -> МС | AD29: =IFERROR(VLOOKUP(AE29,'пр.взв'!$D$6:$Q$70,8,0),"") -> Пензенская | AE29: 14 | AH29: =IF(OR(U$20=AE9,U$20=AE11)," ",IF(AA10=AE9,AE11,AE9)) -> 50 | AI29: =IF(OR(AH28=" ",AH29=" "),AH30,AH29) -> 50 | AJ29: =IF(OR(U$20=AA14,U$20=AA18)," ",IF(Y16=AA14,AA18,AA14)) -> 10 | AK29: =IF(OR(AJ28=" ",AJ29=" "),AJ30,AJ29) | AL29: =IF(AND(OR(U20=Y8,U20=Y16),W28=Y24),Y32,IF(AND(OR(U20=Y8,U20=Y16),W28=Y32),Y24,IF(W12=Y8,Y16,Y8))) | AM29: =IF('пр.хода'!R67='пр.хода'!Q64,'пр.хода'!Q69,'пр.хода'!Q64)
E30: 13 | AA30: 14 | AH30: =IF(OR(U$20=AE13,U$20=AE15)," ",IF(AA14=AE13,AE15,AE13)) -> 42 | AI30: =IF(OR(AH28=" ",AH29=" ",AH30=" "),AH31,AH30) -> 42 | AJ30: =IF(OR(U$20=AA22,U$20=AA26)," ",IF(Y24=AA22,AA26,AA22)) | AK30: =IF(OR(AJ28=" ",AJ29=" ",AJ30=" "),AJ31,AJ30) -> 14
A31: 45 | B31: =IFERROR(VLOOKUP(A31,'пр.взв'!$D$6:$Q$70,2,0),"") | C31: =IFERROR(VLOOKUP(A31,'пр.взв'!$D$6:$Q$70,5,0),"") | D31: =IFERROR(VLOOKUP(A31,'пр.взв'!$D$6:$Q$70,8,0),"") | P31: 1 м | AB31: =IFERROR(VLOOKUP(AE31,'пр.взв'!$D$6:$Q$70,2,0),"") | AC31: =IFERROR(VLOOKUP(AE31,'пр.взв'!$D$6:$Q$70,5,0),"") | AD31: =IFERROR(VLOOKUP(AE31,'пр.взв'!$D$6:$Q$70,8,0),"") | AE31: 46 | AH31: =IF(OR(U$20=AE17,U$20=AE19)," ",IF(AA18=AE17,AE19,AE17)) -> 58 | AI31: =IF(OR(AH28=" ",AH29=" ",AH30=" ",AH31=" "),AH32,AH31) -> 58 | AJ31: =IF(OR(U$20=AA30,U$20=AA34)," ",IF(Y32=AA30,AA34,AA30)) -> 14
AH32: =IF(OR(U$20=AE21,U$20=AE23)," ",IF(AA22=AE21,AE23,AE21)) -> 6 | AI32: =IF(OR(AH28=" ",AH29=" ",AH30=" ",AH31=" ",AH32=" "),AH33,AH32) -> 6
A33: 29 | B33: =IFERROR(VLOOKUP(A33,'пр.взв'!$D$6:$Q$70,2,0),"") -> НУЖНЕНКОВ Александр | C33: =IFERROR(VLOOKUP(A33,'пр.взв'!$D$6:$Q$70,5,0),"") -> МС | D33: =IFERROR(VLOOKUP(A33,'пр.взв'!$D$6:$Q$70,8,0),"") -> Ростовская | N33: =IFERROR(VLOOKUP(M32,'пр.взв'!$D$6:$Q$70,2,0),"") | AB33: =IFERROR(VLOOKUP(AE33,'пр.взв'!$D$6:$Q$70,2,0),"") -> КИРЮХИН Сергей | AC33: =IFERROR(VLOOKUP(AE33,'пр.взв'!$D$6:$Q$70,5,0),"") -> ЗМС | AD33: =IFERROR(VLOOKUP(AE33,'пр.взв'!$D$6:$Q$70,8,0),"") -> Санкт-Петербург | AE33: 30 | AH33: =IF(OR(U$20=AE25,U$20=AE27)," ",IF(AA26=AE25,AE27,AE25)) -> 54 | AI33: =IF(OR(AH28=" ",AH29=" ",AH30=" ",AH31=" ",AH32=" ",AH33=" "),AH34,AH33) -> 54
E34: 29 | AA34: 30 | AH34: =IF(OR(U$20=AE29,U$20=AE31)," ",IF(AA30=AE29,AE31,AE29)) -> 46 | AI34: =IF(OR(AH28=" ",AH29=" ",AH30=" ",AH31=" ",AH32=" ",AH33=" ",AH34=" "),AH35,AH34) -> 46
A35: 61 | B35: =IFERROR(VLOOKUP(A35,'пр.взв'!$D$6:$Q$70,2,0),"") | C35: =IFERROR(VLOOKUP(A35,'пр.взв'!$D$6:$Q$70,5,0),"") | D35: =IFERROR(VLOOKUP(A35,'пр.взв'!$D$6:$Q$70,8,0),"") | AB35: =IFERROR(VLOOKUP(AE35,'пр.взв'!$D$6:$Q$70,2,0),"") | AC35: =IFERROR(VLOOKUP(AE35,'пр.взв'!$D$6:$Q$70,5,0),"") | AD35: =IFERROR(VLOOKUP(AE35,'пр.взв'!$D$6:$Q$70,8,0),"") | AE35: 62 | AH35: =IF(OR(U$20=AE33,U$20=AE35)," ",IF(AA34=AE33,AE35,AE33)) -> 62
AI36: м4 | AK36: м4 | AL36: м4
AH37: =IF(OR(U$20=AE32,U$20=AE34)," ",IF(AA33=AE32,AE34,AE32))
A38: 3 | B38: =IFERROR(VLOOKUP(A38,'пр.взв'!$D$6:$Q$70,2,0),"") -> ПАНАИТОВ Артур | C38: =IFERROR(VLOOKUP(A38,'пр.взв'!$D$6:$Q$70,5,0),"") -> МС | D38: =IFERROR(VLOOKUP(A38,'пр.взв'!$D$6:$Q$70,8,0),"") -> Санкт-Петербург | AB38: =IFERROR(VLOOKUP(AE38,'пр.взв'!$D$6:$Q$70,2,0),"") -> УЛЬЯХОВ Александр | AC38: =IFERROR(VLOOKUP(AE38,'пр.взв'!$D$6:$Q$70,5,0),"") -> МСМК | AD38: =IFERROR(VLOOKUP(AE38,'пр.взв'!$D$6:$Q$70,8,0),"") -> Брянская | AE38: 4 | AH38: =IF(OR(U$53=AE38,U$53=AE40)," ",IF(AA39=AE38,AE40,AE38)) -> 4 | AI38: =IF(AH38=" ",AH39,AH38) -> 4 | AJ38: =IF(OR(U$53=AA39,U$53=AA43)," ",IF(Y41=AA39,AA43,AA39)) | AK38: =IF(AJ38=" ",AJ39,AJ38) -> 12
P39: 2 м | AH39: =IF(OR(U$53=AE42,U$53=AE44)," ",IF(AA43=AE42,AE44,AE42)) -> 52 | AI39: =IF(OR(AH38=" ",AH39=" "),AH40,AH39) -> 52 | AJ39: =IF(OR(U$53=AA47,U$53=AA51)," ",IF(Y49=AA47,AA51,AA47)) -> 12 | AK39: =IF(OR(AJ38=" ",AJ39=" "),AJ40,AJ39) -> 8 | AL39: =IF(AND(OR(U53=Y41,U53=Y49),W61=Y57),Y65,IF(AND(OR(U53=Y41,U53=Y49),W61=Y65),Y57,IF(W45=Y41,Y49,Y41)))
A40: 35 | B40: =IFERROR(VLOOKUP(A40,'пр.взв'!$D$6:$Q$70,2,0),"") -> ЛОМАКИН Александр | C40: =IFERROR(VLOOKUP(A40,'пр.взв'!$D$6:$Q$70,5,0),"") -> МСМК | D40: =IFERROR(VLOOKUP(A40,'пр.взв'!$D$6:$Q$70,8,0),"") -> Москва | M40: =AG15 | AB40: =IFERROR(VLOOKUP(AE40,'пр.взв'!$D$6:$Q$70,2,0),"") -> БЕРЛИН Павел | AC40: =IFERROR(VLOOKUP(AE40,'пр.взв'!$D$6:$Q$70,5,0),"") -> КМС | AD40: =IFERROR(VLOOKUP(AE40,'пр.взв'!$D$6:$Q$70,8,0),"") -> Красноярский | AE40: 36 | AH40: =IF(OR(U$53=AE46,U$53=AE48)," ",IF(AA47=AE46,AE48,AE46)) -> 44 | AI40: =IF(OR(AH38=" ",AH39=" ",AH40=" "),AH41,AH40) -> 44 | AJ40: =IF(OR(U$53=AA55,U$53=AA59)," ",IF(Y57=AA55,AA59,AA55)) -> 8 | AK40: =IF(OR(AJ38=" ",AJ39=" ",AJ40=" "),AJ41,AJ40) -> 16
...

Sheet круги
B1: ВСТРЕЧИ ПО КРУГАМ | L1: ВСТРЕЧИ ПО КРУГАМ
B2: ='пр.взв'!$D$4 | L2: ='пр.взв'!$D$4
B3: 0 | C3: КОВЕР | L3: =B3 -> 0 | M3: КОВЕР
B4: A | C4: (Круг) | F4: 1/32 | G4: ='пр.взв'!G4 -> В.к. 88 кг | L4: Б | M4: (Круг) | P4: 1/32 | Q4: =G4 -> В.к. 88 кг
A5: № встр | B5: № п/ж | C5: Ф.И.О. | D5: Д. р., разряд | E5: Вед., регион | G5: Оценки | H5: Очки | I5: Рез-т | J5: Время | K5: № встр | L5: № п/ж | M5: Ф.И.О. | N5: Д. р., разряд | O5: Вед., регион | Q5: Оценки | R5: Очки | S5: Рез-т | T5: Время
A7: 1 | B7: 1 | C7: =IFERROR(VLOOKUP(B7,'пр.взв'!$D$6:$Q$70,2,0),"") -> БЕЛЕВ Вадим | D7: =IFERROR(VLOOKUP(B7,'пр.взв'!$D$6:$Q$70,5,0),"") -> КМС | E7: =IFERROR(VLOOKUP(B7,'пр.взв'!$D$6:$Q$70,6,0),"") -> СПБ | F7: =IFERROR(VLOOKUP(B7,'пр.взв'!$D$6:$Q$70,8,0),"") -> Санкт-Петербург | K7: 17 | L7: 2 | M7: =IFERROR(VLOOKUP(L7,'пр.взв'!$D$6:$Q$70,2,0),"") -> ОСИПЕНКО Виктор | N7: =IFERROR(VLOOKUP(L7,'пр.взв'!$D$6:$Q$70,5,0),"") -> МСМК | O7: =IFERROR(VLOOKUP(L7,'пр.взв'!$D$6:$Q$70,6,0),"") -> ЦФО | P7: =IFERROR(VLOOKUP(L7,'пр.взв'!$D$6:$Q$70,8,0),"") -> Брянская
B8: 33 | C8: =IFERROR(VLOOKUP(B8,'пр.взв'!$D$6:$Q$70,2,0),"") -> РЯБОВ Сергей | D8: =IFERROR(VLOOKUP(B8,'пр.взв'!$D$6:$Q$70,5,0),"") -> ЗМС | E8: =IFERROR(VLOOKUP(B8,'пр.взв'!$D$6:$Q$70,6,0),"") -> МОС | F8: =IFERROR(VLOOKUP(B8,'пр.взв'!$D$6:$Q$70,8,0),"") -> Москва | L8: 34 | M8: =IFERROR(VLOOKUP(L8,'пр.взв'!$D$6:$Q$70,2,0),"") -> МАНУКЯН Леван | N8: =IFERROR(VLOOKUP(L8,'пр.взв'!$D$6:$Q$70,5,0),"") -> МСМК | O8: =IFERROR(VLOOKUP(L8,'пр.взв'!$D$6:$Q$70,6,0),"") -> ЮФО | P8: =IFERROR(VLOOKUP(L8,'пр.взв'!$D$6:$Q$70,8,0),"") -> Краснодарский
A9: 2 | B9: 17 | C9: =IFERROR(VLOOKUP(B9,'пр.взв'!$D$6:$Q$70,2,0),"") -> МОНАКОВ Данила | D9: =IFERROR(VLOOKUP(B9,'пр.взв'!$D$6:$Q$70,5,0),"") -> МС | E9: =IFERROR(VLOOKUP(B9,'пр.взв'!$D$6:$Q$70,6,0),"") -> ДВФО | F9: =IFERROR(VLOOKUP(B9,'пр.взв'!$D$6:$Q$70,8,0),"") -> Хабаровский | K9: 18 | L9: 18 | M9: =IFERROR(VLOOKUP(L9,'пр.взв'!$D$6:$Q$70,2,0),"") -> ГАДЖИЕВ Шамиль | N9: =IFERROR(VLOOKUP(L9,'пр.взв'!$D$6:$Q$70,5,0),"") -> МСМК | O9: =IFERROR(VLOOKUP(L9,'пр.взв'!$D$6:$Q$70,6,0),"") -> МОС | P9: =IFERROR(VLOOKUP(L9,'пр.взв'!$D$6:$Q$70,8,0),"") -> Москва
B10: 49 | C10: =IFERROR(VLOOKUP(B10,'пр.взв'!$D$6:$Q$70,2,0),"") | D10: =IFERROR(VLOOKUP(B10,'пр.взв'!$D$6:$Q$70,5,0),"") | E10: =IFERROR(VLOOKUP(B10,'пр.взв'!$D$6:$Q$70,6,0),"") | F10: =IFERROR(VLOOKUP(B10,'пр.взв'!$D$6:$Q$70,8,0),"") | L10: 50 | M10: =IFERROR(VLOOKUP(L10,'пр.взв'!$D$6:$Q$70,2,0),"") | N10: =IFERROR(VLOOKUP(L10,'пр.взв'!$D$6:$Q$70,5,0),"") | O10: =IFERROR(VLOOKUP(L10,'пр.взв'!$D$6:$Q$70,6,0),"") | P10: =IFERROR(VLOOKUP(L10,'пр.взв'!$D$6:$Q$70,8,0),"")
A11: 3 | B11: 9 | C11: =IFERROR(VLOOKUP(B11,'пр.взв'!$D$6:$Q$70,2,0),"") -> ЗИМИН Максим | D11: =IFERROR(VLOOKUP(B11,'пр.взв'!$D$6:$Q$70,5,0),"") -> МС | E11: =IFERROR(VLOOKUP(B11,'пр.взв'!$D$6:$Q$70,6,0),"") -> ЦФО | F11: =IFERROR(VLOOKUP(B11,'пр.взв'!$D$6:$Q$70,8,0),"") -> Воронежская | K11: 19 | L11: 10 | M11: =IFERROR(VLOOKUP(L11,'пр.взв'!$D$6:$Q$70,2,0),"") -> СУХАНОВ Денис | N11: =IFERROR(VLOOKUP(L11,'пр.взв'!$D$6:$Q$70,5,0),"") -> МСМК | O11: =IFERROR(VLOOKUP(L11,'пр.взв'!$D$6:$Q$70,6,0),"") -> УФО | P11: =IFERROR(VLOOKUP(L11,'пр.взв'!$D$6:$Q$70,8,0),"") -> Свердловская-Курганская
B12: 41 | C12: =IFERROR(VLOOKUP(B12,'пр.взв'!$D$6:$Q$70,2,0),"") | D12: =IFERROR(VLOOKUP(B12,'пр.взв'!$D$6:$Q$70,5,0),"") | E12: =IFERROR(VLOOKUP(B12,'пр.взв'!$D$6:$Q$70,6,0),"") | F12: =IFERROR(VLOOKUP(B12,'пр.взв'!$D$6:$Q$70,8,0),"") | L12: 42 | M12: =IFERROR(VLOOKUP(L12,'пр.взв'!$D$6:$Q$70,2,0),"") | N12: =IFERROR(VLOOKUP(L12,'пр.взв'!$D$6:$Q$70,5,0),"") | O12: =IFERROR(VLOOKUP(L12,'пр.взв'!$D$6:$Q$70,6,0),"") | P12: =IFERROR(VLOOKUP(L12,'пр.взв'!$D$6:$Q$70,8,0),"")
A13: 4 | B13: 25 | C13: =IFERROR(VLOOKUP(B13,'пр.взв'!$D$6:$Q$70,2,0),"") -> ИВАНОВ Максим | D13: =IFERROR(VLOOKUP(B13,'пр.взв'!$D$6:$Q$70,5,0),"") -> МСМК | E13: =IFERROR(VLOOKUP(B13,'пр.взв'!$D$6:$Q$70,6,0),"") -> ПФО | F13: =IFERROR(VLOOKUP(B13,'пр.взв'!$D$6:$Q$70,8,0),"") -> Чувашская | K13: 20 | L13: 26 | M13: =IFERROR(VLOOKUP(L13,'пр.взв'!$D$6:$Q$70,2,0),"") -> БАБАЕВ Рауль | N13: =IFERROR(VLOOKUP(L13,'пр.взв'!$D$6:$Q$70,5,0),"") -> МС | O13: =IFERROR(VLOOKUP(L13,'пр.взв'!$D$6:$Q$70,6,0),"") -> ЦФО | P13: =IFERROR(VLOOKUP(L13,'пр.взв'!$D$6:$Q$70,8,0),"") -> Рязанская
B14: 57 | C14: =IFERROR(VLOOKUP(B14,'пр.взв'!$D$6:$Q$70,2,0),"") | D14: =IFERROR(VLOOKUP(B14,'пр.взв'!$D$6:$Q$70,5,0),"") | E14: =IFERROR(VLOOKUP(B14,'пр.взв'!$D$6:$Q$70,6,0),"") | F14: =IFERROR(VLOOKUP(B14,'пр.взв'!$D$6:$Q$70,8,0),"") | L14: 58 | M14: =IFERROR(VLOOKUP(L14,'пр.взв'!$D$6:$Q$70,2,0),"") | N14: =IFERROR(VLOOKUP(L14,'пр.взв'!$D$6:$Q$70,5,0),"") | O14: =IFERROR(VLOOKUP(L14,'пр.взв'!$D$6:$Q$70,6,0),"") | P14: =IFERROR(VLOOKUP(L14,'пр.взв'!$D$6:$Q$70,8,0),"")
A15: 5 | B15: 5 | C15: =IFERROR(VLOOKUP(B15,'пр.взв'!$D$6:$Q$70,2,0),"") -> КАНАТЧИКОВ Александр | D15: =IFERROR(VLOOKUP(B15,'пр.взв'!$D$6:$Q$70,5,0),"") -> МС | E15: =IFERROR(VLOOKUP(B15,'пр.взв'!$D$6:$Q$70,6,0),"") -> УФО | F15: =IFERROR(VLOOKUP(B15,'пр.взв'!$D$6:$Q$70,8,0),"") -> Свердловская | K15: 21 | L15: 6 | M15: =IFERROR(VLOOKUP(L15,'пр.взв'!$D$6:$Q$70,2,0),"") -> ХАЧИРОВ Петр | N15: =IFERROR(VLOOKUP(L15,'пр.взв'!$D$6:$Q$70,5,0),"") -> МС | O15: =IFERROR(VLOOKUP(L15,'пр.взв'!$D$6:$Q$70,6,0),"") -> СКФО | P15: =IFERROR(VLOOKUP(L15,'пр.взв'!$D$6:$Q$70,8,0),"") -> РСО-Алания
B16: 37 | C16: =IFERROR(VLOOKUP(B16,'пр.взв'!$D$6:$Q$70,2,0),"") -> ПАНОВ Владислав | D16: =IFERROR(VLOOKUP(B16,'пр.взв'!$D$6:$Q$70,5,0),"") -> МС | E16: =IFERROR(VLOOKUP(B16,'пр.взв'!$D$6:$Q$70,6,0),"") -> СФО | F16: =IFERROR(VLOOKUP(B16,'пр.взв'!$D$6:$Q$70,8,0),"") -> Красноярский | L16: 38 | M16: =IFERROR(VLOOKUP(L16,'пр.взв'!$D$6:$Q$70,2,0),"") -> НЕДОБЕЖКИН Игорь | N16: =IFERROR(VLOOKUP(L16,'пр.взв'!$D$6:$Q$70,5,0),"") -> МС | O16: =IFERROR(VLOOKUP(L16,'пр.взв'!$D$6:$Q$70,6,0),"") -> СПБ | P16: =IFERROR(VLOOKUP(L16,'пр.взв'!$D$6:$Q$70,8,0),"") -> Санкт-Петербург
A17: 6 | B17: 21 | C17: =IFERROR(VLOOKUP(B17,'пр.взв'!$D$6:$Q$70,2,0),"") -> БОЖА Юрий | D17: =IFERROR(VLOOKUP(B17,'пр.взв'!$D$6:$Q$70,5,0),"") -> КМС | E17: =IFERROR(VLOOKUP(B17,'пр.взв'!$D$6:$Q$70,6,0),"") -> ЦФО | F17: =IFERROR(VLOOKUP(B17,'пр.взв'!$D$6:$Q$70,8,0),"") -> Брянская | K17: 22 | L17: 22 | M17: =IFERROR(VLOOKUP(L17,'пр.взв'!$D$6:$Q$70,2,0),"") -> УВАРОВ Андрей | N17: =IFERROR(VLOOKUP(L17,'пр.взв'!$D$6:$Q$70,5,0),"") -> МСМК | O17: =IFERROR(VLOOKUP(L17,'пр.взв'!$D$6:$Q$70,6,0),"") -> МОС | P17: =IFERROR(VLOOKUP(L17,'пр.взв'!$D$6:$Q$70,8,0),"") -> Москва
B18: 53 | C18: =IFERROR(VLOOKUP(B18,'пр.взв'!$D$6:$Q$70,2,0),"") | D18: =IFERROR(VLOOKUP(B18,'пр.взв'!$D$6:$Q$70,5,0),"") | E18: =IFERROR(VLOOKUP(B18,'пр.взв'!$D$6:$Q$70,6,0),"") | F18: =IFERROR(VLOOKUP(B18,'пр.взв'!$D$6:$Q$70,8,0),"") | L18: 54 | M18: =IFERROR(VLOOKUP(L18,'пр.взв'!$D$6:$Q$70,2,0),"") | N18: =IFERROR(VLOOKUP(L18,'пр.взв'!$D$6:$Q$70,5,0),"") | O18: =IFERROR(VLOOKUP(L18,'пр.взв'!$D$6:$Q$70,6,0),"") | P18: =IFERROR(VLOOKUP(L18,'пр.взв'!$D$6:$Q$70,8,0),"")
A19: 7 | B19: 13 | C19: =IFERROR(VLOOKUP(B19,'пр.взв'!$D$6:$Q$70,2,0),"") -> ЕЛИСЕЕВ Михаил | D19: =IFERROR(VLOOKUP(B19,'пр.взв'!$D$6:$Q$70,5,0),"") -> КМС | E19: =IFERROR(VLOOKUP(B19,'пр.взв'!$D$6:$Q$70,6,0),"") -> ПФО | F19: =IFERROR(VLOOKUP(B19,'пр.взв'!$D$6:$Q$70,8,0),"") -> Пермский | K19: 23 | L19: 14 | M19: =IFERROR(VLOOKUP(L19,'пр.взв'!$D$6:$Q$70,2,0),"") -> БУДИМИРОВ Алексей | N19: =IFERROR(VLOOKUP(L19,'пр.взв'!$D$6:$Q$70,5,0),"") -> МС | O19: =IFERROR(VLOOKUP(L19,'пр.взв'!$D$6:$Q$70,6,0),"") -> ПФО | P19: =IFERROR(VLOOKUP(L19,'пр.взв'!$D$6:$Q$70,8,0),"") -> Пензенская
B20: 45 | C20: =IFERROR(VLOOKUP(B20,'пр.взв'!$D$6:$Q$70,2,0),"") | D20: =IFERROR(VLOOKUP(B20,'пр.взв'!$D$6:$Q$70,5,0),"") | E20: =IFERROR(VLOOKUP(B20,'пр.взв'!$D$6:$Q$70,6,0),"") | F20: =IFERROR(VLOOKUP(B20,'пр.взв'!$D$6:$Q$70,8,0),"") | L20: 46 | M20: =IFERROR(VLOOKUP(L20,'пр.взв'!$D$6:$Q$70,2,0),"") | N20: =IFERROR(VLOOKUP(L20,'пр.взв'!$D$6:$Q$70,5,0),"") | O20: =IFERROR(VLOOKUP(L20,'пр.взв'!$D$6:$Q$70,6,0),"") | P20: =IFERROR(VLOOKUP(L20,'пр.взв'!$D$6:$Q$70,8,0),"")
A21: 8 | B21: 29 | C21: =IFERROR(VLOOKUP(B21,'пр.взв'!$D$6:$Q$70,2,0),"") -> НУЖНЕНКОВ Александр | D21: =IFERROR(VLOOKUP(B21,'пр.взв'!$D$6:$Q$70,5,0),"") -> МС | E21: =IFERROR(VLOOKUP(B21,'пр.взв'!$D$6:$Q$70,6,0),"") -> ЮФО | F21: =IFERROR(VLOOKUP(B21,'пр.взв'!$D$6:$Q$70,8,0),"") -> Ростовская | K21: 24 | L21: 30 | M21: =IFERROR(VLOOKUP(L21,'пр.взв'!$D$6:$Q$70,2,0),"") -> КИРЮХИН Сергей | N21: =IFERROR(VLOOKUP(L21,'пр.взв'!$D$6:$Q$70,5,0),"") -> ЗМС | O21: =IFERROR(VLOOKUP(L21,'пр.взв'!$D$6:$Q$70,6,0),"") -> СПБ | P21: =IFERROR(VLOOKUP(L21,'пр.взв'!$D$6:$Q$70,8,0),"") -> Санкт-Петербург
B22: 61 | C22: =IFERROR(VLOOKUP(B22,'пр.взв'!$D$6:$Q$70,2,0),"") | D22: =IFERROR(VLOOKUP(B22,'пр.взв'!$D$6:$Q$70,5,0),"") | E22: =IFERROR(VLOOKUP(B22,'пр.взв'!$D$6:$Q$70,6,0),"") | F22: =IFERROR(VLOOKUP(B22,'пр.взв'!$D$6:$Q$70,8,0),"") | L22: 62 | M22: =IFERROR(VLOOKUP(L22,'пр.взв'!$D$6:$Q$70,2,0),"") | N22: =IFERROR(VLOOKUP(L22,'пр.взв'!$D$6:$Q$70,5,0),"") | O22: =IFERROR(VLOOKUP(L22,'пр.взв'!$D$6:$Q$70,6,0),"") | P22: =IFERROR(VLOOKUP(L22,'пр.взв'!$D$6:$Q$70,8,0),"")
A23: 9 | B23: 3 | C23: =IFERROR(VLOOKUP(B23,'пр.взв'!$D$6:$Q$70,2,0),"") -> ПАНАИТОВ Артур | D23: =IFERROR(VLOOKUP(B23,'пр.взв'!$D$6:$Q$70,5,0),"") -> МС | E23: =IFERROR(VLOOKUP(B23,'пр.взв'!$D$6:$Q$70,6,0),"") -> СПБ | F23: =IFERROR(VLOOKUP(B23,'пр.взв'!$D$6:$Q$70,8,0),"") -> Санкт-Петербург | K23: 25 | L23: 4 | M23: =IFERROR(VLOOKUP(L23,'пр.взв'!$D$6:$Q$70,2,0),"") -> УЛЬЯХОВ Александр | N23: =IFERROR(VLOOKUP(L23,'пр.взв'!$D$6:$Q$70,5,0),"") -> МСМК | O23: =IFERROR(VLOOKUP(L23,'пр.взв'!$D$6:$Q$70,6,0),"") -> ЦФО | P23: =IFERROR(VLOOKUP(L23,'пр.взв'!$D$6:$Q$70,8,0),"") -> Брянская
B24: 35 | C24: =IFERROR(VLOOKUP(B24,'пр.взв'!$D$6:$Q$70,2,0),"") -> ЛОМАКИН Александр | D24: =IFERROR(VLOOKUP(B24,'пр.взв'!$D$6:$Q$70,5,0),"") -> МСМК | E24: =IFERROR(VLOOKUP(B24,'пр.взв'!$D$6:$Q$70,6,0),"") -> МОС | F24: =IFERROR(VLOOKUP(B24,'пр.взв'!$D$6:$Q$70,8,0),"") -> Москва | L24: 36 | M24: =IFERROR(VLOOKUP(L24,'пр.взв'!$D$6:$Q$70,2,0),"") -> БЕРЛИН Павел | N24: =IFERROR(VLOOKUP(L24,'пр.взв'!$D$6:$Q$70,5,0),"") -> КМС | O24: =IFERROR(VLOOKUP(L24,'пр.взв'!$D$6:$Q$70,6,0),"") -> СФО | P24: =IFERROR(VLOOKUP(L24,'пр.взв'!$D$6:$Q$70,8,0),"") -> Красноярский
A25: 10 | B25: 19 | C25: =IFERROR(VLOOKUP(B25,'пр.взв'!$D$6:$Q$70,2,0),"") -> БЕЗРОДНОВ Даниил | D25: =IFERROR(VLOOKUP(B25,'пр.взв'!$D$6:$Q$70,5,0),"") -> МС | E25: =IFERROR(VLOOKUP(B25,'пр.взв'!$D$6:$Q$70,6,0),"") -> УФО | F25: =IFERROR(VLOOKUP(B25,'пр.взв'!$D$6:$Q$70,8,0),"") -> Тюменская | K25: 26 | L25: 20 | M25: =IFERROR(VLOOKUP(L25,'пр.взв'!$D$6:$Q$70,2,0),"") -> ПЕРЕПЕЛЮК Андрей | N25: =IFERROR(VLOOKUP(L25,'пр.взв'!$D$6:$Q$70,5,0),"") -> МСМК | O25: =IFERROR(VLOOKUP(L25,'пр.взв'!$D$6:$Q$70,6,0),"") -> МОС | P25: =IFERROR(VLOOKUP(L25,'пр.взв'!$D$6:$Q$70,8,0),"") -> Москва
