Workbook
Name субъект: #REF!
Name разряд: #REF!

Sheet пр.взв
A1: select Col1,Col3,Col4,Col5,Col6,Col10,Col12,Col13,Col14,Col15,Col16,Col17 WHERE Col1>1 | C1: ПРОТОКОЛ ВЗВЕШИВАНИЯ (БОЕВОЕ САМБО) | N1: https://docs.google.com/spreadsheets/d/1lAWXbxZUVSbgEB5dr9r3SAb9eFLgY8d5-08pYUVFUlI/edit#gid=946786355 | O1: =IF(O2="98+",99,O2) -> 80
C2: =IFERROR(__xludf.DUMMYFUNCTION("IMPORTRANGE(N1,""Реквизиты!A1"")"),"Чемпионат России по самбо среди женщин (отбор на Чемпионат Мира и Европы) ЕКП № 23747") -> Чемпионат России по самбо среди женщин (отбор на Чемпионат Мира и Европы) ЕКП № 23747 | O2: 80 | P2: В.к. | Q2: кг
C3: =IFERROR(__xludf.DUMMYFUNCTION("IMPORTRANGE(N1,""Реквизиты!A3"")"),"27.02 - 03.03.2023 г. г. Пермь") -> 27.02 - 03.03.2023 г. г. Пермь | O3: =COUNTA(F6:F86) -> 8 | P3: участников
G4: =P2&" "&O2&" "&Q2 -> В.к. 80 кг
A5: ВК | B5: ВК | C5: № п/п | D5: № п/ж | E5: Ф.И.О. | F5: Ф.И.О. | G5: Дата рожд., разряд | H5: Разряд | I5: Округ, субъект, город, ведомство | K5: Субъект | L5: № карточки | M5: Тренер
A6: 80 | B6: 80 | C6: 17 | D6: 1 | E6: ПРОКОПЕНКО Алена | F6: ПРОКОПЕНКО Алена Юрьевна | G6: 29.09.92, КМС | H6: КМС | I6: УФО | J6: Свердловская обл., Екатеринбург, Спортивный клуб Родина, ВС | K6: Свердловская | M6: Львов Е.В., Нефёдов В.А. | N6: {=IF(D6:D86="","",(LEFT(F6:F86,FIND(" ",F6:F86)-1)))} -> ПРОКОПЕНКО | O6: 53
A7: 80 | B7: 80 | C7: 35 | D7: 2 | E7: МАТВЕЕВА Анастасия | F7: МАТВЕЕВА Анастасия Владимировна | G7: 16.04.00, МС | H7: МС | I7: ПФО | J7: Оренбургская обл., Бузулук, СДЮШОР | K7: Оренбургская | M7: Плотников П. Д. | N7: МАТВЕЕВА | O7: 58
A8: 80 | B8: 80 | C8: 19 | D8: 3 | E8: ЛИХОТА Ольга | F8: ЛИХОТА Ольга Дмитриевна | G8: 02.06.00, КМС | H8: КМС | I8: УФО | J8: Свердловская обл., Екатеринбург, СШОР | K8: Свердловская | M8: Никифорова НВ | N8: ЛИХОТА | O8: 64
A9: 80 | B9: 80 | C9: 19 | D9: 4 | E9: ШУВАЛОВА Марина | F9: ШУВАЛОВА Марина Николаевна | G9: 14.10.00, КМС | H9: КМС | I9: ПФО | J9: Нижегородская обл., Нижний Новгород, НРО ОГО ВФСО Динамо | K9: Нижегородская | M9: Красноперова Е. Н | N9: ШУВАЛОВА | O9: 88
A10: 80 | B10: 80 | C10: 19 | D10: 5 | E10: КОЗЫРЕВА Яна | F10: КОЗЫРЕВА Яна Александровна | G10: 05.11.01, КМС | H10: КМС | I10: ЦФО | J10: Смоленская обл., Смоленск, СмолГУ | K10: Смоленская | M10: Федяев В. А., Мальцев А. В. | N10: КОЗЫРЕВА | O10: 98
A11: 80 | B11: 80 | C11: 32 | D11: 6 | E11: ЧЕРНЕНОК Анастасия | F11: ЧЕРНЕНОК Анастасия Александровна | G11: 28.05.01, МС | H11: МС | I11: ЦФО | J11: Московская обл., г. Домодедово, МБУ "СШОР "Олимп" | K11: Московская | M11: Алиев Н.Б., Гончаров ЮС | N11: ЧЕРНЕНОК | O11: 98+
A12: 80 | B12: 80 | C12: 25 | D12: 7 | E12: АЛЛЕНОВА Елена | F12: АЛЛЕНОВА Елена Дмитриевна | G12: 23.03.03, МС | H12: МС | I12: ЦФО | J12: Тульская обл., Тула, Юность | K12: Тульская | M12: Афонина И.П ; Ворфоломеев В.П | N12: АЛЛЕНОВА | O12: 65
A13: 80 | B13: 80 | C13: 14 | D13: 8 | E13: РЕЧКАЛОВА Дарья | F13: РЕЧКАЛОВА Дарья Андреевна | G13: 19.06.03, МС | H13: МС | I13: УФО | J13: Свердловская обл., Екатеринбург, ГАУ СО СШОР по самбо и дзюдо | K13: Свердловская | M13: Коростелев А.Б, Дымшаков МИ | N13: РЕЧКАЛОВА | O13: 71
O14: 71+

Sheet пр.хода
A1: ВСЕРОССИЙСКАЯ ФЕДЕРАЦИЯ САМБО
C2: ПРОТОКОЛ ХОДА СОРЕВНОВАНИЙ (БОЕВОЕ САМБО)
C3: ='пр.взв'!C2 -> Чемпионат России по самбо среди женщин (отбор на Чемпионат Мира и Европы) ЕКП № 23747
C4: ='пр.взв'!C3 -> 27.02 - 03.03.2023 г. г. Пермь
I5: ='пр.взв'!G4 -> В.к. 80 кг | P5: ='пр.взв'!O3&" "&'пр.взв'!P3 -> 8 участников | Y5: =#REF! -> #REF! | AD5: участников
A7: А | J7: ФИНАЛ | V7: Б
A8: 1 | B8: =IFERROR(VLOOKUP(A8,'пр.взв'!$D$6:$Q$12,2,0),"") -> ПРОКОПЕНКО Алена | C8: =IFERROR(VLOOKUP(A$8,'пр.взв'!$D$6:$Q$12,5,0),"") -> КМС | E8: =IFERROR(VLOOKUP(A8,'пр.взв'!$D$6:$Q$12,8,0),"") -> Свердловская | J8: 1 место | S8: =IFERROR(VLOOKUP(W8,'пр.взв'!$D$6:$Q$12,2,0),"") -> МАТВЕЕВА Анастасия | T8: =IFERROR(VLOOKUP(W8,'пр.взв'!$D$6:$Q$12,5,0),"") -> МС | V8: =IFERROR(VLOOKUP(W8,'пр.взв'!$D$6:$Q$12,8,0),"") -> Оренбургская | W8: 2 | AA8: =IF(P11="","",IF(P11=R9,R13,R9))
G9: =IFERROR(VLOOKUP(F9,'пр.взв'!$D$6:$Q$12,2,0),"") | J9: =IFERROR(VLOOKUP(I9,'пр.взв'!$D$6:$Q$12,2,0),"") | Q9: =IFERROR(VLOOKUP(R9,'пр.взв'!$D$6:$Q$12,2,0),"")
A10: 5 | B10: =IFERROR(VLOOKUP(A10,'пр.взв'!$D$6:$Q$12,2,0),"") -> КОЗЫРЕВА Яна | C10: =IFERROR(VLOOKUP(A$8,'пр.взв'!$D$6:$Q$12,5,0),"") -> КМС | E10: =IFERROR(VLOOKUP(A10,'пр.взв'!$D$6:$Q$12,8,0),"") -> Смоленская | S10: =IFERROR(VLOOKUP(W10,'пр.взв'!$D$6:$Q$12,2,0),"") -> ЧЕРНЕНОК Анастасия | T10: =IFERROR(VLOOKUP(W10,'пр.взв'!$D$6:$Q$12,5,0),"") -> МС | V10: =IFERROR(VLOOKUP(W10,'пр.взв'!$D$6:$Q$12,8,0),"") -> Московская | W10: 6
A12: 3 | B12: =IFERROR(VLOOKUP(A12,'пр.взв'!$D$6:$Q$12,2,0),"") -> ЛИХОТА Ольга | C12: =IFERROR(VLOOKUP(A$8,'пр.взв'!$D$6:$Q$12,5,0),"") -> КМС | E12: =IFERROR(VLOOKUP(A12,'пр.взв'!$D$6:$Q$12,8,0),"") -> Свердловская | S12: =IFERROR(VLOOKUP(W12,'пр.взв'!$D$6:$Q$12,2,0),"") -> ШУВАЛОВА Марина | T12: =IFERROR(VLOOKUP(W12,'пр.взв'!$D$6:$Q$12,5,0),"") -> КМС | V12: =IFERROR(VLOOKUP(W12,'пр.взв'!$D$6:$Q$12,8,0),"") -> Нижегородская | W12: 4
G13: =IFERROR(VLOOKUP(F13,'пр.взв'!$D$6:$Q$12,2,0),"") | J13: 2 место | Q13: =IFERROR(VLOOKUP(R13,'пр.взв'!$D$6:$Q$12,2,0),"")
A14: 7 | B14: =IFERROR(VLOOKUP(A14,'пр.взв'!$D$6:$Q$12,2,0),"") -> АЛЛЕНОВА Елена | C14: =IFERROR(VLOOKUP(A$8,'пр.взв'!$D$6:$Q$12,5,0),"") -> КМС | E14: =IFERROR(VLOOKUP(A14,'пр.взв'!$D$6:$Q$12,8,0),"") -> Тульская | I14: =AA25 | J14: =IFERROR(VLOOKUP(I14,'пр.взв'!$D$6:$Q$12,2,0),"") | S14: =IFERROR(VLOOKUP(W14,'пр.взв'!$D$6:$Q$13,2,0),"") -> РЕЧКАЛОВА Дарья | T14: =IFERROR(VLOOKUP(W14,'пр.взв'!$D$6:$Q$13,5,0),"") -> МС | V14: =IFERROR(VLOOKUP(W14,'пр.взв'!$D$6:$Q$13,8,0),"") -> Свердловская | W14: 8
A17: А1 | W17: Б1
H18: УТЕШИТЕЛЬНЫЕ ВСТРЕЧИ | AA18: УТЕШ | AB18: М
AA19: =IF(H11="","",IF(H11=F9,F13,F9))
AA20: =IF(P11="","",IF(P11=R9,R13,R9))
A21: =AA21 | B21: =IFERROR(VLOOKUP(A21,'пр.взв'!$D$6:$Q$12,2,0),"") | U21: =IFERROR(VLOOKUP(W21,'пр.взв'!$D$6:$Q$12,2,0),"") | W21: =AA22 | AA21: =IF(A10=""," ",IF(F9=""," ",IF(F9=A8,A10,IF(F9=A10,A8,"Х")))) | AB21: =IF(F24=""," ",IF(C22=F24,C26,C22))
D22: =IFERROR(VLOOKUP(C22,'пр.взв'!$D$6:$Q$12,2,0),"") | G22: 3 место | Q22: 3 место | S22: =IFERROR(VLOOKUP(T22,'пр.взв'!$D$6:$Q$12,2,0),"") | AA22: =IF(W10=""," ",IF(R9=""," ",IF(R9=W8,W10,IF(R9=W10,W8,"Х")))) | AB22: =IF(R24=""," ",IF(T22=R24,T26,T22))
A23: =AA23 | B23: =IFERROR(VLOOKUP(A23,'пр.взв'!$D$6:$Q$12,2,0),"") | U23: =IFERROR(VLOOKUP(W23,'пр.взв'!$D$6:$Q$12,2,0),"") | W23: =AA24 | AA23: =IF(A14=""," ",IF(F13=""," ",IF(F13=A12,A14,IF(F13=A14,A12,"Х")))) | AB23: =IF(C22="","",IF(A23=C22,A21,A23))
G24: =IFERROR(VLOOKUP(F24,'пр.взв'!$D$6:$Q$12,2,0),"") | Q24: =IFERROR(VLOOKUP(R24,'пр.взв'!$D$6:$Q$12,2,0),"") | AA24: =IF(W14=""," ",IF(R13=""," ",IF(R13=W12,W14,IF(R13=W14,W12,"Х")))) | AB24: =IF(T22="","",IF(T22=W21,W23,W21))
AA25: =IF(I9="","",IF(I9=H11,P11,H11))
C26: =AA8 | D26: =IFERROR(VLOOKUP(C26,'пр.взв'!$D$6:$Q$12,2,0),"") | S26: =IFERROR(VLOOKUP(T26,'пр.взв'!$D$6:$Q$12,2,0),"") | T26: =AA19
B30: Гл. судья, судья ВК | O30: =IFERROR(__xludf.DUMMYFUNCTION("IMPORTRANGE('пр.взв'!N1,""Реквизиты!C6:C7"")"),"Болотский Р.М.") -> Болотский Р.М.
O31: =IFERROR(__xludf.DUMMYFUNCTION("""COMPUTED_VALUE"""),"Москва") -> Москва
B32: Гл. секретарь, судья ВК | O32: =IFERROR(__xludf.DUMMYFUNCTION("IMPORTRANGE('пр.взв'!N1,""Реквизиты!C10:C11"")"),"Зарипов А.А,") -> Зарипов А.А,
O33: =IFERROR(__xludf.DUMMYFUNCTION("""COMPUTED_VALUE"""),"Р. Татарстан") -> Р. Татарстан

Sheet круги
B1: ВСТРЕЧИ ПО КРУГАМ | L1: ВСТРЕЧИ ПО КРУГАМ
B2: 0 | C2: ковер | E2: ='пр.взв'!D4 | L2: =B2 -> 0 | M2: ковер | O2: =E2
B3: A | C3: (Круг) | D3: 1/4 | F3: ='пр.взв'!G4 -> В.к. 80 кг | L3: Б | M3: (Круг) | N3: 1/4 | P3: =F3 -> В.к. 80 кг
A4: № встр | B4: № п/ж | C4: Ф.И.О. | D4: Д. р., разряд | E4: Вед., регион | G4: Оценки | H4: Очки | I4: Рез-т | J4: Время | K4: № встр | L4: № п/ж | M4: Ф.И.О. | N4: Д. р., разряд | O4: Вед., регион | Q4: Оценки | R4: Очки | S4: Рез-т | T4: Время
A6: 1 | B6: 1 | C6: =IFERROR(VLOOKUP(B6,'пр.взв'!$D$6:$Q$12,2,0),"") -> ПРОКОПЕНКО Алена | D6: =IFERROR(VLOOKUP(B6,'пр.взв'!$D$6:$Q$12,5,0),"") -> КМС | E6: =IFERROR(VLOOKUP(B6,'пр.взв'!$D$6:$Q$12,6,0),"") -> УФО | F6: =IFERROR(VLOOKUP(B6,'пр.взв'!$D$6:$Q$12,7,0),"") -> Свердловская обл., Екатеринбург, Спортивный клуб Родина, ВС | K6: 3 | L6: 2 | M6: =IFERROR(VLOOKUP(L6,'пр.взв'!$D$6:$Q$12,2,0),"") -> МАТВЕЕВА Анастасия | N6: =IFERROR(VLOOKUP(L6,'пр.взв'!$D$6:$Q$12,5,0),"") -> МС | O6: =IFERROR(VLOOKUP(L6,'пр.взв'!$D$6:$Q$12,6,0),"") -> ПФО | P6: =IFERROR(VLOOKUP(L6,'пр.взв'!$D$6:$Q$12,7,0),"") -> Оренбургская обл., Бузулук, СДЮШОР
B7: 5 | C7: =IFERROR(VLOOKUP(B7,'пр.взв'!$D$6:$Q$12,2,0),"") -> КОЗЫРЕВА Яна | D7: =IFERROR(VLOOKUP(B7,'пр.взв'!$D$6:$Q$12,5,0),"") -> КМС | E7: =IFERROR(VLOOKUP(B7,'пр.взв'!$D$6:$Q$12,6,0),"") -> ЦФО | F7: =IFERROR(VLOOKUP(B7,'пр.взв'!$D$6:$Q$12,7,0),"") -> Смоленская обл., Смоленск, СмолГУ | L7: 6 | M7: =IFERROR(VLOOKUP(L7,'пр.взв'!$D$6:$Q$12,2,0),"") -> ЧЕРНЕНОК Анастасия | N7: =IFERROR(VLOOKUP(L7,'пр.взв'!$D$6:$Q$12,5,0),"") -> МС | O7: =IFERROR(VLOOKUP(L7,'пр.взв'!$D$6:$Q$12,6,0),"") -> ЦФО | P7: =IFERROR(VLOOKUP(L7,'пр.взв'!$D$6:$Q$12,7,0),"") -> Московская обл., г. Домодедово, МБУ "СШОР "Олимп"
A8: 2 | B8: 3 | C8: =IFERROR(VLOOKUP(B8,'пр.взв'!$D$6:$Q$12,2,0),"") -> ЛИХОТА Ольга | D8: =IFERROR(VLOOKUP(B8,'пр.взв'!$D$6:$Q$12,5,0),"") -> КМС | E8: =IFERROR(VLOOKUP(B8,'пр.взв'!$D$6:$Q$12,6,0),"") -> УФО | F8: =IFERROR(VLOOKUP(B8,'пр.взв'!$D$6:$Q$12,7,0),"") -> Свердловская обл., Екатеринбург, СШОР | K8: 4 | L8: 4 | M8: =IFERROR(VLOOKUP(L8,'пр.взв'!$D$6:$Q$12,2,0),"") -> ШУВАЛОВА Марина | N8: =IFERROR(VLOOKUP(L8,'пр.взв'!$D$6:$Q$12,5,0),"") -> КМС | O8: =IFERROR(VLOOKUP(L8,'пр.взв'!$D$6:$Q$12,6,0),"") -> ПФО | P8: =IFERROR(VLOOKUP(L8,'пр.взв'!$D$6:$Q$12,7,0),"") -> Нижегородская обл., Нижний Новгород, НРО ОГО ВФСО Динамо
B9: 7 | C9: =IFERROR(VLOOKUP(B9,'пр.взв'!$D$6:$Q$12,2,0),"") -> АЛЛЕНОВА Елена | D9: =IFERROR(VLOOKUP(B9,'пр.взв'!$D$6:$Q$12,5,0),"") -> МС | E9: =IFERROR(VLOOKUP(B9,'пр.взв'!$D$6:$Q$12,6,0),"") -> ЦФО | F9: =IFERROR(VLOOKUP(B9,'пр.взв'!$D$6:$Q$12,7,0),"") -> Тульская обл., Тула, Юность | L9: 8 | M9: =IFERROR(VLOOKUP(L9,'пр.взв'!$D$6:$Q$12,2,0),"") | N9: =IFERROR(VLOOKUP(L9,'пр.взв'!$D$6:$Q$12,5,0),"") | O9: =IFERROR(VLOOKUP(L9,'пр.взв'!$D$6:$Q$12,6,0),"") | P9: =IFERROR(VLOOKUP(L9,'пр.взв'!$D$6:$Q$12,7,0),"")
B10: =B2 -> 0 | C10: ковер | E10: =E2 | L10: =L2 -> 0 | M10: ковер | O10: =O2
B11: A | C11: Полуфинал | F11: =F3 -> В.к. 80 кг | L11: Б | M11: Полуфинал | P11: =P3 -> В.к. 80 кг
A12: № встр | B12: № п/ж | C12: Ф.И.О. | D12: Д. р., разряд | E12: Вед., регион | G12: Оценки | H12: Очки | I12: Рез-т | J12: Время | K12: № встр | L12: № п/ж | M12: Ф.И.О. | N12: Д. р., разряд | O12: Вед., регион | Q12: Оценки | R12: Очки | S12: Рез-т | T12: Время
A14: 1 | B14: ='пр.хода'!F9 | C14: =IFERROR(VLOOKUP(B14,'пр.взв'!$D$6:$Q$12,2,0),"") | D14: =IFERROR(VLOOKUP(B14,'пр.взв'!$D$6:$Q$12,5,0),"") | E14: =IFERROR(VLOOKUP(B14,'пр.взв'!$D$6:$Q$12,6,0),"") | F14: =IFERROR(VLOOKUP(B14,'пр.взв'!$D$6:$Q$12,7,0),"") | K14: 2 | L14: ='пр.хода'!R9 | M14: =IFERROR(VLOOKUP(L14,'пр.взв'!$D$6:$Q$12,2,0),"") | N14: =IFERROR(VLOOKUP(L14,'пр.взв'!$D$6:$Q$12,5,0),"") | O14: =IFERROR(VLOOKUP(L14,'пр.взв'!$D$6:$Q$12,6,0),"") | P14: =IFERROR(VLOOKUP(L14,'пр.взв'!$D$6:$Q$12,7,0),"")
B15: ='пр.хода'!F13 | C15: =IFERROR(VLOOKUP(B15,'пр.взв'!$D$6:$Q$12,2,0),"") | D15: =IFERROR(VLOOKUP(B15,'пр.взв'!$D$6:$Q$12,5,0),"") | E15: =IFERROR(VLOOKUP(B15,'пр.взв'!$D$6:$Q$12,6,0),"") | F15: =IFERROR(VLOOKUP(B15,'пр.взв'!$D$6:$Q$12,7,0),"") | L15: ='пр.хода'!R13 | M15: =IFERROR(VLOOKUP(L15,'пр.взв'!$D$6:$Q$12,2,0),"") | N15: =IFERROR(VLOOKUP(L15,'пр.взв'!$D$6:$Q$12,5,0),"") | O15: =IFERROR(VLOOKUP(L15,'пр.взв'!$D$6:$Q$12,6,0),"") | P15: =IFERROR(VLOOKUP(L15,'пр.взв'!$D$6:$Q$12,7,0),"")
B16: =B10 -> 0 | C16: ковер | E16: =E10 | L16: =L10 -> 0 | M16: ковер | O16: =O10
A17: (Утешительные встречи) | K17: (Утешительные встречи)
B18: A | F18: =F11 -> В.к. 80 кг | L18: Б | P18: =P11 -> В.к. 80 кг
A19: № встр | B19: № п/ж | C19: Ф.И.О. | D19: Д. р., разряд | E19: Вед., регион | G19: Оценки | H19: Очки | I19: Рез-т | J19: Время | K19: № встр | L19: № п/ж | M19: Ф.И.О. | N19: Д. р., разряд | O19: Вед., регион | Q19: Оценки | R19: Очки | S19: Рез-т | T19: Время
A21: 1 | B21: ='пр.хода'!A21 | C21: =IFERROR(VLOOKUP(B21,'пр.взв'!$D$6:$Q$12,2,0),"") | D21: =IFERROR(VLOOKUP(B21,'пр.взв'!$D$6:$Q$12,5,0),"") | E21: =IFERROR(VLOOKUP(B21,'пр.взв'!$D$6:$Q$12,6,0),"") | F21: =IFERROR(VLOOKUP(B21,'пр.взв'!$D$6:$Q$12,7,0),"") | K21: 2 | L21: ='пр.хода'!W21 | M21: =IFERROR(VLOOKUP(L21,'пр.взв'!$D$6:$Q$12,2,0),"") | N21: =IFERROR(VLOOKUP(L21,'пр.взв'!$D$6:$Q$12,5,0),"") | O21: =IFERROR(VLOOKUP(L21,'пр.взв'!$D$6:$Q$12,6,0),"") | P21: =IFERROR(VLOOKUP(L21,'пр.взв'!$D$6:$Q$12,7,0),"")
B22: ='пр.хода'!A23 | C22: =IFERROR(VLOOKUP(B22,'пр.взв'!$D$6:$Q$12,2,0),"") | D22: =IFERROR(VLOOKUP(B22,'пр.взв'!$D$6:$Q$12,5,0),"") | E22: =IFERROR(VLOOKUP(B22,'пр.взв'!$D$6:$Q$12,6,0),"") | F22: =IFERROR(VLOOKUP(B22,'пр.взв'!$D$6:$Q$12,7,0),"") | L22: ='пр.хода'!W23 | M22: =IFERROR(VLOOKUP(L22,'пр.взв'!$D$6:$Q$12,2,0),"") | N22: =IFERROR(VLOOKUP(L22,'пр.взв'!$D$6:$Q$12,5,0),"") | O22: =IFERROR(VLOOKUP(L22,'пр.взв'!$D$6:$Q$12,6,0),"") | P22: =IFERROR(VLOOKUP(L22,'пр.взв'!$D$6:$Q$12,7,0),"")

Sheet Табло
B1: ВСТРЕЧИ ПО КРУГАМ | M1: ВСТРЕЧИ ПО КРУГАМ
B2: 3 | C2: КОВЕР | E2: ='пр.взв'!I4 | M2: =B2 -> 3 | N2: КОВЕР | P2: =G2
B3: A | C3: (Круг) | F3: 1/4 | G3: ='пр.взв'!G4 -> В.к. 80 кг | M3: Б | N3: (Круг) | P3: 1/4 | R3: =G3 -> В.к. 80 кг
A4: № встр | B4: № п/ж | C4: Ф.И.О. | D4: Д. р., разряд | E4: Округ., субъект | G4: Оценки | H4: Очки | I4: Рез-т | J4: Время | L4: № встр | M4: № п/ж | N4: Ф.И.О. | O4: Д. р., разряд | P4: Вед., регион | R4: Оценки | S4: Очки | T4: Рез-т | U4: Время
A41: 1 | B41: 1 | C41: =IFERROR(VLOOKUP(B41,'пр.взв'!$D$6:$Q$31,2,0),"") -> ПРОКОПЕНКО Алена | D41: =IFERROR(VLOOKUP(B41,'пр.взв'!$D$6:$Q$31,5,0),"") -> КМС | E41: =IFERROR(VLOOKUP(B41,'пр.взв'!$D$6:$Q$31,6,0),"") -> УФО | F41: =IFERROR(VLOOKUP(B41,'пр.взв'!$D$6:$Q$31,8,0),"") -> Свердловская | L41: 9 | M41: 2 | N41: =IFERROR(VLOOKUP(M41,'пр.взв'!$D$6:$Q$31,2,0),"") -> МАТВЕЕВА Анастасия | O41: =IFERROR(VLOOKUP(M41,'пр.взв'!$D$6:$Q$31,5,0),"") -> МС | P41: =IFERROR(VLOOKUP(M41,'пр.взв'!$D$6:$Q$31,6,0),"") -> ПФО | Q41: =IFERROR(VLOOKUP(M41,'пр.взв'!$D$6:$Q$31,8,0),"") -> Оренбургская
B42: 17 | C42: =IFERROR(VLOOKUP(B42,'пр.взв'!$D$6:$Q$31,2,0),"") | D42: =IFERROR(VLOOKUP(B42,'пр.взв'!$D$6:$Q$31,5,0),"") | E42: =IFERROR(VLOOKUP(B42,'пр.взв'!$D$6:$Q$31,6,0),"") | F42: =IFERROR(VLOOKUP(B42,'пр.взв'!$D$6:$Q$31,8,0),"") | M42: 18 | N42: =IFERROR(VLOOKUP(M42,'пр.взв'!$D$6:$Q$31,2,0),"") | O42: =IFERROR(VLOOKUP(M42,'пр.взв'!$D$6:$Q$31,5,0),"") | P42: =IFERROR(VLOOKUP(M42,'пр.взв'!$D$6:$Q$31,6,0),"") | Q42: =IFERROR(VLOOKUP(M42,'пр.взв'!$D$6:$Q$31,8,0),"")
A43: 2 | B43: 9 | C43: =IFERROR(VLOOKUP(B43,'пр.взв'!$D$6:$Q$31,2,0),"") | D43: =IFERROR(VLOOKUP(B43,'пр.взв'!$D$6:$Q$31,5,0),"") | E43: =IFERROR(VLOOKUP(B43,'пр.взв'!$D$6:$Q$31,6,0),"") | F43: =IFERROR(VLOOKUP(B43,'пр.взв'!$D$6:$Q$31,8,0),"") | L43: 10 | M43: 10 | N43: =IFERROR(VLOOKUP(M43,'пр.взв'!$D$6:$Q$31,2,0),"") | O43: =IFERROR(VLOOKUP(M43,'пр.взв'!$D$6:$Q$31,5,0),"") | P43: =IFERROR(VLOOKUP(M43,'пр.взв'!$D$6:$Q$31,6,0),"") | Q43: =IFERROR(VLOOKUP(M43,'пр.взв'!$D$6:$Q$31,8,0),"")
B44: 25 | C44: =IFERROR(VLOOKUP(B44,'пр.взв'!$D$6:$Q$31,2,0),"") | D44: =IFERROR(VLOOKUP(B44,'пр.взв'!$D$6:$Q$31,5,0),"") | E44: =IFERROR(VLOOKUP(B44,'пр.взв'!$D$6:$Q$31,6,0),"") | F44: =IFERROR(VLOOKUP(B44,'пр.взв'!$D$6:$Q$31,8,0),"") | M44: 26 | N44: =IFERROR(VLOOKUP(M44,'пр.взв'!$D$6:$Q$31,2,0),"") | O44: =IFERROR(VLOOKUP(M44,'пр.взв'!$D$6:$Q$31,5,0),"") | P44: =IFERROR(VLOOKUP(M44,'пр.взв'!$D$6:$Q$31,6,0),"") | Q44: =IFERROR(VLOOKUP(M44,'пр.взв'!$D$6:$Q$31,8,0),"")
A45: 3 | B45: 5 | C45: =IFERROR(VLOOKUP(B45,'пр.взв'!$D$6:$Q$31,2,0),"") -> КОЗЫРЕВА Яна | D45: =IFERROR(VLOOKUP(B45,'пр.взв'!$D$6:$Q$31,5,0),"") -> КМС | E45: =IFERROR(VLOOKUP(B45,'пр.взв'!$D$6:$Q$31,6,0),"") -> ЦФО | F45: =IFERROR(VLOOKUP(B45,'пр.взв'!$D$6:$Q$31,8,0),"") -> Смоленская | L45: 11 | M45: 6 | N45: =IFERROR(VLOOKUP(M45,'пр.взв'!$D$6:$Q$31,2,0),"") -> ЧЕРНЕНОК Анастасия | O45: =IFERROR(VLOOKUP(M45,'пр.взв'!$D$6:$Q$31,5,0),"") -> МС | P45: =IFERROR(VLOOKUP(M45,'пр.взв'!$D$6:$Q$31,6,0),"") -> ЦФО | Q45: =IFERROR(VLOOKUP(M45,'пр.взв'!$D$6:$Q$31,8,0),"") -> Московская
B46: 21 | C46: =IFERROR(VLOOKUP(B46,'пр.взв'!$D$6:$Q$31,2,0),"") | D46: =IFERROR(VLOOKUP(B46,'пр.взв'!$D$6:$Q$31,5,0),"") | E46: =IFERROR(VLOOKUP(B46,'пр.взв'!$D$6:$Q$31,6,0),"") | F46: =IFERROR(VLOOKUP(B46,'пр.взв'!$D$6:$Q$31,8,0),"") | M46: 22 | N46: =IFERROR(VLOOKUP(M46,'пр.взв'!$D$6:$Q$31,2,0),"") | O46: =IFERROR(VLOOKUP(M46,'пр.взв'!$D$6:$Q$31,5,0),"") | P46: =IFERROR(VLOOKUP(M46,'пр.взв'!$D$6:$Q$31,6,0),"") | Q46: =IFERROR(VLOOKUP(M46,'пр.взв'!$D$6:$Q$31,8,0),"")
A47: 4 | B47: 13 | C47: =IFERROR(VLOOKUP(B47,'пр.взв'!$D$6:$Q$31,2,0),"") | D47: =IFERROR(VLOOKUP(B47,'пр.взв'!$D$6:$Q$31,5,0),"") | E47: =IFERROR(VLOOKUP(B47,'пр.взв'!$D$6:$Q$31,6,0),"") | F47: =IFERROR(VLOOKUP(B47,'пр.взв'!$D$6:$Q$31,8,0),"") | L47: 12 | M47: 14 | N47: =IFERROR(VLOOKUP(M47,'пр.взв'!$D$6:$Q$31,2,0),"") | O47: =IFERROR(VLOOKUP(M47,'пр.взв'!$D$6:$Q$31,5,0),"") | P47: =IFERROR(VLOOKUP(M47,'пр.взв'!$D$6:$Q$31,6,0),"") | Q47: =IFERROR(VLOOKUP(M47,'пр.взв'!$D$6:$Q$31,8,0),"")
B48: 29 | C48: =IFERROR(VLOOKUP(B48,'пр.взв'!$D$6:$Q$31,2,0),"") | D48: =IFERROR(VLOOKUP(B48,'пр.взв'!$D$6:$Q$31,5,0),"") | E48: =IFERROR(VLOOKUP(B48,'пр.взв'!$D$6:$Q$31,6,0),"") | F48: =IFERROR(VLOOKUP(B48,'пр.взв'!$D$6:$Q$31,8,0),"") | M48: 30 | N48: =IFERROR(VLOOKUP(M48,'пр.взв'!$D$6:$Q$31,2,0),"") | O48: =IFERROR(VLOOKUP(M48,'пр.взв'!$D$6:$Q$31,5,0),"") | P48: =IFERROR(VLOOKUP(M48,'пр.взв'!$D$6:$Q$31,6,0),"") | Q48: =IFERROR(VLOOKUP(M48,'пр.взв'!$D$6:$Q$31,8,0),"")
A49: 5 | B49: 3 | C49: =IFERROR(VLOOKUP(B49,'пр.взв'!$D$6:$Q$31,2,0),"") -> ЛИХОТА Ольга | D49: =IFERROR(VLOOKUP(B49,'пр.взв'!$D$6:$Q$31,5,0),"") -> КМС | E49: =IFERROR(VLOOKUP(B49,'пр.взв'!$D$6:$Q$31,6,0),"") -> УФО | F49: =IFERROR(VLOOKUP(B49,'пр.взв'!$D$6:$Q$31,8,0),"") -> Свердловская | L49: 13 | M49: 4 | N49: =IFERROR(VLOOKUP(M49,'пр.взв'!$D$6:$Q$31,2,0),"") -> ШУВАЛОВА Марина | O49: =IFERROR(VLOOKUP(M49,'пр.взв'!$D$6:$Q$31,5,0),"") -> КМС | P49: =IFERROR(VLOOKUP(M49,'пр.взв'!$D$6:$Q$31,6,0),"") -> ПФО | Q49: =IFERROR(VLOOKUP(M49,'пр.взв'!$D$6:$Q$31,8,0),"") -> Нижегородская
B50: 19 | C50: =IFERROR(VLOOKUP(B50,'пр.взв'!$D$6:$Q$31,2,0),"") | D50: =IFERROR(VLOOKUP(B50,'пр.взв'!$D$6:$Q$31,5,0),"") | E50: =IFERROR(VLOOKUP(B50,'пр.взв'!$D$6:$Q$31,6,0),"") | F50: =IFERROR(VLOOKUP(B50,'пр.взв'!$D$6:$Q$31,8,0),"") | M50: 20 | N50: =IFERROR(VLOOKUP(M50,'пр.взв'!$D$6:$Q$31,2,0),"") | O50: =IFERROR(VLOOKUP(M50,'пр.взв'!$D$6:$Q$31,5,0),"") | P50: =IFERROR(VLOOKUP(M50,'пр.взв'!$D$6:$Q$31,6,0),"") | Q50: =IFERROR(VLOOKUP(M50,'пр.взв'!$D$6:$Q$31,8,0),"")
A51: 6 | B51: 11 | C51: =IFERROR(VLOOKUP(B51,'пр.взв'!$D$6:$Q$31,2,0),"") | D51: =IFERROR(VLOOKUP(B51,'пр.взв'!$D$6:$Q$31,5,0),"") | E51: =IFERROR(VLOOKUP(B51,'пр.взв'!$D$6:$Q$31,6,0),"") | F51: =IFERROR(VLOOKUP(B51,'пр.взв'!$D$6:$Q$31,8,0),"") | L51: 14 | M51: 12 | N51: =IFERROR(VLOOKUP(M51,'пр.взв'!$D$6:$Q$31,2,0),"") | O51: =IFERROR(VLOOKUP(M51,'пр.взв'!$D$6:$Q$31,5,0),"") | P51: =IFERROR(VLOOKUP(M51,'пр.взв'!$D$6:$Q$31,6,0),"") | Q51: =IFERROR(VLOOKUP(M51,'пр.взв'!$D$6:$Q$31,8,0),"")
B52: 27 | C52: =IFERROR(VLOOKUP(B52,'пр.взв'!$D$6:$Q$31,2,0),"") | D52: =IFERROR(VLOOKUP(B52,'пр.взв'!$D$6:$Q$31,5,0),"") | E52: =IFERROR(VLOOKUP(B52,'пр.взв'!$D$6:$Q$31,6,0),"") | F52: =IFERROR(VLOOKUP(B52,'пр.взв'!$D$6:$Q$31,8,0),"") | M52: 28 | N52: =IFERROR(VLOOKUP(M52,'пр.взв'!$D$6:$Q$31,2,0),"") | O52: =IFERROR(VLOOKUP(M52,'пр.взв'!$D$6:$Q$31,5,0),"") | P52: =IFERROR(VLOOKUP(M52,'пр.взв'!$D$6:$Q$31,6,0),"") | Q52: =IFERROR(VLOOKUP(M52,'пр.взв'!$D$6:$Q$31,8,0),"")
A53: 7 | B53: 7 | C53: =IFERROR(VLOOKUP(B53,'пр.взв'!$D$6:$Q$31,2,0),"") -> АЛЛЕНОВА Елена | D53: =IFERROR(VLOOKUP(B53,'пр.взв'!$D$6:$Q$31,5,0),"") -> МС | E53: =IFERROR(VLOOKUP(B53,'пр.взв'!$D$6:$Q$31,6,0),"") -> ЦФО | F53: =IFERROR(VLOOKUP(B53,'пр.взв'!$D$6:$Q$31,8,0),"") -> Тульская | L53: 15 | M53: 8 | N53: =IFERROR(VLOOKUP(M53,'пр.взв'!$D$6:$Q$31,2,0),"") -> РЕЧКАЛОВА Дарья | O53: =IFERROR(VLOOKUP(M53,'пр.взв'!$D$6:$Q$31,5,0),"") -> МС | P53: =IFERROR(VLOOKUP(M53,'пр.взв'!$D$6:$Q$31,6,0),"") -> УФО | Q53: =IFERROR(VLOOKUP(M53,'пр.взв'!$D$6:$Q$31,8,0),"") -> Свердловская
B54: 23 | C54: =IFERROR(VLOOKUP(B54,'пр.взв'!$D$6:$Q$31,2,0),"") | D54: =IFERROR(VLOOKUP(B54,'пр.взв'!$D$6:$Q$31,5,0),"") | E54: =IFERROR(VLOOKUP(B54,'пр.взв'!$D$6:$Q$31,6,0),"") | F54: =IFERROR(VLOOKUP(B54,'пр.взв'!$D$6:$Q$31,8,0),"") | M54: 24 | N54: =IFERROR(VLOOKUP(M54,'пр.взв'!$D$6:$Q$31,2,0),"") | O54: =IFERROR(VLOOKUP(M54,'пр.взв'!$D$6:$Q$31,5,0),"") | P54: =IFERROR(VLOOKUP(M54,'пр.взв'!$D$6:$Q$31,6,0),"") | Q54: =IFERROR(VLOOKUP(M54,'пр.взв'!$D$6:$Q$31,8,0),"")
A55: 8 | B55: 15 | C55: =IFERROR(VLOOKUP(B55,'пр.взв'!$D$6:$Q$31,2,0),"") | D55: =IFERROR(VLOOKUP(B55,'пр.взв'!$D$6:$Q$31,5,0),"") | E55: =IFERROR(VLOOKUP(B55,'пр.взв'!$D$6:$Q$31,6,0),"") | F55: =IFERROR(VLOOKUP(B55,'пр.взв'!$D$6:$Q$31,8,0),"") | L55: 16 | M55: 16 | N55: =IFERROR(VLOOKUP(M55,'пр.взв'!$D$6:$Q$31,2,0),"") | O55: =IFERROR(VLOOKUP(M55,'пр.взв'!$D$6:$Q$31,5,0),"") | P55: =IFERROR(VLOOKUP(M55,'пр.взв'!$D$6:$Q$31,6,0),"") | Q55: =IFERROR(VLOOKUP(M55,'пр.взв'!$D$6:$Q$31,8,0),"")
B56: 31 | C56: =IFERROR(VLOOKUP(B56,'пр.взв'!$D$6:$Q$31,2,0),"") | D56: =IFERROR(VLOOKUP(B56,'пр.взв'!$D$6:$Q$31,5,0),"") | E56: =IFERROR(VLOOKUP(B56,'пр.взв'!$D$6:$Q$31,6,0),"") | F56: =IFERROR(VLOOKUP(B56,'пр.взв'!$D$6:$Q$31,8,0),"") | M56: 32 | N56: =IFERROR(VLOOKUP(M56,'пр.взв'!$D$6:$Q$31,2,0),"") | O56: =IFERROR(VLOOKUP(M56,'пр.взв'!$D$6:$Q$31,5,0),"") | P56: =IFERROR(VLOOKUP(M56,'пр.взв'!$D$6:$Q$31,6,0),"") | Q56: =IFERROR(VLOOKUP(M56,'пр.взв'!$D$6:$Q$31,8,0),"")
B57: № п/ж | C57: Подгруппа А | D57: 1/8 | F57: 1/8 | G57: =G3 -> В.к. 80 кг | M57: № п/ж | N57: Подгруппа Б | O57: 1/8 | Q57: 1/8 | R57: =G57 -> В.к. 80 кг
A58: № встр | B58: № п/ж | C58: Ф.И.О. | D58: Д. р., разряд | E58: Округ., субъект | G58: Оценки | H58: Очки | I58: Рез-т | J58: Время | L58: № встр | N58: Ф.И.О. | O58: Д. р., разряд | P58: Округ., субъект | R58: Оценки | S58: Очки | T58: Рез-т | U58: Время
A60: 1 | B60: ='пр.хода'!E13 | C60: =IFERROR(VLOOKUP(B60,'пр.взв'!$D$6:$Q$31,2,0),"") | D60: =IFERROR(VLOOKUP(B60,'пр.взв'!$D$6:$Q$31,5,0),"") | E60: =IFERROR(VLOOKUP(B60,'пр.взв'!$D$6:$Q$31,6,0),"") | F60: =IFERROR(VLOOKUP(B60,'пр.взв'!$D$6:$Q$31,8,0),"") | L60: 5 | M60: ='пр.хода'!AF13 | N60: =IFERROR(VLOOKUP(M60,'пр.взв'!$D$6:$Q$31,2,0),"") | O60: =IFERROR(VLOOKUP(M60,'пр.взв'!$D$6:$Q$31,5,0),"") | P60: =IFERROR(VLOOKUP(M60,'пр.взв'!$D$6:$Q$31,6,0),"") | Q60: =IFERROR(VLOOKUP(M60,'пр.взв'!$D$6:$Q$31,8,0),"")
B61: ='пр.хода'!E25 | C61: =IFERROR(VLOOKUP(B61,'пр.взв'!$D$6:$Q$31,2,0),"") | D61: =IFERROR(VLOOKUP(B61,'пр.взв'!$D$6:$Q$31,5,0),"") | E61: =IFERROR(VLOOKUP(B61,'пр.взв'!$D$6:$Q$31,6,0),"") | F61: =IFERROR(VLOOKUP(B61,'пр.взв'!$D$6:$Q$31,8,0),"") | M61: ='пр.хода'!AF25 | N61: =IFERROR(VLOOKUP(M61,'пр.взв'!$D$6:$Q$31,2,0),"") | O61: =IFERROR(VLOOKUP(M61,'пр.взв'!$D$6:$Q$31,5,0),"") | P61: =IFERROR(VLOOKUP(M61,'пр.взв'!$D$6:$Q$31,6,0),"") | Q61: =IFERROR(VLOOKUP(M61,'пр.взв'!$D$6:$Q$31,8,0),"")
A62: 2 | B62: ='пр.хода'!E37 | C62: =IFERROR(VLOOKUP(B62,'пр.взв'!$D$6:$Q$31,2,0),"") | D62: =IFERROR(VLOOKUP(B62,'пр.взв'!$D$6:$Q$31,5,0),"") | E62: =IFERROR(VLOOKUP(B62,'пр.взв'!$D$6:$Q$31,6,0),"") | F62: =IFERROR(VLOOKUP(B62,'пр.взв'!$D$6:$Q$31,8,0),"") | L62: 6 | M62: ='пр.хода'!AF37 | N62: =IFERROR(VLOOKUP(M62,'пр.взв'!$D$6:$Q$31,2,0),"") | O62: =IFERROR(VLOOKUP(M62,'пр.взв'!$D$6:$Q$31,5,0),"") | P62: =IFERROR(VLOOKUP(M62,'пр.взв'!$D$6:$Q$31,6,0),"") | Q62: =IFERROR(VLOOKUP(M62,'пр.взв'!$D$6:$Q$31,8,0),"")
B63: ='пр.хода'!E49 | C63: =IFERROR(VLOOKUP(B63,'пр.взв'!$D$6:$Q$31,2,0),"") | D63: =IFERROR(VLOOKUP(B63,'пр.взв'!$D$6:$Q$31,5,0),"") | E63: =IFERROR(VLOOKUP(B63,'пр.взв'!$D$6:$Q$31,6,0),"") | F63: =IFERROR(VLOOKUP(B63,'пр.взв'!$D$6:$Q$31,8,0),"") | M63: ='пр.хода'!AF49 | N63: =IFERROR(VLOOKUP(M63,'пр.взв'!$D$6:$Q$31,2,0),"") | O63: =IFERROR(VLOOKUP(M63,'пр.взв'!$D$6:$Q$31,5,0),"") | P63: =IFERROR(VLOOKUP(M63,'пр.взв'!$D$6:$Q$31,6,0),"") | Q63: =IFERROR(VLOOKUP(M63,'пр.взв'!$D$6:$Q$31,8,0),"")
A64: 3 | B64: ='пр.хода'!E61 | C64: =IFERROR(VLOOKUP(B64,'пр.взв'!$D$6:$Q$31,2,0),"") | D64: =IFERROR(VLOOKUP(B64,'пр.взв'!$D$6:$Q$31,5,0),"") | E64: =IFERROR(VLOOKUP(B64,'пр.взв'!$D$6:$Q$31,6,0),"") | F64: =IFERROR(VLOOKUP(B64,'пр.взв'!$D$6:$Q$31,8,0),"") | L64: 7 | M64: ='пр.хода'!AF61 | N64: =IFERROR(VLOOKUP(M64,'пр.взв'!$D$6:$Q$31,2,0),"") | O64: =IFERROR(VLOOKUP(M64,'пр.взв'!$D$6:$Q$31,5,0),"") | P64: =IFERROR(VLOOKUP(M64,'пр.взв'!$D$6:$Q$31,6,0),"") | Q64: =IFERROR(VLOOKUP(M64,'пр.взв'!$D$6:$Q$31,8,0),"")
B65: ='пр.хода'!E73 | C65: =IFERROR(VLOOKUP(B65,'пр.взв'!$D$6:$Q$31,2,0),"") | D65: =IFERROR(VLOOKUP(B65,'пр.взв'!$D$6:$Q$31,5,0),"") | E65: =IFERROR(VLOOKUP(B65,'пр.взв'!$D$6:$Q$31,6,0),"") | F65: =IFERROR(VLOOKUP(B65,'пр.взв'!$D$6:$Q$31,8,0),"") | M65: ='пр.хода'!AF73 | N65: =IFERROR(VLOOKUP(M65,'пр.взв'!$D$6:$Q$31,2,0),"") | O65: =IFERROR(VLOOKUP(M65,'пр.взв'!$D$6:$Q$31,5,0),"") | P65: =IFERROR(VLOOKUP(M65,'пр.взв'!$D$6:$Q$31,6,0),"") | Q65: =IFERROR(VLOOKUP(M65,'пр.взв'!$D$6:$Q$31,8,0),"")
A66: 4 | B66: ='пр.хода'!E85 | C66: =IFERROR(VLOOKUP(B66,'пр.взв'!$D$6:$Q$31,2,0),"") | D66: =IFERROR(VLOOKUP(B66,'пр.взв'!$D$6:$Q$31,5,0),"") | E66: =IFERROR(VLOOKUP(B66,'пр.взв'!$D$6:$Q$31,6,0),"") | F66: =IFERROR(VLOOKUP(B66,'пр.взв'!$D$6:$Q$31,8,0),"") | L66: 8 | M66: ='пр.хода'!AF85 | N66: =IFERROR(VLOOKUP(M66,'пр.взв'!$D$6:$Q$31,2,0),"") | O66: =IFERROR(VLOOKUP(M66,'пр.взв'!$D$6:$Q$31,5,0),"") | P66: =IFERROR(VLOOKUP(M66,'пр.взв'!$D$6:$Q$31,6,0),"") | Q66: =IFERROR(VLOOKUP(M66,'пр.взв'!$D$6:$Q$31,8,0),"")
B67: ='пр.хода'!E97 | C67: =IFERROR(VLOOKUP(B67,'пр.взв'!$D$6:$Q$31,2,0),"") | D67: =IFERROR(VLOOKUP(B67,'пр.взв'!$D$6:$Q$31,5,0),"") | E67: =IFERROR(VLOOKUP(B67,'пр.взв'!$D$6:$Q$31,6,0),"") | F67: =IFERROR(VLOOKUP(B67,'пр.взв'!$D$6:$Q$31,8,0),"") | M67: ='пр.хода'!AF97 | N67: =IFERROR(VLOOKUP(M67,'пр.взв'!$D$6:$Q$31,2,0),"") | O67: =IFERROR(VLOOKUP(M67,'пр.взв'!$D$6:$Q$31,5,0),"") | P67: =IFERROR(VLOOKUP(M67,'пр.взв'!$D$6:$Q$31,6,0),"") | Q67: =IFERROR(VLOOKUP(M67,'пр.взв'!$D$6:$Q$31,8,0),"")
B68: A | C68: (Круг) | D68: 1/4 | F68: 1/4 | G68: =G57 -> В.к. 80 кг | M68: B | N68: (Круг) | O68: 1/4 | P68: 1/4 | R68: =G68 -> В.к. 80 кг
A69: № встр | B69: № п/ж | C69: Ф.И.О. | D69: Д. р., разряд | E69: Вед., регион | G69: Оценки | H69: Очки | I69: Рез-т | J69: Время | L69: № встр | M69: № п/ж | N69: Ф.И.О. | O69: Д. р., разряд | P69: Вед., регион | R69: Оценки | S69: Очки | T69: Рез-т | U69: Время
A71: 1 | B71: 1 | C71: =IFERROR(VLOOKUP(B71,'пр.взв'!$D$6:$Q$31,2,0),"") -> ПРОКОПЕНКО Алена | D71: =IFERROR(VLOOKUP(B71,'пр.взв'!$D$6:$Q$31,5,0),"") -> КМС | E71: =IFERROR(VLOOKUP(B71,'пр.взв'!$D$6:$Q$31,6,0),"") -> УФО | F71: =IFERROR(VLOOKUP(B71,'пр.взв'!$D$6:$Q$31,8,0),"") -> Свердловская | L71: 3 | M71: 2 | N71: =IFERROR(VLOOKUP(M71,'пр.взв'!$D$6:$Q$31,2,0),"") -> МАТВЕЕВА Анастасия | O71: =IFERROR(VLOOKUP(M71,'пр.взв'!$D$6:$Q$31,5,0),"") -> МС | P71: =IFERROR(VLOOKUP(M71,'пр.взв'!$D$6:$Q$31,6,0),"") -> ПФО | Q71: =IFERROR(VLOOKUP(M71,'пр.взв'!$D$6:$Q$31,8,0),"") -> Оренбургская
B72: 5 | C72: =IFERROR(VLOOKUP(B72,'пр.взв'!$D$6:$Q$31,2,0),"") -> КОЗЫРЕВА Яна | D72: =IFERROR(VLOOKUP(B72,'пр.взв'!$D$6:$Q$31,5,0),"") -> КМС | E72: =IFERROR(VLOOKUP(B72,'пр.взв'!$D$6:$Q$31,6,0),"") -> ЦФО | F72: =IFERROR(VLOOKUP(B72,'пр.взв'!$D$6:$Q$31,8,0),"") -> Смоленская | M72: 6 | N72: =IFERROR(VLOOKUP(M72,'пр.взв'!$D$6:$Q$31,2,0),"") -> ЧЕРНЕНОК Анастасия | O72: =IFERROR(VLOOKUP(M72,'пр.взв'!$D$6:$Q$31,5,0),"") -> МС | P72: =IFERROR(VLOOKUP(M72,'пр.взв'!$D$6:$Q$31,6,0),"") -> ЦФО | Q72: =IFERROR(VLOOKUP(M72,'пр.взв'!$D$6:$Q$31,8,0),"") -> Московская
A73: 2 | B73: 3 | C73: =IFERROR(VLOOKUP(B73,'пр.взв'!$D$6:$Q$31,2,0),"") -> ЛИХОТА Ольга | D73: =IFERROR(VLOOKUP(B73,'пр.взв'!$D$6:$Q$31,5,0),"") -> КМС | E73: =IFERROR(VLOOKUP(B73,'пр.взв'!$D$6:$Q$31,6,0),"") -> УФО | F73: =IFERROR(VLOOKUP(B73,'пр.взв'!$D$6:$Q$31,8,0),"") -> Свердловская | L73: 4 | M73: 4 | N73: =IFERROR(VLOOKUP(M73,'пр.взв'!$D$6:$Q$31,2,0),"") -> ШУВАЛОВА Марина | O73: =IFERROR(VLOOKUP(M73,'пр.взв'!$D$6:$Q$31,5,0),"") -> КМС | P73: =IFERROR(VLOOKUP(M73,'пр.взв'!$D$6:$Q$31,6,0),"") -> ПФО | Q73: =IFERROR(VLOOKUP(M73,'пр.взв'!$D$6:$Q$31,8,0),"") -> Нижегородская
B74: 7 | C74: =IFERROR(VLOOKUP(B74,'пр.взв'!$D$6:$Q$31,2,0),"") -> АЛЛЕНОВА Елена | D74: =IFERROR(VLOOKUP(B74,'пр.взв'!$D$6:$Q$31,5,0),"") -> МС | E74: =IFERROR(VLOOKUP(B74,'пр.взв'!$D$6:$Q$31,6,0),"") -> ЦФО | F74: =IFERROR(VLOOKUP(B74,'пр.взв'!$D$6:$Q$31,8,0),"") -> Тульская | M74: 8 | N74: =IFERROR(VLOOKUP(M74,'пр.взв'!$D$6:$Q$31,2,0),"") -> РЕЧКАЛОВА Дарья | O74: =IFERROR(VLOOKUP(M74,'пр.взв'!$D$6:$Q$31,5,0),"") -> МС | P74: =IFERROR(VLOOKUP(M74,'пр.взв'!$D$6:$Q$31,6,0),"") -> УФО | Q74: =IFERROR(VLOOKUP(M74,'пр.взв'!$D$6:$Q$31,8,0),"") -> Свердловская
B75: A | C75: Полуфинал | G75: =G68 -> В.к. 80 кг | M75: Б | N75: Полуфинал | R75: =G75 -> В.к. 80 кг
A76: № встр | B76: № п/ж | C76: Ф.И.О. | D76: Д. р., разряд | E76: Вед., регион | G76: Оценки | H76: Очки | I76: Рез-т | J76: Время | L76: № встр | M76: № п/ж | N76: Ф.И.О. | O76: Д. р., разряд | P76: Вед., регион | R76: Оценки | S76: Очки | T76: Рез-т | U76: Время
A78: 1 | B78: ='пр.хода'!F9 | C78: =IFERROR(VLOOKUP(B78,'пр.взв'!$D$6:$Q$31,2,0),"") | D78: =IFERROR(VLOOKUP(B78,'пр.взв'!$D$6:$Q$31,5,0),"") | E78: =IFERROR(VLOOKUP(B78,'пр.взв'!$D$6:$Q$31,6,0),"") | F78: =IFERROR(VLOOKUP(B78,'пр.взв'!$D$6:$Q$31,8,0),"") | L78: 2 | M78: ='пр.хода'!R9 | N78: =IFERROR(VLOOKUP(M78,'пр.взв'!$D$6:$Q$31,2,0),"") | O78: =IFERROR(VLOOKUP(M78,'пр.взв'!$D$6:$Q$31,5,0),"") | P78: =IFERROR(VLOOKUP(M78,'пр.взв'!$D$6:$Q$31,6,0),"") | Q78: =IFERROR(VLOOKUP(M78,'пр.взв'!$D$6:$Q$31,8,0),"")
B79: ='пр.хода'!F13 | C79: =IFERROR(VLOOKUP(B79,'пр.взв'!$D$6:$Q$31,2,0),"") | D79: =IFERROR(VLOOKUP(B79,'пр.взв'!$D$6:$Q$31,5,0),"") | E79: =IFERROR(VLOOKUP(B79,'пр.взв'!$D$6:$Q$31,6,0),"") | F79: =IFERROR(VLOOKUP(B79,'пр.взв'!$D$6:$Q$31,8,0),"") | M79: ='пр.хода'!R13 | N79: =IFERROR(VLOOKUP(M79,'пр.взв'!$D$6:$Q$31,2,0),"") | O79: =IFERROR(VLOOKUP(M79,'пр.взв'!$D$6:$Q$31,5,0),"") | P79: =IFERROR(VLOOKUP(M79,'пр.взв'!$D$6:$Q$31,6,0),"") | Q79: =IFERROR(VLOOKUP(M79,'пр.взв'!$D$6:$Q$31,8,0),"")
...

Sheet Ит.пр
A1: ВСЕРОССИЙСКАЯ ФЕДЕРАЦИЯ САМБО
B2: ИТОГОВЫЙ ПРОТОКОЛ (БОЕВОЕ САМБО) | D2: ='пр.взв'!C2 -> Чемпионат России по самбо среди женщин (отбор на Чемпионат Мира и Европы) ЕКП № 23747
B3: ='пр.взв'!C3 -> 27.02 - 03.03.2023 г. г. Пермь | G3: ='пр.взв'!G4 -> В.к. 80 кг
A4: место | B4: № п/ж | C4: Ф.И.О. | D4: Дата рожд., разряд | E4: Округ, субъект, город, ведомство | G4: № карточки | H4: Тренер
A6: 1 | B6: ='пр.хода'!I9 | C6: =IFERROR(VLOOKUP(B6,'пр.взв'!$D$6:$Q$12,3,0),"") | D6: =IFERROR(VLOOKUP(B6,'пр.взв'!$D$6:$Q$12,4,0),"") | E6: =IFERROR(VLOOKUP(B6,'пр.взв'!$D$6:$Q$12,6,0),"") | F6: =IFERROR(VLOOKUP(B6,'пр.взв'!$D$6:$Q$12,7,0),"") | G6: =IFERROR(VLOOKUP(B6,'пр.взв'!$B$7:$N$12,8,0),"") | H6: =IFERROR(VLOOKUP(B6,'пр.взв'!$D$6:$Q$12,10,0),"")
A7: 2 | B7: ='пр.хода'!I14 | C7: =IFERROR(VLOOKUP(B7,'пр.взв'!$D$6:$Q$12,3,0),"") | D7: =IFERROR(VLOOKUP(B7,'пр.взв'!$D$6:$Q$12,4,0),"") | E7: =IFERROR(VLOOKUP(B7,'пр.взв'!$D$6:$Q$12,6,0),"") | F7: =IFERROR(VLOOKUP(B7,'пр.взв'!$D$6:$Q$12,7,0),"") | G7: =IFERROR(VLOOKUP(B7,'пр.взв'!$B$7:$N$12,8,0),"") | H7: =IFERROR(VLOOKUP(B7,'пр.взв'!$D$6:$Q$12,10,0),"")
A8: 3 | B8: ='пр.хода'!F24 | C8: =IFERROR(VLOOKUP(B8,'пр.взв'!$D$6:$Q$12,3,0),"") | D8: =IFERROR(VLOOKUP(B8,'пр.взв'!$D$6:$Q$12,4,0),"") | E8: =IFERROR(VLOOKUP(B8,'пр.взв'!$D$6:$Q$12,6,0),"") | F8: =IFERROR(VLOOKUP(B8,'пр.взв'!$D$6:$Q$12,7,0),"") | G8: =IFERROR(VLOOKUP(B8,'пр.взв'!$B$7:$N$12,8,0),"") | H8: =IFERROR(VLOOKUP(B8,'пр.взв'!$D$6:$Q$12,10,0),"")
A9: 3 | B9: ='пр.хода'!R24 | C9: =IFERROR(VLOOKUP(B9,'пр.взв'!$D$6:$Q$12,3,0),"") | D9: =IFERROR(VLOOKUP(B9,'пр.взв'!$D$6:$Q$12,4,0),"") | E9: =IFERROR(VLOOKUP(B9,'пр.взв'!$D$6:$Q$12,6,0),"") | F9: =IFERROR(VLOOKUP(B9,'пр.взв'!$D$6:$Q$12,7,0),"") | G9: =IFERROR(VLOOKUP(B9,'пр.взв'!$B$7:$N$12,8,0),"") | H9: =IFERROR(VLOOKUP(B9,'пр.взв'!$D$6:$Q$12,10,0),"")
A10: 5-6 | B10: ='пр.хода'!AB21 | C10: =IFERROR(VLOOKUP(B10,'пр.взв'!$D$6:$Q$12,3,0),"") | D10: =IFERROR(VLOOKUP(B10,'пр.взв'!$D$6:$Q$12,4,0),"") | E10: =IFERROR(VLOOKUP(B10,'пр.взв'!$D$6:$Q$12,6,0),"") | F10: =IFERROR(VLOOKUP(B10,'пр.взв'!$D$6:$Q$12,7,0),"") | G10: =IFERROR(VLOOKUP(B10,'пр.взв'!$B$7:$N$12,8,0),"") | H10: =IFERROR(VLOOKUP(B10,'пр.взв'!$D$6:$Q$12,10,0),"")
A11: 5-6 | B11: ='пр.хода'!AB22 | C11: =IFERROR(VLOOKUP(B11,'пр.взв'!$D$6:$Q$12,3,0),"") | D11: =IFERROR(VLOOKUP(B11,'пр.взв'!$D$6:$Q$12,4,0),"") | E11: =IFERROR(VLOOKUP(B11,'пр.взв'!$D$6:$Q$12,6,0),"") | F11: =IFERROR(VLOOKUP(B11,'пр.взв'!$D$6:$Q$12,7,0),"") | G11: =IFERROR(VLOOKUP(B11,'пр.взв'!$B$7:$N$12,8,0),"") | H11: =IFERROR(VLOOKUP(B11,'пр.взв'!$D$6:$Q$12,10,0),"")
A12: 7-8 | B12: ='пр.хода'!AB23 | C12: =IFERROR(VLOOKUP(B12,'пр.взв'!$D$6:$Q$12,3,0),"") | D12: =IFERROR(VLOOKUP(B12,'пр.взв'!$D$6:$Q$12,4,0),"") | E12: =IFERROR(VLOOKUP(B12,'пр.взв'!$D$6:$Q$12,6,0),"") | F12: =IFERROR(VLOOKUP(B12,'пр.взв'!$D$6:$Q$12,7,0),"") | G12: =IFERROR(VLOOKUP(B12,'пр.взв'!$B$7:$N$12,8,0),"") | H12: =IFERROR(VLOOKUP(B12,'пр.взв'!$D$6:$Q$12,10,0),"")
A13: 7-8 | B13: ='пр.хода'!AB24 | C13: =IFERROR(VLOOKUP(B13,'пр.взв'!$D$6:$Q$12,3,0),"") | D13: =IFERROR(VLOOKUP(B13,'пр.взв'!$D$6:$Q$12,4,0),"") | E13: =IFERROR(VLOOKUP(B13,'пр.взв'!$D$6:$Q$12,6,0),"") | F13: =IFERROR(VLOOKUP(B13,'пр.взв'!$D$6:$Q$12,7,0),"") | G13: =IFERROR(VLOOKUP(B13,'пр.взв'!$B$7:$N$12,8,0),"") | H13: =IFERROR(VLOOKUP(B13,'пр.взв'!$D$6:$Q$12,10,0),"")
A21: Гл. судья, судья ВК | G21: ='пр.хода'!O30 -> Болотский Р.М.
G22: ='пр.хода'!O31 -> Москва
A24: Гл. секретарь, судья ВК | G24: ='пр.хода'!O32 -> Зарипов А.А,
G25: ='пр.хода'!O33 -> Р. Татарстан

Sheet полуфинал
A1: ='пр.хода'!C3 -> Чемпионат России по самбо среди женщин (отбор на Чемпионат Мира и Европы) ЕКП № 23747
F2: =('пр.взв'!D4)
C3: ЗА 3 МЕСТО | F3: ='пр.взв'!G4 -> В.к. 80 кг
C4: ВСТРЕЧА 1
A5: Цвет | B5: № п/ж | C5: Ф.И.О. | D5: Д. р., разряд | E5: Вед., регион | G5: Оценки | H5: Рез-т | I5: Время
B7: ='пр.хода'!C22 | C7: =IFERROR(VLOOKUP(B7,'пр.взв'!$D$6:$Q$12,2,0),"") | D7: =IFERROR(VLOOKUP(B7,'пр.взв'!$D$6:$Q$12,5,0),"") | E7: =IFERROR(VLOOKUP(B7,'пр.взв'!$D$6:$Q$12,6,0),"") | F7: =IFERROR(VLOOKUP(B7,'пр.взв'!$D$6:$Q$12,7,0),"")
B8: ='пр.хода'!C26 | C8: =IFERROR(VLOOKUP(B8,'пр.взв'!$D$6:$Q$12,2,0),"") | D8: =IFERROR(VLOOKUP(B8,'пр.взв'!$D$6:$Q$12,5,0),"") | E8: =IFERROR(VLOOKUP(B8,'пр.взв'!$D$6:$Q$12,6,0),"") | F8: =IFERROR(VLOOKUP(B8,'пр.взв'!$D$6:$Q$12,7,0),"")
A9: Руководитель ковра
B10: А
B11: Б
C13: ЗА 3 МЕСТО | F13: ='пр.взв'!G4 -> В.к. 80 кг
C14: ВСТРЕЧА 2 | F14: =('пр.взв'!D4)
A15: Цвет | B15: № п/ж | C15: Ф.И.О. | D15: Д. р., разряд | E15: Вед., регион | G15: Оценки | H15: Рез-т | I15: Время
B17: ='пр.хода'!T22 | C17: =IFERROR(VLOOKUP(B17,'пр.взв'!$D$6:$Q$12,2,0),"") | D17: =IFERROR(VLOOKUP(B17,'пр.взв'!$D$6:$Q$12,5,0),"") | E17: =IFERROR(VLOOKUP(B17,'пр.взв'!$D$6:$Q$12,6,0),"") | F17: =IFERROR(VLOOKUP(B17,'пр.взв'!$D$6:$Q$12,7,0),"")
B18: ='пр.хода'!T26 | C18: =IFERROR(VLOOKUP(B18,'пр.взв'!$D$6:$Q$12,2,0),"") | D18: =IFERROR(VLOOKUP(B18,'пр.взв'!$D$6:$Q$12,5,0),"") | E18: =IFERROR(VLOOKUP(B18,'пр.взв'!$D$6:$Q$12,6,0),"") | F18: =IFERROR(VLOOKUP(B18,'пр.взв'!$D$6:$Q$12,7,0),"")
A19: Руководитель ковра
B20: А
B21: Б
C25: ФИНАЛ | F25: ='пр.взв'!G4 -> В.к. 80 кг
A26: Цвет | B26: № п/ж | C26: Ф.И.О. | D26: Д. р., разряд | E26: Вед., регион | G26: Оценки | H26: Рез-т | I26: Время
B28: ='пр.хода'!H11 | C28: =IFERROR(VLOOKUP(B28,'пр.взв'!$D$6:$Q$12,2,0),"") | D28: =IFERROR(VLOOKUP(B28,'пр.взв'!$D$6:$Q$12,5,0),"") | E28: =IFERROR(VLOOKUP(B28,'пр.взв'!$D$6:$Q$12,6,0),"") | F28: =IFERROR(VLOOKUP(B28,'пр.взв'!$D$6:$Q$12,7,0),"")
B29: ='пр.хода'!P11 | C29: =IFERROR(VLOOKUP(B29,'пр.взв'!$D$6:$Q$12,2,0),"") | D29: =IFERROR(VLOOKUP(B29,'пр.взв'!$D$6:$Q$12,5,0),"") | E29: =IFERROR(VLOOKUP(B29,'пр.взв'!$D$6:$Q$12,6,0),"") | F29: =IFERROR(VLOOKUP(B29,'пр.взв'!$D$6:$Q$12,7,0),"")
A30: Руководитель ковра
B31: А
B32: Б

Sheet нагр. лист
A1: ='пр.взв'!C2 -> Чемпионат России по самбо среди женщин (отбор на Чемпионат Мира и Европы) ЕКП № 23747
A2: ='пр.взв'!A3
A3: НАГРАДНОЙ ЛИСТ
D4: ='пр.взв'!G4 -> В.к. 80 кг
A6: I м | B6: =IFERROR(VLOOKUP(I6,'пр.взв'!$D$6:$Q$12,3,0),"") | H6: =IFERROR(VLOOKUP(I6,'пр.взв'!$D$6:$Q$12,4,0),"") | I6: ='Ит.пр'!B6
B8: =IFERROR(VLOOKUP(I6,'пр.взв'!$D$6:$Q$12,6,0),"") | E8: =IFERROR(VLOOKUP(I6,'пр.взв'!$D$6:$Q$12,7,0),"")
A11: II м | B11: =IFERROR(VLOOKUP(I11,'пр.взв'!$D$6:$Q$12,3,0),"") | H11: =IFERROR(VLOOKUP(I11,'пр.взв'!$D$6:$Q$12,4,0),"") | I11: ='Ит.пр'!B7
B13: =IFERROR(VLOOKUP(I11,'пр.взв'!$D$6:$Q$12,6,0),"") | E13: =IFERROR(VLOOKUP(I11,'пр.взв'!$D$6:$Q$12,7,0),"")
A16: III м | B16: =IFERROR(VLOOKUP(I16,'пр.взв'!$D$6:$Q$12,3,0),"") | H16: =IFERROR(VLOOKUP(I16,'пр.взв'!$D$6:$Q$12,4,0),"") | I16: ='Ит.пр'!B8
B18: =IFERROR(VLOOKUP(I16,'пр.взв'!$D$6:$Q$12,6,0),"") | E18: =IFERROR(VLOOKUP(I16,'пр.взв'!$D$6:$Q$12,7,0),"")
A21: III м | B21: =IFERROR(VLOOKUP(I21,'пр.взв'!$D$6:$Q$12,3,0),"") | H21: =IFERROR(VLOOKUP(I21,'пр.взв'!$D$6:$Q$12,4,0),"") | I21: ='Ит.пр'!B9
B23: =IFERROR(VLOOKUP(I21,'пр.взв'!$D$6:$Q$12,6,0),"") | E23: =IFERROR(VLOOKUP(I21,'пр.взв'!$D$6:$Q$12,7,0),"")
A26: Тренер победителя:
A28: =IFERROR(VLOOKUP(I6,'пр.взв'!$D$6:$Q$12,10,0),"") | I28: =I6
A36: Награждение проводят:

Sheet стартвый 
C1: ПРОТОКОЛ ХОДА СОРЕВНОВАНИЙ
C2: ='пр.хода'!C3 -> Чемпионат России по самбо среди женщин (отбор на Чемпионат Мира и Европы) ЕКП № 23747
B3: ='пр.хода'!C4 -> 27.02 - 03.03.2023 г. г. Пермь
F4: ='пр.взв'!D4
A5: А
A6: 1 | B6: =VLOOKUP('стартвый '!A6:A7,'пр.взв'!B$6:N$12,2,FALSE) -> #N/A | C6: =VLOOKUP(A6,'пр.взв'!B$6:N$12,3,FALSE) -> #N/A | D6: =VLOOKUP(A6,'пр.взв'!B$6:N$12,5,FALSE) -> #N/A
A8: 5 | B8: =VLOOKUP('стартвый '!A8:A9,'пр.взв'!B$6:N$12,2,FALSE) -> #N/A | C8: =VLOOKUP(A8,'пр.взв'!B$6:N$12,3,FALSE) -> #N/A | D8: =VLOOKUP(A8,'пр.взв'!B$6:N$12,5,FALSE) -> #N/A
A10: 3 | B10: =VLOOKUP('стартвый '!A10:A11,'пр.взв'!B$6:N$12,2,FALSE) -> #N/A | C10: =VLOOKUP(A10,'пр.взв'!B$6:N$12,3,FALSE) -> #N/A | D10: =VLOOKUP(A10,'пр.взв'!B$6:N$12,5,FALSE) -> #N/A
A12: 7 | B12: =VLOOKUP('стартвый '!A12:A13,'пр.взв'!B$6:N$12,2,FALSE) -> #N/A | C12: =VLOOKUP(A12,'пр.взв'!B$6:N$12,3,FALSE) -> #N/A | D12: =VLOOKUP(A12,'пр.взв'!B$6:N$12,5,FALSE) -> #N/A
A16: Б
A17: 2 | B17: =VLOOKUP('стартвый '!A17:A18,'пр.взв'!B$6:N$12,2,FALSE) -> #N/A | C17: =VLOOKUP(A17,'пр.взв'!B$6:N$12,3,FALSE) -> #N/A | D17: =VLOOKUP(A17,'пр.взв'!B$6:N$12,5,FALSE) -> #N/A
A19: 6 | B19: =VLOOKUP('стартвый '!A19:A20,'пр.взв'!B$6:N$12,2,FALSE) -> #N/A | C19: =VLOOKUP(A19,'пр.взв'!B$6:N$12,3,FALSE) -> #N/A | D19: =VLOOKUP(A19,'пр.взв'!B$6:N$12,5,FALSE) -> #N/A
A21: 4 | B21: =VLOOKUP('стартвый '!A21:A22,'пр.взв'!B$6:N$12,2,FALSE) -> #N/A | C21: =VLOOKUP(A21,'пр.взв'!B$6:N$12,3,FALSE) -> #N/A | D21: =VLOOKUP(A21,'пр.взв'!B$6:N$12,5,FALSE) -> #N/A
A23: 8 | B23: =VLOOKUP('стартвый '!A23:A24,'пр.взв'!B$6:N$12,2,FALSE) -> #N/A | C23: =VLOOKUP(A23,'пр.взв'!B$6:N$12,3,FALSE) -> #N/A | D23: =VLOOKUP(A23,'пр.взв'!B$6:N$12,5,FALSE) -> #N/A
A27: А1 | G27: Б1
B38: ='пр.хода'!B30 -> Гл. судья, судья ВК | I38: ='пр.хода'!O30 -> Болотский Р.М. | K38: ='пр.хода'!S30
B40: ='пр.хода'!B32 -> Гл. секретарь, судья ВК | I40: ='пр.хода'!O32 -> Зарипов А.А, | K40: /Г-Алтайск/
