Workbook
Name разряд: 'пр.взв'!$K$7:$K$70
Name Е5кр: 'пр.хода'!$BZ$6:$BZ$117
Name разряд: #REF!
Name НетПустых: 'пр.хода'!$BS$6:$BS$23
Name субъект: 'пр.взв'!$L$7:$L$70
Name ЕстьПустые: 'пр.хода'!$BQ$6:$BQ$117
Name Е4кр: 'пр.хода'!$BT$6:$BT$117
Name Е6кр: 'пр.хода'!$CF$6:$CF$117
Name Н5кр: 'пр.хода'!$CA$6:$CA$117
Name Н4кр: 'пр.хода'!$BU$6:$BU$117
Name субъект: #REF!
Name Н6кр: 'пр.хода'!$CG$6:$CG$117

Sheet пр.взв
A1: select Col1,Col3,Col4,Col5,Col6,Col10,Col12,Col13,Col14,Col15,Col16,Col17 WHERE Col1>1 | C1: ПРОТОКОЛ ВЗВЕШИВАНИЯ БОЕВОЕ САМБО | N1: https://docs.google.com/spreadsheets/d/1rKfsKa6WmRbizI2Vsft_Oh4qzmnej0rfhiwi6Wf8WXM/edit#gid=946786355 | O1: =IF(O2="98+",99,O2) -> 71
C2: =IFERROR(__xludf.DUMMYFUNCTION("IMPORTRANGE(N1,""Реквизиты!A1"")"),"Чемпионат России по самбо (боевое) мужчины (отбор на Чемпионат Мира и Европы) ЕКП №23747") -> Чемпионат России по самбо (боевое) мужчины (отбор на Чемпионат Мира и Европы) ЕКП №23747 | O2: 71 | P2: В.к. | Q2: кг
C3: =IFERROR(__xludf.DUMMYFUNCTION("IMPORTRANGE(N1,""Реквизиты!A3"")"),"27.02 - 03.03.2023 г. г. Пермь") -> 27.02 - 03.03.2023 г. г. Пермь | O3: =COUNTA(F6:F1000) -> 37 | P3: участников | AX3: =SUM(AX7:AX12) -> 0
G4: =P2&" "&O2&" "&Q2 -> В.к. 71 кг | Y4: Мандатка
A5: ВК | B5: ВК | C5: № п/п | D5: № п/ж | E5: Ф.И.О. | F5: Ф.И.О. | G5: Дата рожд., разряд | H5: Разряд | I5: Округ, субъект, город, ведомство | K5: Субъект | L5: № карточки | M5: Тренер
A6: 71 | B6: 71 | C6: 12 | D6: 1 | E6: БУДАКОВ Наил | F6: БУДАКОВ Наил Намиг Оглы | G6: 01.05.93, МС | H6: МС | I6: ПФО | J6: Самарская обл., Самара, ГАУ ДО СО СШОР 1 | K6: Самарская | M6: Коновалов А.П. | N6: {=IF(D6:D1000="","",(LEFT(F6:F1000,FIND(" ",F6:F1000)-1)))} -> БУДАКОВ | O6: 53 | Q6: =N7 -> ДУШКАНОВ | R6: =N8 -> НОВИКОВ | S6: =N9 -> СОРОКИН | T6: =N10 -> КРАСАВЦЕВ | U6: =N11 -> САИДОВ | V6: =N12 -> ПАДАЕВ | W6: =N13 -> ТАЛДИЕВ | Y6: Субъект, город. | Z6: =Q6 -> ДУШКАНОВ | AA6: =R6 -> НОВИКОВ | AB6: =S6 -> СОРОКИН | AC6: =T6 -> КРАСАВЦЕВ | AD6: =U6 -> САИДОВ | AE6: =V6 -> ПАДАЕВ | AF6: =W6 -> ТАЛДИЕВ
A7: 71 | B7: 71 | C7: 12 | D7: 2 | E7: ДУШКАНОВ Дамир | F7: ДУШКАНОВ Дамир Нурланович | G7: 12.07.02, КМС | H7: КМС | I7: ПФО | J7: Самарская обл., Самара, Спарта | K7: Самарская | M7: Агамирян С.С | N7: ДУШКАНОВ | O7: 58 | Q7: =SUMIFS($J$7:$J$88,$L$7:$L$88,P7,$K$7:$K$88,Q$6) -> 0 | R7: =SUMIFS($J$7:$J$88,$L$7:$L$88,P7,$K$7:$K$88,R$6) -> 0 | S7: =SUMIFS($J$7:$J$88,$L$7:$L$88,P7,$K$7:$K$88,S$6) -> 0 | T7: =SUMIFS($J$7:$J$88,$L$7:$L$88,P7,$K$7:$K$88,T$6) -> 0 | U7: =SUMIFS($J$7:$J$88,$L$7:$L$88,P7,$K$7:$K$88,U$6) -> 0 | V7: =SUMIFS($J$7:$J$88,$L$7:$L$88,P7,$K$7:$K$88,V$6) -> 0 | W7: =SUMIFS($J$7:$J$88,$L$7:$L$88,P7,$K$7:$K$88,W$6) -> 0 | Y7: =P7 | Z7: =IF(Q7=0," ",Q7) | AA7: =IF(R7=0," ",R7) | AB7: =IF(S7=0," ",S7) | AC7: =IF(T7=0," ",T7) | AD7: =IF(U7=0," ",U7) | AE7: =IF(V7=0," ",V7) | AF7: =IF(W7=0," ",W7) | AH7: =SUM(Z7:AF70) -> 0
A8: 71 | B8: 71 | C8: 9 | D8: 3 | E8: НОВИКОВ Никита | F8: НОВИКОВ Никита Иванович | G8: 29.10.00, КМС | H8: КМС | I8: ПФО | J8: Р. Татарстан, Казань, СШОР « Батыр» | K8: Р.Татарстан | M8: Иванов В.А | N8: НОВИКОВ | O8: 64 | Q8: =SUMIFS($J$7:$J$88,$L$7:$L$88,P8,$K$7:$K$88,Q$6) -> 0 | R8: =SUMIFS($J$7:$J$88,$L$7:$L$88,P8,$K$7:$K$88,R$6) -> 0 | S8: =SUMIFS($J$7:$J$88,$L$7:$L$88,P8,$K$7:$K$88,S$6) -> 0 | T8: =SUMIFS($J$7:$J$88,$L$7:$L$88,P8,$K$7:$K$88,T$6) -> 0 | U8: =SUMIFS($J$7:$J$88,$L$7:$L$88,P8,$K$7:$K$88,U$6) -> 0 | V8: =SUMIFS($J$7:$J$88,$L$7:$L$88,P8,$K$7:$K$88,V$6) -> 0 | W8: =SUMIFS($J$7:$J$88,$L$7:$L$88,P8,$K$7:$K$88,W$6) -> 0 | Y8: =P8 | Z8: =IF($Y$8=$Y$7," ",IF(Q8=0," ",Q8)) | AA8: =IF($Y$8=$Y$7," ",IF(R8=0," ",R8)) | AB8: =IF($Y$8=$Y$7," ",IF(S8=0," ",S8)) | AC8: =IF($Y$8=$Y$7," ",IF(T8=0," ",T8)) | AD8: =IF(U8=0," ",U8) | AE8: =IF(V8=0," ",V8) | AF8: =IF(W8=0," ",W8)
A9: 71 | B9: 71 | C9: 22 | D9: 4 | E9: СОРОКИН Алексей | F9: СОРОКИН Алексей Павлович | G9: 05.12.01, КМС | H9: КМС | I9: СЗФО | J9: Р. Коми, Сыктывкар, СПб ГБУ СШОР | K9: Р.Коми | M9: Коршунов Александр Игоревич | N9: СОРОКИН | O9: 71 | Q9: =SUMIFS($J$7:$J$88,$L$7:$L$88,P9,$K$7:$K$88,Q$6) -> 0 | R9: =SUMIFS($J$7:$J$88,$L$7:$L$88,P9,$K$7:$K$88,R$6) -> 0 | S9: =SUMIFS($J$7:$J$88,$L$7:$L$88,P9,$K$7:$K$88,S$6) -> 0 | T9: =SUMIFS($J$7:$J$88,$L$7:$L$88,P9,$K$7:$K$88,T$6) -> 0 | U9: =SUMIFS($J$7:$J$88,$L$7:$L$88,P9,$K$7:$K$88,U$6) -> 0 | V9: =SUMIFS($J$7:$J$88,$L$7:$L$88,P9,$K$7:$K$88,V$6) -> 0 | W9: =SUMIFS($J$7:$J$88,$L$7:$L$88,P9,$K$7:$K$88,W$6) -> 0 | Y9: =P9 | Z9: =IF(OR($Y9=$Y7,$Y9=$Y8)," ",IF(Q9=0," ",Q9)) | AA9: =IF(OR($Y9=$Y7,$Y9=$Y8)," ",IF(R9=0," ",R9)) | AB9: =IF(OR($Y9=$Y7,$Y9=$Y8)," ",IF(S9=0," ",S9)) | AC9: =IF(OR($Y9=$Y7,$Y9=$Y8)," ",IF(T9=0," ",T9)) | AD9: =IF(U9=0," ",U9) | AE9: =IF(V9=0," ",V9) | AF9: =IF(W9=0," ",W9)
A10: 71 | B10: 71 | C10: 22 | D10: 5 | E10: КРАСАВЦЕВ Александр | F10: КРАСАВЦЕВ Александр Анатольевич | G10: 23.05.96, МС | H10: МС | I10: ЦФО | J10: Московская обл., г.о. Сергиев-Посад, рп. Богородское, ГБУ МО "СШОР по Единоборствам " | K10: Московская | M10: Бондаренко Александр Павлович | N10: КРАСАВЦЕВ | O10: 79 | Q10: =SUMIFS($J$7:$J$88,$L$7:$L$88,P10,$K$7:$K$88,Q$6) -> 0 | R10: =SUMIFS($J$7:$J$88,$L$7:$L$88,P10,$K$7:$K$88,R$6) -> 0 | S10: =SUMIFS($J$7:$J$88,$L$7:$L$88,P10,$K$7:$K$88,S$6) -> 0 | T10: =SUMIFS($J$7:$J$88,$L$7:$L$88,P10,$K$7:$K$88,T$6) -> 0 | U10: =SUMIFS($J$7:$J$88,$L$7:$L$88,P10,$K$7:$K$88,U$6) -> 0 | V10: =SUMIFS($J$7:$J$88,$L$7:$L$88,P10,$K$7:$K$88,V$6) -> 0 | W10: =SUMIFS($J$7:$J$88,$L$7:$L$88,P10,$K$7:$K$88,W$6) -> 0 | Y10: =P10 | Z10: =IF(OR($Y10=$Y8,$Y10=$Y9,$Y10=$Y7)," ",IF(Q10=0," ",Q10)) | AA10: =IF(OR($Y10=$Y8,$Y10=$Y9,$Y10=$Y7)," ",IF(R10=0," ",R10)) | AB10: =IF(OR($Y10=$Y8,$Y10=$Y9,$Y10=$Y7)," ",IF(S10=0," ",S10)) | AC10: =IF(OR($Y10=$Y8,$Y10=$Y9,$Y10=$Y7)," ",IF(T10=0," ",T10)) | AD10: =IF(U10=0," ",U10) | AE10: =IF(V10=0," ",V10) | AF10: =IF(W10=0," ",W10)
A11: 71 | B11: 71 | C11: 4 | D11: 6 | E11: САИДОВ Магомед | F11: САИДОВ Магомед Магомедханович | G11: 01.01.02, КМС | H11: КМС | I11: СКФО | J11: Р.Дагестан, Махачкала, Абдулманапа Нурмагомедова | K11: Р.Дагестан | M11: Магомедов М.А. Омаров Г.А | N11: САИДОВ | O11: 88 | Q11: =SUMIFS($J$7:$J$88,$L$7:$L$88,P11,$K$7:$K$88,Q$6) -> 0 | R11: =SUMIFS($J$7:$J$88,$L$7:$L$88,P11,$K$7:$K$88,R$6) -> 0 | S11: =SUMIFS($J$7:$J$88,$L$7:$L$88,P11,$K$7:$K$88,S$6) -> 0 | T11: =SUMIFS($J$7:$J$88,$L$7:$L$88,P11,$K$7:$K$88,T$6) -> 0 | U11: =SUMIFS($J$7:$J$88,$L$7:$L$88,P11,$K$7:$K$88,U$6) -> 0 | V11: =SUMIFS($J$7:$J$88,$L$7:$L$88,P11,$K$7:$K$88,V$6) -> 0 | W11: =SUMIFS($J$7:$J$88,$L$7:$L$88,P11,$K$7:$K$88,W$6) -> 0 | Y11: =P11 | Z11: =IF(OR($Y11=$Y9,$Y11=$Y10,$Y11=$Y8,$Y11=$Y7)," ",IF(Q11=0," ",Q11)) | AA11: =IF(OR($Y11=$Y9,$Y11=$Y10,$Y11=$Y8,$Y11=$Y7)," ",IF(R11=0," ",R11)) | AB11: =IF(OR($Y11=$Y9,$Y11=$Y10,$Y11=$Y8,$Y11=$Y7)," ",IF(S11=0," ",S11)) | AC11: =IF(OR($Y11=$Y9,$Y11=$Y10,$Y11=$Y8,$Y11=$Y7)," ",IF(T11=0," ",T11)) | AD11: =IF(U11=0," ",U11) | AE11: =IF(V11=0," ",V11) | AF11: =IF(W11=0," ",W11)
A12: 71 | B12: 71 | C12: 4 | D12: 7 | E12: ПАДАЕВ Муслим | F12: ПАДАЕВ Муслим Арсланбекович | G12: 18.09.01, КМС | H12: КМС | I12: СКФО | J12: Чеченская, Грозный, ДЮСШ/2 | K12: Чеченская | M12: Бушуев.И.А | N12: ПАДАЕВ | O12: 98 | Q12: =SUMIFS($J$7:$J$88,$L$7:$L$88,P12,$K$7:$K$88,Q$6) -> 0 | R12: =SUMIFS($J$7:$J$88,$L$7:$L$88,P12,$K$7:$K$88,R$6) -> 0 | S12: =SUMIFS($J$7:$J$88,$L$7:$L$88,P12,$K$7:$K$88,S$6) -> 0 | T12: =SUMIFS($J$7:$J$88,$L$7:$L$88,P12,$K$7:$K$88,T$6) -> 0 | U12: =SUMIFS($J$7:$J$88,$L$7:$L$88,P12,$K$7:$K$88,U$6) -> 0 | V12: =SUMIFS($J$7:$J$88,$L$7:$L$88,P12,$K$7:$K$88,V$6) -> 0 | W12: =SUMIFS($J$7:$J$88,$L$7:$L$88,P12,$K$7:$K$88,W$6) -> 0 | Y12: =P12 | Z12: =IF(OR($Y12=$Y10,$Y12=$Y11,$Y12=$Y9,$Y12=$Y8,$Y12=$Y7)," ",IF(Q12=0," ",Q12)) | AA12: =IF(OR($Y12=$Y10,$Y12=$Y11,$Y12=$Y9,$Y12=$Y8,$Y12=$Y7)," ",IF(R12=0," ",R12)) | AB12: =IF(OR($Y12=$Y10,$Y12=$Y11,$Y12=$Y9,$Y12=$Y8,$Y12=$Y7)," ",IF(S12=0," ",S12)) | AC12: =IF(OR($Y12=$Y10,$Y12=$Y11,$Y12=$Y9,$Y12=$Y8,$Y12=$Y7)," ",IF(T12=0," ",T12)) | AD12: =IF(U12=0," ",U12) | AE12: =IF(V12=0," ",V12) | AF12: =IF(W12=0," ",W12)
A13: 71 | B13: 71 | C13: 4 | D13: 8 | E13: ТАЛДИЕВ Рустам | F13: ТАЛДИЕВ Рустам Амерханович | G13: 01.01.93, ЗМС | H13: ЗМС | I13: СПБ | J13: Санкт-Петербург, Санкт-Петербург, Кшвсм | K13: Санкт-Петербург | M13: Коршунов Александр Игоревич, Талдиев Адам | N13: ТАЛДИЕВ | O13: 98+ | Q13: =SUMIFS($J$7:$J$88,$L$7:$L$88,P13,$K$7:$K$88,Q$6) -> 0 | R13: =SUMIFS($J$7:$J$88,$L$7:$L$88,P13,$K$7:$K$88,R$6) -> 0 | S13: =SUMIFS($J$7:$J$88,$L$7:$L$88,P13,$K$7:$K$88,S$6) -> 0 | T13: =SUMIFS($J$7:$J$88,$L$7:$L$88,P13,$K$7:$K$88,T$6) -> 0 | U13: =SUMIFS($J$7:$J$88,$L$7:$L$88,P13,$K$7:$K$88,U$6) -> 0 | V13: =SUMIFS($J$7:$J$88,$L$7:$L$88,P13,$K$7:$K$88,V$6) -> 0 | W13: =SUMIFS($J$7:$J$88,$L$7:$L$88,P13,$K$7:$K$88,W$6) -> 0 | Y13: =P13 | Z13: =IF(OR($Y13=$Y11,$Y13=$Y12,$Y13=$Y10,$Y13=$Y9,$Y13=$Y8,$Y13=$Y7)," ",IF(Q13=0," ",Q13)) | AA13: =IF(OR($Y13=$Y11,$Y13=$Y12,$Y13=$Y10,$Y13=$Y9,$Y13=$Y8,$Y13=$Y7)," ",IF(R13=0," ",R13)) | AB13: =IF(OR($Y13=$Y11,$Y13=$Y12,$Y13=$Y10,$Y13=$Y9,$Y13=$Y8,$Y13=$Y7)," ",IF(S13=0," ",S13)) | AC13: =IF(OR($Y13=$Y11,$Y13=$Y12,$Y13=$Y10,$Y13=$Y9,$Y13=$Y8,$Y13=$Y7)," ",IF(T13=0," ",T13)) | AD13: =IF(U13=0," ",U13) | AE13: =IF(V13=0," ",V13) | AF13: =IF(W13=0," ",W13)
A14: 71 | B14: 71 | D14: 9 | E14: ДУГУЖЕВ Азамат | F14: ДУГУЖЕВ Азамат Заурович | G14: 29.08.97, МС | H14: МС | I14: СПБ | J14: Санкт-Петербург, СПб ГБУ СШОР «КШВСМ» | K14: Санкт-Петербург | M14: Давиденко И.А., Коршунов А.И. | N14: ДУГУЖЕВ | O14: 65 | Q14: =SUMIFS($J$7:$J$88,$L$7:$L$88,P14,$K$7:$K$88,Q$6) -> 0 | R14: =SUMIFS($J$7:$J$88,$L$7:$L$88,P14,$K$7:$K$88,R$6) -> 0 | S14: =SUMIFS($J$7:$J$88,$L$7:$L$88,P14,$K$7:$K$88,S$6) -> 0 | T14: =SUMIFS($J$7:$J$88,$L$7:$L$88,P14,$K$7:$K$88,T$6) -> 0 | U14: =SUMIFS($J$7:$J$88,$L$7:$L$88,P14,$K$7:$K$88,U$6) -> 0 | V14: =SUMIFS($J$7:$J$88,$L$7:$L$88,P14,$K$7:$K$88,V$6) -> 0 | W14: =SUMIFS($J$7:$J$88,$L$7:$L$88,P14,$K$7:$K$88,W$6) -> 0 | Y14: =P14 | Z14: =IF(OR($Y14=$Y12,$Y14=$Y13,$Y14=$Y11,$Y14=$Y10,$Y14=$Y9,$Y14=$Y7)," ",IF(Q14=0," ",Q14)) | AA14: =IF(OR($Y14=$Y12,$Y14=$Y13,$Y14=$Y11,$Y14=$Y10,$Y14=$Y9,$Y14=$Y7)," ",IF(R14=0," ",R14)) | AB14: =IF(OR($Y14=$Y12,$Y14=$Y13,$Y14=$Y11,$Y14=$Y10,$Y14=$Y9,$Y14=$Y7)," ",IF(S14=0," ",S14)) | AC14: =IF(OR($Y14=$Y12,$Y14=$Y13,$Y14=$Y11,$Y14=$Y10,$Y14=$Y9,$Y14=$Y7)," ",IF(T14=0," ",T14)) | AD14: =IF(U14=0," ",U14) | AE14: =IF(V14=0," ",V14) | AF14: =IF(W14=0," ",W14)
A15: 71 | B15: 71 | C15: 38 | D15: 10 | E15: ДАМДИНОВ Бато | F15: ДАМДИНОВ Бато Зориктуевич | G15: 28.08.92, МС | H15: МС | I15: ДВФО | J15: Р. Бурятия, Улан-Удэ, ДЮСШ 18 | K15: Р.Бурятия | M15: Цыдыпов Б.В. | N15: ДАМДИНОВ | O15: 71 | Q15: =SUMIFS($J$7:$J$88,$L$7:$L$88,P15,$K$7:$K$88,Q$6) -> 0 | R15: =SUMIFS($J$7:$J$88,$L$7:$L$88,P15,$K$7:$K$88,R$6) -> 0 | S15: =SUMIFS($J$7:$J$88,$L$7:$L$88,P15,$K$7:$K$88,S$6) -> 0 | T15: =SUMIFS($J$7:$J$88,$L$7:$L$88,P15,$K$7:$K$88,T$6) -> 0 | U15: =SUMIFS($J$7:$J$88,$L$7:$L$88,P15,$K$7:$K$88,U$6) -> 0 | V15: =SUMIFS($J$7:$J$88,$L$7:$L$88,P15,$K$7:$K$88,V$6) -> 0 | W15: =SUMIFS($J$7:$J$88,$L$7:$L$88,P15,$K$7:$K$88,W$6) -> 0 | Y15: =P15 | Z15: =IF(OR($Y15=$Y13,$Y15=$Y14,$Y15=$Y12,$Y15=$Y11,$Y15=$Y10,$Y15=$Y8,$Y15=$Y7)," ",IF(Q15=0," ",Q15)) | AA15: =IF(OR($Y15=$Y13,$Y15=$Y14,$Y15=$Y12,$Y15=$Y11,$Y15=$Y10,$Y15=$Y8,$Y15=$Y7)," ",IF(R15=0," ",R15)) | AB15: =IF(OR($Y15=$Y13,$Y15=$Y14,$Y15=$Y12,$Y15=$Y11,$Y15=$Y10,$Y15=$Y8,$Y15=$Y7)," ",IF(S15=0," ",S15)) | AC15: =IF(OR($Y15=$Y13,$Y15=$Y14,$Y15=$Y12,$Y15=$Y11,$Y15=$Y10,$Y15=$Y8,$Y15=$Y7)," ",IF(T15=0," ",T15)) | AD15: =IF(U15=0," ",U15) | AE15: =IF(V15=0," ",V15) | AF15: =IF(W15=0," ",W15)
A16: 71 | B16: 71 | C16: 38 | D16: 11 | E16: КОЗЛОВ Даниил | F16: КОЗЛОВ Даниил Игоревич | G16: 06.02.01, МС | H16: МС | I16: СПБ | J16: Санкт-Петербург, Санкт-Петербург, КШВС | K16: Санкт-Петербург | M16: Коршунов А.И. | N16: КОЗЛОВ | Q16: =SUMIFS($J$7:$J$88,$L$7:$L$88,P16,$K$7:$K$88,Q$6) -> 0 | R16: =SUMIFS($J$7:$J$88,$L$7:$L$88,P16,$K$7:$K$88,R$6) -> 0 | S16: =SUMIFS($J$7:$J$88,$L$7:$L$88,P16,$K$7:$K$88,S$6) -> 0 | T16: =SUMIFS($J$7:$J$88,$L$7:$L$88,P16,$K$7:$K$88,T$6) -> 0 | U16: =SUMIFS($J$7:$J$88,$L$7:$L$88,P16,$K$7:$K$88,U$6) -> 0 | V16: =SUMIFS($J$7:$J$88,$L$7:$L$88,P16,$K$7:$K$88,V$6) -> 0 | W16: =SUMIFS($J$7:$J$88,$L$7:$L$88,P16,$K$7:$K$88,W$6) -> 0 | Y16: =P16 | Z16: =IF(OR($Y16=$Y14,$Y16=$Y15,$Y16=$Y13,$Y16=$Y12,$Y16=$Y11,$Y16=$Y9,$Y16=$Y8,$Y16=$Y7)," ",IF(Q16=0," ",Q16)) | AA16: =IF(OR($Y16=$Y14,$Y16=$Y15,$Y16=$Y13,$Y16=$Y12,$Y16=$Y11,$Y16=$Y9,$Y16=$Y8,$Y16=$Y7)," ",IF(R16=0," ",R16)) | AB16: =IF(OR($Y16=$Y14,$Y16=$Y15,$Y16=$Y13,$Y16=$Y12,$Y16=$Y11,$Y16=$Y9,$Y16=$Y8,$Y16=$Y7)," ",IF(S16=0," ",S16)) | AC16: =IF(OR($Y16=$Y14,$Y16=$Y15,$Y16=$Y13,$Y16=$Y12,$Y16=$Y11,$Y16=$Y9,$Y16=$Y8,$Y16=$Y7)," ",IF(T16=0," ",T16)) | AD16: =IF(U16=0," ",U16) | AE16: =IF(V16=0," ",V16) | AF16: =IF(W16=0," ",W16)
A17: 71 | B17: 71 | C17: 31 | D17: 12 | E17: СИРЕНКО Дмитрий | F17: СИРЕНКО Дмитрий Владимирович | G17: 29.03.01, МС | H17: МС | I17: ПФО | J17: Нижегородская обл., Кстово, ГБОУ ДО СШОР по самбо | K17: Нижегородская | M17: Бахчев ВК, Тимошин АС | N17: СИРЕНКО | Q17: =SUMIFS($J$7:$J$88,$L$7:$L$88,P17,$K$7:$K$88,Q$6) -> 0 | R17: =SUMIFS($J$7:$J$88,$L$7:$L$88,P17,$K$7:$K$88,R$6) -> 0 | S17: =SUMIFS($J$7:$J$88,$L$7:$L$88,P17,$K$7:$K$88,S$6) -> 0 | T17: =SUMIFS($J$7:$J$88,$L$7:$L$88,P17,$K$7:$K$88,T$6) -> 0 | U17: =SUMIFS($J$7:$J$88,$L$7:$L$88,P17,$K$7:$K$88,U$6) -> 0 | V17: =SUMIFS($J$7:$J$88,$L$7:$L$88,P17,$K$7:$K$88,V$6) -> 0 | W17: =SUMIFS($J$7:$J$88,$L$7:$L$88,P17,$K$7:$K$88,W$6) -> 0 | Y17: =P17 | Z17: =IF(OR($Y17=$Y15,$Y17=$Y16,$Y17=$Y14,$Y17=$Y13,$Y17=$Y12,$Y17=$Y10,$Y17=$Y9,$Y17=$Y8,$Y17=$Y7)," ",IF(Q17=0," ",Q17)) | AA17: =IF(OR($Y17=$Y15,$Y17=$Y16,$Y17=$Y14,$Y17=$Y13,$Y17=$Y12,$Y17=$Y10,$Y17=$Y9,$Y17=$Y8,$Y17=$Y7)," ",IF(R17=0," ",R17)) | AB17: =IF(OR($Y17=$Y15,$Y17=$Y16,$Y17=$Y14,$Y17=$Y13,$Y17=$Y12,$Y17=$Y10,$Y17=$Y9,$Y17=$Y8,$Y17=$Y7)," ",IF(S17=0," ",S17)) | AC17: =IF(OR($Y17=$Y15,$Y17=$Y16,$Y17=$Y14,$Y17=$Y13,$Y17=$Y12,$Y17=$Y10,$Y17=$Y9,$Y17=$Y8,$Y17=$Y7)," ",IF(T17=0," ",T17)) | AD17: =IF(U17=0," ",U17) | AE17: =IF(V17=0," ",V17) | AF17: =IF(W17=0," ",W17)
A18: 71 | B18: 71 | D18: 13 | E18: БОГАЧЕВ Сергей | F18: БОГАЧЕВ Сергей Иванович | G18: 08.08.02, КМС | H18: КМС | I18: СФО | J18: Красноярский край, Красноярск, СШОР имени Б.Х. Сайтиева | K18: Красноярский | M18: Казанцев И.О. Степанян Н. В. | N18: БОГАЧЕВ | Q18: =SUMIFS($J$7:$J$88,$L$7:$L$88,P18,$K$7:$K$88,Q$6) -> 0 | R18: =SUMIFS($J$7:$J$88,$L$7:$L$88,P18,$K$7:$K$88,R$6) -> 0 | S18: =SUMIFS($J$7:$J$88,$L$7:$L$88,P18,$K$7:$K$88,S$6) -> 0 | T18: =SUMIFS($J$7:$J$88,$L$7:$L$88,P18,$K$7:$K$88,T$6) -> 0 | U18: =SUMIFS($J$7:$J$88,$L$7:$L$88,P18,$K$7:$K$88,U$6) -> 0 | V18: =SUMIFS($J$7:$J$88,$L$7:$L$88,P18,$K$7:$K$88,V$6) -> 0 | W18: =SUMIFS($J$7:$J$88,$L$7:$L$88,P18,$K$7:$K$88,W$6) -> 0 | Y18: =P18 | Z18: =IF(OR($Y18=$Y16,$Y18=$Y17,$Y18=$Y15,$Y18=$Y14,$Y18=$Y13,$Y18=$Y11,$Y18=$Y10,$Y18=$Y9,$Y18=$Y8,$Y18=$Y7)," ",IF(Q18=0," ",Q18)) | AA18: =IF(OR($Y18=$Y16,$Y18=$Y17,$Y18=$Y15,$Y18=$Y14,$Y18=$Y13,$Y18=$Y11,$Y18=$Y10,$Y18=$Y9,$Y18=$Y8,$Y18=$Y7)," ",IF(R18=0," ",R18)) | AB18: =IF(OR($Y18=$Y16,$Y18=$Y17,$Y18=$Y15,$Y18=$Y14,$Y18=$Y13,$Y18=$Y11,$Y18=$Y10,$Y18=$Y9,$Y18=$Y8,$Y18=$Y7)," ",IF(S18=0," ",S18)) | AC18: =IF(OR($Y18=$Y16,$Y18=$Y17,$Y18=$Y15,$Y18=$Y14,$Y18=$Y13,$Y18=$Y11,$Y18=$Y10,$Y18=$Y9,$Y18=$Y8,$Y18=$Y7)," ",IF(T18=0," ",T18)) | AD18: =IF(U18=0," ",U18) | AE18: =IF(V18=0," ",V18) | AF18: =IF(W18=0," ",W18)
A19: 71 | B19: 71 | D19: 14 | E19: КОБЕНОВ Степан | F19: КОБЕНОВ Степан Альбертович | G19: 28.02.90, ЗМС | H19: ЗМС | I19: СФО | J19: Р. Алтай, Горно-Алтайск, АУ ДО РА "СШОР Единоборств "Ирбизек" | K19: Р.Алтай | M19: Майчиков А.В, Яйтаков Г. Я | N19: КОБЕНОВ | Q19: =SUMIFS($J$7:$J$88,$L$7:$L$88,P19,$K$7:$K$88,Q$6) -> 0 | R19: =SUMIFS($J$7:$J$88,$L$7:$L$88,P19,$K$7:$K$88,R$6) -> 0 | S19: =SUMIFS($J$7:$J$88,$L$7:$L$88,P19,$K$7:$K$88,S$6) -> 0 | T19: =SUMIFS($J$7:$J$88,$L$7:$L$88,P19,$K$7:$K$88,T$6) -> 0 | U19: =SUMIFS($J$7:$J$88,$L$7:$L$88,P19,$K$7:$K$88,U$6) -> 0 | V19: =SUMIFS($J$7:$J$88,$L$7:$L$88,P19,$K$7:$K$88,V$6) -> 0 | W19: =SUMIFS($J$7:$J$88,$L$7:$L$88,P19,$K$7:$K$88,W$6) -> 0 | Y19: =P19 | Z19: =IF(Q19=0," ",Q19) | AA19: =IF(R19=0," ",R19) | AB19: =IF(S19=0," ",S19) | AC19: =IF(T19=0," ",T19) | AD19: =IF(U19=0," ",U19) | AE19: =IF(V19=0," ",V19) | AF19: =IF(W19=0," ",W19)
A20: 71 | B20: 71 | C20: 21 | D20: 15 | E20: ОРЛОВ Егор | F20: ОРЛОВ Егор Алексеевич | G20: 01.09.02, МС | H20: МС | I20: ЦФО | J20: Ярославская обл., Рыбинск, МАУ СШ Метеор | K20: Ярославская | M20: Шкарбан М.С | N20: ОРЛОВ | Q20: =SUMIFS($J$7:$J$88,$L$7:$L$88,P20,$K$7:$K$88,Q$6) -> 0 | R20: =SUMIFS($J$7:$J$88,$L$7:$L$88,P20,$K$7:$K$88,R$6) -> 0 | S20: =SUMIFS($J$7:$J$88,$L$7:$L$88,P20,$K$7:$K$88,S$6) -> 0 | T20: =SUMIFS($J$7:$J$88,$L$7:$L$88,P20,$K$7:$K$88,T$6) -> 0 | U20: =SUMIFS($J$7:$J$88,$L$7:$L$88,P20,$K$7:$K$88,U$6) -> 0 | V20: =SUMIFS($J$7:$J$88,$L$7:$L$88,P20,$K$7:$K$88,V$6) -> 0 | W20: =SUMIFS($J$7:$J$88,$L$7:$L$88,P20,$K$7:$K$88,W$6) -> 0 | Y20: =P20 | Z20: =IF(Q20=0," ",Q20) | AA20: =IF(R20=0," ",R20) | AB20: =IF(S20=0," ",S20) | AC20: =IF(T20=0," ",T20) | AD20: =IF(U20=0," ",U20) | AE20: =IF(V20=0," ",V20) | AF20: =IF(W20=0," ",W20)
A21: 71 | B21: 71 | C21: 13 | D21: 16 | E21: МАГОМЕДАЛИЕВ Салих | F21: МАГОМЕДАЛИЕВ Салих Анарбегович | G21: 31.03.99, МС | H21: МС | I21: СКФО | J21: Р.Дагестан, Махачкала, Абдулманапа Нурмагомедова | K21: Р.Дагестан | M21: Гасанханов З.М. | N21: МАГОМЕДАЛИЕВ | Q21: =SUMIFS($J$7:$J$88,$L$7:$L$88,P21,$K$7:$K$88,Q$6) -> 0 | R21: =SUMIFS($J$7:$J$88,$L$7:$L$88,P21,$K$7:$K$88,R$6) -> 0 | S21: =SUMIFS($J$7:$J$88,$L$7:$L$88,P21,$K$7:$K$88,S$6) -> 0 | T21: =SUMIFS($J$7:$J$88,$L$7:$L$88,P21,$K$7:$K$88,T$6) -> 0 | U21: =SUMIFS($J$7:$J$88,$L$7:$L$88,P21,$K$7:$K$88,U$6) -> 0 | V21: =SUMIFS($J$7:$J$88,$L$7:$L$88,P21,$K$7:$K$88,V$6) -> 0 | W21: =SUMIFS($J$7:$J$88,$L$7:$L$88,P21,$K$7:$K$88,W$6) -> 0 | Y21: =P21 | Z21: =IF(Q21=0," ",Q21) | AA21: =IF(R21=0," ",R21) | AB21: =IF(S21=0," ",S21) | AC21: =IF(T21=0," ",T21) | AD21: =IF(U21=0," ",U21) | AE21: =IF(V21=0," ",V21) | AF21: =IF(W21=0," ",W21)
A22: 71 | B22: 71 | C22: 19 | D22: 17 | E22: ЭСКИЕВ Рузбек | F22: ЭСКИЕВ Рузбек Сулумбекович | G22: 27.05.93, МС | H22: МС | I22: СКФО | J22: Чеченская, Грозный, МС | K22: Чеченская | M22: Кагерманов Р.Б Успаев Б.А-Б | N22: ЭСКИЕВ | Q22: =SUMIFS($J$7:$J$88,$L$7:$L$88,P22,$K$7:$K$88,Q$6) -> 0 | R22: =SUMIFS($J$7:$J$88,$L$7:$L$88,P22,$K$7:$K$88,R$6) -> 0 | S22: =SUMIFS($J$7:$J$88,$L$7:$L$88,P22,$K$7:$K$88,S$6) -> 0 | T22: =SUMIFS($J$7:$J$88,$L$7:$L$88,P22,$K$7:$K$88,T$6) -> 0 | U22: =SUMIFS($J$7:$J$88,$L$7:$L$88,P22,$K$7:$K$88,U$6) -> 0 | V22: =SUMIFS($J$7:$J$88,$L$7:$L$88,P22,$K$7:$K$88,V$6) -> 0 | W22: =SUMIFS($J$7:$J$88,$L$7:$L$88,P22,$K$7:$K$88,W$6) -> 0 | Y22: =P22 | Z22: =IF(Q22=0," ",Q22) | AA22: =IF(R22=0," ",R22) | AB22: =IF(S22=0," ",S22) | AC22: =IF(T22=0," ",T22) | AD22: =IF(U22=0," ",U22) | AE22: =IF(V22=0," ",V22) | AF22: =IF(W22=0," ",W22)
A23: 71 | B23: 71 | C23: 19 | D23: 18 | E23: ГЛАЗЫРИН Александр | F23: ГЛАЗЫРИН Александр Сергеевич | G23: 25.06.95, КМС | H23: КМС | I23: ПФО | J23: Пермский край, Пермь, Витязь | K23: Пермский | M23: Мачулин.С.А, Спирин А. В | N23: ГЛАЗЫРИН | Q23: =SUMIFS($J$7:$J$88,$L$7:$L$88,P23,$K$7:$K$88,Q$6) -> 0 | R23: =SUMIFS($J$7:$J$88,$L$7:$L$88,P23,$K$7:$K$88,R$6) -> 0 | S23: =SUMIFS($J$7:$J$88,$L$7:$L$88,P23,$K$7:$K$88,S$6) -> 0 | T23: =SUMIFS($J$7:$J$88,$L$7:$L$88,P23,$K$7:$K$88,T$6) -> 0 | U23: =SUMIFS($J$7:$J$88,$L$7:$L$88,P23,$K$7:$K$88,U$6) -> 0 | V23: =SUMIFS($J$7:$J$88,$L$7:$L$88,P23,$K$7:$K$88,V$6) -> 0 | W23: =SUMIFS($J$7:$J$88,$L$7:$L$88,P23,$K$7:$K$88,W$6) -> 0 | Y23: =P23 | Z23: =IF(Q23=0," ",Q23) | AA23: =IF(R23=0," ",R23) | AB23: =IF(S23=0," ",S23) | AC23: =IF(T23=0," ",T23) | AD23: =IF(U23=0," ",U23) | AE23: =IF(V23=0," ",V23) | AF23: =IF(W23=0," ",W23)
A24: 71 | B24: 71 | C24: 19 | D24: 19 | E24: ПОНОМАРЕВ Павел | F24: ПОНОМАРЕВ Павел Олегович | G24: 03.06.96, КМС | H24: КМС | I24: ЦФО | J24: Смоленская обл., Ярцево, МБУ | K24: Смоленская | M24: Грузнов Владимир Валерьевич | N24: ПОНОМАРЕВ | Q24: =SUMIFS($J$7:$J$88,$L$7:$L$88,P24,$K$7:$K$88,Q$6) -> 0 | R24: =SUMIFS($J$7:$J$88,$L$7:$L$88,P24,$K$7:$K$88,R$6) -> 0 | S24: =SUMIFS($J$7:$J$88,$L$7:$L$88,P24,$K$7:$K$88,S$6) -> 0 | T24: =SUMIFS($J$7:$J$88,$L$7:$L$88,P24,$K$7:$K$88,T$6) -> 0 | U24: =SUMIFS($J$7:$J$88,$L$7:$L$88,P24,$K$7:$K$88,U$6) -> 0 | V24: =SUMIFS($J$7:$J$88,$L$7:$L$88,P24,$K$7:$K$88,V$6) -> 0 | W24: =SUMIFS($J$7:$J$88,$L$7:$L$88,P24,$K$7:$K$88,W$6) -> 0 | Y24: =P24 | Z24: =IF(Q24=0," ",Q24) | AA24: =IF(R24=0," ",R24) | AB24: =IF(S24=0," ",S24) | AC24: =IF(T24=0," ",T24) | AD24: =IF(U24=0," ",U24) | AE24: =IF(V24=0," ",V24) | AF24: =IF(W24=0," ",W24)
A25: 71 | B25: 71 | D25: 20 | E25: ЦУРКАН Алексей | F25: ЦУРКАН Алексей Романович | G25: 11.09.97, КМС | H25: КМС | I25: ЦФО | J25: Ярославская, Рыбинск, МО | K25: Ярославская | M25: Шкарбан М.М | N25: ЦУРКАН | Q25: =SUMIFS($J$7:$J$88,$L$7:$L$88,P25,$K$7:$K$88,Q$6) -> 0 | R25: =SUMIFS($J$7:$J$88,$L$7:$L$88,P25,$K$7:$K$88,R$6) -> 0 | S25: =SUMIFS($J$7:$J$88,$L$7:$L$88,P25,$K$7:$K$88,S$6) -> 0 | T25: =SUMIFS($J$7:$J$88,$L$7:$L$88,P25,$K$7:$K$88,T$6) -> 0 | U25: =SUMIFS($J$7:$J$88,$L$7:$L$88,P25,$K$7:$K$88,U$6) -> 0 | V25: =SUMIFS($J$7:$J$88,$L$7:$L$88,P25,$K$7:$K$88,V$6) -> 0 | W25: =SUMIFS($J$7:$J$88,$L$7:$L$88,P25,$K$7:$K$88,W$6) -> 0 | Y25: =P25 | Z25: =IF(Q25=0," ",Q25) | AA25: =IF(R25=0," ",R25) | AB25: =IF(S25=0," ",S25) | AC25: =IF(T25=0," ",T25) | AD25: =IF(U25=0," ",U25) | AE25: =IF(V25=0," ",V25) | AF25: =IF(W25=0," ",W25)
A26: 71 | B26: 71 | C26: 17 | D26: 21 | E26: ПОДОЙНИЦЫН Константин | F26: ПОДОЙНИЦЫН Константин Юрьевич | G26: 19.08.99, КМС | H26: КМС | I26: ДВФО | J26: Р. Бурятия, Улан-Удэ, ДЮСШ 23 | K26: Р.Бурятия | M26: Жигжитов Жаргал Баирович | N26: ПОДОЙНИЦЫН | Q26: =SUMIFS($J$7:$J$88,$L$7:$L$88,P26,$K$7:$K$88,Q$6) -> 0 | R26: =SUMIFS($J$7:$J$88,$L$7:$L$88,P26,$K$7:$K$88,R$6) -> 0 | S26: =SUMIFS($J$7:$J$88,$L$7:$L$88,P26,$K$7:$K$88,S$6) -> 0 | T26: =SUMIFS($J$7:$J$88,$L$7:$L$88,P26,$K$7:$K$88,T$6) -> 0 | U26: =SUMIFS($J$7:$J$88,$L$7:$L$88,P26,$K$7:$K$88,U$6) -> 0 | V26: =SUMIFS($J$7:$J$88,$L$7:$L$88,P26,$K$7:$K$88,V$6) -> 0 | W26: =SUMIFS($J$7:$J$88,$L$7:$L$88,P26,$K$7:$K$88,W$6) -> 0 | Y26: =P26 | Z26: =IF(Q26=0," ",Q26) | AA26: =IF(R26=0," ",R26) | AB26: =IF(S26=0," ",S26) | AC26: =IF(T26=0," ",T26) | AD26: =IF(U26=0," ",U26) | AE26: =IF(V26=0," ",V26) | AF26: =IF(W26=0," ",W26)
A27: 71 | B27: 71 | C27: 17 | D27: 22 | E27: ЗАЙНУТДИНОВ Ренас | F27: ЗАЙНУТДИНОВ Ренас Раисович | G27: 03.06.00, МСМК | H27: МСМК | I27: ПФО | J27: Р. Татарстан, Казань, СШОР « Батыр» | K27: Р.Татарстан | M27: Иванов Василий Александрович | N27: ЗАЙНУТДИНОВ | Q27: =SUMIFS($J$7:$J$88,$L$7:$L$88,P27,$K$7:$K$88,Q$6) -> 0 | R27: =SUMIFS($J$7:$J$88,$L$7:$L$88,P27,$K$7:$K$88,R$6) -> 0 | S27: =SUMIFS($J$7:$J$88,$L$7:$L$88,P27,$K$7:$K$88,S$6) -> 0 | T27: =SUMIFS($J$7:$J$88,$L$7:$L$88,P27,$K$7:$K$88,T$6) -> 0 | U27: =SUMIFS($J$7:$J$88,$L$7:$L$88,P27,$K$7:$K$88,U$6) -> 0 | V27: =SUMIFS($J$7:$J$88,$L$7:$L$88,P27,$K$7:$K$88,V$6) -> 0 | W27: =SUMIFS($J$7:$J$88,$L$7:$L$88,P27,$K$7:$K$88,W$6) -> 0 | Y27: =P27 | Z27: =IF(Q27=0," ",Q27) | AA27: =IF(R27=0," ",R27) | AB27: =IF(S27=0," ",S27) | AC27: =IF(T27=0," ",T27) | AD27: =IF(U27=0," ",U27) | AE27: =IF(V27=0," ",V27) | AF27: =IF(W27=0," ",W27)
A28: 71 | B28: 71 | C28: 17 | D28: 23 | E28: КОСЫРЕВ Филипп | F28: КОСЫРЕВ Филипп Сергеевич | G28: 10.06.90, МС | H28: МС | I28: ЦФО | J28: Костромская обл., Кострома, ГБУ КО СШОР единоборств | K28: Костромская | M28: Кушнерик Г.Г., Степанов АА | N28: КОСЫРЕВ | Q28: =SUMIFS($J$7:$J$88,$L$7:$L$88,P28,$K$7:$K$88,Q$6) -> 0 | R28: =SUMIFS($J$7:$J$88,$L$7:$L$88,P28,$K$7:$K$88,R$6) -> 0 | S28: =SUMIFS($J$7:$J$88,$L$7:$L$88,P28,$K$7:$K$88,S$6) -> 0 | T28: =SUMIFS($J$7:$J$88,$L$7:$L$88,P28,$K$7:$K$88,T$6) -> 0 | U28: =SUMIFS($J$7:$J$88,$L$7:$L$88,P28,$K$7:$K$88,U$6) -> 0 | V28: =SUMIFS($J$7:$J$88,$L$7:$L$88,P28,$K$7:$K$88,V$6) -> 0 | W28: =SUMIFS($J$7:$J$88,$L$7:$L$88,P28,$K$7:$K$88,W$6) -> 0 | Y28: =P28 | Z28: =IF(Q28=0," ",Q28) | AA28: =IF(R28=0," ",R28) | AB28: =IF(S28=0," ",S28) | AC28: =IF(T28=0," ",T28) | AD28: =IF(U28=0," ",U28) | AE28: =IF(V28=0," ",V28) | AF28: =IF(W28=0," ",W28)
A29: 71 | B29: 71 | C29: 14 | D29: 24 | E29: БАРАХОЕВ Ахмет | F29: БАРАХОЕВ Ахмет Абдул-Ваганович | G29: 12.03.95, КМС | H29: КМС | I29: СПБ | J29: Санкт-Петербург, , Самбо-Питер | K29: Санкт-Петербург | M29: Талдиев А.А. | N29: БАРАХОЕВ | Q29: =SUMIFS($J$7:$J$88,$L$7:$L$88,P29,$K$7:$K$88,Q$6) -> 0 | R29: =SUMIFS($J$7:$J$88,$L$7:$L$88,P29,$K$7:$K$88,R$6) -> 0 | S29: =SUMIFS($J$7:$J$88,$L$7:$L$88,P29,$K$7:$K$88,S$6) -> 0 | T29: =SUMIFS($J$7:$J$88,$L$7:$L$88,P29,$K$7:$K$88,T$6) -> 0 | U29: =SUMIFS($J$7:$J$88,$L$7:$L$88,P29,$K$7:$K$88,U$6) -> 0 | V29: =SUMIFS($J$7:$J$88,$L$7:$L$88,P29,$K$7:$K$88,V$6) -> 0 | W29: =SUMIFS($J$7:$J$88,$L$7:$L$88,P29,$K$7:$K$88,W$6) -> 0 | Y29: =P29 | Z29: =IF(Q29=0," ",Q29) | AA29: =IF(R29=0," ",R29) | AB29: =IF(S29=0," ",S29) | AC29: =IF(T29=0," ",T29) | AD29: =IF(U29=0," ",U29) | AE29: =IF(V29=0," ",V29) | AF29: =IF(W29=0," ",W29)
A30: 71 | B30: 71 | D30: 25 | E30: ШЕИН Дмитрий | F30: ШЕИН Дмитрий Олегович | G30: 15.05.95, КМС | H30: КМС | I30: ПФО | J30: Пермский край, Пермь, СШОР г. Перми по дзюдо и самбо «Витязь» им. И. И. Пономарёва | K30: Пермский | M30: Спирин А. В. | N30: ШЕИН | Q30: =SUMIFS($J$7:$J$88,$L$7:$L$88,P30,$K$7:$K$88,Q$6) -> 0 | R30: =SUMIFS($J$7:$J$88,$L$7:$L$88,P30,$K$7:$K$88,R$6) -> 0 | S30: =SUMIFS($J$7:$J$88,$L$7:$L$88,P30,$K$7:$K$88,S$6) -> 0 | T30: =SUMIFS($J$7:$J$88,$L$7:$L$88,P30,$K$7:$K$88,T$6) -> 0 | U30: =SUMIFS($J$7:$J$88,$L$7:$L$88,P30,$K$7:$K$88,U$6) -> 0 | V30: =SUMIFS($J$7:$J$88,$L$7:$L$88,P30,$K$7:$K$88,V$6) -> 0 | W30: =SUMIFS($J$7:$J$88,$L$7:$L$88,P30,$K$7:$K$88,W$6) -> 0 | Y30: =P30 | Z30: =IF(Q30=0," ",Q30) | AA30: =IF(R30=0," ",R30) | AB30: =IF(S30=0," ",S30) | AC30: =IF(T30=0," ",T30) | AD30: =IF(U30=0," ",U30) | AE30: =IF(V30=0," ",V30) | AF30: =IF(W30=0," ",W30)
A31: 71 | B31: 71 | C31: 14 | D31: 26 | E31: ДУЛОВ Владислав | F31: ДУЛОВ Владислав Ярославович | G31: 22.08.02, КМС | H31: КМС | I31: ПФО | J31: Р. Башкортостан, г.Уфа, ВС | K31: Р.Башкортостан | M31: Ахметвалеев Ильнур Флюрович, Старовойтов Александр Эдуардович | N31: ДУЛОВ | Q31: =SUMIFS($J$7:$J$88,$L$7:$L$88,P31,$K$7:$K$88,Q$6) -> 0 | R31: =SUMIFS($J$7:$J$88,$L$7:$L$88,P31,$K$7:$K$88,R$6) -> 0 | S31: =SUMIFS($J$7:$J$88,$L$7:$L$88,P31,$K$7:$K$88,S$6) -> 0 | T31: =SUMIFS($J$7:$J$88,$L$7:$L$88,P31,$K$7:$K$88,T$6) -> 0 | U31: =SUMIFS($J$7:$J$88,$L$7:$L$88,P31,$K$7:$K$88,U$6) -> 0 | V31: =SUMIFS($J$7:$J$88,$L$7:$L$88,P31,$K$7:$K$88,V$6) -> 0 | W31: =SUMIFS($J$7:$J$88,$L$7:$L$88,P31,$K$7:$K$88,W$6) -> 0 | Y31: =P31 | Z31: =IF(Q31=0," ",Q31) | AA31: =IF(R31=0," ",R31) | AB31: =IF(S31=0," ",S31) | AC31: =IF(T31=0," ",T31) | AD31: =IF(U31=0," ",U31) | AE31: =IF(V31=0," ",V31) | AF31: =IF(W31=0," ",W31)
A32: 71 | B32: 71 | C32: 14 | D32: 27 | E32: ЗИННАТОВ Ролан | F32: ЗИННАТОВ Ролан Рифатович | G32: 26.12.96, МСМК | H32: МСМК | I32: ПФО | J32: Нижегородская обл., Кстово, ГБОУ ДО СШОР по самбо | K32: Нижегородская | M32: Елизаров ВА, Тимошин АС | N32: ЗИННАТОВ | Q32: =SUMIFS($J$7:$J$88,$L$7:$L$88,P32,$K$7:$K$88,Q$6) -> 0 | R32: =SUMIFS($J$7:$J$88,$L$7:$L$88,P32,$K$7:$K$88,R$6) -> 0 | S32: =SUMIFS($J$7:$J$88,$L$7:$L$88,P32,$K$7:$K$88,S$6) -> 0 | T32: =SUMIFS($J$7:$J$88,$L$7:$L$88,P32,$K$7:$K$88,T$6) -> 0 | U32: =SUMIFS($J$7:$J$88,$L$7:$L$88,P32,$K$7:$K$88,U$6) -> 0 | V32: =SUMIFS($J$7:$J$88,$L$7:$L$88,P32,$K$7:$K$88,V$6) -> 0 | W32: =SUMIFS($J$7:$J$88,$L$7:$L$88,P32,$K$7:$K$88,W$6) -> 0 | Y32: =P32 | Z32: =IF(Q32=0," ",Q32) | AA32: =IF(R32=0," ",R32) | AB32: =IF(S32=0," ",S32) | AC32: =IF(T32=0," ",T32) | AD32: =IF(U32=0," ",U32) | AE32: =IF(V32=0," ",V32) | AF32: =IF(W32=0," ",W32)
A33: 71 | B33: 71 | C33: 3 | D33: 28 | E33: АЛИБЕКОВ Джаддал | F33: АЛИБЕКОВ Джаддал Джамбекович | G33: 11.08.96, МС | H33: МС | I33: СКФО | J33: Чеченская, Грозный, МС | K33: Чеченская | M33: Исрапилов Х | N33: АЛИБЕКОВ | Q33: =SUMIFS($J$7:$J$88,$L$7:$L$88,P33,$K$7:$K$88,Q$6) -> 0 | R33: =SUMIFS($J$7:$J$88,$L$7:$L$88,P33,$K$7:$K$88,R$6) -> 0 | S33: =SUMIFS($J$7:$J$88,$L$7:$L$88,P33,$K$7:$K$88,S$6) -> 0 | T33: =SUMIFS($J$7:$J$88,$L$7:$L$88,P33,$K$7:$K$88,T$6) -> 0 | U33: =SUMIFS($J$7:$J$88,$L$7:$L$88,P33,$K$7:$K$88,U$6) -> 0 | V33: =SUMIFS($J$7:$J$88,$L$7:$L$88,P33,$K$7:$K$88,V$6) -> 0 | W33: =SUMIFS($J$7:$J$88,$L$7:$L$88,P33,$K$7:$K$88,W$6) -> 0 | Y33: =P33 | Z33: =IF(Q33=0," ",Q33) | AA33: =IF(R33=0," ",R33) | AB33: =IF(S33=0," ",S33) | AC33: =IF(T33=0," ",T33) | AD33: =IF(U33=0," ",U33) | AE33: =IF(V33=0," ",V33) | AF33: =IF(W33=0," ",W33)
A34: 71 | B34: 71 | C34: 7 | D34: 29 | E34: ПОДКОВАЛЬНИКОВ Никита | F34: ПОДКОВАЛЬНИКОВ Никита Сергеевич | G34: 21.03.93, МС | H34: МС | I34: ПФО | J34: Самарская обл., Самара, ГАУ ДО СО СШОР 1 | K34: Самарская | M34: Коновалов А.П., Будаков Н.Н. | N34: ПОДКОВАЛЬНИКОВ | Q34: =SUMIFS($J$7:$J$88,$L$7:$L$88,P34,$K$7:$K$88,Q$6) -> 0 | R34: =SUMIFS($J$7:$J$88,$L$7:$L$88,P34,$K$7:$K$88,R$6) -> 0 | S34: =SUMIFS($J$7:$J$88,$L$7:$L$88,P34,$K$7:$K$88,S$6) -> 0 | T34: =SUMIFS($J$7:$J$88,$L$7:$L$88,P34,$K$7:$K$88,T$6) -> 0 | U34: =SUMIFS($J$7:$J$88,$L$7:$L$88,P34,$K$7:$K$88,U$6) -> 0 | V34: =SUMIFS($J$7:$J$88,$L$7:$L$88,P34,$K$7:$K$88,V$6) -> 0 | W34: =SUMIFS($J$7:$J$88,$L$7:$L$88,P34,$K$7:$K$88,W$6) -> 0 | Y34: =P34 | Z34: =IF(Q34=0," ",Q34) | AA34: =IF(R34=0," ",R34) | AB34: =IF(S34=0," ",S34) | AC34: =IF(T34=0," ",T34) | AD34: =IF(U34=0," ",U34) | AE34: =IF(V34=0," ",V34) | AF34: =IF(W34=0," ",W34)
A35: 71 | B35: 71 | C35: 1 | D35: 30 | E35: АХТЕМИРОВ Темирхан | F35: АХТЕМИРОВ Темирхан Магомедович | G35: 31.08.93, КМС | H35: КМС | I35: ЦФО | J35: Тверская обл., Тверь, ТРСОО "ПСК "БРОСАЮЩИЙ ВЫЗОВ" | K35: Тверская | M35: Рыбинкин К.В., Матюшенский А.В. | N35: АХТЕМИРОВ | Q35: =SUMIFS($J$7:$J$88,$L$7:$L$88,P35,$K$7:$K$88,Q$6) -> 0 | R35: =SUMIFS($J$7:$J$88,$L$7:$L$88,P35,$K$7:$K$88,R$6) -> 0 | S35: =SUMIFS($J$7:$J$88,$L$7:$L$88,P35,$K$7:$K$88,S$6) -> 0 | T35: =SUMIFS($J$7:$J$88,$L$7:$L$88,P35,$K$7:$K$88,T$6) -> 0 | U35: =SUMIFS($J$7:$J$88,$L$7:$L$88,P35,$K$7:$K$88,U$6) -> 0 | V35: =SUMIFS($J$7:$J$88,$L$7:$L$88,P35,$K$7:$K$88,V$6) -> 0 | W35: =SUMIFS($J$7:$J$88,$L$7:$L$88,P35,$K$7:$K$88,W$6) -> 0 | Y35: =P35 | Z35: =IF(Q35=0," ",Q35) | AA35: =IF(R35=0," ",R35) | AB35: =IF(S35=0," ",S35) | AC35: =IF(T35=0," ",T35) | AD35: =IF(U35=0," ",U35) | AE35: =IF(V35=0," ",V35) | AF35: =IF(W35=0," ",W35)
A36: 71 | B36: 71 | C36: 27 | D36: 31 | E36: ЗАГИДОВ Далгат | F36: ЗАГИДОВ Далгат Энверович | G36: 05.02.95, МС | H36: МС | I36: СКФО | J36: Р.Дагестан, Махачкала, Абдулманапа Нурмагомедова | K36: Р.Дагестан | M36: Магомедов Махач Ахмедович | N36: ЗАГИДОВ | Q36: =SUMIFS($J$7:$J$88,$L$7:$L$88,P36,$K$7:$K$88,Q$6) -> 0 | R36: =SUMIFS($J$7:$J$88,$L$7:$L$88,P36,$K$7:$K$88,R$6) -> 0 | S36: =SUMIFS($J$7:$J$88,$L$7:$L$88,P36,$K$7:$K$88,S$6) -> 0 | T36: =SUMIFS($J$7:$J$88,$L$7:$L$88,P36,$K$7:$K$88,T$6) -> 0 | U36: =SUMIFS($J$7:$J$88,$L$7:$L$88,P36,$K$7:$K$88,U$6) -> 0 | V36: =SUMIFS($J$7:$J$88,$L$7:$L$88,P36,$K$7:$K$88,V$6) -> 0 | W36: =SUMIFS($J$7:$J$88,$L$7:$L$88,P36,$K$7:$K$88,W$6) -> 0 | Y36: =P36 | Z36: =IF(Q36=0," ",Q36) | AA36: =IF(R36=0," ",R36) | AB36: =IF(S36=0," ",S36) | AC36: =IF(T36=0," ",T36) | AD36: =IF(U36=0," ",U36) | AE36: =IF(V36=0," ",V36) | AF36: =IF(W36=0," ",W36)
A37: 71 | B37: 71 | C37: 28 | D37: 32 | E37: НИЛОВ Дмитрий | F37: НИЛОВ Дмитрий Сергеевич | G37: 09.10.99, МС | H37: МС | I37: СФО | J37: Новосибирская обл., Новосибирск, ГАУ ДО НСО СШ самбо | K37: Новосибирская | M37: Цыганов Сергей Владимирович, Постников Дмитрий Михайлович | N37: НИЛОВ | Q37: =SUMIFS($J$7:$J$88,$L$7:$L$88,P37,$K$7:$K$88,Q$6) -> 0 | R37: =SUMIFS($J$7:$J$88,$L$7:$L$88,P37,$K$7:$K$88,R$6) -> 0 | S37: =SUMIFS($J$7:$J$88,$L$7:$L$88,P37,$K$7:$K$88,S$6) -> 0 | T37: =SUMIFS($J$7:$J$88,$L$7:$L$88,P37,$K$7:$K$88,T$6) -> 0 | U37: =SUMIFS($J$7:$J$88,$L$7:$L$88,P37,$K$7:$K$88,U$6) -> 0 | V37: =SUMIFS($J$7:$J$88,$L$7:$L$88,P37,$K$7:$K$88,V$6) -> 0 | W37: =SUMIFS($J$7:$J$88,$L$7:$L$88,P37,$K$7:$K$88,W$6) -> 0 | Y37: =P37 | Z37: =IF(Q37=0," ",Q37) | AA37: =IF(R37=0," ",R37) | AB37: =IF(S37=0," ",S37) | AC37: =IF(T37=0," ",T37) | AD37: =IF(U37=0," ",U37) | AE37: =IF(V37=0," ",V37) | AF37: =IF(W37=0," ",W37)
A38: 71 | B38: 71 | C38: 33 | D38: 33 | E38: МУРАДОВ Рашад | F38: МУРАДОВ Рашад Махир Оглы | G38: 29.10.89, МСМК | H38: МСМК | I38: СЗФО | J38: Р. Карелия, Петрозаводск, СШОР 5 | K38: Р.Карелия | M38: Шегельман Р.И. | N38: МУРАДОВ | Q38: =SUMIFS($J$7:$J$88,$L$7:$L$88,P38,$K$7:$K$88,Q$6) -> 0 | R38: =SUMIFS($J$7:$J$88,$L$7:$L$88,P38,$K$7:$K$88,R$6) -> 0 | S38: =SUMIFS($J$7:$J$88,$L$7:$L$88,P38,$K$7:$K$88,S$6) -> 0 | T38: =SUMIFS($J$7:$J$88,$L$7:$L$88,P38,$K$7:$K$88,T$6) -> 0 | U38: =SUMIFS($J$7:$J$88,$L$7:$L$88,P38,$K$7:$K$88,U$6) -> 0 | V38: =SUMIFS($J$7:$J$88,$L$7:$L$88,P38,$K$7:$K$88,V$6) -> 0 | W38: =SUMIFS($J$7:$J$88,$L$7:$L$88,P38,$K$7:$K$88,W$6) -> 0 | Y38: =P38 | Z38: =IF(Q38=0," ",Q38) | AA38: =IF(R38=0," ",R38) | AB38: =IF(S38=0," ",S38) | AC38: =IF(T38=0," ",T38) | AD38: =IF(U38=0," ",U38) | AE38: =IF(V38=0," ",V38) | AF38: =IF(W38=0," ",W38)
A39: 71 | B39: 71 | C39: 35 | D39: 34 | E39: ДУГИЕВ Ибрагим | F39: ДУГИЕВ Ибрагим Хасанович | G39: 29.12.91, МСМК | H39: МСМК | I39: ЦФО | J39: Ярославская обл., Ярославль, МУ СШОР №17 | K39: Ярославская | M39: Воронин С.М. | N39: ДУГИЕВ | Q39: =SUMIFS($J$7:$J$88,$L$7:$L$88,P39,$K$7:$K$88,Q$6) -> 0 | R39: =SUMIFS($J$7:$J$88,$L$7:$L$88,P39,$K$7:$K$88,R$6) -> 0 | S39: =SUMIFS($J$7:$J$88,$L$7:$L$88,P39,$K$7:$K$88,S$6) -> 0 | T39: =SUMIFS($J$7:$J$88,$L$7:$L$88,P39,$K$7:$K$88,T$6) -> 0 | U39: =SUMIFS($J$7:$J$88,$L$7:$L$88,P39,$K$7:$K$88,U$6) -> 0 | V39: =SUMIFS($J$7:$J$88,$L$7:$L$88,P39,$K$7:$K$88,V$6) -> 0 | W39: =SUMIFS($J$7:$J$88,$L$7:$L$88,P39,$K$7:$K$88,W$6) -> 0 | X39: =SUM(Q7:T38) -> 0 | Y39: =P39 | Z39: =IF(Q39=0," ",Q39) | AA39: =IF(R39=0," ",R39) | AB39: =IF(S39=0," ",S39) | AC39: =IF(T39=0," ",T39) | AD39: =IF(U39=0," ",U39) | AE39: =IF(V39=0," ",V39) | AF39: =IF(W39=0," ",W39)
A40: 71 | B40: 71 | C40: 6 | D40: 35 | E40: БЕЛОНОГОВ Михаил | F40: БЕЛОНОГОВ Михаил Эдуардович | G40: 24.08.99, МС | H40: МС | I40: ПФО | J40: Пермский край, Пермь, Мау "сшор по дзюдо г. Перми Пермский Кодокан " | K40: Пермский | M40: Шакало С.В. Спирин А.В. | N40: БЕЛОНОГОВ | Q40: =SUMIFS($J$7:$J$88,$L$7:$L$88,P40,$K$7:$K$88,Q$6) -> 0 | R40: =SUMIFS($J$7:$J$88,$L$7:$L$88,P40,$K$7:$K$88,R$6) -> 0 | S40: =SUMIFS($J$7:$J$88,$L$7:$L$88,P40,$K$7:$K$88,S$6) -> 0 | T40: =SUMIFS($J$7:$J$88,$L$7:$L$88,P40,$K$7:$K$88,T$6) -> 0 | U40: =SUMIFS($J$7:$J$88,$L$7:$L$88,P40,$K$7:$K$88,U$6) -> 0 | V40: =SUMIFS($J$7:$J$88,$L$7:$L$88,P40,$K$7:$K$88,V$6) -> 0 | W40: =SUMIFS($J$7:$J$88,$L$7:$L$88,P40,$K$7:$K$88,W$6) -> 0 | Y40: =P40 | Z40: =IF(Q40=0," ",Q40) | AA40: =IF(R40=0," ",R40) | AB40: =IF(S40=0," ",S40) | AC40: =IF(T40=0," ",T40) | AD40: =IF(U40=0," ",U40) | AE40: =IF(V40=0," ",V40) | AF40: =IF(W40=0," ",W40)
A41: 71 | B41: 71 | C41: 6 | D41: 36 | E41: АБДУЛАЗИЗОВ Камиль | F41: АБДУЛАЗИЗОВ Камиль Магомедович | G41: 13.04.94, МСМК | H41: МСМК | I41: МОС | J41: Москва, Москва, Самбо- | K41: Москва | M41: Елесин Н.А., Абдулазизов М.М. | N41: АБДУЛАЗИЗОВ | Q41: =SUMIFS($J$7:$J$88,$L$7:$L$88,P41,$K$7:$K$88,Q$6) -> 0 | R41: =SUMIFS($J$7:$J$88,$L$7:$L$88,P41,$K$7:$K$88,R$6) -> 0 | S41: =SUMIFS($J$7:$J$88,$L$7:$L$88,P41,$K$7:$K$88,S$6) -> 0 | T41: =SUMIFS($J$7:$J$88,$L$7:$L$88,P41,$K$7:$K$88,T$6) -> 0 | U41: =SUMIFS($J$7:$J$88,$L$7:$L$88,P41,$K$7:$K$88,U$6) -> 0 | V41: =SUMIFS($J$7:$J$88,$L$7:$L$88,P41,$K$7:$K$88,V$6) -> 0 | W41: =SUMIFS($J$7:$J$88,$L$7:$L$88,P41,$K$7:$K$88,W$6) -> 0 | Y41: =P41 | Z41: =IF(Q41=0," ",Q41) | AA41: =IF(R41=0," ",R41) | AB41: =IF(S41=0," ",S41) | AC41: =IF(T41=0," ",T41) | AD41: =IF(U41=0," ",U41) | AE41: =IF(V41=0," ",V41) | AF41: =IF(W41=0," ",W41)
A42: 71 | B42: 71 | D42: 37 | E42: СУЛТАНОВ Иман | F42: СУЛТАНОВ Иман Омариевич | G42: 05.12.93, КМС | H42: КМС | I42: СКФО | J42: Р.Дагестан, Махачкала, Абдулманапа Нурмагомедова | K42: Р.Дагестан | M42: Махач Ахмедович Магомедов | N42: СУЛТАНОВ | Q42: =SUMIFS($J$7:$J$88,$L$7:$L$88,P42,$K$7:$K$88,Q$6) -> 0 | R42: =SUMIFS($J$7:$J$88,$L$7:$L$88,P42,$K$7:$K$88,R$6) -> 0 | S42: =SUMIFS($J$7:$J$88,$L$7:$L$88,P42,$K$7:$K$88,S$6) -> 0 | T42: =SUMIFS($J$7:$J$88,$L$7:$L$88,P42,$K$7:$K$88,T$6) -> 0 | U42: =SUMIFS($J$7:$J$88,$L$7:$L$88,P42,$K$7:$K$88,U$6) -> 0 | V42: =SUMIFS($J$7:$J$88,$L$7:$L$88,P42,$K$7:$K$88,V$6) -> 0 | W42: =SUMIFS($J$7:$J$88,$L$7:$L$88,P42,$K$7:$K$88,W$6) -> 0 | Y42: =P42 | Z42: =IF(Q42=0," ",Q42) | AA42: =IF(R42=0," ",R42) | AB42: =IF(S42=0," ",S42) | AC42: =IF(T42=0," ",T42) | AD42: =IF(U42=0," ",U42) | AE42: =IF(V42=0," ",V42) | AF42: =IF(W42=0," ",W42)
Q43: =SUMIFS($J$7:$J$88,$L$7:$L$88,P43,$K$7:$K$88,Q$6) -> 0 | R43: =SUMIFS($J$7:$J$88,$L$7:$L$88,P43,$K$7:$K$88,R$6) -> 0 | S43: =SUMIFS($J$7:$J$88,$L$7:$L$88,P43,$K$7:$K$88,S$6) -> 0 | T43: =SUMIFS($J$7:$J$88,$L$7:$L$88,P43,$K$7:$K$88,T$6) -> 0 | U43: =SUMIFS($J$7:$J$88,$L$7:$L$88,P43,$K$7:$K$88,U$6) -> 0 | V43: =SUMIFS($J$7:$J$88,$L$7:$L$88,P43,$K$7:$K$88,V$6) -> 0 | W43: =SUMIFS($J$7:$J$88,$L$7:$L$88,P43,$K$7:$K$88,W$6) -> 0 | Y43: =P43 | Z43: =IF(Q43=0," ",Q43) | AA43: =IF(R43=0," ",R43) | AB43: =IF(S43=0," ",S43) | AC43: =IF(T43=0," ",T43) | AD43: =IF(U43=0," ",U43) | AE43: =IF(V43=0," ",V43) | AF43: =IF(W43=0," ",W43)
Q44: =SUMIFS($J$7:$J$88,$L$7:$L$88,P44,$K$7:$K$88,Q$6) -> 0 | R44: =SUMIFS($J$7:$J$88,$L$7:$L$88,P44,$K$7:$K$88,R$6) -> 0 | S44: =SUMIFS($J$7:$J$88,$L$7:$L$88,P44,$K$7:$K$88,S$6) -> 0 | T44: =SUMIFS($J$7:$J$88,$L$7:$L$88,P44,$K$7:$K$88,T$6) -> 0 | U44: =SUMIFS($J$7:$J$88,$L$7:$L$88,P44,$K$7:$K$88,U$6) -> 0 | V44: =SUMIFS($J$7:$J$88,$L$7:$L$88,P44,$K$7:$K$88,V$6) -> 0 | W44: =SUMIFS($J$7:$J$88,$L$7:$L$88,P44,$K$7:$K$88,W$6) -> 0 | Y44: =P44 | Z44: =IF(Q44=0," ",Q44) | AA44: =IF(R44=0," ",R44) | AB44: =IF(S44=0," ",S44) | AC44: =IF(T44=0," ",T44) | AD44: =IF(U44=0," ",U44) | AE44: =IF(V44=0," ",V44) | AF44: =IF(W44=0," ",W44)
Q45: =SUMIFS($J$7:$J$88,$L$7:$L$88,P45,$K$7:$K$88,Q$6) -> 0 | R45: =SUMIFS($J$7:$J$88,$L$7:$L$88,P45,$K$7:$K$88,R$6) -> 0 | S45: =SUMIFS($J$7:$J$88,$L$7:$L$88,P45,$K$7:$K$88,S$6) -> 0 | T45: =SUMIFS($J$7:$J$88,$L$7:$L$88,P45,$K$7:$K$88,T$6) -> 0 | U45: =SUMIFS($J$7:$J$88,$L$7:$L$88,P45,$K$7:$K$88,U$6) -> 0 | V45: =SUMIFS($J$7:$J$88,$L$7:$L$88,P45,$K$7:$K$88,V$6) -> 0 | W45: =SUMIFS($J$7:$J$88,$L$7:$L$88,P45,$K$7:$K$88,W$6) -> 0 | Y45: =P45 | Z45: =IF(Q45=0," ",Q45) | AA45: =IF(R45=0," ",R45) | AB45: =IF(S45=0," ",S45) | AC45: =IF(T45=0," ",T45) | AD45: =IF(U45=0," ",U45) | AE45: =IF(V45=0," ",V45) | AF45: =IF(W45=0," ",W45)
Q46: =SUMIFS($J$7:$J$88,$L$7:$L$88,P46,$K$7:$K$88,Q$6) -> 0 | R46: =SUMIFS($J$7:$J$88,$L$7:$L$88,P46,$K$7:$K$88,R$6) -> 0 | S46: =SUMIFS($J$7:$J$88,$L$7:$L$88,P46,$K$7:$K$88,S$6) -> 0 | T46: =SUMIFS($J$7:$J$88,$L$7:$L$88,P46,$K$7:$K$88,T$6) -> 0 | U46: =SUMIFS($J$7:$J$88,$L$7:$L$88,P46,$K$7:$K$88,U$6) -> 0 | V46: =SUMIFS($J$7:$J$88,$L$7:$L$88,P46,$K$7:$K$88,V$6) -> 0 | W46: =SUMIFS($J$7:$J$88,$L$7:$L$88,P46,$K$7:$K$88,W$6) -> 0 | Y46: =P46 | Z46: =IF(Q46=0," ",Q46) | AA46: =IF(R46=0," ",R46) | AB46: =IF(S46=0," ",S46) | AC46: =IF(T46=0," ",T46) | AD46: =IF(U46=0," ",U46) | AE46: =IF(V46=0," ",V46) | AF46: =IF(W46=0," ",W46)
Q47: =SUMIFS($J$7:$J$88,$L$7:$L$88,P47,$K$7:$K$88,Q$6) -> 0 | R47: =SUMIFS($J$7:$J$88,$L$7:$L$88,P47,$K$7:$K$88,R$6) -> 0 | S47: =SUMIFS($J$7:$J$88,$L$7:$L$88,P47,$K$7:$K$88,S$6) -> 0 | T47: =SUMIFS($J$7:$J$88,$L$7:$L$88,P47,$K$7:$K$88,T$6) -> 0 | U47: =SUMIFS($J$7:$J$88,$L$7:$L$88,P47,$K$7:$K$88,U$6) -> 0 | V47: =SUMIFS($J$7:$J$88,$L$7:$L$88,P47,$K$7:$K$88,V$6) -> 0 | W47: =SUMIFS($J$7:$J$88,$L$7:$L$88,P47,$K$7:$K$88,W$6) -> 0 | Y47: =P47 | Z47: =IF(Q47=0," ",Q47) | AA47: =IF(R47=0," ",R47) | AB47: =IF(S47=0," ",S47) | AC47: =IF(T47=0," ",T47) | AD47: =IF(U47=0," ",U47) | AE47: =IF(V47=0," ",V47) | AF47: =IF(W47=0," ",W47)
Q48: =SUMIFS($J$7:$J$88,$L$7:$L$88,P48,$K$7:$K$88,Q$6) -> 0 | R48: =SUMIFS($J$7:$J$88,$L$7:$L$88,P48,$K$7:$K$88,R$6) -> 0 | S48: =SUMIFS($J$7:$J$88,$L$7:$L$88,P48,$K$7:$K$88,S$6) -> 0 | T48: =SUMIFS($J$7:$J$88,$L$7:$L$88,P48,$K$7:$K$88,T$6) -> 0 | U48: =SUMIFS($J$7:$J$88,$L$7:$L$88,P48,$K$7:$K$88,U$6) -> 0 | V48: =SUMIFS($J$7:$J$88,$L$7:$L$88,P48,$K$7:$K$88,V$6) -> 0 | W48: =SUMIFS($J$7:$J$88,$L$7:$L$88,P48,$K$7:$K$88,W$6) -> 0 | Y48: =P48 | Z48: =IF(Q48=0," ",Q48) | AA48: =IF(R48=0," ",R48) | AB48: =IF(S48=0," ",S48) | AC48: =IF(T48=0," ",T48) | AD48: =IF(U48=0," ",U48) | AE48: =IF(V48=0," ",V48) | AF48: =IF(W48=0," ",W48)
Q49: =SUMIFS($J$7:$J$88,$L$7:$L$88,P49,$K$7:$K$88,Q$6) -> 0 | R49: =SUMIFS($J$7:$J$88,$L$7:$L$88,P49,$K$7:$K$88,R$6) -> 0 | S49: =SUMIFS($J$7:$J$88,$L$7:$L$88,P49,$K$7:$K$88,S$6) -> 0 | T49: =SUMIFS($J$7:$J$88,$L$7:$L$88,P49,$K$7:$K$88,T$6) -> 0 | U49: =SUMIFS($J$7:$J$88,$L$7:$L$88,P49,$K$7:$K$88,U$6) -> 0 | V49: =SUMIFS($J$7:$J$88,$L$7:$L$88,P49,$K$7:$K$88,V$6) -> 0 | W49: =SUMIFS($J$7:$J$88,$L$7:$L$88,P49,$K$7:$K$88,W$6) -> 0 | Y49: =P49 | Z49: =IF(Q49=0," ",Q49) | AA49: =IF(R49=0," ",R49) | AB49: =IF(S49=0," ",S49) | AC49: =IF(T49=0," ",T49) | AD49: =IF(U49=0," ",U49) | AE49: =IF(V49=0," ",V49) | AF49: =IF(W49=0," ",W49)
Q50: =SUMIFS($J$7:$J$88,$L$7:$L$88,P50,$K$7:$K$88,Q$6) -> 0 | R50: =SUMIFS($J$7:$J$88,$L$7:$L$88,P50,$K$7:$K$88,R$6) -> 0 | S50: =SUMIFS($J$7:$J$88,$L$7:$L$88,P50,$K$7:$K$88,S$6) -> 0 | T50: =SUMIFS($J$7:$J$88,$L$7:$L$88,P50,$K$7:$K$88,T$6) -> 0 | U50: =SUMIFS($J$7:$J$88,$L$7:$L$88,P50,$K$7:$K$88,U$6) -> 0 | V50: =SUMIFS($J$7:$J$88,$L$7:$L$88,P50,$K$7:$K$88,V$6) -> 0 | W50: =SUMIFS($J$7:$J$88,$L$7:$L$88,P50,$K$7:$K$88,W$6) -> 0 | Y50: =P50 | Z50: =IF(Q50=0," ",Q50) | AA50: =IF(R50=0," ",R50) | AB50: =IF(S50=0," ",S50) | AC50: =IF(T50=0," ",T50) | AD50: =IF(U50=0," ",U50) | AE50: =IF(V50=0," ",V50) | AF50: =IF(W50=0," ",W50)
Q54: =SUMIFS($J$7:$J$88,$L$7:$L$88,P54,$K$7:$K$88,Q$6) -> 0 | R54: =SUMIFS($J$7:$J$88,$L$7:$L$88,P54,$K$7:$K$88,R$6) -> 0 | S54: =SUMIFS($J$7:$J$88,$L$7:$L$88,P54,$K$7:$K$88,S$6) -> 0 | T54: =SUMIFS($J$7:$J$88,$L$7:$L$88,P54,$K$7:$K$88,T$6) -> 0 | U54: =SUMIFS($J$7:$J$88,$L$7:$L$88,P54,$K$7:$K$88,U$6) -> 0 | V54: =SUMIFS($J$7:$J$88,$L$7:$L$88,P54,$K$7:$K$88,V$6) -> 0 | W54: =SUMIFS($J$7:$J$88,$L$7:$L$88,P54,$K$7:$K$88,W$6) -> 0 | Y54: =P54 | Z54: =IF(Q54=0," ",Q54) | AA54: =IF(R54=0," ",R54) | AB54: =IF(S54=0," ",S54) | AC54: =IF(T54=0," ",T54) | AD54: =IF(U54=0," ",U54) | AE54: =IF(V54=0," ",V54) | AF54: =IF(W54=0," ",W54)
Q55: =SUMIFS($J$7:$J$88,$L$7:$L$88,P55,$K$7:$K$88,Q$6) -> 0 | R55: =SUMIFS($J$7:$J$88,$L$7:$L$88,P55,$K$7:$K$88,R$6) -> 0 | S55: =SUMIFS($J$7:$J$88,$L$7:$L$88,P55,$K$7:$K$88,S$6) -> 0 | T55: =SUMIFS($J$7:$J$88,$L$7:$L$88,P55,$K$7:$K$88,T$6) -> 0 | U55: =SUMIFS($J$7:$J$88,$L$7:$L$88,P55,$K$7:$K$88,U$6) -> 0 | V55: =SUMIFS($J$7:$J$88,$L$7:$L$88,P55,$K$7:$K$88,V$6) -> 0 | W55: =SUMIFS($J$7:$J$88,$L$7:$L$88,P55,$K$7:$K$88,W$6) -> 0 | Y55: =P55 | Z55: =IF(Q55=0," ",Q55) | AA55: =IF(R55=0," ",R55) | AB55: =IF(S55=0," ",S55) | AC55: =IF(T55=0," ",T55) | AD55: =IF(U55=0," ",U55) | AE55: =IF(V55=0," ",V55) | AF55: =IF(W55=0," ",W55)
Q56: =SUMIFS($J$7:$J$88,$L$7:$L$88,P56,$K$7:$K$88,Q$6) -> 0 | R56: =SUMIFS($J$7:$J$88,$L$7:$L$88,P56,$K$7:$K$88,R$6) -> 0 | S56: =SUMIFS($J$7:$J$88,$L$7:$L$88,P56,$K$7:$K$88,S$6) -> 0 | T56: =SUMIFS($J$7:$J$88,$L$7:$L$88,P56,$K$7:$K$88,T$6) -> 0 | U56: =SUMIFS($J$7:$J$88,$L$7:$L$88,P56,$K$7:$K$88,U$6) -> 0 | V56: =SUMIFS($J$7:$J$88,$L$7:$L$88,P56,$K$7:$K$88,V$6) -> 0 | W56: =SUMIFS($J$7:$J$88,$L$7:$L$88,P56,$K$7:$K$88,W$6) -> 0 | Y56: =P56 | Z56: =IF(Q56=0," ",Q56) | AA56: =IF(R56=0," ",R56) | AB56: =IF(S56=0," ",S56) | AC56: =IF(T56=0," ",T56) | AD56: =IF(U56=0," ",U56) | AE56: =IF(V56=0," ",V56) | AF56: =IF(W56=0," ",W56)
Q57: =SUMIFS($J$7:$J$88,$L$7:$L$88,P57,$K$7:$K$88,Q$6) -> 0 | R57: =SUMIFS($J$7:$J$88,$L$7:$L$88,P57,$K$7:$K$88,R$6) -> 0 | S57: =SUMIFS($J$7:$J$88,$L$7:$L$88,P57,$K$7:$K$88,S$6) -> 0 | T57: =SUMIFS($J$7:$J$88,$L$7:$L$88,P57,$K$7:$K$88,T$6) -> 0 | U57: =SUMIFS($J$7:$J$88,$L$7:$L$88,P57,$K$7:$K$88,U$6) -> 0 | V57: =SUMIFS($J$7:$J$88,$L$7:$L$88,P57,$K$7:$K$88,V$6) -> 0 | W57: =SUMIFS($J$7:$J$88,$L$7:$L$88,P57,$K$7:$K$88,W$6) -> 0 | Y57: =P57 | Z57: =IF(Q57=0," ",Q57) | AA57: =IF(R57=0," ",R57) | AB57: =IF(S57=0," ",S57) | AC57: =IF(T57=0," ",T57) | AD57: =IF(U57=0," ",U57) | AE57: =IF(V57=0," ",V57) | AF57: =IF(W57=0," ",W57)
... Q70: =SUMIFS($J$7:$J$88,$L$7:$L$88,P70,$K$7:$K$88,Q$6) -> 0 | R70: =SUMIFS($J$7:$J$88,$L$7:$L$88,P70,$K$7:$K$88,R$6) -> 0 | S70: =SUMIFS($J$7:$J$88,$L$7:$L$88,P70,$K$7:$K$88,S$6) -> 0 | T70: =SUMIFS($J$7:$J$88,$L$7:$L$88,P70,$K$7:$K$88,T$6) -> 0 | U70: =SUMIFS($J$7:$J$88,$L$7:$L$88,P70,$K$7:$K$88,U$6) -> 0 | V70: =SUMIFS($J$7:$J$88,$L$7:$L$88,P70,$K$7:$K$88,V$6) -> 0 | W70: =SUMIFS($J$7:$J$88,$L$7:$L$88,P70,$K$7:$K$88,W$6) -> 0 | Y70: =P70 | Z70: =IF(Q70=0," ",Q70) | AA70: =IF(R70=0," ",R70) | AB70: =IF(S70=0," ",S70) | AC70: =IF(T70=0," ",T70) | AD70: =IF(U70=0," ",U70) | AE70: =IF(V70=0," ",V70) | AF70: =IF(W70=0," ",W70)
A73: гл.судья:
A75: гл.секретарь:
A77: судьи:
A79: врач:

Sheet пр.хода
F1: ВСЕРОССИЙСКАЯ ФЕДЕРАЦИЯ САМБО | AB1: ='пр.взв'!$D$4 | AD1: ='пр.взв'!G4 -> В.к. 71 кг
F2: ПРОТОКОЛ ХОДА СОРЕВНОВАНИЙ
C3: ='пр.взв'!C2 -> Чемпионат России по самбо (боевое) мужчины (отбор на Чемпионат Мира и Европы) ЕКП №23747 | AD3: =AH3&" "&AI3 -> 37 участников | AH3: ='пр.взв'!O3 -> 37 | AI3: участников
A4: Подгруппа А | H4: ='пр.взв'!C3 -> 27.02 - 03.03.2023 г. г. Пермь | AB4: Подгруппа Б
A5: 1 | B5: =IFERROR(VLOOKUP(A5,'пр.взв'!$D$6:$Q$70,2,0),"") -> БУДАКОВ Наил | C5: =IFERROR(VLOOKUP(A5,'пр.взв'!$D$6:$Q$70,5,0),"") -> МС | D5: =IFERROR(VLOOKUP(A5,'пр.взв'!$D$6:$Q$70,8,0),"") -> Самарская | AB5: =IFERROR(VLOOKUP(AE5,'пр.взв'!$D$6:$Q$70,2,0),"") -> ДУШКАНОВ Дамир | AC5: =IFERROR(VLOOKUP(AE5,'пр.взв'!$D$6:$Q$70,5,0),"") -> КМС | AD5: =IFERROR(VLOOKUP(AE5,'пр.взв'!$D$6:$Q$70,8,0),"") -> Самарская | AE5: 2
AH6: =N32 | AK6: 1
A7: 33 | B7: =IFERROR(VLOOKUP(A7,'пр.взв'!$D$6:$Q$70,2,0),"") -> МУРАДОВ Рашад | C7: =IFERROR(VLOOKUP(A7,'пр.взв'!$D$6:$Q$70,5,0),"") -> МСМК | D7: =IFERROR(VLOOKUP(A7,'пр.взв'!$D$6:$Q$70,8,0),"") -> Р.Карелия | AB7: =IFERROR(VLOOKUP(AE7,'пр.взв'!$D$6:$Q$70,2,0),"") -> ДУГИЕВ Ибрагим | AC7: =IFERROR(VLOOKUP(AE7,'пр.взв'!$D$6:$Q$70,5,0),"") -> МСМК | AD7: =IFERROR(VLOOKUP(AE7,'пр.взв'!$D$6:$Q$70,8,0),"") -> Ярославская | AE7: 34 | AH7: =N40 | AK7: 2
AG8: 3м | AH8: =IF(M36=""," ",IF(M36=K20,K53,K20)) | AI8: 3 | AK8: 3
A9: 17 | B9: =IFERROR(VLOOKUP(A9,'пр.взв'!$D$6:$Q$70,2,0),"") -> ЭСКИЕВ Рузбек | C9: =IFERROR(VLOOKUP(A9,'пр.взв'!$D$6:$Q$70,5,0),"") -> МС | D9: =IFERROR(VLOOKUP(A9,'пр.взв'!$D$6:$Q$70,8,0),"") -> Чеченская | AB9: =IFERROR(VLOOKUP(AE9,'пр.взв'!$D$6:$Q$70,2,0),"") -> ГЛАЗЫРИН Александр | AC9: =IFERROR(VLOOKUP(AE9,'пр.взв'!$D$6:$Q$70,5,0),"") -> КМС | AD9: =IFERROR(VLOOKUP(AE9,'пр.взв'!$D$6:$Q$70,8,0),"") -> Пермский | AE9: 18 | AG9: 3м | AH9: =IF(S36=""," ",IF(S36=U20,U53,U20)) | AI9: 4 | AK9: 5
E10: 17 | AA10: 18 | AG10: 5м | AH10: =IF(K20=""," ",IF(K20=I12,I28,I12)) | AI10: 5 | AK10: 6
A11: 49 | B11: =IFERROR(VLOOKUP(A11,'пр.взв'!$D$6:$Q$70,2,0),"") | C11: =IFERROR(VLOOKUP(A11,'пр.взв'!$D$6:$Q$70,5,0),"") | D11: =IFERROR(VLOOKUP(A11,'пр.взв'!$D$6:$Q$70,8,0),"") | AB11: =IFERROR(VLOOKUP(AE11,'пр.взв'!$D$6:$Q$70,2,0),"") | AC11: =IFERROR(VLOOKUP(AE11,'пр.взв'!$D$6:$Q$70,5,0),"") | AD11: =IFERROR(VLOOKUP(AE11,'пр.взв'!$D$6:$Q$70,8,0),"") | AE11: 50 | AG11: 5м | AH11: =IF(K53=""," ",IF(K53=I45,I61,I45)) | AI11: 6 | AK11: 7
AG12: 5м | AH12: =IF(U20=""," ",IF(U20=W12,W28,U20)) | AI12: 7 | AK12: 8
A13: 9 | B13: =IFERROR(VLOOKUP(A13,'пр.взв'!$D$6:$Q$70,2,0),"") -> ДУГУЖЕВ Азамат | C13: =IFERROR(VLOOKUP(A13,'пр.взв'!$D$6:$Q$70,5,0),"") -> МС | D13: =IFERROR(VLOOKUP(A13,'пр.взв'!$D$6:$Q$70,8,0),"") -> Санкт-Петербург | AB13: =IFERROR(VLOOKUP(AE13,'пр.взв'!$D$6:$Q$70,2,0),"") -> ДАМДИНОВ Бато | AC13: =IFERROR(VLOOKUP(AE13,'пр.взв'!$D$6:$Q$70,5,0),"") -> МС | AD13: =IFERROR(VLOOKUP(AE13,'пр.взв'!$D$6:$Q$70,8,0),"") -> Р.Бурятия | AE13: 10 | AG13: 5м | AH13: =IF(U53=""," ",IF(U53=W45,W61,W45)) | AI13: 8 | AK13: 10
E14: 9 | AA14: 10 | AG14: 9м | AH14: =IF(I12=""," ",IF(I12=G8,G16,G8)) | AI14: 9 | AK14: 11
A15: 41 | B15: =IFERROR(VLOOKUP(A15,'пр.взв'!$D$6:$Q$70,2,0),"") | C15: =IFERROR(VLOOKUP(A15,'пр.взв'!$D$6:$Q$70,5,0),"") | D15: =IFERROR(VLOOKUP(A15,'пр.взв'!$D$6:$Q$70,8,0),"") | AB15: =IFERROR(VLOOKUP(AE15,'пр.взв'!$D$6:$Q$70,2,0),"") | AC15: =IFERROR(VLOOKUP(AE15,'пр.взв'!$D$6:$Q$70,5,0),"") | AD15: =IFERROR(VLOOKUP(AE15,'пр.взв'!$D$6:$Q$70,8,0),"") | AE15: 42 | AG15: 9м | AH15: =IF(I28=""," ",IF(I28=G24,G32,G24)) | AI15: 10 | AK15: 12
AG16: 9м | AH16: =IF(I45=""," ",IF(I45=G41,G49,G41)) | AI16: 11 | AK16: 13
A17: 25 | B17: =IFERROR(VLOOKUP(A17,'пр.взв'!$D$6:$Q$70,2,0),"") -> ШЕИН Дмитрий | C17: =IFERROR(VLOOKUP(A17,'пр.взв'!$D$6:$Q$70,5,0),"") -> КМС | D17: =IFERROR(VLOOKUP(A17,'пр.взв'!$D$6:$Q$70,8,0),"") -> Пермский | AB17: =IFERROR(VLOOKUP(AE17,'пр.взв'!$D$6:$Q$70,2,0),"") -> ДУЛОВ Владислав | AC17: =IFERROR(VLOOKUP(AE17,'пр.взв'!$D$6:$Q$70,5,0),"") -> КМС | AD17: =IFERROR(VLOOKUP(AE17,'пр.взв'!$D$6:$Q$70,8,0),"") -> Р.Башкортостан | AE17: 26 | AG17: 9м | AH17: =IF(I61=""," ",IF(I61=G57,G65,G57)) | AI17: 12 | AK17: 14
E18: 25 | AA18: 26 | AG18: 9м | AH18: =IF(W12=""," ",IF(W12=Y8,Y16,Y8)) | AI18: 13 | AK18: 15
A19: 57 | B19: =IFERROR(VLOOKUP(A19,'пр.взв'!$D$6:$Q$70,2,0),"") | C19: =IFERROR(VLOOKUP(A19,'пр.взв'!$D$6:$Q$70,5,0),"") | D19: =IFERROR(VLOOKUP(A19,'пр.взв'!$D$6:$Q$70,8,0),"") | AB19: =IFERROR(VLOOKUP(AE19,'пр.взв'!$D$6:$Q$70,2,0),"") | AC19: =IFERROR(VLOOKUP(AE19,'пр.взв'!$D$6:$Q$70,5,0),"") | AD19: =IFERROR(VLOOKUP(AE19,'пр.взв'!$D$6:$Q$70,8,0),"") | AE19: 58 | AG19: 9м | AH19: =IF(W28=""," ",IF(W28=Y24,Y32,Y24)) | AI19: 14 | AK19: 16
AG20: 9м | AH20: =IF(W45=""," ",IF(W45=Y41,Y49,Y41)) | AI20: 15 | AK20: 17
A21: 5 | B21: =IFERROR(VLOOKUP(A21,'пр.взв'!$D$6:$Q$70,2,0),"") -> КРАСАВЦЕВ Александр | C21: =IFERROR(VLOOKUP(A21,'пр.взв'!$D$6:$Q$70,5,0),"") -> МС | D21: =IFERROR(VLOOKUP(A21,'пр.взв'!$D$6:$Q$70,8,0),"") -> Московская | AB21: =IFERROR(VLOOKUP(AE21,'пр.взв'!$D$6:$Q$70,2,0),"") -> САИДОВ Магомед | AC21: =IFERROR(VLOOKUP(AE21,'пр.взв'!$D$6:$Q$70,5,0),"") -> КМС | AD21: =IFERROR(VLOOKUP(AE21,'пр.взв'!$D$6:$Q$70,8,0),"") -> Р.Дагестан | AE21: 6 | AG21: 9м | AH21: =IF(W61=""," ",IF(W61=Y57,Y65,Y57)) | AI21: 16 | AK21: 18
E22: 5 | AA22: 6 | AG22: 17 | AH22: =IF(G8=""," ",IF(E6=G8,E10,E6)) | AI22: 17 | AK22: 19
A23: 37 | B23: =IFERROR(VLOOKUP(A23,'пр.взв'!$D$6:$Q$70,2,0),"") -> СУЛТАНОВ Иман | C23: =IFERROR(VLOOKUP(A23,'пр.взв'!$D$6:$Q$70,5,0),"") -> КМС | D23: =IFERROR(VLOOKUP(A23,'пр.взв'!$D$6:$Q$70,8,0),"") -> Р.Дагестан | AB23: =IFERROR(VLOOKUP(AE23,'пр.взв'!$D$6:$Q$70,2,0),"") | AC23: =IFERROR(VLOOKUP(AE23,'пр.взв'!$D$6:$Q$70,5,0),"") | AD23: =IFERROR(VLOOKUP(AE23,'пр.взв'!$D$6:$Q$70,8,0),"") | AE23: 38 | AG23: 18 | AH23: =IF(G16=""," ",IF(E14=G16,E18,E14)) | AI23: 18 | AK23: 20
AG24: 19 | AH24: =IF(G24=""," ",IF(E22=G24,E26,E22)) | AI24: 19 | AK24: 21
A25: 21 | B25: =IFERROR(VLOOKUP(A25,'пр.взв'!$D$6:$Q$70,2,0),"") -> ПОДОЙНИЦЫН Константин | C25: =IFERROR(VLOOKUP(A25,'пр.взв'!$D$6:$Q$70,5,0),"") -> КМС | D25: =IFERROR(VLOOKUP(A25,'пр.взв'!$D$6:$Q$70,8,0),"") -> Р.Бурятия | AB25: =IFERROR(VLOOKUP(AE25,'пр.взв'!$D$6:$Q$70,2,0),"") -> ЗАЙНУТДИНОВ Ренас | AC25: =IFERROR(VLOOKUP(AE25,'пр.взв'!$D$6:$Q$70,5,0),"") -> МСМК | AD25: =IFERROR(VLOOKUP(AE25,'пр.взв'!$D$6:$Q$70,8,0),"") -> Р.Татарстан | AE25: 22 | AG25: 20 | AH25: =IF(G32=""," ",IF(E30=G32,E34,E30)) | AI25: 20 | AK25: 22
E26: 21 | P26: 3 м | AA26: 22 | AG26: 21 | AH26: =IF(G41=""," ",IF(E39=G41,E43,E39)) | AI26: 21 | AK26: 23
A27: 53 | B27: =IFERROR(VLOOKUP(A27,'пр.взв'!$D$6:$Q$70,2,0),"") | C27: =IFERROR(VLOOKUP(A27,'пр.взв'!$D$6:$Q$70,5,0),"") | D27: =IFERROR(VLOOKUP(A27,'пр.взв'!$D$6:$Q$70,8,0),"") | N27: =IFERROR(VLOOKUP(AH8,'пр.взв'!$D$6:$Q$70,2,0),"") | AB27: =IFERROR(VLOOKUP(AE27,'пр.взв'!$D$6:$Q$70,2,0),"") | AC27: =IFERROR(VLOOKUP(AE27,'пр.взв'!$D$6:$Q$70,5,0),"") | AD27: =IFERROR(VLOOKUP(AE27,'пр.взв'!$D$6:$Q$70,8,0),"") | AE27: 54 | AG27: 22 | AH27: =IF(G49=""," ",IF(E47=G49,E51,E47)) | AI27: 22 | AK27: 24
AG28: 23 | AH28: =IF(G57=""," ",IF(E55=G57,E59,E55)) | AI28: 23 | AK28: 25
A29: 13 | B29: =IFERROR(VLOOKUP(A29,'пр.взв'!$D$6:$Q$70,2,0),"") -> БОГАЧЕВ Сергей | C29: =IFERROR(VLOOKUP(A29,'пр.взв'!$D$6:$Q$70,5,0),"") -> КМС | D29: =IFERROR(VLOOKUP(A29,'пр.взв'!$D$6:$Q$70,8,0),"") -> Красноярский | AB29: =IFERROR(VLOOKUP(AE29,'пр.взв'!$D$6:$Q$70,2,0),"") -> КОБЕНОВ Степан | AC29: =IFERROR(VLOOKUP(AE29,'пр.взв'!$D$6:$Q$70,5,0),"") -> ЗМС | AD29: =IFERROR(VLOOKUP(AE29,'пр.взв'!$D$6:$Q$70,8,0),"") -> Р.Алтай | AE29: 14 | AG29: 24 | AH29: =IF(G65=""," ",IF(E63=G65,E67,E63)) | AI29: 24 | AK29: 26
E30: 13 | AA30: 14 | AG30: 25 | AH30: =IF(Y8=""," ",IF(Y8=AA6,AA10,AA6)) | AI30: 25 | AK30: 27
A31: 45 | B31: =IFERROR(VLOOKUP(A31,'пр.взв'!$D$6:$Q$70,2,0),"") | C31: =IFERROR(VLOOKUP(A31,'пр.взв'!$D$6:$Q$70,5,0),"") | D31: =IFERROR(VLOOKUP(A31,'пр.взв'!$D$6:$Q$70,8,0),"") | P31: 1 м | AB31: =IFERROR(VLOOKUP(AE31,'пр.взв'!$D$6:$Q$70,2,0),"") | AC31: =IFERROR(VLOOKUP(AE31,'пр.взв'!$D$6:$Q$70,5,0),"") | AD31: =IFERROR(VLOOKUP(AE31,'пр.взв'!$D$6:$Q$70,8,0),"") | AE31: 46 | AG31: 26 | AH31: =IF(Y16=""," ",IF(Y16=AA14,AA18,AA14)) | AI31: 26 | AK31: 28
AG32: 27 | AH32: =IF(Y24=""," ",IF(Y24=AA22,AA26,AA22)) | AI32: 27 | AK32: 29
A33: 29 | B33: =IFERROR(VLOOKUP(A33,'пр.взв'!$D$6:$Q$70,2,0),"") -> ПОДКОВАЛЬНИКОВ Никита | C33: =IFERROR(VLOOKUP(A33,'пр.взв'!$D$6:$Q$70,5,0),"") -> МС | D33: =IFERROR(VLOOKUP(A33,'пр.взв'!$D$6:$Q$70,8,0),"") -> Самарская | N33: =IFERROR(VLOOKUP(N32,'пр.взв'!$D$6:$Q$70,2,0),"") | AB33: =IFERROR(VLOOKUP(AE33,'пр.взв'!$D$6:$Q$70,2,0),"") -> АХТЕМИРОВ Темирхан | AC33: =IFERROR(VLOOKUP(AE33,'пр.взв'!$D$6:$Q$70,5,0),"") -> КМС | AD33: =IFERROR(VLOOKUP(AE33,'пр.взв'!$D$6:$Q$70,8,0),"") -> Тверская | AE33: 30 | AG33: 28 | AH33: =IF(Y32=""," ",IF(Y32=AA30,AA34,AA30)) | AI33: 28 | AK33: 30
E34: 29 | AA34: 30 | AG34: 29 | AH34: =IF(Y41=""," ",IF(Y41=AA39,AA43,AA39)) | AI34: 29 | AK34: 31
A35: 61 | B35: =IFERROR(VLOOKUP(A35,'пр.взв'!$D$6:$Q$70,2,0),"") | C35: =IFERROR(VLOOKUP(A35,'пр.взв'!$D$6:$Q$70,5,0),"") | D35: =IFERROR(VLOOKUP(A35,'пр.взв'!$D$6:$Q$70,8,0),"") | AB35: =IFERROR(VLOOKUP(AE35,'пр.взв'!$D$6:$Q$70,2,0),"") | AC35: =IFERROR(VLOOKUP(AE35,'пр.взв'!$D$6:$Q$70,5,0),"") | AD35: =IFERROR(VLOOKUP(AE35,'пр.взв'!$D$6:$Q$70,8,0),"") | AE35: 62 | AG35: 30 | AH35: =IF(Y49=""," ",IF(Y49=AA47,AA51,AA47)) | AI35: 30 | AK35: 32
AG36: 31 | AH36: =IF(Y57=""," ",IF(Y57=AA55,AA59,AA55)) | AI36: 31 | AK36: 33
AH37: =IF(Y58=""," ",IF(Y58=AA56,AA60,AA56)) | AI37: 32 | AK37: 34
A38: 3 | B38: =IFERROR(VLOOKUP(A38,'пр.взв'!$D$6:$Q$70,2,0),"") -> НОВИКОВ Никита | C38: =IFERROR(VLOOKUP(A38,'пр.взв'!$D$6:$Q$70,5,0),"") -> КМС | D38: =IFERROR(VLOOKUP(A38,'пр.взв'!$D$6:$Q$70,8,0),"") -> Р.Татарстан | AB38: =IFERROR(VLOOKUP(AE38,'пр.взв'!$D$6:$Q$70,2,0),"") -> СОРОКИН Алексей | AC38: =IFERROR(VLOOKUP(AE38,'пр.взв'!$D$6:$Q$70,5,0),"") -> КМС | AD38: =IFERROR(VLOOKUP(AE38,'пр.взв'!$D$6:$Q$70,8,0),"") -> Р.Коми | AE38: 4 | AG38: 32 | AH38: =IF(Y65=""," ",IF(Y65=AA63,AA67,AA63)) | AI38: 32 | AK38: 35
P39: 2 м | AG39: 33 | AH39: =IF(E6=""," ",IF(E6=A5,A7,A5)) | AI39: 33 | AK39: 36
A40: 35 | B40: =IFERROR(VLOOKUP(A40,'пр.взв'!$D$6:$Q$70,2,0),"") -> БЕЛОНОГОВ Михаил | C40: =IFERROR(VLOOKUP(A40,'пр.взв'!$D$6:$Q$70,5,0),"") -> МС | D40: =IFERROR(VLOOKUP(A40,'пр.взв'!$D$6:$Q$70,8,0),"") -> Пермский | M40: =AH70 | N40: =IF(N32=""," ",IF(M36=N32,S36,M36)) | AB40: =IFERROR(VLOOKUP(AE40,'пр.взв'!$D$6:$Q$70,2,0),"") -> АБДУЛАЗИЗОВ Камиль | AC40: =IFERROR(VLOOKUP(AE40,'пр.взв'!$D$6:$Q$70,5,0),"") -> МСМК | AD40: =IFERROR(VLOOKUP(AE40,'пр.взв'!$D$6:$Q$70,8,0),"") -> Москва | AE40: 36 | AH40: =IF(E14=""," ",IF(E14=A13,A15,A13)) -> 41 | AI40: 34 | AK40: 37
N41: =IFERROR(VLOOKUP(N40,'пр.взв'!$D$6:$Q$70,2,0),"") | AG41: 34 | AH41: =IF(E10=""," ",IF(E10=A9,A11,A9)) -> 49 | AI41: 35 | AK41: 38
A42: 19 | B42: =IFERROR(VLOOKUP(A42,'пр.взв'!$D$6:$Q$70,2,0),"") -> ПОНОМАРЕВ Павел | C42: =IFERROR(VLOOKUP(A42,'пр.взв'!$D$6:$Q$70,5,0),"") -> КМС | D42: =IFERROR(VLOOKUP(A42,'пр.взв'!$D$6:$Q$70,8,0),"") -> Смоленская | AB42: =IFERROR(VLOOKUP(AE42,'пр.взв'!$D$6:$Q$70,2,0),"") -> ЦУРКАН Алексей | AC42: =IFERROR(VLOOKUP(AE42,'пр.взв'!$D$6:$Q$70,5,0),"") -> КМС | AD42: =IFERROR(VLOOKUP(AE42,'пр.взв'!$D$6:$Q$70,8,0),"") -> Ярославская | AE42: 20 | AG42: 35 | AH42: =IF(E18=""," ",IF(E18=A17,A19,A17)) -> 57 | AI42: 36 | AK42: 39
E43: 19 | AA43: 20 | AG43: 36 | AH43: =IF(E22=""," ",IF(E22=A21,A23,A21)) -> 37 | AI43: 37 | AK43: 40
A44: 51 | B44: =IFERROR(VLOOKUP(A44,'пр.взв'!$D$6:$Q$70,2,0),"") | C44: =IFERROR(VLOOKUP(A44,'пр.взв'!$D$6:$Q$70,5,0),"") | D44: =IFERROR(VLOOKUP(A44,'пр.взв'!$D$6:$Q$70,8,0),"") | AB44: =IFERROR(VLOOKUP(AE44,'пр.взв'!$D$6:$Q$70,2,0),"") | AC44: =IFERROR(VLOOKUP(AE44,'пр.взв'!$D$6:$Q$70,5,0),"") | AD44: =IFERROR(VLOOKUP(AE44,'пр.взв'!$D$6:$Q$70,8,0),"") | AE44: 52 | AG44: 37 | AH44: =IF(E26=""," ",IF(E26=A25,A27,A25)) -> 53 | AI44: 38 | AK44: 41
AG45: 38 | AH45: =IF(E30=""," ",IF(E30=A29,A31,A29)) -> 45 | AI45: 39 | AK45: 42
A46: 11 | B46: =IFERROR(VLOOKUP(A46,'пр.взв'!$D$6:$Q$70,2,0),"") -> КОЗЛОВ Даниил | C46: =IFERROR(VLOOKUP(A46,'пр.взв'!$D$6:$Q$70,5,0),"") -> МС | D46: =IFERROR(VLOOKUP(A46,'пр.взв'!$D$6:$Q$70,8,0),"") -> Санкт-Петербург | AB46: =IFERROR(VLOOKUP(AE46,'пр.взв'!$D$6:$Q$70,2,0),"") -> СИРЕНКО Дмитрий | AC46: =IFERROR(VLOOKUP(AE46,'пр.взв'!$D$6:$Q$70,5,0),"") -> МС | AD46: =IFERROR(VLOOKUP(AE46,'пр.взв'!$D$6:$Q$70,8,0),"") -> Нижегородская | AE46: 12 | AG46: 39 | AH46: =IF(E34=""," ",IF(E34=A33,A35,A33)) -> 61 | AI46: 40 | AK46: 43
E47: 11 | M47: =AH9 | P47: 3 м | AA47: 12 | AG47: 40 | AH47: =IF(E39=""," ",IF(E39=A38,A40,A38)) | AI47: 41 | AK47: 44
A48: 43 | B48: =IFERROR(VLOOKUP(A48,'пр.взв'!$D$6:$Q$70,2,0),"") | C48: =IFERROR(VLOOKUP(A48,'пр.взв'!$D$6:$Q$70,5,0),"") | D48: =IFERROR(VLOOKUP(A48,'пр.взв'!$D$6:$Q$70,8,0),"") | N48: =IFERROR(VLOOKUP(AH9,'пр.взв'!$D$6:$Q$70,2,0),"") | AB48: =IFERROR(VLOOKUP(AE48,'пр.взв'!$D$6:$Q$70,2,0),"") | AC48: =IFERROR(VLOOKUP(AE48,'пр.взв'!$D$6:$Q$70,5,0),"") | AD48: =IFERROR(VLOOKUP(AE48,'пр.взв'!$D$6:$Q$70,8,0),"") | AE48: 44 | AG48: 41 | AH48: =IF(E43=""," ",IF(E43=A42,A44,A42)) -> 51 | AI48: 42 | AK48: 45
AG49: 42 | AH49: =IF(E47=""," ",IF(E47=A46,A48,A46)) -> 43 | AI49: 43 | AK49: 46
A50: 27 | B50: =IFERROR(VLOOKUP(A50,'пр.взв'!$D$6:$Q$70,2,0),"") -> ЗИННАТОВ Ролан | C50: =IFERROR(VLOOKUP(A50,'пр.взв'!$D$6:$Q$70,5,0),"") -> МСМК | D50: =IFERROR(VLOOKUP(A50,'пр.взв'!$D$6:$Q$70,8,0),"") -> Нижегородская | AB50: =IFERROR(VLOOKUP(AE50,'пр.взв'!$D$6:$Q$70,2,0),"") -> АЛИБЕКОВ Джаддал | AC50: =IFERROR(VLOOKUP(AE50,'пр.взв'!$D$6:$Q$70,5,0),"") -> МС | AD50: =IFERROR(VLOOKUP(AE50,'пр.взв'!$D$6:$Q$70,8,0),"") -> Чеченская | AE50: 28 | AG50: 43 | AH50: =IF(E51=""," ",IF(E51=A50,A52,A50)) -> 59 | AI50: 44 | AK50: 48
E51: 27 | AA51: 28 | AG51: 44 | AH51: =IF(E55=""," ",IF(E55=A54,A56,A54)) -> 39 | AI51: 45 | AK51: 49
A52: 59 | B52: =IFERROR(VLOOKUP(A52,'пр.взв'!$D$6:$Q$70,2,0),"") | C52: =IFERROR(VLOOKUP(A52,'пр.взв'!$D$6:$Q$70,5,0),"") | D52: =IFERROR(VLOOKUP(A52,'пр.взв'!$D$6:$Q$70,8,0),"") | AB52: =IFERROR(VLOOKUP(AE52,'пр.взв'!$D$6:$Q$70,2,0),"") | AC52: =IFERROR(VLOOKUP(AE52,'пр.взв'!$D$6:$Q$70,5,0),"") | AD52: =IFERROR(VLOOKUP(AE52,'пр.взв'!$D$6:$Q$70,8,0),"") | AE52: 60 | AG52: 45 | AH52: =IF(E59=""," ",IF(E59=A58,A60,A58)) -> 55 | AI52: 46 | AK52: 50
AG53: 46 | AH53: =IF(E67=""," ",IF(E67=A66,A68,A66)) -> 63 | AI53: 47 | AK53: 51
A54: 7 | B54: =IFERROR(VLOOKUP(A54,'пр.взв'!$D$6:$Q$70,2,0),"") -> ПАДАЕВ Муслим | C54: =IFERROR(VLOOKUP(A54,'пр.взв'!$D$6:$Q$70,5,0),"") -> КМС | D54: =IFERROR(VLOOKUP(A54,'пр.взв'!$D$6:$Q$70,8,0),"") -> Чеченская | AB54: =IFERROR(VLOOKUP(AE54,'пр.взв'!$D$6:$Q$70,2,0),"") -> ТАЛДИЕВ Рустам | AC54: =IFERROR(VLOOKUP(AE54,'пр.взв'!$D$6:$Q$70,5,0),"") -> ЗМС | AD54: =IFERROR(VLOOKUP(AE54,'пр.взв'!$D$6:$Q$70,8,0),"") -> Санкт-Петербург | AE54: 8 | AG54: 47 | AH54: =IF(AA6=""," ",IF(AA6=AE5,AE7,AE5)) | AI54: 48 | AK54: 52
E55: 7 | AA55: 8 | AG55: 48 | AH55: =IF(AA10=""," ",IF(AA10=AE9,AE11,AE9)) -> 50 | AI55: 49 | AK55: 53
A56: 39 | B56: =IFERROR(VLOOKUP(A56,'пр.взв'!$D$6:$Q$70,2,0),"") | C56: =IFERROR(VLOOKUP(A56,'пр.взв'!$D$6:$Q$70,5,0),"") | D56: =IFERROR(VLOOKUP(A56,'пр.взв'!$D$6:$Q$70,8,0),"") | AB56: =IFERROR(VLOOKUP(AE56,'пр.взв'!$D$6:$Q$70,2,0),"") | AC56: =IFERROR(VLOOKUP(AE56,'пр.взв'!$D$6:$Q$70,5,0),"") | AD56: =IFERROR(VLOOKUP(AE56,'пр.взв'!$D$6:$Q$70,8,0),"") | AE56: 40 | AG56: 49 | AH56: =IF(AA14=""," ",IF(AA14=AE13,AE15,AE13)) -> 42 | AI56: 50 | AK56: 54
AG57: 50 | AH57: =IF(AA18=""," ",IF(AA18=AE17,AE19,AE17)) -> 58 | AI57: 51 | AK57: 55
A58: 23 | B58: =IFERROR(VLOOKUP(A58,'пр.взв'!$D$6:$Q$70,2,0),"") -> КОСЫРЕВ Филипп | C58: =IFERROR(VLOOKUP(A58,'пр.взв'!$D$6:$Q$70,5,0),"") -> МС | D58: =IFERROR(VLOOKUP(A58,'пр.взв'!$D$6:$Q$70,8,0),"") -> Костромская | AB58: =IFERROR(VLOOKUP(AE58,'пр.взв'!$D$6:$Q$70,2,0),"") -> БАРАХОЕВ Ахмет | AC58: =IFERROR(VLOOKUP(AE58,'пр.взв'!$D$6:$Q$70,5,0),"") -> КМС | AD58: =IFERROR(VLOOKUP(AE58,'пр.взв'!$D$6:$Q$70,8,0),"") -> Санкт-Петербург | AE58: 24 | AG58: 51 | AH58: =IF(AA22=""," ",IF(AA22=AE21,AE23,AE21)) -> 38 | AI58: 52 | AK58: 56
E59: 23 | AA59: 24 | AG59: 52 | AH59: =IF(AA26=""," ",IF(AA26=AE25,AE27,AE25)) -> 54 | AI59: 53 | AK59: 57
A60: 55 | B60: =IFERROR(VLOOKUP(A60,'пр.взв'!$D$6:$Q$70,2,0),"") | C60: =IFERROR(VLOOKUP(A60,'пр.взв'!$D$6:$Q$70,5,0),"") | D60: =IFERROR(VLOOKUP(A60,'пр.взв'!$D$6:$Q$70,8,0),"") | AB60: =IFERROR(VLOOKUP(AE60,'пр.взв'!$D$6:$Q$70,2,0),"") | AC60: =IFERROR(VLOOKUP(AE60,'пр.взв'!$D$6:$Q$70,5,0),"") | AD60: =IFERROR(VLOOKUP(AE60,'пр.взв'!$D$6:$Q$70,8,0),"") | AE60: 56 | AG60: 53 | AH60: =IF(AA30=""," ",IF(AA30=AE29,AE31,AE29)) -> 46 | AI60: 54 | AK60: 58
AG61: 54 | AH61: =IF(AA34=""," ",IF(AA34=AE33,AE35,AE33)) -> 62 | AI61: 55 | AK61: 59
A62: 15 | B62: =IFERROR(VLOOKUP(A62,'пр.взв'!$D$6:$Q$70,2,0),"") -> ОРЛОВ Егор | C62: =IFERROR(VLOOKUP(A62,'пр.взв'!$D$6:$Q$70,5,0),"") -> МС | D62: =IFERROR(VLOOKUP(A62,'пр.взв'!$D$6:$Q$70,8,0),"") -> Ярославская | AB62: =IFERROR(VLOOKUP(AE62,'пр.взв'!$D$6:$Q$70,2,0),"") -> МАГОМЕДАЛИЕВ Салих | AC62: =IFERROR(VLOOKUP(AE62,'пр.взв'!$D$6:$Q$70,5,0),"") -> МС | AD62: =IFERROR(VLOOKUP(AE62,'пр.взв'!$D$6:$Q$70,8,0),"") -> Р.Дагестан | AE62: 16 | AG62: 55 | AH62: =IF(AA39=""," ",IF(AA39=AE38,AE40,AE38)) | AI62: 56 | AK62: 60
E63: 15 | AA63: 16 | AG63: 56 | AH63: =IF(AA43=""," ",IF(AA43=AE42,AE44,AE42)) -> 52 | AI63: 57 | AK63: 61
A64: 47 | B64: =IFERROR(VLOOKUP(A64,'пр.взв'!$D$6:$Q$70,2,0),"") | C64: =IFERROR(VLOOKUP(A64,'пр.взв'!$D$6:$Q$70,5,0),"") | D64: =IFERROR(VLOOKUP(A64,'пр.взв'!$D$6:$Q$70,8,0),"") | AB64: =IFERROR(VLOOKUP(AE64,'пр.взв'!$D$6:$Q$70,2,0),"") | AC64: =IFERROR(VLOOKUP(AE64,'пр.взв'!$D$6:$Q$70,5,0),"") | AD64: =IFERROR(VLOOKUP(AE64,'пр.взв'!$D$6:$Q$70,8,0),"") | AE64: 48 | AG64: 57 | AH64: =IF(AA47=""," ",IF(AA47=AE46,AE48,AE46)) -> 44 | AI64: 58 | AK64: 62
AG65: 58 | AH65: =IF(AA51=""," ",IF(AA51=AE50,AE52,AE50)) -> 60 | AI65: 59 | AK65: 63
A66: 31 | B66: =IFERROR(VLOOKUP(A66,'пр.взв'!$D$6:$Q$70,2,0),"") -> ЗАГИДОВ Далгат | C66: =IFERROR(VLOOKUP(A66,'пр.взв'!$D$6:$Q$70,5,0),"") -> МС | D66: =IFERROR(VLOOKUP(A66,'пр.взв'!$D$6:$Q$70,8,0),"") -> Р.Дагестан | AB66: =IFERROR(VLOOKUP(AE66,'пр.взв'!$D$6:$Q$70,2,0),"") -> НИЛОВ Дмитрий | AC66: =IFERROR(VLOOKUP(AE66,'пр.взв'!$D$6:$Q$70,5,0),"") -> МС | AD66: =IFERROR(VLOOKUP(AE66,'пр.взв'!$D$6:$Q$70,8,0),"") -> Новосибирская | AE66: 32 | AG66: 59 | AH66: =IF(AA55=""," ",IF(AA55=AE54,AE56,AE54)) -> 40 | AI66: 60 | AK66: 64
E67: 31 | AA67: 32 | AG67: 60 | AH67: =IF(AA59=""," ",IF(AA59=AE58,AE60,AE58)) -> 56 | AI67: 61 | AK67: 64
A68: 63 | B68: =IFERROR(VLOOKUP(A68,'пр.взв'!$D$6:$Q$70,2,0),"") | C68: =IFERROR(VLOOKUP(A68,'пр.взв'!$D$6:$Q$70,5,0),"") | D68: =IFERROR(VLOOKUP(A68,'пр.взв'!$D$6:$Q$70,8,0),"") | AB68: =IFERROR(VLOOKUP(AE68,'пр.взв'!$D$6:$Q$70,2,0),"") | AC68: =IFERROR(VLOOKUP(AE68,'пр.взв'!$D$6:$Q$70,5,0),"") | AD68: =IFERROR(VLOOKUP(AE68,'пр.взв'!$D$6:$Q$70,8,0),"") | AE68: 64 | AG68: 61 | AH68: =IF(AA63=""," ",IF(AA63=AE62,AE64,AE62)) -> 48 | AI68: 62
AG69: 62 | AH69: =IF(AA67=""," ",IF(AA67=AE66,AE68,AE66)) -> 64
AG70: 2м | AH70: =IF(M32=""," ",IF(M32=S36,M36,S36))
AH71: =IF(AA69=""," ",IF(AA69=AE68,AE70,AE68))
AH72: =IF(AA70=""," ",IF(AA70=AE69,AE71,AE69))
A73: =IFERROR(__xludf.DUMMYFUNCTION("IMPORTRANGE(""https://docs.google.com/spreadsheets/d/1XFGqS9_FSpg5EnxHBAY_QbGhuInRsY0PvHk2PYSXdn4/edit#gid=761916707"",""Реквизиты!$A$5"")"),"Гл.судья, судья ВК") -> Гл.судья, судья ВК | G73: =IFERROR(__xludf.DUMMYFUNCTION("IMPORTRANGE('пр.взв'!N1,""Реквизиты!$C6"")"),"Болотсктй Р.М.") -> Болотсктй Р.М. | J73: =IFERROR(__xludf.DUMMYFUNCTION("IMPORTRANGE('пр.взв'!N1,""Реквизиты!$C7"")"),"Москва") -> Москва | T73: =IFERROR(__xludf.DUMMYFUNCTION("IMPORTRANGE(""https://docs.google.com/spreadsheets/d/1XFGqS9_FSpg5EnxHBAY_QbGhuInRsY0PvHk2PYSXdn4/edit#gid=761916707"",""Реквизиты!$A$9"")"),"Гл.секретарь, судья ВК") -> Гл.секретарь, судья ВК | AB73: Зарипов А.А. | AC73: Р.Татарстан | AH73: =IF(AA71=""," ",IF(AA71=AE70,AE72,AE70))
AH74: =IF(AA72=""," ",IF(AA72=AE71,AE73,AE71))

Sheet круги
B1: ВСТРЕЧИ ПО КРУГАМ | L1: ВСТРЕЧИ ПО КРУГАМ
B2: ='пр.взв'!$D$4 | L2: ='пр.взв'!$D$4
B3: 0 | C3: КОВЕР | L3: =B3 -> 0 | M3: КОВЕР
B4: A | C4: (Круг) | F4: 1/32 | L4: Б | M4: (Круг) | P4: 1/32
A5: № встр | B5: № п/ж | C5: Ф.И.О. | D5: Д. р., разряд | E5: Вед., регион | G5: Оценки | H5: Очки | I5: Рез-т | J5: Время | K5: № встр | L5: № п/ж | M5: Ф.И.О. | N5: Д. р., разряд | O5: Вед., регион | Q5: Оценки | R5: Очки | S5: Рез-т | T5: Время
A7: 1 | B7: 1 | C7: =IFERROR(VLOOKUP(B7,'пр.взв'!$D$6:$Q$70,2,0),"") -> БУДАКОВ Наил | D7: =IFERROR(VLOOKUP(B7,'пр.взв'!$D$6:$Q$70,5,0),"") -> МС | E7: =IFERROR(VLOOKUP(B7,'пр.взв'!$D$6:$Q$70,6,0),"") -> ПФО | F7: =IFERROR(VLOOKUP(B7,'пр.взв'!$D$6:$Q$70,8,0),"") -> Самарская | K7: 17 | L7: 2 | M7: =IFERROR(VLOOKUP(L7,'пр.взв'!$D$6:$Q$70,2,0),"") -> ДУШКАНОВ Дамир | N7: =IFERROR(VLOOKUP(L7,'пр.взв'!$D$6:$Q$70,5,0),"") -> КМС | O7: =IFERROR(VLOOKUP(L7,'пр.взв'!$D$6:$Q$70,6,0),"") -> ПФО | P7: =IFERROR(VLOOKUP(L7,'пр.взв'!$D$6:$Q$70,8,0),"") -> Самарская
B8: 33 | C8: =IFERROR(VLOOKUP(B8,'пр.взв'!$D$6:$Q$70,2,0),"") -> МУРАДОВ Рашад | D8: =IFERROR(VLOOKUP(B8,'пр.взв'!$D$6:$Q$70,5,0),"") -> МСМК | E8: =IFERROR(VLOOKUP(B8,'пр.взв'!$D$6:$Q$70,6,0),"") -> СЗФО | F8: =IFERROR(VLOOKUP(B8,'пр.взв'!$D$6:$Q$70,8,0),"") -> Р.Карелия | L8: 34 | M8: =IFERROR(VLOOKUP(L8,'пр.взв'!$D$6:$Q$70,2,0),"") -> ДУГИЕВ Ибрагим | N8: =IFERROR(VLOOKUP(L8,'пр.взв'!$D$6:$Q$70,5,0),"") -> МСМК | O8: =IFERROR(VLOOKUP(L8,'пр.взв'!$D$6:$Q$70,6,0),"") -> ЦФО | P8: =IFERROR(VLOOKUP(L8,'пр.взв'!$D$6:$Q$70,8,0),"") -> Ярославская
A9: 2 | B9: 17 | C9: =IFERROR(VLOOKUP(B9,'пр.взв'!$D$6:$Q$70,2,0),"") -> ЭСКИЕВ Рузбек | D9: =IFERROR(VLOOKUP(B9,'пр.взв'!$D$6:$Q$70,5,0),"") -> МС | E9: =IFERROR(VLOOKUP(B9,'пр.взв'!$D$6:$Q$70,6,0),"") -> СКФО | F9: =IFERROR(VLOOKUP(B9,'пр.взв'!$D$6:$Q$70,8,0),"") -> Чеченская | K9: 18 | L9: 18 | M9: =IFERROR(VLOOKUP(L9,'пр.взв'!$D$6:$Q$70,2,0),"") -> ГЛАЗЫРИН Александр | N9: =IFERROR(VLOOKUP(L9,'пр.взв'!$D$6:$Q$70,5,0),"") -> КМС | O9: =IFERROR(VLOOKUP(L9,'пр.взв'!$D$6:$Q$70,6,0),"") -> ПФО | P9: =IFERROR(VLOOKUP(L9,'пр.взв'!$D$6:$Q$70,8,0),"") -> Пермский
B10: 49 | C10: =IFERROR(VLOOKUP(B10,'пр.взв'!$D$6:$Q$70,2,0),"") | D10: =IFERROR(VLOOKUP(B10,'пр.взв'!$D$6:$Q$70,5,0),"") | E10: =IFERROR(VLOOKUP(B10,'пр.взв'!$D$6:$Q$70,6,0),"") | F10: =IFERROR(VLOOKUP(B10,'пр.взв'!$D$6:$Q$70,8,0),"") | L10: 50 | M10: =IFERROR(VLOOKUP(L10,'пр.взв'!$D$6:$Q$70,2,0),"") | N10: =IFERROR(VLOOKUP(L10,'пр.взв'!$D$6:$Q$70,5,0),"") | O10: =IFERROR(VLOOKUP(L10,'пр.взв'!$D$6:$Q$70,6,0),"") | P10: =IFERROR(VLOOKUP(L10,'пр.взв'!$D$6:$Q$70,8,0),"")
A11: 3 | B11: 9 | C11: =IFERROR(VLOOKUP(B11,'пр.взв'!$D$6:$Q$70,2,0),"") -> ДУГУЖЕВ Азамат | D11: =IFERROR(VLOOKUP(B11,'пр.взв'!$D$6:$Q$70,5,0),"") -> МС | E11: =IFERROR(VLOOKUP(B11,'пр.взв'!$D$6:$Q$70,6,0),"") -> СПБ | F11: =IFERROR(VLOOKUP(B11,'пр.взв'!$D$6:$Q$70,8,0),"") -> Санкт-Петербург | K11: 19 | L11: 10 | M11: =IFERROR(VLOOKUP(L11,'пр.взв'!$D$6:$Q$70,2,0),"") -> ДАМДИНОВ Бато | N11: =IFERROR(VLOOKUP(L11,'пр.взв'!$D$6:$Q$70,5,0),"") -> МС | O11: =IFERROR(VLOOKUP(L11,'пр.взв'!$D$6:$Q$70,6,0),"") -> ДВФО | P11: =IFERROR(VLOOKUP(L11,'пр.взв'!$D$6:$Q$70,8,0),"") -> Р.Бурятия
B12: 41 | C12: =IFERROR(VLOOKUP(B12,'пр.взв'!$D$6:$Q$70,2,0),"") | D12: =IFERROR(VLOOKUP(B12,'пр.взв'!$D$6:$Q$70,5,0),"") | E12: =IFERROR(VLOOKUP(B12,'пр.взв'!$D$6:$Q$70,6,0),"") | F12: =IFERROR(VLOOKUP(B12,'пр.взв'!$D$6:$Q$70,8,0),"") | L12: 42 | M12: =IFERROR(VLOOKUP(L12,'пр.взв'!$D$6:$Q$70,2,0),"") | N12: =IFERROR(VLOOKUP(L12,'пр.взв'!$D$6:$Q$70,5,0),"") | O12: =IFERROR(VLOOKUP(L12,'пр.взв'!$D$6:$Q$70,6,0),"") | P12: =IFERROR(VLOOKUP(L12,'пр.взв'!$D$6:$Q$70,8,0),"")
A13: 4 | B13: 25 | C13: =IFERROR(VLOOKUP(B13,'пр.взв'!$D$6:$Q$70,2,0),"") -> ШЕИН Дмитрий | D13: =IFERROR(VLOOKUP(B13,'пр.взв'!$D$6:$Q$70,5,0),"") -> КМС | E13: =IFERROR(VLOOKUP(B13,'пр.взв'!$D$6:$Q$70,6,0),"") -> ПФО | F13: =IFERROR(VLOOKUP(B13,'пр.взв'!$D$6:$Q$70,8,0),"") -> Пермский | K13: 20 | L13: 26 | M13: =IFERROR(VLOOKUP(L13,'пр.взв'!$D$6:$Q$70,2,0),"") -> ДУЛОВ Владислав | N13: =IFERROR(VLOOKUP(L13,'пр.взв'!$D$6:$Q$70,5,0),"") -> КМС | O13: =IFERROR(VLOOKUP(L13,'пр.взв'!$D$6:$Q$70,6,0),"") -> ПФО | P13: =IFERROR(VLOOKUP(L13,'пр.взв'!$D$6:$Q$70,8,0),"") -> Р.Башкортостан
B14: 57 | C14: =IFERROR(VLOOKUP(B14,'пр.взв'!$D$6:$Q$70,2,0),"") | D14: =IFERROR(VLOOKUP(B14,'пр.взв'!$D$6:$Q$70,5,0),"") | E14: =IFERROR(VLOOKUP(B14,'пр.взв'!$D$6:$Q$70,6,0),"") | F14: =IFERROR(VLOOKUP(B14,'пр.взв'!$D$6:$Q$70,8,0),"") | L14: 58 | M14: =IFERROR(VLOOKUP(L14,'пр.взв'!$D$6:$Q$70,2,0),"") | N14: =IFERROR(VLOOKUP(L14,'пр.взв'!$D$6:$Q$70,5,0),"") | O14: =IFERROR(VLOOKUP(L14,'пр.взв'!$D$6:$Q$70,6,0),"") | P14: =IFERROR(VLOOKUP(L14,'пр.взв'!$D$6:$Q$70,8,0),"")
A15: 5 | B15: 5 | C15: =IFERROR(VLOOKUP(B15,'пр.взв'!$D$6:$Q$70,2,0),"") -> КРАСАВЦЕВ Александр | D15: =IFERROR(VLOOKUP(B15,'пр.взв'!$D$6:$Q$70,5,0),"") -> МС | E15: =IFERROR(VLOOKUP(B15,'пр.взв'!$D$6:$Q$70,6,0),"") -> ЦФО | F15: =IFERROR(VLOOKUP(B15,'пр.взв'!$D$6:$Q$70,8,0),"") -> Московская | K15: 21 | L15: 6 | M15: =IFERROR(VLOOKUP(L15,'пр.взв'!$D$6:$Q$70,2,0),"") -> САИДОВ Магомед | N15: =IFERROR(VLOOKUP(L15,'пр.взв'!$D$6:$Q$70,5,0),"") -> КМС | O15: =IFERROR(VLOOKUP(L15,'пр.взв'!$D$6:$Q$70,6,0),"") -> СКФО | P15: =IFERROR(VLOOKUP(L15,'пр.взв'!$D$6:$Q$70,8,0),"") -> Р.Дагестан
B16: 37 | C16: =IFERROR(VLOOKUP(B16,'пр.взв'!$D$6:$Q$70,2,0),"") -> СУЛТАНОВ Иман | D16: =IFERROR(VLOOKUP(B16,'пр.взв'!$D$6:$Q$70,5,0),"") -> КМС | E16: =IFERROR(VLOOKUP(B16,'пр.взв'!$D$6:$Q$70,6,0),"") -> СКФО | F16: =IFERROR(VLOOKUP(B16,'пр.взв'!$D$6:$Q$70,8,0),"") -> Р.Дагестан | L16: 38 | M16: =IFERROR(VLOOKUP(L16,'пр.взв'!$D$6:$Q$70,2,0),"") | N16: =IFERROR(VLOOKUP(L16,'пр.взв'!$D$6:$Q$70,5,0),"") | O16: =IFERROR(VLOOKUP(L16,'пр.взв'!$D$6:$Q$70,6,0),"") | P16: =IFERROR(VLOOKUP(L16,'пр.взв'!$D$6:$Q$70,8,0),"")
A17: 6 | B17: 21 | C17: =IFERROR(VLOOKUP(B17,'пр.взв'!$D$6:$Q$70,2,0),"") -> ПОДОЙНИЦЫН Константин | D17: =IFERROR(VLOOKUP(B17,'пр.взв'!$D$6:$Q$70,5,0),"") -> КМС | E17: =IFERROR(VLOOKUP(B17,'пр.взв'!$D$6:$Q$70,6,0),"") -> ДВФО | F17: =IFERROR(VLOOKUP(B17,'пр.взв'!$D$6:$Q$70,8,0),"") -> Р.Бурятия | K17: 22 | L17: 22 | M17: =IFERROR(VLOOKUP(L17,'пр.взв'!$D$6:$Q$70,2,0),"") -> ЗАЙНУТДИНОВ Ренас | N17: =IFERROR(VLOOKUP(L17,'пр.взв'!$D$6:$Q$70,5,0),"") -> МСМК | O17: =IFERROR(VLOOKUP(L17,'пр.взв'!$D$6:$Q$70,6,0),"") -> ПФО | P17: =IFERROR(VLOOKUP(L17,'пр.взв'!$D$6:$Q$70,8,0),"") -> Р.Татарстан
B18: 53 | C18: =IFERROR(VLOOKUP(B18,'пр.взв'!$D$6:$Q$70,2,0),"") | D18: =IFERROR(VLOOKUP(B18,'пр.взв'!$D$6:$Q$70,5,0),"") | E18: =IFERROR(VLOOKUP(B18,'пр.взв'!$D$6:$Q$70,6,0),"") | F18: =IFERROR(VLOOKUP(B18,'пр.взв'!$D$6:$Q$70,8,0),"") | L18: 54 | M18: =IFERROR(VLOOKUP(L18,'пр.взв'!$D$6:$Q$70,2,0),"") | N18: =IFERROR(VLOOKUP(L18,'пр.взв'!$D$6:$Q$70,5,0),"") | O18: =IFERROR(VLOOKUP(L18,'пр.взв'!$D$6:$Q$70,6,0),"") | P18: =IFERROR(VLOOKUP(L18,'пр.взв'!$D$6:$Q$70,8,0),"")
A19: 7 | B19: 13 | C19: =IFERROR(VLOOKUP(B19,'пр.взв'!$D$6:$Q$70,2,0),"") -> БОГАЧЕВ Сергей | D19: =IFERROR(VLOOKUP(B19,'пр.взв'!$D$6:$Q$70,5,0),"") -> КМС | E19: =IFERROR(VLOOKUP(B19,'пр.взв'!$D$6:$Q$70,6,0),"") -> СФО | F19: =IFERROR(VLOOKUP(B19,'пр.взв'!$D$6:$Q$70,8,0),"") -> Красноярский | K19: 23 | L19: 14 | M19: =IFERROR(VLOOKUP(L19,'пр.взв'!$D$6:$Q$70,2,0),"") -> КОБЕНОВ Степан | N19: =IFERROR(VLOOKUP(L19,'пр.взв'!$D$6:$Q$70,5,0),"") -> ЗМС | O19: =IFERROR(VLOOKUP(L19,'пр.взв'!$D$6:$Q$70,6,0),"") -> СФО | P19: =IFERROR(VLOOKUP(L19,'пр.взв'!$D$6:$Q$70,8,0),"") -> Р.Алтай
B20: 45 | C20: =IFERROR(VLOOKUP(B20,'пр.взв'!$D$6:$Q$70,2,0),"") | D20: =IFERROR(VLOOKUP(B20,'пр.взв'!$D$6:$Q$70,5,0),"") | E20: =IFERROR(VLOOKUP(B20,'пр.взв'!$D$6:$Q$70,6,0),"") | F20: =IFERROR(VLOOKUP(B20,'пр.взв'!$D$6:$Q$70,8,0),"") | L20: 46 | M20: =IFERROR(VLOOKUP(L20,'пр.взв'!$D$6:$Q$70,2,0),"") | N20: =IFERROR(VLOOKUP(L20,'пр.взв'!$D$6:$Q$70,5,0),"") | O20: =IFERROR(VLOOKUP(L20,'пр.взв'!$D$6:$Q$70,6,0),"") | P20: =IFERROR(VLOOKUP(L20,'пр.взв'!$D$6:$Q$70,8,0),"")
A21: 8 | B21: 29 | C21: =IFERROR(VLOOKUP(B21,'пр.взв'!$D$6:$Q$70,2,0),"") -> ПОДКОВАЛЬНИКОВ Никита | D21: =IFERROR(VLOOKUP(B21,'пр.взв'!$D$6:$Q$70,5,0),"") -> МС | E21: =IFERROR(VLOOKUP(B21,'пр.взв'!$D$6:$Q$70,6,0),"") -> ПФО | F21: =IFERROR(VLOOKUP(B21,'пр.взв'!$D$6:$Q$70,8,0),"") -> Самарская | K21: 24 | L21: 30 | M21: =IFERROR(VLOOKUP(L21,'пр.взв'!$D$6:$Q$70,2,0),"") -> АХТЕМИРОВ Темирхан | N21: =IFERROR(VLOOKUP(L21,'пр.взв'!$D$6:$Q$70,5,0),"") -> КМС | O21: =IFERROR(VLOOKUP(L21,'пр.взв'!$D$6:$Q$70,6,0),"") -> ЦФО | P21: =IFERROR(VLOOKUP(L21,'пр.взв'!$D$6:$Q$70,8,0),"") -> Тверская
B22: 61 | C22: =IFERROR(VLOOKUP(B22,'пр.взв'!$D$6:$Q$70,2,0),"") | D22: =IFERROR(VLOOKUP(B22,'пр.взв'!$D$6:$Q$70,5,0),"") | E22: =IFERROR(VLOOKUP(B22,'пр.взв'!$D$6:$Q$70,6,0),"") | F22: =IFERROR(VLOOKUP(B22,'пр.взв'!$D$6:$Q$70,8,0),"") | L22: 62 | M22: =IFERROR(VLOOKUP(L22,'пр.взв'!$D$6:$Q$70,2,0),"") | N22: =IFERROR(VLOOKUP(L22,'пр.взв'!$D$6:$Q$70,5,0),"") | O22: =IFERROR(VLOOKUP(L22,'пр.взв'!$D$6:$Q$70,6,0),"") | P22: =IFERROR(VLOOKUP(L22,'пр.взв'!$D$6:$Q$70,8,0),"")
A23: 9 | B23: 3 | C23: =IFERROR(VLOOKUP(B23,'пр.взв'!$D$6:$Q$70,2,0),"") -> НОВИКОВ Никита | D23: =IFERROR(VLOOKUP(B23,'пр.взв'!$D$6:$Q$70,5,0),"") -> КМС | E23: =IFERROR(VLOOKUP(B23,'пр.взв'!$D$6:$Q$70,6,0),"") -> ПФО | F23: =IFERROR(VLOOKUP(B23,'пр.взв'!$D$6:$Q$70,8,0),"") -> Р.Татарстан | K23: 25 | L23: 4 | M23: =IFERROR(VLOOKUP(L23,'пр.взв'!$D$6:$Q$70,2,0),"") -> СОРОКИН Алексей | N23: =IFERROR(VLOOKUP(L23,'пр.взв'!$D$6:$Q$70,5,0),"") -> КМС | O23: =IFERROR(VLOOKUP(L23,'пр.взв'!$D$6:$Q$70,6,0),"") -> СЗФО | P23: =IFERROR(VLOOKUP(L23,'пр.взв'!$D$6:$Q$70,8,0),"") -> Р.Коми
B24: 35 | C24: =IFERROR(VLOOKUP(B24,'пр.взв'!$D$6:$Q$70,2,0),"") -> БЕЛОНОГОВ Михаил | D24: =IFERROR(VLOOKUP(B24,'пр.взв'!$D$6:$Q$70,5,0),"") -> МС | E24: =IFERROR(VLOOKUP(B24,'пр.взв'!$D$6:$Q$70,6,0),"") -> ПФО | F24: =IFERROR(VLOOKUP(B24,'пр.взв'!$D$6:$Q$70,8,0),"") -> Пермский | L24: 36 | M24: =IFERROR(VLOOKUP(L24,'пр.взв'!$D$6:$Q$70,2,0),"") -> АБДУЛАЗИЗОВ Камиль | N24: =IFERROR(VLOOKUP(L24,'пр.взв'!$D$6:$Q$70,5,0),"") -> МСМК | O24: =IFERROR(VLOOKUP(L24,'пр.взв'!$D$6:$Q$70,6,0),"") -> МОС | P24: =IFERROR(VLOOKUP(L24,'пр.взв'!$D$6:$Q$70,8,0),"") -> Москва
A25: 10 | B25: 19 | C25: =IFERROR(VLOOKUP(B25,'пр.взв'!$D$6:$Q$70,2,0),"") -> ПОНОМАРЕВ Павел | D25: =IFERROR(VLOOKUP(B25,'пр.взв'!$D$6:$Q$70,5,0),"") -> КМС | E25: =IFERROR(VLOOKUP(B25,'пр.взв'!$D$6:$Q$70,6,0),"") -> ЦФО | F25: =IFERROR(VLOOKUP(B25,'пр.взв'!$D$6:$Q$70,8,0),"") -> Смоленская | K25: 26 | L25: 20 | M25: =IFERROR(VLOOKUP(L25,'пр.взв'!$D$6:$Q$70,2,0),"") -> ЦУРКАН Алексей | N25: =IFERROR(VLOOKUP(L25,'пр.взв'!$D$6:$Q$70,5,0),"") -> КМС | O25: =IFERROR(VLOOKUP(L25,'пр.взв'!$D$6:$Q$70,6,0),"") -> ЦФО | P25: =IFERROR(VLOOKUP(L25,'пр.взв'!$D$6:$Q$70,8,0),"") -> Ярославская
B26: 51 | C26: =IFERROR(VLOOKUP(B26,'пр.взв'!$D$6:$Q$70,2,0),"") | D26: =IFERROR(VLOOKUP(B26,'пр.взв'!$D$6:$Q$70,5,0),"") | E26: =IFERROR(VLOOKUP(B26,'пр.взв'!$D$6:$Q$70,6,0),"") | F26: =IFERROR(VLOOKUP(B26,'пр.взв'!$D$6:$Q$70,8,0),"") | L26: 52 | M26: =IFERROR(VLOOKUP(L26,'пр.взв'!$D$6:$Q$70,2,0),"") | N26: =IFERROR(VLOOKUP(L26,'пр.взв'!$D$6:$Q$70,5,0),"") | O26: =IFERROR(VLOOKUP(L26,'пр.взв'!$D$6:$Q$70,6,0),"") | P26: =IFERROR(VLOOKUP(L26,'пр.взв'!$D$6:$Q$70,8,0),"")
A27: 11 | B27: 11 | C27: =IFERROR(VLOOKUP(B27,'пр.взв'!$D$6:$Q$70,2,0),"") -> КОЗЛОВ Даниил | D27: =IFERROR(VLOOKUP(B27,'пр.взв'!$D$6:$Q$70,5,0),"") -> МС | E27: =IFERROR(VLOOKUP(B27,'пр.взв'!$D$6:$Q$70,6,0),"") -> СПБ | F27: =IFERROR(VLOOKUP(B27,'пр.взв'!$D$6:$Q$70,8,0),"") -> Санкт-Петербург | K27: 27 | L27: 12 | M27: =IFERROR(VLOOKUP(L27,'пр.взв'!$D$6:$Q$70,2,0),"") -> СИРЕНКО Дмитрий | N27: =IFERROR(VLOOKUP(L27,'пр.взв'!$D$6:$Q$70,5,0),"") -> МС | O27: =IFERROR(VLOOKUP(L27,'пр.взв'!$D$6:$Q$70,6,0),"") -> ПФО | P27: =IFERROR(VLOOKUP(L27,'пр.взв'!$D$6:$Q$70,8,0),"") -> Нижегородская
B28: 43 | C28: =IFERROR(VLOOKUP(B28,'пр.взв'!$D$6:$Q$70,2,0),"") | D28: =IFERROR(VLOOKUP(B28,'пр.взв'!$D$6:$Q$70,5,0),"") | E28: =IFERROR(VLOOKUP(B28,'пр.взв'!$D$6:$Q$70,6,0),"") | F28: =IFERROR(VLOOKUP(B28,'пр.взв'!$D$6:$Q$70,8,0),"") | L28: 44 | M28: =IFERROR(VLOOKUP(L28,'пр.взв'!$D$6:$Q$70,2,0),"") | N28: =IFERROR(VLOOKUP(L28,'пр.взв'!$D$6:$Q$70,5,0),"") | O28: =IFERROR(VLOOKUP(L28,'пр.взв'!$D$6:$Q$70,6,0),"") | P28: =IFERROR(VLOOKUP(L28,'пр.взв'!$D$6:$Q$70,8,0),"")
A29: 12 | B29: 27 | C29: =IFERROR(VLOOKUP(B29,'пр.взв'!$D$6:$Q$70,2,0),"") -> ЗИННАТОВ Ролан | D29: =IFERROR(VLOOKUP(B29,'пр.взв'!$D$6:$Q$70,5,0),"") -> МСМК | E29: =IFERROR(VLOOKUP(B29,'пр.взв'!$D$6:$Q$70,6,0),"") -> ПФО | F29: =IFERROR(VLOOKUP(B29,'пр.взв'!$D$6:$Q$70,8,0),"") -> Нижегородская | K29: 28 | L29: 28 | M29: =IFERROR(VLOOKUP(L29,'пр.взв'!$D$6:$Q$70,2,0),"") -> АЛИБЕКОВ Джаддал | N29: =IFERROR(VLOOKUP(L29,'пр.взв'!$D$6:$Q$70,5,0),"") -> МС | O29: =IFERROR(VLOOKUP(L29,'пр.взв'!$D$6:$Q$70,6,0),"") -> СКФО | P29: =IFERROR(VLOOKUP(L29,'пр.взв'!$D$6:$Q$70,8,0),"") -> Чеченская
B30: 59 | C30: =IFERROR(VLOOKUP(B30,'пр.взв'!$D$6:$Q$70,2,0),"") | D30: =IFERROR(VLOOKUP(B30,'пр.взв'!$D$6:$Q$70,5,0),"") | E30: =IFERROR(VLOOKUP(B30,'пр.взв'!$D$6:$Q$70,6,0),"") | F30: =IFERROR(VLOOKUP(B30,'пр.взв'!$D$6:$Q$70,8,0),"") | L30: 60 | M30: =IFERROR(VLOOKUP(L30,'пр.взв'!$D$6:$Q$70,2,0),"") | N30: =IFERROR(VLOOKUP(L30,'пр.взв'!$D$6:$Q$70,5,0),"") | O30: =IFERROR(VLOOKUP(L30,'пр.взв'!$D$6:$Q$70,6,0),"") | P30: =IFERROR(VLOOKUP(L30,'пр.взв'!$D$6:$Q$70,8,0),"")
A31: 13 | B31: 7 | C31: =IFERROR(VLOOKUP(B31,'пр.взв'!$D$6:$Q$70,2,0),"") -> ПАДАЕВ Муслим | D31: =IFERROR(VLOOKUP(B31,'пр.взв'!$D$6:$Q$70,5,0),"") -> КМС | E31: =IFERROR(VLOOKUP(B31,'пр.взв'!$D$6:$Q$70,6,0),"") -> СКФО | F31: =IFERROR(VLOOKUP(B31,'пр.взв'!$D$6:$Q$70,8,0),"") -> Чеченская | K31: 29 | L31: 8 | M31: =IFERROR(VLOOKUP(L31,'пр.взв'!$D$6:$Q$70,2,0),"") -> ТАЛДИЕВ Рустам | N31: =IFERROR(VLOOKUP(L31,'пр.взв'!$D$6:$Q$70,5,0),"") -> ЗМС | O31: =IFERROR(VLOOKUP(L31,'пр.взв'!$D$6:$Q$70,6,0),"") -> СПБ | P31: =IFERROR(VLOOKUP(L31,'пр.взв'!$D$6:$Q$70,8,0),"") -> Санкт-Петербург
B32: 39 | C32: =IFERROR(VLOOKUP(B32,'пр.взв'!$D$6:$Q$70,2,0),"") | D32: =IFERROR(VLOOKUP(B32,'пр.взв'!$D$6:$Q$70,5,0),"") | E32: =IFERROR(VLOOKUP(B32,'пр.взв'!$D$6:$Q$70,6,0),"") | F32: =IFERROR(VLOOKUP(B32,'пр.взв'!$D$6:$Q$70,8,0),"") | L32: 40 | M32: =IFERROR(VLOOKUP(L32,'пр.взв'!$D$6:$Q$70,2,0),"") | N32: =IFERROR(VLOOKUP(L32,'пр.взв'!$D$6:$Q$70,5,0),"") | O32: =IFERROR(VLOOKUP(L32,'пр.взв'!$D$6:$Q$70,6,0),"") | P32: =IFERROR(VLOOKUP(L32,'пр.взв'!$D$6:$Q$70,8,0),"")
A33: 14 | B33: 23 | C33: =IFERROR(VLOOKUP(B33,'пр.взв'!$D$6:$Q$70,2,0),"") -> КОСЫРЕВ Филипп | D33: =IFERROR(VLOOKUP(B33,'пр.взв'!$D$6:$Q$70,5,0),"") -> МС | E33: =IFERROR(VLOOKUP(B33,'пр.взв'!$D$6:$Q$70,6,0),"") -> ЦФО | F33: =IFERROR(VLOOKUP(B33,'пр.взв'!$D$6:$Q$70,8,0),"") -> Костромская | K33: 30 | L33: 24 | M33: =IFERROR(VLOOKUP(L33,'пр.взв'!$D$6:$Q$70,2,0),"") -> БАРАХОЕВ Ахмет | N33: =IFERROR(VLOOKUP(L33,'пр.взв'!$D$6:$Q$70,5,0),"") -> КМС | O33: =IFERROR(VLOOKUP(L33,'пр.взв'!$D$6:$Q$70,6,0),"") -> СПБ | P33: =IFERROR(VLOOKUP(L33,'пр.взв'!$D$6:$Q$70,8,0),"") -> Санкт-Петербург
B34: 55 | C34: =IFERROR(VLOOKUP(B34,'пр.взв'!$D$6:$Q$70,2,0),"") | D34: =IFERROR(VLOOKUP(B34,'пр.взв'!$D$6:$Q$70,5,0),"") | E34: =IFERROR(VLOOKUP(B34,'пр.взв'!$D$6:$Q$70,6,0),"") | F34: =IFERROR(VLOOKUP(B34,'пр.взв'!$D$6:$Q$70,8,0),"") | L34: 56 | M34: =IFERROR(VLOOKUP(L34,'пр.взв'!$D$6:$Q$70,2,0),"") | N34: =IFERROR(VLOOKUP(L34,'пр.взв'!$D$6:$Q$70,5,0),"") | O34: =IFERROR(VLOOKUP(L34,'пр.взв'!$D$6:$Q$70,6,0),"") | P34: =IFERROR(VLOOKUP(L34,'пр.взв'!$D$6:$Q$70,8,0),"")
A35: 15 | B35: 15 | C35: =IFERROR(VLOOKUP(B35,'пр.взв'!$D$6:$Q$70,2,0),"") -> ОРЛОВ Егор | D35: =IFERROR(VLOOKUP(B35,'пр.взв'!$D$6:$Q$70,5,0),"") -> МС | E35: =IFERROR(VLOOKUP(B35,'пр.взв'!$D$6:$Q$70,6,0),"") -> ЦФО | F35: =IFERROR(VLOOKUP(B35,'пр.взв'!$D$6:$Q$70,8,0),"") -> Ярославская | K35: 31 | L35: 16 | M35: =IFERROR(VLOOKUP(L35,'пр.взв'!$D$6:$Q$70,2,0),"") -> МАГОМЕДАЛИЕВ Салих | N35: =IFERROR(VLOOKUP(L35,'пр.взв'!$D$6:$Q$70,5,0),"") -> МС | O35: =IFERROR(VLOOKUP(L35,'пр.взв'!$D$6:$Q$70,6,0),"") -> СКФО | P35: =IFERROR(VLOOKUP(L35,'пр.взв'!$D$6:$Q$70,8,0),"") -> Р.Дагестан
B36: 47 | C36: =IFERROR(VLOOKUP(B36,'пр.взв'!$D$6:$Q$70,2,0),"") | D36: =IFERROR(VLOOKUP(B36,'пр.взв'!$D$6:$Q$70,5,0),"") | E36: =IFERROR(VLOOKUP(B36,'пр.взв'!$D$6:$Q$70,6,0),"") | F36: =IFERROR(VLOOKUP(B36,'пр.взв'!$D$6:$Q$70,8,0),"") | L36: 48 | M36: =IFERROR(VLOOKUP(L36,'пр.взв'!$D$6:$Q$70,2,0),"") | N36: =IFERROR(VLOOKUP(L36,'пр.взв'!$D$6:$Q$70,5,0),"") | O36: =IFERROR(VLOOKUP(L36,'пр.взв'!$D$6:$Q$70,6,0),"") | P36: =IFERROR(VLOOKUP(L36,'пр.взв'!$D$6:$Q$70,8,0),"")
A37: 16 | B37: 31 | C37: =IFERROR(VLOOKUP(B37,'пр.взв'!$D$6:$Q$70,2,0),"") -> ЗАГИДОВ Далгат | D37: =IFERROR(VLOOKUP(B37,'пр.взв'!$D$6:$Q$70,5,0),"") -> МС | E37: =IFERROR(VLOOKUP(B37,'пр.взв'!$D$6:$Q$70,6,0),"") -> СКФО | F37: =IFERROR(VLOOKUP(B37,'пр.взв'!$D$6:$Q$70,8,0),"") -> Р.Дагестан | K37: 32 | L37: 32 | M37: =IFERROR(VLOOKUP(L37,'пр.взв'!$D$6:$Q$70,2,0),"") -> НИЛОВ Дмитрий | N37: =IFERROR(VLOOKUP(L37,'пр.взв'!$D$6:$Q$70,5,0),"") -> МС | O37: =IFERROR(VLOOKUP(L37,'пр.взв'!$D$6:$Q$70,6,0),"") -> СФО | P37: =IFERROR(VLOOKUP(L37,'пр.взв'!$D$6:$Q$70,8,0),"") -> Новосибирская
B38: 63 | C38: =IFERROR(VLOOKUP(B38,'пр.взв'!$D$6:$Q$70,2,0),"") | D38: =IFERROR(VLOOKUP(B38,'пр.взв'!$D$6:$Q$70,5,0),"") | E38: =IFERROR(VLOOKUP(B38,'пр.взв'!$D$6:$Q$70,6,0),"") | F38: =IFERROR(VLOOKUP(B38,'пр.взв'!$D$6:$Q$70,8,0),"") | L38: 64 | M38: =IFERROR(VLOOKUP(L38,'пр.взв'!$D$6:$Q$70,2,0),"") | N38: =IFERROR(VLOOKUP(L38,'пр.взв'!$D$6:$Q$70,5,0),"") | O38: =IFERROR(VLOOKUP(L38,'пр.взв'!$D$6:$Q$70,6,0),"") | P38: =IFERROR(VLOOKUP(L38,'пр.взв'!$D$6:$Q$70,8,0),"")
B39: =B3 -> 0 | C39: КОВЕР | L39: =L3 -> 0 | M39: КОВЕР
B40: A | C40: (Круг) | F40: 1/16 | G40: ='пр.взв'!$D$4 | L40: Б | M40: (Круг) | P40: 1/16 | Q40: ='пр.взв'!$D$4
A41: № встр | B41: № п/ж | C41: Ф.И.О. | D41: Д. р., разряд | E41: Вед., регион | G41: Оценки | H41: Очки | I41: Результат | J41: Время | K41: № встр | L41: № п/ж | M41: Ф.И.О. | N41: Д. р., разряд | O41: Вед., регион | Q41: Оценки | R41: Очки | S41: Результат | T41: Время
A43: 1 | B43: ='пр.хода'!E6 | C43: =IFERROR(VLOOKUP(B43,'пр.взв'!$D$6:$Q$70,2,0),"") | D43: =IFERROR(VLOOKUP(B43,'пр.взв'!$D$6:$Q$70,5,0),"") | E43: =IFERROR(VLOOKUP(B43,'пр.взв'!$D$6:$Q$70,6,0),"") | F43: =IFERROR(VLOOKUP(B43,'пр.взв'!$D$6:$Q$70,8,0),"") | K43: 9 | L43: ='пр.хода'!AA6 | M43: =IFERROR(VLOOKUP(L43,'пр.взв'!$D$6:$Q$70,2,0),"") | N43: =IFERROR(VLOOKUP(L43,'пр.взв'!$D$6:$Q$70,5,0),"") | O43: =IFERROR(VLOOKUP(L43,'пр.взв'!$D$6:$Q$70,6,0),"") | P43: =IFERROR(VLOOKUP(L43,'пр.взв'!$D$6:$Q$70,8,0),"")
B44: ='пр.хода'!E10 -> 17 | C44: =IFERROR(VLOOKUP(B44,'пр.взв'!$D$6:$Q$70,2,0),"") -> ЭСКИЕВ Рузбек | D44: =IFERROR(VLOOKUP(B44,'пр.взв'!$D$6:$Q$70,5,0),"") -> МС | E44: =IFERROR(VLOOKUP(B44,'пр.взв'!$D$6:$Q$70,6,0),"") -> СКФО | F44: =IFERROR(VLOOKUP(B44,'пр.взв'!$D$6:$Q$70,8,0),"") -> Чеченская | L44: ='пр.хода'!AA10 -> 18 | M44: =IFERROR(VLOOKUP(L44,'пр.взв'!$D$6:$Q$70,2,0),"") -> ГЛАЗЫРИН Александр | N44: =IFERROR(VLOOKUP(L44,'пр.взв'!$D$6:$Q$70,5,0),"") -> КМС | O44: =IFERROR(VLOOKUP(L44,'пр.взв'!$D$6:$Q$70,6,0),"") -> ПФО | P44: =IFERROR(VLOOKUP(L44,'пр.взв'!$D$6:$Q$70,8,0),"") -> Пермский
A45: 2 | B45: ='пр.хода'!E14 -> 9 | C45: =IFERROR(VLOOKUP(B45,'пр.взв'!$D$6:$Q$70,2,0),"") -> ДУГУЖЕВ Азамат | D45: =IFERROR(VLOOKUP(B45,'пр.взв'!$D$6:$Q$70,5,0),"") -> МС | E45: =IFERROR(VLOOKUP(B45,'пр.взв'!$D$6:$Q$70,6,0),"") -> СПБ | F45: =IFERROR(VLOOKUP(B45,'пр.взв'!$D$6:$Q$70,8,0),"") -> Санкт-Петербург | K45: 10 | L45: ='пр.хода'!AA14 -> 10 | M45: =IFERROR(VLOOKUP(L45,'пр.взв'!$D$6:$Q$70,2,0),"") -> ДАМДИНОВ Бато | N45: =IFERROR(VLOOKUP(L45,'пр.взв'!$D$6:$Q$70,5,0),"") -> МС | O45: =IFERROR(VLOOKUP(L45,'пр.взв'!$D$6:$Q$70,6,0),"") -> ДВФО | P45: =IFERROR(VLOOKUP(L45,'пр.взв'!$D$6:$Q$70,8,0),"") -> Р.Бурятия
B46: ='пр.хода'!E18 -> 25 | C46: =IFERROR(VLOOKUP(B46,'пр.взв'!$D$6:$Q$70,2,0),"") -> ШЕИН Дмитрий | D46: =IFERROR(VLOOKUP(B46,'пр.взв'!$D$6:$Q$70,5,0),"") -> КМС | E46: =IFERROR(VLOOKUP(B46,'пр.взв'!$D$6:$Q$70,6,0),"") -> ПФО | F46: =IFERROR(VLOOKUP(B46,'пр.взв'!$D$6:$Q$70,8,0),"") -> Пермский | L46: ='пр.хода'!AA18 -> 26 | M46: =IFERROR(VLOOKUP(L46,'пр.взв'!$D$6:$Q$70,2,0),"") -> ДУЛОВ Владислав | N46: =IFERROR(VLOOKUP(L46,'пр.взв'!$D$6:$Q$70,5,0),"") -> КМС | O46: =IFERROR(VLOOKUP(L46,'пр.взв'!$D$6:$Q$70,6,0),"") -> ПФО | P46: =IFERROR(VLOOKUP(L46,'пр.взв'!$D$6:$Q$70,8,0),"") -> Р.Башкортостан
A47: 3 | B47: ='пр.хода'!E22 -> 5 | C47: =IFERROR(VLOOKUP(B47,'пр.взв'!$D$6:$Q$70,2,0),"") -> КРАСАВЦЕВ Александр | D47: =IFERROR(VLOOKUP(B47,'пр.взв'!$D$6:$Q$70,5,0),"") -> МС | E47: =IFERROR(VLOOKUP(B47,'пр.взв'!$D$6:$Q$70,6,0),"") -> ЦФО | F47: =IFERROR(VLOOKUP(B47,'пр.взв'!$D$6:$Q$70,8,0),"") -> Московская | K47: 11 | L47: ='пр.хода'!AA22 -> 6 | M47: =IFERROR(VLOOKUP(L47,'пр.взв'!$D$6:$Q$70,2,0),"") -> САИДОВ Магомед | N47: =IFERROR(VLOOKUP(L47,'пр.взв'!$D$6:$Q$70,5,0),"") -> КМС | O47: =IFERROR(VLOOKUP(L47,'пр.взв'!$D$6:$Q$70,6,0),"") -> СКФО | P47: =IFERROR(VLOOKUP(L47,'пр.взв'!$D$6:$Q$70,8,0),"") -> Р.Дагестан
B48: ='пр.хода'!E26 -> 21 | C48: =IFERROR(VLOOKUP(B48,'пр.взв'!$D$6:$Q$70,2,0),"") -> ПОДОЙНИЦЫН Константин | D48: =IFERROR(VLOOKUP(B48,'пр.взв'!$D$6:$Q$70,5,0),"") -> КМС | E48: =IFERROR(VLOOKUP(B48,'пр.взв'!$D$6:$Q$70,6,0),"") -> ДВФО | F48: =IFERROR(VLOOKUP(B48,'пр.взв'!$D$6:$Q$70,8,0),"") -> Р.Бурятия | L48: ='пр.хода'!AA26 -> 22 | M48: =IFERROR(VLOOKUP(L48,'пр.взв'!$D$6:$Q$70,2,0),"") -> ЗАЙНУТДИНОВ Ренас | N48: =IFERROR(VLOOKUP(L48,'пр.взв'!$D$6:$Q$70,5,0),"") -> МСМК | O48: =IFERROR(VLOOKUP(L48,'пр.взв'!$D$6:$Q$70,6,0),"") -> ПФО | P48: =IFERROR(VLOOKUP(L48,'пр.взв'!$D$6:$Q$70,8,0),"") -> Р.Татарстан
A49: 4 | B49: ='пр.хода'!E30 -> 13 | C49: =IFERROR(VLOOKUP(B49,'пр.взв'!$D$6:$Q$70,2,0),"") -> БОГАЧЕВ Сергей | D49: =IFERROR(VLOOKUP(B49,'пр.взв'!$D$6:$Q$70,5,0),"") -> КМС | E49: =IFERROR(VLOOKUP(B49,'пр.взв'!$D$6:$Q$70,6,0),"") -> СФО | F49: =IFERROR(VLOOKUP(B49,'пр.взв'!$D$6:$Q$70,8,0),"") -> Красноярский | K49: 12 | L49: ='пр.хода'!AA30 -> 14 | M49: =IFERROR(VLOOKUP(L49,'пр.взв'!$D$6:$Q$70,2,0),"") -> КОБЕНОВ Степан | N49: =IFERROR(VLOOKUP(L49,'пр.взв'!$D$6:$Q$70,5,0),"") -> ЗМС | O49: =IFERROR(VLOOKUP(L49,'пр.взв'!$D$6:$Q$70,6,0),"") -> СФО | P49: =IFERROR(VLOOKUP(L49,'пр.взв'!$D$6:$Q$70,8,0),"") -> Р.Алтай
B50: ='пр.хода'!E34 -> 29 | C50: =IFERROR(VLOOKUP(B50,'пр.взв'!$D$6:$Q$70,2,0),"") -> ПОДКОВАЛЬНИКОВ Никита | D50: =IFERROR(VLOOKUP(B50,'пр.взв'!$D$6:$Q$70,5,0),"") -> МС | E50: =IFERROR(VLOOKUP(B50,'пр.взв'!$D$6:$Q$70,6,0),"") -> ПФО | F50: =IFERROR(VLOOKUP(B50,'пр.взв'!$D$6:$Q$70,8,0),"") -> Самарская | L50: ='пр.хода'!AA34 -> 30 | M50: =IFERROR(VLOOKUP(L50,'пр.взв'!$D$6:$Q$70,2,0),"") -> АХТЕМИРОВ Темирхан | N50: =IFERROR(VLOOKUP(L50,'пр.взв'!$D$6:$Q$70,5,0),"") -> КМС | O50: =IFERROR(VLOOKUP(L50,'пр.взв'!$D$6:$Q$70,6,0),"") -> ЦФО | P50: =IFERROR(VLOOKUP(L50,'пр.взв'!$D$6:$Q$70,8,0),"") -> Тверская
A51: 5 | B51: ='пр.хода'!E39 | C51: =IFERROR(VLOOKUP(B51,'пр.взв'!$D$6:$Q$70,2,0),"") | D51: =IFERROR(VLOOKUP(B51,'пр.взв'!$D$6:$Q$70,5,0),"") | E51: =IFERROR(VLOOKUP(B51,'пр.взв'!$D$6:$Q$70,6,0),"") | F51: =IFERROR(VLOOKUP(B51,'пр.взв'!$D$6:$Q$70,8,0),"") | K51: 13 | L51: ='пр.хода'!AA39 | M51: =IFERROR(VLOOKUP(L51,'пр.взв'!$D$6:$Q$70,2,0),"") | N51: =IFERROR(VLOOKUP(L51,'пр.взв'!$D$6:$Q$70,5,0),"") | O51: =IFERROR(VLOOKUP(L51,'пр.взв'!$D$6:$Q$70,6,0),"") | P51: =IFERROR(VLOOKUP(L51,'пр.взв'!$D$6:$Q$70,8,0),"")
B52: ='пр.хода'!E43 -> 19 | C52: =IFERROR(VLOOKUP(B52,'пр.взв'!$D$6:$Q$70,2,0),"") -> ПОНОМАРЕВ Павел | D52: =IFERROR(VLOOKUP(B52,'пр.взв'!$D$6:$Q$70,5,0),"") -> КМС | E52: =IFERROR(VLOOKUP(B52,'пр.взв'!$D$6:$Q$70,6,0),"") -> ЦФО | F52: =IFERROR(VLOOKUP(B52,'пр.взв'!$D$6:$Q$70,8,0),"") -> Смоленская | L52: ='пр.хода'!AA43 -> 20 | M52: =IFERROR(VLOOKUP(L52,'пр.взв'!$D$6:$Q$70,2,0),"") -> ЦУРКАН Алексей | N52: =IFERROR(VLOOKUP(L52,'пр.взв'!$D$6:$Q$70,5,0),"") -> КМС | O52: =IFERROR(VLOOKUP(L52,'пр.взв'!$D$6:$Q$70,6,0),"") -> ЦФО | P52: =IFERROR(VLOOKUP(L52,'пр.взв'!$D$6:$Q$70,8,0),"") -> Ярославская
A53: 6 | B53: ='пр.хода'!E47 -> 11 | C53: =IFERROR(VLOOKUP(B53,'пр.взв'!$D$6:$Q$70,2,0),"") -> КОЗЛОВ Даниил | D53: =IFERROR(VLOOKUP(B53,'пр.взв'!$D$6:$Q$70,5,0),"") -> МС | E53: =IFERROR(VLOOKUP(B53,'пр.взв'!$D$6:$Q$70,6,0),"") -> СПБ | F53: =IFERROR(VLOOKUP(B53,'пр.взв'!$D$6:$Q$70,8,0),"") -> Санкт-Петербург | K53: 14 | L53: ='пр.хода'!AA47 -> 12 | M53: =IFERROR(VLOOKUP(L53,'пр.взв'!$D$6:$Q$70,2,0),"") -> СИРЕНКО Дмитрий | N53: =IFERROR(VLOOKUP(L53,'пр.взв'!$D$6:$Q$70,5,0),"") -> МС | O53: =IFERROR(VLOOKUP(L53,'пр.взв'!$D$6:$Q$70,6,0),"") -> ПФО | P53: =IFERROR(VLOOKUP(L53,'пр.взв'!$D$6:$Q$70,8,0),"") -> Нижегородская
B54: ='пр.хода'!E51 -> 27 | C54: =IFERROR(VLOOKUP(B54,'пр.взв'!$D$6:$Q$70,2,0),"") -> ЗИННАТОВ Ролан | D54: =IFERROR(VLOOKUP(B54,'пр.взв'!$D$6:$Q$70,5,0),"") -> МСМК | E54: =IFERROR(VLOOKUP(B54,'пр.взв'!$D$6:$Q$70,6,0),"") -> ПФО | F54: =IFERROR(VLOOKUP(B54,'пр.взв'!$D$6:$Q$70,8,0),"") -> Нижегородская | L54: ='пр.хода'!AA51 -> 28 | M54: =IFERROR(VLOOKUP(L54,'пр.взв'!$D$6:$Q$70,2,0),"") -> АЛИБЕКОВ Джаддал | N54: =IFERROR(VLOOKUP(L54,'пр.взв'!$D$6:$Q$70,5,0),"") -> МС | O54: =IFERROR(VLOOKUP(L54,'пр.взв'!$D$6:$Q$70,6,0),"") -> СКФО | P54: =IFERROR(VLOOKUP(L54,'пр.взв'!$D$6:$Q$70,8,0),"") -> Чеченская
A55: 7 | B55: ='пр.хода'!E55 -> 7 | C55: =IFERROR(VLOOKUP(B55,'пр.взв'!$D$6:$Q$70,2,0),"") -> ПАДАЕВ Муслим | D55: =IFERROR(VLOOKUP(B55,'пр.взв'!$D$6:$Q$70,5,0),"") -> КМС | E55: =IFERROR(VLOOKUP(B55,'пр.взв'!$D$6:$Q$70,6,0),"") -> СКФО | F55: =IFERROR(VLOOKUP(B55,'пр.взв'!$D$6:$Q$70,8,0),"") -> Чеченская | K55: 15 | L55: ='пр.хода'!AA55 -> 8 | M55: =IFERROR(VLOOKUP(L55,'пр.взв'!$D$6:$Q$70,2,0),"") -> ТАЛДИЕВ Рустам | N55: =IFERROR(VLOOKUP(L55,'пр.взв'!$D$6:$Q$70,5,0),"") -> ЗМС | O55: =IFERROR(VLOOKUP(L55,'пр.взв'!$D$6:$Q$70,6,0),"") -> СПБ | P55: =IFERROR(VLOOKUP(L55,'пр.взв'!$D$6:$Q$70,8,0),"") -> Санкт-Петербург
B56: ='пр.хода'!E59 -> 23 | C56: =IFERROR(VLOOKUP(B56,'пр.взв'!$D$6:$Q$70,2,0),"") -> КОСЫРЕВ Филипп | D56: =IFERROR(VLOOKUP(B56,'пр.взв'!$D$6:$Q$70,5,0),"") -> МС | E56: =IFERROR(VLOOKUP(B56,'пр.взв'!$D$6:$Q$70,6,0),"") -> ЦФО | F56: =IFERROR(VLOOKUP(B56,'пр.взв'!$D$6:$Q$70,8,0),"") -> Костромская | L56: ='пр.хода'!AA59 -> 24 | M56: =IFERROR(VLOOKUP(L56,'пр.взв'!$D$6:$Q$70,2,0),"") -> БАРАХОЕВ Ахмет | N56: =IFERROR(VLOOKUP(L56,'пр.взв'!$D$6:$Q$70,5,0),"") -> КМС | O56: =IFERROR(VLOOKUP(L56,'пр.взв'!$D$6:$Q$70,6,0),"") -> СПБ | P56: =IFERROR(VLOOKUP(L56,'пр.взв'!$D$6:$Q$70,8,0),"") -> Санкт-Петербург
A57: 8 | B57: ='пр.хода'!E63 -> 15 | C57: =IFERROR(VLOOKUP(B57,'пр.взв'!$D$6:$Q$70,2,0),"") -> ОРЛОВ Егор | D57: =IFERROR(VLOOKUP(B57,'пр.взв'!$D$6:$Q$70,5,0),"") -> МС | E57: =IFERROR(VLOOKUP(B57,'пр.взв'!$D$6:$Q$70,6,0),"") -> ЦФО | F57: =IFERROR(VLOOKUP(B57,'пр.взв'!$D$6:$Q$70,8,0),"") -> Ярославская | K57: 16 | L57: ='пр.хода'!AA63 -> 16 | M57: =IFERROR(VLOOKUP(L57,'пр.взв'!$D$6:$Q$70,2,0),"") -> МАГОМЕДАЛИЕВ Салих | N57: =IFERROR(VLOOKUP(L57,'пр.взв'!$D$6:$Q$70,5,0),"") -> МС | O57: =IFERROR(VLOOKUP(L57,'пр.взв'!$D$6:$Q$70,6,0),"") -> СКФО | P57: =IFERROR(VLOOKUP(L57,'пр.взв'!$D$6:$Q$70,8,0),"") -> Р.Дагестан
B58: ='пр.хода'!E67 -> 31 | C58: =IFERROR(VLOOKUP(B58,'пр.взв'!$D$6:$Q$70,2,0),"") -> ЗАГИДОВ Далгат | D58: =IFERROR(VLOOKUP(B58,'пр.взв'!$D$6:$Q$70,5,0),"") -> МС | E58: =IFERROR(VLOOKUP(B58,'пр.взв'!$D$6:$Q$70,6,0),"") -> СКФО | F58: =IFERROR(VLOOKUP(B58,'пр.взв'!$D$6:$Q$70,8,0),"") -> Р.Дагестан | L58: ='пр.хода'!AA67 -> 32 | M58: =IFERROR(VLOOKUP(L58,'пр.взв'!$D$6:$Q$70,2,0),"") -> НИЛОВ Дмитрий | N58: =IFERROR(VLOOKUP(L58,'пр.взв'!$D$6:$Q$70,5,0),"") -> МС | O58: =IFERROR(VLOOKUP(L58,'пр.взв'!$D$6:$Q$70,6,0),"") -> СФО | P58: =IFERROR(VLOOKUP(L58,'пр.взв'!$D$6:$Q$70,8,0),"") -> Новосибирская
B59: =B39 -> 0 | C59: КОВЕР | L59: =L39 -> 0 | M59: КОВЕР
B60: A | C60: (Круг) | F60: 1/8 | G60: ='пр.взв'!$D$4 | L60: Б | M60: (Круг) | P60: 1/8 | Q60: ='пр.взв'!$D$4
A61: № встр | B61: № п/ж | C61: Ф.И.О. | D61: Д. р., разряд | E61: Вед., регион | G61: Оценки | H61: Очки | I61: Результат | J61: Время | K61: № встр | L61: № п/ж | M61: Ф.И.О. | N61: Д. р., разряд | O61: Вед., регион | Q61: Оценки | R61: Очки | S61: Результат | T61: Время
A63: 1 | B63: ='пр.хода'!G8 | C63: =IFERROR(VLOOKUP(B63,'пр.взв'!$D$6:$Q$70,2,0),"") | D63: =IFERROR(VLOOKUP(B63,'пр.взв'!$D$6:$Q$70,5,0),"") | E63: =IFERROR(VLOOKUP(B63,'пр.взв'!$D$6:$Q$70,6,0),"") | F63: =IFERROR(VLOOKUP(B63,'пр.взв'!$D$6:$Q$70,8,0),"") | K63: 5 | L63: ='пр.хода'!Y8 | M63: =IFERROR(VLOOKUP(L63,'пр.взв'!$D$6:$Q$70,2,0),"") | N63: =IFERROR(VLOOKUP(L63,'пр.взв'!$D$6:$Q$70,5,0),"") | O63: =IFERROR(VLOOKUP(L63,'пр.взв'!$D$6:$Q$70,6,0),"") | P63: =IFERROR(VLOOKUP(L63,'пр.взв'!$D$6:$Q$70,8,0),"")
B64: ='пр.хода'!G16 | C64: =IFERROR(VLOOKUP(B64,'пр.взв'!$D$6:$Q$70,2,0),"") | D64: =IFERROR(VLOOKUP(B64,'пр.взв'!$D$6:$Q$70,5,0),"") | E64: =IFERROR(VLOOKUP(B64,'пр.взв'!$D$6:$Q$70,6,0),"") | F64: =IFERROR(VLOOKUP(B64,'пр.взв'!$D$6:$Q$70,8,0),"") | L64: ='пр.хода'!Y16 | M64: =IFERROR(VLOOKUP(L64,'пр.взв'!$D$6:$Q$70,2,0),"") | N64: =IFERROR(VLOOKUP(L64,'пр.взв'!$D$6:$Q$70,5,0),"") | O64: =IFERROR(VLOOKUP(L64,'пр.взв'!$D$6:$Q$70,6,0),"") | P64: =IFERROR(VLOOKUP(L64,'пр.взв'!$D$6:$Q$70,8,0),"")
A65: 2 | B65: ='пр.хода'!G24 | C65: =IFERROR(VLOOKUP(B65,'пр.взв'!$D$6:$Q$70,2,0),"") | D65: =IFERROR(VLOOKUP(B65,'пр.взв'!$D$6:$Q$70,5,0),"") | E65: =IFERROR(VLOOKUP(B65,'пр.взв'!$D$6:$Q$70,6,0),"") | F65: =IFERROR(VLOOKUP(B65,'пр.взв'!$D$6:$Q$70,8,0),"") | K65: 6 | L65: ='пр.хода'!Y24 | M65: =IFERROR(VLOOKUP(L65,'пр.взв'!$D$6:$Q$70,2,0),"") | N65: =IFERROR(VLOOKUP(L65,'пр.взв'!$D$6:$Q$70,5,0),"") | O65: =IFERROR(VLOOKUP(L65,'пр.взв'!$D$6:$Q$70,6,0),"") | P65: =IFERROR(VLOOKUP(L65,'пр.взв'!$D$6:$Q$70,8,0),"")
B66: ='пр.хода'!G32 | C66: =IFERROR(VLOOKUP(B66,'пр.взв'!$D$6:$Q$70,2,0),"") | D66: =IFERROR(VLOOKUP(B66,'пр.взв'!$D$6:$Q$70,5,0),"") | E66: =IFERROR(VLOOKUP(B66,'пр.взв'!$D$6:$Q$70,6,0),"") | F66: =IFERROR(VLOOKUP(B66,'пр.взв'!$D$6:$Q$70,8,0),"") | L66: ='пр.хода'!Y32 | M66: =IFERROR(VLOOKUP(L66,'пр.взв'!$D$6:$Q$70,2,0),"") | N66: =IFERROR(VLOOKUP(L66,'пр.взв'!$D$6:$Q$70,5,0),"") | O66: =IFERROR(VLOOKUP(L66,'пр.взв'!$D$6:$Q$70,6,0),"") | P66: =IFERROR(VLOOKUP(L66,'пр.взв'!$D$6:$Q$70,8,0),"")
A67: 3 | B67: ='пр.хода'!G41 | C67: =IFERROR(VLOOKUP(B67,'пр.взв'!$D$6:$Q$70,2,0),"") | D67: =IFERROR(VLOOKUP(B67,'пр.взв'!$D$6:$Q$70,5,0),"") | E67: =IFERROR(VLOOKUP(B67,'пр.взв'!$D$6:$Q$70,6,0),"") | F67: =IFERROR(VLOOKUP(B67,'пр.взв'!$D$6:$Q$70,8,0),"") | K67: 7 | L67: ='пр.хода'!Y41 | M67: =IFERROR(VLOOKUP(L67,'пр.взв'!$D$6:$Q$70,2,0),"") | N67: =IFERROR(VLOOKUP(L67,'пр.взв'!$D$6:$Q$70,5,0),"") | O67: =IFERROR(VLOOKUP(L67,'пр.взв'!$D$6:$Q$70,6,0),"") | P67: =IFERROR(VLOOKUP(L67,'пр.взв'!$D$6:$Q$70,8,0),"")
B68: ='пр.хода'!G49 | C68: =IFERROR(VLOOKUP(B68,'пр.взв'!$D$6:$Q$70,2,0),"") | D68: =IFERROR(VLOOKUP(B68,'пр.взв'!$D$6:$Q$70,5,0),"") | E68: =IFERROR(VLOOKUP(B68,'пр.взв'!$D$6:$Q$70,6,0),"") | F68: =IFERROR(VLOOKUP(B68,'пр.взв'!$D$6:$Q$70,8,0),"") | L68: ='пр.хода'!Y49 | M68: =IFERROR(VLOOKUP(L68,'пр.взв'!$D$6:$Q$70,2,0),"") | N68: =IFERROR(VLOOKUP(L68,'пр.взв'!$D$6:$Q$70,5,0),"") | O68: =IFERROR(VLOOKUP(L68,'пр.взв'!$D$6:$Q$70,6,0),"") | P68: =IFERROR(VLOOKUP(L68,'пр.взв'!$D$6:$Q$70,8,0),"")
A69: 4 | B69: ='пр.хода'!G57 | C69: =IFERROR(VLOOKUP(B69,'пр.взв'!$D$6:$Q$70,2,0),"") | D69: =IFERROR(VLOOKUP(B69,'пр.взв'!$D$6:$Q$70,5,0),"") | E69: =IFERROR(VLOOKUP(B69,'пр.взв'!$D$6:$Q$70,6,0),"") | F69: =IFERROR(VLOOKUP(B69,'пр.взв'!$D$6:$Q$70,8,0),"") | K69: 8 | L69: ='пр.хода'!Y57 | M69: =IFERROR(VLOOKUP(L69,'пр.взв'!$D$6:$Q$70,2,0),"") | N69: =IFERROR(VLOOKUP(L69,'пр.взв'!$D$6:$Q$70,5,0),"") | O69: =IFERROR(VLOOKUP(L69,'пр.взв'!$D$6:$Q$70,6,0),"") | P69: =IFERROR(VLOOKUP(L69,'пр.взв'!$D$6:$Q$70,8,0),"")
B70: ='пр.хода'!G65 | C70: =IFERROR(VLOOKUP(B70,'пр.взв'!$D$6:$Q$70,2,0),"") | D70: =IFERROR(VLOOKUP(B70,'пр.взв'!$D$6:$Q$70,5,0),"") | E70: =IFERROR(VLOOKUP(B70,'пр.взв'!$D$6:$Q$70,6,0),"") | F70: =IFERROR(VLOOKUP(B70,'пр.взв'!$D$6:$Q$70,8,0),"") | L70: ='пр.хода'!Y65 | M70: =IFERROR(VLOOKUP(L70,'пр.взв'!$D$6:$Q$70,2,0),"") | N70: =IFERROR(VLOOKUP(L70,'пр.взв'!$D$6:$Q$70,5,0),"") | O70: =IFERROR(VLOOKUP(L70,'пр.взв'!$D$6:$Q$70,6,0),"") | P70: =IFERROR(VLOOKUP(L70,'пр.взв'!$D$6:$Q$70,8,0),"")
B71: =B59 -> 0 | C71: КОВЕР | L71: =L59 -> 0 | M71: КОВЕР
B72: A | C72: (Круг) | F72: 1/4 | G72: ='пр.взв'!$D$4 | L72: B | M72: (Круг) | P72: 1/4 | Q72: ='пр.взв'!$D$4
A73: № встр | B73: № п/ж | C73: Ф.И.О. | D73: Д. р., разряд | E73: Вед., регион | G73: Оценки | H73: Очки | I73: Результат | J73: Время | K73: № встр | L73: № п/ж | M73: Ф.И.О. | N73: Д. р., разряд | O73: Вед., регион | Q73: Оценки | R73: Очки | S73: Результат | T73: Время
A75: 1 | B75: ='пр.хода'!I12 | C75: =IFERROR(VLOOKUP(B75,'пр.взв'!$D$6:$Q$70,2,0),"") | D75: =IFERROR(VLOOKUP(B75,'пр.взв'!$D$6:$Q$70,5,0),"") | E75: =IFERROR(VLOOKUP(B75,'пр.взв'!$D$6:$Q$70,6,0),"") | F75: =IFERROR(VLOOKUP(B75,'пр.взв'!$D$6:$Q$70,8,0),"") | K75: 3 | L75: ='пр.хода'!W12 | M75: =IFERROR(VLOOKUP(L75,'пр.взв'!$D$6:$Q$70,2,0),"") | N75: =IFERROR(VLOOKUP(L75,'пр.взв'!$D$6:$Q$70,5,0),"") | O75: =IFERROR(VLOOKUP(L75,'пр.взв'!$D$6:$Q$70,6,0),"") | P75: =IFERROR(VLOOKUP(L75,'пр.взв'!$D$6:$Q$70,8,0),"")
B76: ='пр.хода'!I28 | C76: =IFERROR(VLOOKUP(B76,'пр.взв'!$D$6:$Q$70,2,0),"") | D76: =IFERROR(VLOOKUP(B76,'пр.взв'!$D$6:$Q$70,5,0),"") | E76: =IFERROR(VLOOKUP(B76,'пр.взв'!$D$6:$Q$70,6,0),"") | F76: =IFERROR(VLOOKUP(B76,'пр.взв'!$D$6:$Q$70,8,0),"") | L76: ='пр.хода'!W28 | M76: =IFERROR(VLOOKUP(L76,'пр.взв'!$D$6:$Q$70,2,0),"") | N76: =IFERROR(VLOOKUP(L76,'пр.взв'!$D$6:$Q$70,5,0),"") | O76: =IFERROR(VLOOKUP(L76,'пр.взв'!$D$6:$Q$70,6,0),"") | P76: =IFERROR(VLOOKUP(L76,'пр.взв'!$D$6:$Q$70,8,0),"")
A77: 2 | B77: ='пр.хода'!I46 | C77: =IFERROR(VLOOKUP(B77,'пр.взв'!$D$6:$Q$70,2,0),"") | D77: =IFERROR(VLOOKUP(B77,'пр.взв'!$D$6:$Q$70,5,0),"") | E77: =IFERROR(VLOOKUP(B77,'пр.взв'!$D$6:$Q$70,6,0),"") | F77: =IFERROR(VLOOKUP(B77,'пр.взв'!$D$6:$Q$70,8,0),"") | K77: 4 | L77: ='пр.хода'!W45 | M77: =IFERROR(VLOOKUP(L77,'пр.взв'!$D$6:$Q$70,2,0),"") | N77: =IFERROR(VLOOKUP(L77,'пр.взв'!$D$6:$Q$70,5,0),"") | O77: =IFERROR(VLOOKUP(L77,'пр.взв'!$D$6:$Q$70,6,0),"") | P77: =IFERROR(VLOOKUP(L77,'пр.взв'!$D$6:$Q$70,8,0),"")
B78: ='пр.хода'!I61 | C78: =IFERROR(VLOOKUP(B78,'пр.взв'!$D$6:$Q$70,2,0),"") | D78: =IFERROR(VLOOKUP(B78,'пр.взв'!$D$6:$Q$70,5,0),"") | E78: =IFERROR(VLOOKUP(B78,'пр.взв'!$D$6:$Q$70,6,0),"") | F78: =IFERROR(VLOOKUP(B78,'пр.взв'!$D$6:$Q$70,8,0),"") | L78: ='пр.хода'!W61 | M78: =IFERROR(VLOOKUP(L78,'пр.взв'!$D$6:$Q$70,2,0),"") | N78: =IFERROR(VLOOKUP(L78,'пр.взв'!$D$6:$Q$70,5,0),"") | O78: =IFERROR(VLOOKUP(L78,'пр.взв'!$D$6:$Q$70,6,0),"") | P78: =IFERROR(VLOOKUP(L78,'пр.взв'!$D$6:$Q$70,8,0),"")
B80: A | C80: Полуфинал | G80: ='пр.взв'!$D$4 | L80: Б | M80: Полуфинал | Q80: ='пр.взв'!$D$4
A81: № встр | B81: № п/ж | C81: Ф.И.О. | D81: Д. р., разряд | E81: Вед., регион | G81: Оценки | H81: Очки | I81: Результат | J81: Время | K81: № встр | L81: № п/ж | M81: Ф.И.О. | N81: Д. р., разряд | O81: Вед., регион | Q81: Оценки | R81: Очки | S81: Результат | T81: Время
A83: 1 | B83: ='пр.хода'!K20 | C83: =IFERROR(VLOOKUP(B83,'пр.взв'!$D$6:$Q$70,2,0),"") | D83: =IFERROR(VLOOKUP(B83,'пр.взв'!$D$6:$Q$70,5,0),"") | E83: =IFERROR(VLOOKUP(B83,'пр.взв'!$D$6:$Q$70,6,0),"") | F83: =IFERROR(VLOOKUP(B83,'пр.взв'!$D$6:$Q$70,8,0),"") | K83: 2 | L83: ='пр.хода'!U20 | M83: =IFERROR(VLOOKUP(L83,'пр.взв'!$D$6:$Q$70,2,0),"") | N83: =IFERROR(VLOOKUP(L83,'пр.взв'!$D$6:$Q$70,5,0),"") | O83: =IFERROR(VLOOKUP(L83,'пр.взв'!$D$6:$Q$70,6,0),"") | P83: =IFERROR(VLOOKUP(L83,'пр.взв'!$D$6:$Q$70,8,0),"")
B84: ='пр.хода'!K53 | C84: =IFERROR(VLOOKUP(B84,'пр.взв'!$D$6:$Q$70,2,0),"") | D84: =IFERROR(VLOOKUP(B84,'пр.взв'!$D$6:$Q$70,5,0),"") | E84: =IFERROR(VLOOKUP(B84,'пр.взв'!$D$6:$Q$70,6,0),"") | F84: =IFERROR(VLOOKUP(B84,'пр.взв'!$D$6:$Q$70,8,0),"") | L84: ='пр.хода'!U53 | M84: =IFERROR(VLOOKUP(L84,'пр.взв'!$D$6:$Q$70,2,0),"") | N84: =IFERROR(VLOOKUP(L84,'пр.взв'!$D$6:$Q$70,5,0),"") | O84: =IFERROR(VLOOKUP(L84,'пр.взв'!$D$6:$Q$70,6,0),"") | P84: =IFERROR(VLOOKUP(L84,'пр.взв'!$D$6:$Q$70,8,0),"")
B85: =B71 -> 0 | C85: КОВЕР | L85: =L71 -> 0 | M85: КОВЕР
A86: (Утешительные встречи) | K86: (Утешительные встречи)
B87: A | G87: ='пр.взв'!$D$4 | L87: Б | Q87: ='пр.взв'!$D$4
A88: № встр | B88: № п/ж | C88: Ф.И.О. | D88: Д. р., разряд | E88: Вед., регион | G88: Оценки | H88: Очки | I88: Результат | J88: Время | K88: № встр | L88: № п/ж | M88: Ф.И.О. | N88: Д. р., разряд | O88: Вед., регион | Q88: Оценки | R88: Очки | S88: Результат | T88: Время
A90: 1 | B90: ='пр.хода'!L7 | C90: =IFERROR(VLOOKUP(B90,'пр.взв'!$B$7:$H$70,2,0),"") | D90: =IFERROR(VLOOKUP(B90,'пр.взв'!$B$7:$H$70,3,0),"") | E90: =IFERROR(VLOOKUP(B90,'пр.взв'!$B$7:$H$70,4,0),"") | F90: =IFERROR(VLOOKUP(B90,'пр.взв'!$B$7:$H$70,5,0),"") | K90: 3 | L90: ='пр.хода'!L56 | M90: =IFERROR(VLOOKUP(L90,'пр.взв'!$B$7:$H$70,2,0),"") | N90: =IFERROR(VLOOKUP(L90,'пр.взв'!$B$7:$H$70,3,0),"") | O90: =IFERROR(VLOOKUP(L90,'пр.взв'!$B$7:$H$70,4,0),"") | P90: =IFERROR(VLOOKUP(L90,'пр.взв'!$B$7:$H$70,5,0),"")
B91: ='пр.хода'!L10 | C91: =IFERROR(VLOOKUP(B91,'пр.взв'!$B$7:$H$70,2,0),"") | D91: =IFERROR(VLOOKUP(B91,'пр.взв'!$B$7:$H$70,3,0),"") | E91: =IFERROR(VLOOKUP(B91,'пр.взв'!$B$7:$H$70,4,0),"") | F91: =IFERROR(VLOOKUP(B91,'пр.взв'!$B$7:$H$70,5,0),"") | L91: ='пр.хода'!L59 | M91: =IFERROR(VLOOKUP(L91,'пр.взв'!$B$7:$H$70,2,0),"") | N91: =IFERROR(VLOOKUP(L91,'пр.взв'!$B$7:$H$70,3,0),"") | O91: =IFERROR(VLOOKUP(L91,'пр.взв'!$B$7:$H$70,4,0),"") | P91: =IFERROR(VLOOKUP(L91,'пр.взв'!$B$7:$H$70,5,0),"")
A92: 2 | B92: ='пр.хода'!L14 | C92: =IFERROR(VLOOKUP(B92,'пр.взв'!$B$7:$H$70,2,0),"") | D92: =IFERROR(VLOOKUP(B92,'пр.взв'!$B$7:$H$70,3,0),"") | E92: =IFERROR(VLOOKUP(B92,'пр.взв'!$B$7:$H$70,4,0),"") | F92: =IFERROR(VLOOKUP(B92,'пр.взв'!$B$7:$H$70,5,0),"") | K92: 4 | L92: ='пр.хода'!L63 | M92: =IFERROR(VLOOKUP(L92,'пр.взв'!$B$7:$H$70,2,0),"") | N92: =IFERROR(VLOOKUP(L92,'пр.взв'!$B$7:$H$70,3,0),"") | O92: =IFERROR(VLOOKUP(L92,'пр.взв'!$B$7:$H$70,4,0),"") | P92: =IFERROR(VLOOKUP(L92,'пр.взв'!$B$7:$H$70,5,0),"")
B93: ='пр.хода'!L17 | C93: =IFERROR(VLOOKUP(B93,'пр.взв'!$B$7:$H$70,2,0),"") | D93: =IFERROR(VLOOKUP(B93,'пр.взв'!$B$7:$H$70,3,0),"") | E93: =IFERROR(VLOOKUP(B93,'пр.взв'!$B$7:$H$70,4,0),"") | F93: =IFERROR(VLOOKUP(B93,'пр.взв'!$B$7:$H$70,5,0),"") | L93: ='пр.хода'!L66 | M93: =IFERROR(VLOOKUP(L93,'пр.взв'!$B$7:$H$70,2,0),"") | N93: =IFERROR(VLOOKUP(L93,'пр.взв'!$B$7:$H$70,3,0),"") | O93: =IFERROR(VLOOKUP(L93,'пр.взв'!$B$7:$H$70,4,0),"") | P93: =IFERROR(VLOOKUP(L93,'пр.взв'!$B$7:$H$70,5,0),"")
A95: 5 | B95: ='пр.хода'!N8 | C95: =IFERROR(VLOOKUP(B95,'пр.взв'!$B$7:$H$70,2,0),"") | D95: =IFERROR(VLOOKUP(B95,'пр.взв'!$B$7:$H$70,3,0),"") | E95: =IFERROR(VLOOKUP(B95,'пр.взв'!$B$7:$H$70,4,0),"") | F95: =IFERROR(VLOOKUP(B95,'пр.взв'!$B$7:$H$70,5,0),"") | K95: 7 | L95: ='пр.хода'!N57 | M95: =IFERROR(VLOOKUP(L95,'пр.взв'!$B$7:$H$70,2,0),"") | N95: =IFERROR(VLOOKUP(L95,'пр.взв'!$B$7:$H$70,3,0),"") | O95: =IFERROR(VLOOKUP(L95,'пр.взв'!$B$7:$H$70,4,0),"") | P95: =IFERROR(VLOOKUP(L95,'пр.взв'!$B$7:$H$70,5,0),"")
B96: ='пр.хода'!N11 | C96: =IFERROR(VLOOKUP(B96,'пр.взв'!$B$7:$H$70,2,0),"") | D96: =IFERROR(VLOOKUP(B96,'пр.взв'!$B$7:$H$70,3,0),"") | E96: =IFERROR(VLOOKUP(B96,'пр.взв'!$B$7:$H$70,4,0),"") | F96: =IFERROR(VLOOKUP(B96,'пр.взв'!$B$7:$H$70,5,0),"") | L96: ='пр.хода'!N60 | M96: =IFERROR(VLOOKUP(L96,'пр.взв'!$B$7:$H$70,2,0),"") | N96: =IFERROR(VLOOKUP(L96,'пр.взв'!$B$7:$H$70,3,0),"") | O96: =IFERROR(VLOOKUP(L96,'пр.взв'!$B$7:$H$70,4,0),"") | P96: =IFERROR(VLOOKUP(L96,'пр.взв'!$B$7:$H$70,5,0),"")
A97: 6 | B97: ='пр.хода'!N15 | C97: =IFERROR(VLOOKUP(B97,'пр.взв'!$B$7:$H$70,2,0),"") | D97: =IFERROR(VLOOKUP(B97,'пр.взв'!$B$7:$H$70,3,0),"") | E97: =IFERROR(VLOOKUP(B97,'пр.взв'!$B$7:$H$70,4,0),"") | F97: =IFERROR(VLOOKUP(B97,'пр.взв'!$B$7:$H$70,5,0),"") | K97: 8 | L97: ='пр.хода'!N64 | M97: =IFERROR(VLOOKUP(L97,'пр.взв'!$B$7:$H$70,2,0),"") | N97: =IFERROR(VLOOKUP(L97,'пр.взв'!$B$7:$H$70,3,0),"") | O97: =IFERROR(VLOOKUP(L97,'пр.взв'!$B$7:$H$70,4,0),"") | P97: =IFERROR(VLOOKUP(L97,'пр.взв'!$B$7:$H$70,5,0),"")
B98: ='пр.хода'!N18 | C98: =IFERROR(VLOOKUP(B98,'пр.взв'!$B$7:$H$70,2,0),"") | D98: =IFERROR(VLOOKUP(B98,'пр.взв'!$B$7:$H$70,3,0),"") | E98: =IFERROR(VLOOKUP(B98,'пр.взв'!$B$7:$H$70,4,0),"") | F98: =IFERROR(VLOOKUP(B98,'пр.взв'!$B$7:$H$70,5,0),"") | L98: ='пр.хода'!N67 | M98: =IFERROR(VLOOKUP(L98,'пр.взв'!$B$7:$H$70,2,0),"") | N98: =IFERROR(VLOOKUP(L98,'пр.взв'!$B$7:$H$70,3,0),"") | O98: =IFERROR(VLOOKUP(L98,'пр.взв'!$B$7:$H$70,4,0),"") | P98: =IFERROR(VLOOKUP(L98,'пр.взв'!$B$7:$H$70,5,0),"")
A100: 9 | B100: ='пр.хода'!O10 | C100: =IFERROR(VLOOKUP(B100,'пр.взв'!$B$7:$H$70,2,0),"") | D100: =IFERROR(VLOOKUP(B100,'пр.взв'!$B$7:$H$70,3,0),"") | E100: =IFERROR(VLOOKUP(B100,'пр.взв'!$B$7:$H$70,4,0),"") | F100: =IFERROR(VLOOKUP(B100,'пр.взв'!$B$7:$H$70,5,0),"") | K100: 11 | L100: ='пр.хода'!O59 | M100: =IFERROR(VLOOKUP(L100,'пр.взв'!$B$7:$H$70,2,0),"") | N100: =IFERROR(VLOOKUP(L100,'пр.взв'!$B$7:$H$70,3,0),"") | O100: =IFERROR(VLOOKUP(L100,'пр.взв'!$B$7:$H$70,4,0),"") | P100: =IFERROR(VLOOKUP(L100,'пр.взв'!$B$7:$H$70,5,0),"")
B101: ='пр.хода'!O13 | C101: =IFERROR(VLOOKUP(B101,'пр.взв'!$B$7:$H$70,2,0),"") | D101: =IFERROR(VLOOKUP(B101,'пр.взв'!$B$7:$H$70,3,0),"") | E101: =IFERROR(VLOOKUP(B101,'пр.взв'!$B$7:$H$70,4,0),"") | F101: =IFERROR(VLOOKUP(B101,'пр.взв'!$B$7:$H$70,5,0),"") | L101: ='пр.хода'!O62 | M101: =IFERROR(VLOOKUP(L101,'пр.взв'!$B$7:$H$70,2,0),"") | N101: =IFERROR(VLOOKUP(L101,'пр.взв'!$B$7:$H$70,3,0),"") | O101: =IFERROR(VLOOKUP(L101,'пр.взв'!$B$7:$H$70,4,0),"") | P101: =IFERROR(VLOOKUP(L101,'пр.взв'!$B$7:$H$70,5,0),"")
A102: 10 | B102: ='пр.хода'!O17 | C102: =IFERROR(VLOOKUP(B102,'пр.взв'!$B$7:$H$70,2,0),"") | D102: =IFERROR(VLOOKUP(B102,'пр.взв'!$B$7:$H$70,3,0),"") | E102: =IFERROR(VLOOKUP(B102,'пр.взв'!$B$7:$H$70,4,0),"") | F102: =IFERROR(VLOOKUP(B102,'пр.взв'!$B$7:$H$70,5,0),"") | K102: 12 | L102: ='пр.хода'!O66 | M102: =IFERROR(VLOOKUP(L102,'пр.взв'!$B$7:$H$70,2,0),"") | N102: =IFERROR(VLOOKUP(L102,'пр.взв'!$B$7:$H$70,3,0),"") | O102: =IFERROR(VLOOKUP(L102,'пр.взв'!$B$7:$H$70,4,0),"") | P102: =IFERROR(VLOOKUP(L102,'пр.взв'!$B$7:$H$70,5,0),"")
B103: ='пр.хода'!O20 | C103: =IFERROR(VLOOKUP(B103,'пр.взв'!$B$7:$H$70,2,0),"") | D103: =IFERROR(VLOOKUP(B103,'пр.взв'!$B$7:$H$70,3,0),"") | E103: =IFERROR(VLOOKUP(B103,'пр.взв'!$B$7:$H$70,4,0),"") | F103: =IFERROR(VLOOKUP(B103,'пр.взв'!$B$7:$H$70,5,0),"") | L103: ='пр.хода'!O69 | M103: =IFERROR(VLOOKUP(L103,'пр.взв'!$B$7:$H$70,2,0),"") | N103: =IFERROR(VLOOKUP(L103,'пр.взв'!$B$7:$H$70,3,0),"") | O103: =IFERROR(VLOOKUP(L103,'пр.взв'!$B$7:$H$70,4,0),"") | P103: =IFERROR(VLOOKUP(L103,'пр.взв'!$B$7:$H$70,5,0),"")
A105: 13 | B105: ='пр.хода'!P12 | C105: =IFERROR(VLOOKUP(B105,'пр.взв'!$B$7:$H$70,2,0),"") | D105: =IFERROR(VLOOKUP(B105,'пр.взв'!$B$7:$H$70,3,0),"") | E105: =IFERROR(VLOOKUP(B105,'пр.взв'!$B$7:$H$70,4,0),"") | F105: =IFERROR(VLOOKUP(B105,'пр.взв'!$B$7:$H$70,5,0),"") | K105: 14 | L105: ='пр.хода'!P61 | M105: =IFERROR(VLOOKUP(L105,'пр.взв'!$B$7:$H$70,2,0),"") | N105: =IFERROR(VLOOKUP(L105,'пр.взв'!$B$7:$H$70,3,0),"") | O105: =IFERROR(VLOOKUP(L105,'пр.взв'!$B$7:$H$70,4,0),"") | P105: =IFERROR(VLOOKUP(L105,'пр.взв'!$B$7:$H$70,5,0),"")
B106: ='пр.хода'!P19 | C106: =IFERROR(VLOOKUP(B106,'пр.взв'!$B$7:$H$70,2,0),"") | D106: =IFERROR(VLOOKUP(B106,'пр.взв'!$B$7:$H$70,3,0),"") | E106: =IFERROR(VLOOKUP(B106,'пр.взв'!$B$7:$H$70,4,0),"") | F106: =IFERROR(VLOOKUP(B106,'пр.взв'!$B$7:$H$70,5,0),"") | L106: ='пр.хода'!P68 | M106: =IFERROR(VLOOKUP(L106,'пр.взв'!$B$7:$H$70,2,0),"") | N106: =IFERROR(VLOOKUP(L106,'пр.взв'!$B$7:$H$70,3,0),"") | O106: =IFERROR(VLOOKUP(L106,'пр.взв'!$B$7:$H$70,4,0),"") | P106: =IFERROR(VLOOKUP(L106,'пр.взв'!$B$7:$H$70,5,0),"")

Sheet за призовые места
A1: ='пр.взв'!C2 -> Чемпионат России по самбо (боевое) мужчины (отбор на Чемпионат Мира и Европы) ЕКП №23747
C3: ЗА 3 МЕСТО
C4: ВСТРЕЧА 1 | D4: ='пр.взв'!G4 -> В.к. 71 кг
A5: Цвет | B5: № п/ж | C5: Ф.И.О. | D5: Д. р., разряд | E5: Вед., регион | G5: Оценки | H5: Рез-т | I5: Время
B7: ='пр.хода'!Q15 | C7: =IFERROR(VLOOKUP(B7,'пр.взв'!$B$7:$H$70,2,0),"") | D7: =IFERROR(VLOOKUP(B7,'пр.взв'!$B$7:$H$70,3,0),"") | E7: =IFERROR(VLOOKUP(B7,'пр.взв'!$B$7:$H$70,4,0),"") | F7: =IFERROR(VLOOKUP(B7,'пр.взв'!$B$7:$H$70,5,0),"")
B9: ='пр.хода'!Q21 | C9: =IFERROR(VLOOKUP(B9,'пр.взв'!$B$7:$H$70,2,0),"") | D9: =IFERROR(VLOOKUP(B9,'пр.взв'!$B$7:$H$70,3,0),"") | E9: =IFERROR(VLOOKUP(B9,'пр.взв'!$B$7:$H$70,4,0),"") | F9: =IFERROR(VLOOKUP(B9,'пр.взв'!$B$7:$H$70,5,0),"")
A11: Руководитель ковра
B12: А
B13: Б
C15: 3А 3 МЕСТО
C16: ВСТРЕЧА 2 | D16: =D4 -> В.к. 71 кг
A17: Цвет | B17: № п/ж | C17: Ф.И.О. | D17: Д. р., разряд | E17: Вед., регион | G17: Оценки | H17: Рез-т | I17: Время
B19: ='пр.хода'!Q64 | C19: =IFERROR(VLOOKUP(B19,'пр.взв'!$B$7:$H$70,2,0),"") | D19: =IFERROR(VLOOKUP(B19,'пр.взв'!$B$7:$H$70,3,0),"") | E19: =IFERROR(VLOOKUP(B19,'пр.взв'!$B$7:$H$70,4,0),"") | F19: =IFERROR(VLOOKUP(B19,'пр.взв'!$B$7:$H$70,5,0),"")
B21: ='пр.хода'!Q69 | C21: =IFERROR(VLOOKUP(B21,'пр.взв'!$B$7:$H$70,2,0),"") | D21: =IFERROR(VLOOKUP(B21,'пр.взв'!$B$7:$H$70,3,0),"") | E21: =IFERROR(VLOOKUP(B21,'пр.взв'!$B$7:$H$70,4,0),"") | F21: =IFERROR(VLOOKUP(B21,'пр.взв'!$B$7:$H$70,5,0),"")
A23: Руководитель ковра
B24: А
B25: Б
C29: ФИНАЛ | D29: =D4 -> В.к. 71 кг | G29: БОЕВОЕ
A30: Цвет | B30: № п/ж | C30: Ф.И.О. | D30: Д. р., разряд | E30: Вед., регион | G30: Оценки | H30: Рез-т | I30: Время
B32: ='пр.хода'!M36 | C32: =IFERROR(VLOOKUP(B32,'пр.взв'!$B$7:$H$70,2,0),"") | D32: =IFERROR(VLOOKUP(B32,'пр.взв'!$B$7:$H$70,3,0),"") | E32: =IFERROR(VLOOKUP(B32,'пр.взв'!$B$7:$H$70,4,0),"") | F32: =IFERROR(VLOOKUP(B32,'пр.взв'!$B$7:$H$70,5,0),"")
B34: ='пр.хода'!S36 | C34: =IFERROR(VLOOKUP(B34,'пр.взв'!$B$7:$H$70,2,0),"") | D34: =IFERROR(VLOOKUP(B34,'пр.взв'!$B$7:$H$70,3,0),"") | E34: =IFERROR(VLOOKUP(B34,'пр.взв'!$B$7:$H$70,4,0),"") | F34: =IFERROR(VLOOKUP(B34,'пр.взв'!$B$7:$H$70,5,0),"")
A36: Руководитель ковра
B37: А
B38: Б

Sheet Табло
B1: ВСТРЕЧИ ПО КРУГАМ | M1: ВСТРЕЧИ ПО КРУГАМ
B2: 3 | C2: КОВЕР | E2: ='пр.взв'!H4 | M2: =A2 | N2: КОВЕР | P2: =E2
B3: A | C3: (Круг) | D3: 1/16 | F3: 1/32 | G3: ='пр.взв'!G4 -> В.к. 71 кг | M3: Б | N3: (Круг) | O3: 1/16 | Q3: 1/32 | R3: =F3 -> 1/32
A4: № встр | B4: № п/ж | C4: Ф.И.О. | D4: Д. р., разряд | E4: Вед., регион | G4: Оценки | H4: Очки | I4: Рез-т | J4: Время | L4: № встр | M4: № п/ж | N4: Ф.И.О. | O4: Д. р., разряд | P4: Вед., регион | R4: Оценки | S4: Очки | T4: Рез-т | U4: Время
A6: 1 | B6: 1 | C6: =IFERROR(VLOOKUP(B6,'пр.взв'!$D$6:$Q$70,2,0),"") -> БУДАКОВ Наил | D6: =IFERROR(VLOOKUP(B6,'пр.взв'!$D$6:$Q$70,5,0),"") -> МС | E6: =IFERROR(VLOOKUP(B6,'пр.взв'!$D$6:$Q$70,6,0),"") -> ПФО | F6: =IFERROR(VLOOKUP(B6,'пр.взв'!$D$6:$Q$70,8,0),"") -> Самарская | L6: 17 | M6: 2 | N6: =IFERROR(VLOOKUP(M6,'пр.взв'!$D$6:$Q$70,2,0),"") -> ДУШКАНОВ Дамир | O6: =IFERROR(VLOOKUP(M6,'пр.взв'!$D$6:$Q$70,5,0),"") -> КМС | P6: =IFERROR(VLOOKUP(M6,'пр.взв'!$D$6:$Q$70,6,0),"") -> ПФО | Q6: =IFERROR(VLOOKUP(M6,'пр.взв'!$D$6:$Q$70,8,0),"") -> Самарская
B7: 33 | C7: =IFERROR(VLOOKUP(B7,'пр.взв'!$D$6:$Q$70,2,0),"") -> МУРАДОВ Рашад | D7: =IFERROR(VLOOKUP(B7,'пр.взв'!$D$6:$Q$70,5,0),"") -> МСМК | E7: =IFERROR(VLOOKUP(B7,'пр.взв'!$D$6:$Q$70,6,0),"") -> СЗФО | F7: =IFERROR(VLOOKUP(B7,'пр.взв'!$D$6:$Q$70,8,0),"") -> Р.Карелия | M7: 34 | N7: =IFERROR(VLOOKUP(M7,'пр.взв'!$D$6:$Q$70,2,0),"") -> ДУГИЕВ Ибрагим | O7: =IFERROR(VLOOKUP(M7,'пр.взв'!$D$6:$Q$70,5,0),"") -> МСМК | P7: =IFERROR(VLOOKUP(M7,'пр.взв'!$D$6:$Q$70,6,0),"") -> ЦФО | Q7: =IFERROR(VLOOKUP(M7,'пр.взв'!$D$6:$Q$70,8,0),"") -> Ярославская
A8: 2 | B8: 17 | C8: =IFERROR(VLOOKUP(B8,'пр.взв'!$D$6:$Q$70,2,0),"") -> ЭСКИЕВ Рузбек | D8: =IFERROR(VLOOKUP(B8,'пр.взв'!$D$6:$Q$70,5,0),"") -> МС | E8: =IFERROR(VLOOKUP(B8,'пр.взв'!$D$6:$Q$70,6,0),"") -> СКФО | F8: =IFERROR(VLOOKUP(B8,'пр.взв'!$D$6:$Q$70,8,0),"") -> Чеченская | L8: 18 | M8: 18 | N8: =IFERROR(VLOOKUP(M8,'пр.взв'!$D$6:$Q$70,2,0),"") -> ГЛАЗЫРИН Александр | O8: =IFERROR(VLOOKUP(M8,'пр.взв'!$D$6:$Q$70,5,0),"") -> КМС | P8: =IFERROR(VLOOKUP(M8,'пр.взв'!$D$6:$Q$70,6,0),"") -> ПФО | Q8: =IFERROR(VLOOKUP(M8,'пр.взв'!$D$6:$Q$70,8,0),"") -> Пермский
B9: 49 | C9: =IFERROR(VLOOKUP(B9,'пр.взв'!$D$6:$Q$70,2,0),"") | D9: =IFERROR(VLOOKUP(B9,'пр.взв'!$D$6:$Q$70,5,0),"") | E9: =IFERROR(VLOOKUP(B9,'пр.взв'!$D$6:$Q$70,6,0),"") | F9: =IFERROR(VLOOKUP(B9,'пр.взв'!$D$6:$Q$70,8,0),"") | M9: 50 | N9: =IFERROR(VLOOKUP(M9,'пр.взв'!$D$6:$Q$70,2,0),"") | O9: =IFERROR(VLOOKUP(M9,'пр.взв'!$D$6:$Q$70,5,0),"") | P9: =IFERROR(VLOOKUP(M9,'пр.взв'!$D$6:$Q$70,6,0),"") | Q9: =IFERROR(VLOOKUP(M9,'пр.взв'!$D$6:$Q$70,8,0),"")
A10: 3 | B10: 9 | C10: =IFERROR(VLOOKUP(B10,'пр.взв'!$D$6:$Q$70,2,0),"") -> ДУГУЖЕВ Азамат | D10: =IFERROR(VLOOKUP(B10,'пр.взв'!$D$6:$Q$70,5,0),"") -> МС | E10: =IFERROR(VLOOKUP(B10,'пр.взв'!$D$6:$Q$70,6,0),"") -> СПБ | F10: =IFERROR(VLOOKUP(B10,'пр.взв'!$D$6:$Q$70,8,0),"") -> Санкт-Петербург | L10: 19 | M10: 10 | N10: =IFERROR(VLOOKUP(M10,'пр.взв'!$D$6:$Q$70,2,0),"") -> ДАМДИНОВ Бато | O10: =IFERROR(VLOOKUP(M10,'пр.взв'!$D$6:$Q$70,5,0),"") -> МС | P10: =IFERROR(VLOOKUP(M10,'пр.взв'!$D$6:$Q$70,6,0),"") -> ДВФО | Q10: =IFERROR(VLOOKUP(M10,'пр.взв'!$D$6:$Q$70,8,0),"") -> Р.Бурятия
B11: 41 | C11: =IFERROR(VLOOKUP(B11,'пр.взв'!$D$6:$Q$70,2,0),"") | D11: =IFERROR(VLOOKUP(B11,'пр.взв'!$D$6:$Q$70,5,0),"") | E11: =IFERROR(VLOOKUP(B11,'пр.взв'!$D$6:$Q$70,6,0),"") | F11: =IFERROR(VLOOKUP(B11,'пр.взв'!$D$6:$Q$70,8,0),"") | M11: 42 | N11: =IFERROR(VLOOKUP(M11,'пр.взв'!$D$6:$Q$70,2,0),"") | O11: =IFERROR(VLOOKUP(M11,'пр.взв'!$D$6:$Q$70,5,0),"") | P11: =IFERROR(VLOOKUP(M11,'пр.взв'!$D$6:$Q$70,6,0),"") | Q11: =IFERROR(VLOOKUP(M11,'пр.взв'!$D$6:$Q$70,8,0),"")
A12: 4 | B12: 25 | C12: =IFERROR(VLOOKUP(B12,'пр.взв'!$D$6:$Q$70,2,0),"") -> ШЕИН Дмитрий | D12: =IFERROR(VLOOKUP(B12,'пр.взв'!$D$6:$Q$70,5,0),"") -> КМС | E12: =IFERROR(VLOOKUP(B12,'пр.взв'!$D$6:$Q$70,6,0),"") -> ПФО | F12: =IFERROR(VLOOKUP(B12,'пр.взв'!$D$6:$Q$70,8,0),"") -> Пермский | L12: 20 | M12: 26 | N12: =IFERROR(VLOOKUP(M12,'пр.взв'!$D$6:$Q$70,2,0),"") -> ДУЛОВ Владислав | O12: =IFERROR(VLOOKUP(M12,'пр.взв'!$D$6:$Q$70,5,0),"") -> КМС | P12: =IFERROR(VLOOKUP(M12,'пр.взв'!$D$6:$Q$70,6,0),"") -> ПФО | Q12: =IFERROR(VLOOKUP(M12,'пр.взв'!$D$6:$Q$70,8,0),"") -> Р.Башкортостан
B13: 57 | C13: =IFERROR(VLOOKUP(B13,'пр.взв'!$D$6:$Q$70,2,0),"") | D13: =IFERROR(VLOOKUP(B13,'пр.взв'!$D$6:$Q$70,5,0),"") | E13: =IFERROR(VLOOKUP(B13,'пр.взв'!$D$6:$Q$70,6,0),"") | F13: =IFERROR(VLOOKUP(B13,'пр.взв'!$D$6:$Q$70,8,0),"") | M13: 58 | N13: =IFERROR(VLOOKUP(M13,'пр.взв'!$D$6:$Q$70,2,0),"") | O13: =IFERROR(VLOOKUP(M13,'пр.взв'!$D$6:$Q$70,5,0),"") | P13: =IFERROR(VLOOKUP(M13,'пр.взв'!$D$6:$Q$70,6,0),"") | Q13: =IFERROR(VLOOKUP(M13,'пр.взв'!$D$6:$Q$70,8,0),"")
A14: 5 | B14: 5 | C14: =IFERROR(VLOOKUP(B14,'пр.взв'!$D$6:$Q$70,2,0),"") -> КРАСАВЦЕВ Александр | D14: =IFERROR(VLOOKUP(B14,'пр.взв'!$D$6:$Q$70,5,0),"") -> МС | E14: =IFERROR(VLOOKUP(B14,'пр.взв'!$D$6:$Q$70,6,0),"") -> ЦФО | F14: =IFERROR(VLOOKUP(B14,'пр.взв'!$D$6:$Q$70,8,0),"") -> Московская | L14: 21 | M14: 6 | N14: =IFERROR(VLOOKUP(M14,'пр.взв'!$D$6:$Q$70,2,0),"") -> САИДОВ Магомед | O14: =IFERROR(VLOOKUP(M14,'пр.взв'!$D$6:$Q$70,5,0),"") -> КМС | P14: =IFERROR(VLOOKUP(M14,'пр.взв'!$D$6:$Q$70,6,0),"") -> СКФО | Q14: =IFERROR(VLOOKUP(M14,'пр.взв'!$D$6:$Q$70,8,0),"") -> Р.Дагестан
B15: 37 | C15: =IFERROR(VLOOKUP(B15,'пр.взв'!$D$6:$Q$70,2,0),"") -> СУЛТАНОВ Иман | D15: =IFERROR(VLOOKUP(B15,'пр.взв'!$D$6:$Q$70,5,0),"") -> КМС | E15: =IFERROR(VLOOKUP(B15,'пр.взв'!$D$6:$Q$70,6,0),"") -> СКФО | F15: =IFERROR(VLOOKUP(B15,'пр.взв'!$D$6:$Q$70,8,0),"") -> Р.Дагестан | M15: 38 | N15: =IFERROR(VLOOKUP(M15,'пр.взв'!$D$6:$Q$70,2,0),"") | O15: =IFERROR(VLOOKUP(M15,'пр.взв'!$D$6:$Q$70,5,0),"") | P15: =IFERROR(VLOOKUP(M15,'пр.взв'!$D$6:$Q$70,6,0),"") | Q15: =IFERROR(VLOOKUP(M15,'пр.взв'!$D$6:$Q$70,8,0),"")
A16: 6 | B16: 21 | C16: =IFERROR(VLOOKUP(B16,'пр.взв'!$D$6:$Q$70,2,0),"") -> ПОДОЙНИЦЫН Константин | D16: =IFERROR(VLOOKUP(B16,'пр.взв'!$D$6:$Q$70,5,0),"") -> КМС | E16: =IFERROR(VLOOKUP(B16,'пр.взв'!$D$6:$Q$70,6,0),"") -> ДВФО | F16: =IFERROR(VLOOKUP(B16,'пр.взв'!$D$6:$Q$70,8,0),"") -> Р.Бурятия | L16: 22 | M16: 22 | N16: =IFERROR(VLOOKUP(M16,'пр.взв'!$D$6:$Q$70,2,0),"") -> ЗАЙНУТДИНОВ Ренас | O16: =IFERROR(VLOOKUP(M16,'пр.взв'!$D$6:$Q$70,5,0),"") -> МСМК | P16: =IFERROR(VLOOKUP(M16,'пр.взв'!$D$6:$Q$70,6,0),"") -> ПФО | Q16: =IFERROR(VLOOKUP(M16,'пр.взв'!$D$6:$Q$70,8,0),"") -> Р.Татарстан
B17: 53 | C17: =IFERROR(VLOOKUP(B17,'пр.взв'!$D$6:$Q$70,2,0),"") | D17: =IFERROR(VLOOKUP(B17,'пр.взв'!$D$6:$Q$70,5,0),"") | E17: =IFERROR(VLOOKUP(B17,'пр.взв'!$D$6:$Q$70,6,0),"") | F17: =IFERROR(VLOOKUP(B17,'пр.взв'!$D$6:$Q$70,8,0),"") | M17: 54 | N17: =IFERROR(VLOOKUP(M17,'пр.взв'!$D$6:$Q$70,2,0),"") | O17: =IFERROR(VLOOKUP(M17,'пр.взв'!$D$6:$Q$70,5,0),"") | P17: =IFERROR(VLOOKUP(M17,'пр.взв'!$D$6:$Q$70,6,0),"") | Q17: =IFERROR(VLOOKUP(M17,'пр.взв'!$D$6:$Q$70,8,0),"")
A18: 7 | B18: 13 | C18: =IFERROR(VLOOKUP(B18,'пр.взв'!$D$6:$Q$70,2,0),"") -> БОГАЧЕВ Сергей | D18: =IFERROR(VLOOKUP(B18,'пр.взв'!$D$6:$Q$70,5,0),"") -> КМС | E18: =IFERROR(VLOOKUP(B18,'пр.взв'!$D$6:$Q$70,6,0),"") -> СФО | F18: =IFERROR(VLOOKUP(B18,'пр.взв'!$D$6:$Q$70,8,0),"") -> Красноярский | L18: 23 | M18: 14 | N18: =IFERROR(VLOOKUP(M18,'пр.взв'!$D$6:$Q$70,2,0),"") -> КОБЕНОВ Степан | O18: =IFERROR(VLOOKUP(M18,'пр.взв'!$D$6:$Q$70,5,0),"") -> ЗМС | P18: =IFERROR(VLOOKUP(M18,'пр.взв'!$D$6:$Q$70,6,0),"") -> СФО | Q18: =IFERROR(VLOOKUP(M18,'пр.взв'!$D$6:$Q$70,8,0),"") -> Р.Алтай
B19: 45 | C19: =IFERROR(VLOOKUP(B19,'пр.взв'!$D$6:$Q$70,2,0),"") | D19: =IFERROR(VLOOKUP(B19,'пр.взв'!$D$6:$Q$70,5,0),"") | E19: =IFERROR(VLOOKUP(B19,'пр.взв'!$D$6:$Q$70,6,0),"") | F19: =IFERROR(VLOOKUP(B19,'пр.взв'!$D$6:$Q$70,8,0),"") | M19: 46 | N19: =IFERROR(VLOOKUP(M19,'пр.взв'!$D$6:$Q$70,2,0),"") | O19: =IFERROR(VLOOKUP(M19,'пр.взв'!$D$6:$Q$70,5,0),"") | P19: =IFERROR(VLOOKUP(M19,'пр.взв'!$D$6:$Q$70,6,0),"") | Q19: =IFERROR(VLOOKUP(M19,'пр.взв'!$D$6:$Q$70,8,0),"")
A20: 8 | B20: 29 | C20: =IFERROR(VLOOKUP(B20,'пр.взв'!$D$6:$Q$70,2,0),"") -> ПОДКОВАЛЬНИКОВ Никита | D20: =IFERROR(VLOOKUP(B20,'пр.взв'!$D$6:$Q$70,5,0),"") -> МС | E20: =IFERROR(VLOOKUP(B20,'пр.взв'!$D$6:$Q$70,6,0),"") -> ПФО | F20: =IFERROR(VLOOKUP(B20,'пр.взв'!$D$6:$Q$70,8,0),"") -> Самарская | L20: 24 | M20: 30 | N20: =IFERROR(VLOOKUP(M20,'пр.взв'!$D$6:$Q$70,2,0),"") -> АХТЕМИРОВ Темирхан | O20: =IFERROR(VLOOKUP(M20,'пр.взв'!$D$6:$Q$70,5,0),"") -> КМС | P20: =IFERROR(VLOOKUP(M20,'пр.взв'!$D$6:$Q$70,6,0),"") -> ЦФО | Q20: =IFERROR(VLOOKUP(M20,'пр.взв'!$D$6:$Q$70,8,0),"") -> Тверская
B21: 61 | C21: =IFERROR(VLOOKUP(B21,'пр.взв'!$D$6:$Q$70,2,0),"") | D21: =IFERROR(VLOOKUP(B21,'пр.взв'!$D$6:$Q$70,5,0),"") | E21: =IFERROR(VLOOKUP(B21,'пр.взв'!$D$6:$Q$70,6,0),"") | F21: =IFERROR(VLOOKUP(B21,'пр.взв'!$D$6:$Q$70,8,0),"") | M21: 62 | N21: =IFERROR(VLOOKUP(M21,'пр.взв'!$D$6:$Q$70,2,0),"") | O21: =IFERROR(VLOOKUP(M21,'пр.взв'!$D$6:$Q$70,5,0),"") | P21: =IFERROR(VLOOKUP(M21,'пр.взв'!$D$6:$Q$70,6,0),"") | Q21: =IFERROR(VLOOKUP(M21,'пр.взв'!$D$6:$Q$70,8,0),"")
A22: 9 | B22: 3 | C22: =IFERROR(VLOOKUP(B22,'пр.взв'!$D$6:$Q$70,2,0),"") -> НОВИКОВ Никита | D22: =IFERROR(VLOOKUP(B22,'пр.взв'!$D$6:$Q$70,5,0),"") -> КМС | E22: =IFERROR(VLOOKUP(B22,'пр.взв'!$D$6:$Q$70,6,0),"") -> ПФО | F22: =IFERROR(VLOOKUP(B22,'пр.взв'!$D$6:$Q$70,8,0),"") -> Р.Татарстан | L22: 25 | M22: 4 | N22: =IFERROR(VLOOKUP(M22,'пр.взв'!$D$6:$Q$70,2,0),"") -> СОРОКИН Алексей | O22: =IFERROR(VLOOKUP(M22,'пр.взв'!$D$6:$Q$70,5,0),"") -> КМС | P22: =IFERROR(VLOOKUP(M22,'пр.взв'!$D$6:$Q$70,6,0),"") -> СЗФО | Q22: =IFERROR(VLOOKUP(M22,'пр.взв'!$D$6:$Q$70,8,0),"") -> Р.Коми
B23: 35 | C23: =IFERROR(VLOOKUP(B23,'пр.взв'!$D$6:$Q$70,2,0),"") -> БЕЛОНОГОВ Михаил | D23: =IFERROR(VLOOKUP(B23,'пр.взв'!$D$6:$Q$70,5,0),"") -> МС | E23: =IFERROR(VLOOKUP(B23,'пр.взв'!$D$6:$Q$70,6,0),"") -> ПФО | F23: =IFERROR(VLOOKUP(B23,'пр.взв'!$D$6:$Q$70,8,0),"") -> Пермский | M23: 36 | N23: =IFERROR(VLOOKUP(M23,'пр.взв'!$D$6:$Q$70,2,0),"") -> АБДУЛАЗИЗОВ Камиль | O23: =IFERROR(VLOOKUP(M23,'пр.взв'!$D$6:$Q$70,5,0),"") -> МСМК | P23: =IFERROR(VLOOKUP(M23,'пр.взв'!$D$6:$Q$70,6,0),"") -> МОС | Q23: =IFERROR(VLOOKUP(M23,'пр.взв'!$D$6:$Q$70,8,0),"") -> Москва
A24: 10 | B24: 19 | C24: =IFERROR(VLOOKUP(B24,'пр.взв'!$D$6:$Q$70,2,0),"") -> ПОНОМАРЕВ Павел | D24: =IFERROR(VLOOKUP(B24,'пр.взв'!$D$6:$Q$70,5,0),"") -> КМС | E24: =IFERROR(VLOOKUP(B24,'пр.взв'!$D$6:$Q$70,6,0),"") -> ЦФО | F24: =IFERROR(VLOOKUP(B24,'пр.взв'!$D$6:$Q$70,8,0),"") -> Смоленская | L24: 26 | M24: 20 | N24: =IFERROR(VLOOKUP(M24,'пр.взв'!$D$6:$Q$70,2,0),"") -> ЦУРКАН Алексей | O24: =IFERROR(VLOOKUP(M24,'пр.взв'!$D$6:$Q$70,5,0),"") -> КМС | P24: =IFERROR(VLOOKUP(M24,'пр.взв'!$D$6:$Q$70,6,0),"") -> ЦФО | Q24: =IFERROR(VLOOKUP(M24,'пр.взв'!$D$6:$Q$70,8,0),"") -> Ярославская
B25: 51 | C25: =IFERROR(VLOOKUP(B25,'пр.взв'!$D$6:$Q$70,2,0),"") | D25: =IFERROR(VLOOKUP(B25,'пр.взв'!$D$6:$Q$70,5,0),"") | E25: =IFERROR(VLOOKUP(B25,'пр.взв'!$D$6:$Q$70,6,0),"") | F25: =IFERROR(VLOOKUP(B25,'пр.взв'!$D$6:$Q$70,8,0),"") | M25: 52 | N25: =IFERROR(VLOOKUP(M25,'пр.взв'!$D$6:$Q$70,2,0),"") | O25: =IFERROR(VLOOKUP(M25,'пр.взв'!$D$6:$Q$70,5,0),"") | P25: =IFERROR(VLOOKUP(M25,'пр.взв'!$D$6:$Q$70,6,0),"") | Q25: =IFERROR(VLOOKUP(M25,'пр.взв'!$D$6:$Q$70,8,0),"")
A26: 11 | B26: 11 | C26: =IFERROR(VLOOKUP(B26,'пр.взв'!$D$6:$Q$70,2,0),"") -> КОЗЛОВ Даниил | D26: =IFERROR(VLOOKUP(B26,'пр.взв'!$D$6:$Q$70,5,0),"") -> МС | E26: =IFERROR(VLOOKUP(B26,'пр.взв'!$D$6:$Q$70,6,0),"") -> СПБ | F26: =IFERROR(VLOOKUP(B26,'пр.взв'!$D$6:$Q$70,8,0),"") -> Санкт-Петербург | L26: 27 | M26: 12 | N26: =IFERROR(VLOOKUP(M26,'пр.взв'!$D$6:$Q$70,2,0),"") -> СИРЕНКО Дмитрий | O26: =IFERROR(VLOOKUP(M26,'пр.взв'!$D$6:$Q$70,5,0),"") -> МС | P26: =IFERROR(VLOOKUP(M26,'пр.взв'!$D$6:$Q$70,6,0),"") -> ПФО | Q26: =IFERROR(VLOOKUP(M26,'пр.взв'!$D$6:$Q$70,8,0),"") -> Нижегородская
B27: 43 | C27: =IFERROR(VLOOKUP(B27,'пр.взв'!$D$6:$Q$70,2,0),"") | D27: =IFERROR(VLOOKUP(B27,'пр.взв'!$D$6:$Q$70,5,0),"") | E27: =IFERROR(VLOOKUP(B27,'пр.взв'!$D$6:$Q$70,6,0),"") | F27: =IFERROR(VLOOKUP(B27,'пр.взв'!$D$6:$Q$70,8,0),"") | M27: 44 | N27: =IFERROR(VLOOKUP(M27,'пр.взв'!$D$6:$Q$70,2,0),"") | O27: =IFERROR(VLOOKUP(M27,'пр.взв'!$D$6:$Q$70,5,0),"") | P27: =IFERROR(VLOOKUP(M27,'пр.взв'!$D$6:$Q$70,6,0),"") | Q27: =IFERROR(VLOOKUP(M27,'пр.взв'!$D$6:$Q$70,8,0),"")
A28: 12 | B28: 27 | C28: =IFERROR(VLOOKUP(B28,'пр.взв'!$D$6:$Q$70,2,0),"") -> ЗИННАТОВ Ролан | D28: =IFERROR(VLOOKUP(B28,'пр.взв'!$D$6:$Q$70,5,0),"") -> МСМК | E28: =IFERROR(VLOOKUP(B28,'пр.взв'!$D$6:$Q$70,6,0),"") -> ПФО | F28: =IFERROR(VLOOKUP(B28,'пр.взв'!$D$6:$Q$70,8,0),"") -> Нижегородская | L28: 28 | M28: 28 | N28: =IFERROR(VLOOKUP(M28,'пр.взв'!$D$6:$Q$70,2,0),"") -> АЛИБЕКОВ Джаддал | O28: =IFERROR(VLOOKUP(M28,'пр.взв'!$D$6:$Q$70,5,0),"") -> МС | P28: =IFERROR(VLOOKUP(M28,'пр.взв'!$D$6:$Q$70,6,0),"") -> СКФО | Q28: =IFERROR(VLOOKUP(M28,'пр.взв'!$D$6:$Q$70,8,0),"") -> Чеченская
B29: 59 | C29: =IFERROR(VLOOKUP(B29,'пр.взв'!$D$6:$Q$70,2,0),"") | D29: =IFERROR(VLOOKUP(B29,'пр.взв'!$D$6:$Q$70,5,0),"") | E29: =IFERROR(VLOOKUP(B29,'пр.взв'!$D$6:$Q$70,6,0),"") | F29: =IFERROR(VLOOKUP(B29,'пр.взв'!$D$6:$Q$70,8,0),"") | M29: 60 | N29: =IFERROR(VLOOKUP(M29,'пр.взв'!$D$6:$Q$70,2,0),"") | O29: =IFERROR(VLOOKUP(M29,'пр.взв'!$D$6:$Q$70,5,0),"") | P29: =IFERROR(VLOOKUP(M29,'пр.взв'!$D$6:$Q$70,6,0),"") | Q29: =IFERROR(VLOOKUP(M29,'пр.взв'!$D$6:$Q$70,8,0),"")
A30: 13 | B30: 7 | C30: =IFERROR(VLOOKUP(B30,'пр.взв'!$D$6:$Q$70,2,0),"") -> ПАДАЕВ Муслим | D30: =IFERROR(VLOOKUP(B30,'пр.взв'!$D$6:$Q$70,5,0),"") -> КМС | E30: =IFERROR(VLOOKUP(B30,'пр.взв'!$D$6:$Q$70,6,0),"") -> СКФО | F30: =IFERROR(VLOOKUP(B30,'пр.взв'!$D$6:$Q$70,8,0),"") -> Чеченская | L30: 29 | M30: 8 | N30: =IFERROR(VLOOKUP(M30,'пр.взв'!$D$6:$Q$70,2,0),"") -> ТАЛДИЕВ Рустам | O30: =IFERROR(VLOOKUP(M30,'пр.взв'!$D$6:$Q$70,5,0),"") -> ЗМС | P30: =IFERROR(VLOOKUP(M30,'пр.взв'!$D$6:$Q$70,6,0),"") -> СПБ | Q30: =IFERROR(VLOOKUP(M30,'пр.взв'!$D$6:$Q$70,8,0),"") -> Санкт-Петербург
B31: 39 | C31: =IFERROR(VLOOKUP(B31,'пр.взв'!$D$6:$Q$70,2,0),"") | D31: =IFERROR(VLOOKUP(B31,'пр.взв'!$D$6:$Q$70,5,0),"") | E31: =IFERROR(VLOOKUP(B31,'пр.взв'!$D$6:$Q$70,6,0),"") | F31: =IFERROR(VLOOKUP(B31,'пр.взв'!$D$6:$Q$70,8,0),"") | M31: 40 | N31: =IFERROR(VLOOKUP(M31,'пр.взв'!$D$6:$Q$70,2,0),"") | O31: =IFERROR(VLOOKUP(M31,'пр.взв'!$D$6:$Q$70,5,0),"") | P31: =IFERROR(VLOOKUP(M31,'пр.взв'!$D$6:$Q$70,6,0),"") | Q31: =IFERROR(VLOOKUP(M31,'пр.взв'!$D$6:$Q$70,8,0),"")
A32: 14 | B32: 23 | C32: =IFERROR(VLOOKUP(B32,'пр.взв'!$D$6:$Q$70,2,0),"") -> КОСЫРЕВ Филипп | D32: =IFERROR(VLOOKUP(B32,'пр.взв'!$D$6:$Q$70,5,0),"") -> МС | E32: =IFERROR(VLOOKUP(B32,'пр.взв'!$D$6:$Q$70,6,0),"") -> ЦФО | F32: =IFERROR(VLOOKUP(B32,'пр.взв'!$D$6:$Q$70,8,0),"") -> Костромская | L32: 30 | M32: 24 | N32: =IFERROR(VLOOKUP(M32,'пр.взв'!$D$6:$Q$70,2,0),"") -> БАРАХОЕВ Ахмет | O32: =IFERROR(VLOOKUP(M32,'пр.взв'!$D$6:$Q$70,5,0),"") -> КМС | P32: =IFERROR(VLOOKUP(M32,'пр.взв'!$D$6:$Q$70,6,0),"") -> СПБ | Q32: =IFERROR(VLOOKUP(M32,'пр.взв'!$D$6:$Q$70,8,0),"") -> Санкт-Петербург
B33: 55 | C33: =IFERROR(VLOOKUP(B33,'пр.взв'!$D$6:$Q$70,2,0),"") | D33: =IFERROR(VLOOKUP(B33,'пр.взв'!$D$6:$Q$70,5,0),"") | E33: =IFERROR(VLOOKUP(B33,'пр.взв'!$D$6:$Q$70,6,0),"") | F33: =IFERROR(VLOOKUP(B33,'пр.взв'!$D$6:$Q$70,8,0),"") | M33: 56 | N33: =IFERROR(VLOOKUP(M33,'пр.взв'!$D$6:$Q$70,2,0),"") | O33: =IFERROR(VLOOKUP(M33,'пр.взв'!$D$6:$Q$70,5,0),"") | P33: =IFERROR(VLOOKUP(M33,'пр.взв'!$D$6:$Q$70,6,0),"") | Q33: =IFERROR(VLOOKUP(M33,'пр.взв'!$D$6:$Q$70,8,0),"")
A34: 15 | B34: 15 | C34: =IFERROR(VLOOKUP(B34,'пр.взв'!$D$6:$Q$70,2,0),"") -> ОРЛОВ Егор | D34: =IFERROR(VLOOKUP(B34,'пр.взв'!$D$6:$Q$70,5,0),"") -> МС | E34: =IFERROR(VLOOKUP(B34,'пр.взв'!$D$6:$Q$70,6,0),"") -> ЦФО | F34: =IFERROR(VLOOKUP(B34,'пр.взв'!$D$6:$Q$70,8,0),"") -> Ярославская | L34: 31 | M34: 16 | N34: =IFERROR(VLOOKUP(M34,'пр.взв'!$D$6:$Q$70,2,0),"") -> МАГОМЕДАЛИЕВ Салих | O34: =IFERROR(VLOOKUP(M34,'пр.взв'!$D$6:$Q$70,5,0),"") -> МС | P34: =IFERROR(VLOOKUP(M34,'пр.взв'!$D$6:$Q$70,6,0),"") -> СКФО | Q34: =IFERROR(VLOOKUP(M34,'пр.взв'!$D$6:$Q$70,8,0),"") -> Р.Дагестан
B35: 47 | C35: =IFERROR(VLOOKUP(B35,'пр.взв'!$D$6:$Q$70,2,0),"") | D35: =IFERROR(VLOOKUP(B35,'пр.взв'!$D$6:$Q$70,5,0),"") | E35: =IFERROR(VLOOKUP(B35,'пр.взв'!$D$6:$Q$70,6,0),"") | F35: =IFERROR(VLOOKUP(B35,'пр.взв'!$D$6:$Q$70,8,0),"") | M35: 48 | N35: =IFERROR(VLOOKUP(M35,'пр.взв'!$D$6:$Q$70,2,0),"") | O35: =IFERROR(VLOOKUP(M35,'пр.взв'!$D$6:$Q$70,5,0),"") | P35: =IFERROR(VLOOKUP(M35,'пр.взв'!$D$6:$Q$70,6,0),"") | Q35: =IFERROR(VLOOKUP(M35,'пр.взв'!$D$6:$Q$70,8,0),"")
A36: 16 | B36: 31 | C36: =IFERROR(VLOOKUP(B36,'пр.взв'!$D$6:$Q$70,2,0),"") -> ЗАГИДОВ Далгат | D36: =IFERROR(VLOOKUP(B36,'пр.взв'!$D$6:$Q$70,5,0),"") -> МС | E36: =IFERROR(VLOOKUP(B36,'пр.взв'!$D$6:$Q$70,6,0),"") -> СКФО | F36: =IFERROR(VLOOKUP(B36,'пр.взв'!$D$6:$Q$70,8,0),"") -> Р.Дагестан | L36: 32 | M36: 32 | N36: =IFERROR(VLOOKUP(M36,'пр.взв'!$D$6:$Q$70,2,0),"") -> НИЛОВ Дмитрий | O36: =IFERROR(VLOOKUP(M36,'пр.взв'!$D$6:$Q$70,5,0),"") -> МС | P36: =IFERROR(VLOOKUP(M36,'пр.взв'!$D$6:$Q$70,6,0),"") -> СФО | Q36: =IFERROR(VLOOKUP(M36,'пр.взв'!$D$6:$Q$70,8,0),"") -> Новосибирская
B37: 63 | C37: =IFERROR(VLOOKUP(B37,'пр.взв'!$D$6:$Q$70,2,0),"") | D37: =IFERROR(VLOOKUP(B37,'пр.взв'!$D$6:$Q$70,5,0),"") | E37: =IFERROR(VLOOKUP(B37,'пр.взв'!$D$6:$Q$70,6,0),"") | F37: =IFERROR(VLOOKUP(B37,'пр.взв'!$D$6:$Q$70,8,0),"") | M37: 64 | N37: =IFERROR(VLOOKUP(M37,'пр.взв'!$D$6:$Q$70,2,0),"") | O37: =IFERROR(VLOOKUP(M37,'пр.взв'!$D$6:$Q$70,5,0),"") | P37: =IFERROR(VLOOKUP(M37,'пр.взв'!$D$6:$Q$70,6,0),"") | Q37: =IFERROR(VLOOKUP(M37,'пр.взв'!$D$6:$Q$70,8,0),"")
B38: A | C38: (Круг) | F38: 1/16 | G38: ='пр.взв'!$D$4 | M38: Б | N38: (Круг) | Q38: 1/16 | R38: ='пр.взв'!$D$4
A39: № встр | B39: № п/ж | C39: Ф.И.О. | D39: Д. р., разряд | E39: Вед., регион | G39: Оценки | H39: Очки | I39: Результат | J39: Время | L39: № встр | M39: № п/ж | N39: Ф.И.О. | O39: Д. р., разряд | P39: Вед., регион | R39: Оценки | S39: Очки | T39: Результат | U39: Время
A41: 1 | B41: ='пр.хода'!E6 | C41: =IFERROR(VLOOKUP(B41,'пр.взв'!$D$6:$Q$70,2,0),"") | D41: =IFERROR(VLOOKUP(B41,'пр.взв'!$D$6:$Q$70,5,0),"") | E41: =IFERROR(VLOOKUP(B41,'пр.взв'!$D$6:$Q$70,6,0),"") | F41: =IFERROR(VLOOKUP(B41,'пр.взв'!$D$6:$Q$70,8,0),"") | L41: 9 | M41: ='пр.хода'!AA6 | N41: =IFERROR(VLOOKUP(M41,'пр.взв'!$D$6:$Q$70,2,0),"") | O41: =IFERROR(VLOOKUP(M41,'пр.взв'!$D$6:$Q$70,5,0),"") | P41: =IFERROR(VLOOKUP(M41,'пр.взв'!$D$6:$Q$70,6,0),"") | Q41: =IFERROR(VLOOKUP(M41,'пр.взв'!$D$6:$Q$70,8,0),"")
B42: ='пр.хода'!E10 -> 17 | C42: =IFERROR(VLOOKUP(B42,'пр.взв'!$D$6:$Q$70,2,0),"") -> ЭСКИЕВ Рузбек | D42: =IFERROR(VLOOKUP(B42,'пр.взв'!$D$6:$Q$70,5,0),"") -> МС | E42: =IFERROR(VLOOKUP(B42,'пр.взв'!$D$6:$Q$70,6,0),"") -> СКФО | F42: =IFERROR(VLOOKUP(B42,'пр.взв'!$D$6:$Q$70,8,0),"") -> Чеченская | M42: ='пр.хода'!AA10 -> 18 | N42: =IFERROR(VLOOKUP(M42,'пр.взв'!$D$6:$Q$70,2,0),"") -> ГЛАЗЫРИН Александр | O42: =IFERROR(VLOOKUP(M42,'пр.взв'!$D$6:$Q$70,5,0),"") -> КМС | P42: =IFERROR(VLOOKUP(M42,'пр.взв'!$D$6:$Q$70,6,0),"") -> ПФО | Q42: =IFERROR(VLOOKUP(M42,'пр.взв'!$D$6:$Q$70,8,0),"") -> Пермский
A43: 2 | B43: ='пр.хода'!E14 -> 9 | C43: =IFERROR(VLOOKUP(B43,'пр.взв'!$D$6:$Q$70,2,0),"") -> ДУГУЖЕВ Азамат | D43: =IFERROR(VLOOKUP(B43,'пр.взв'!$D$6:$Q$70,5,0),"") -> МС | E43: =IFERROR(VLOOKUP(B43,'пр.взв'!$D$6:$Q$70,6,0),"") -> СПБ | F43: =IFERROR(VLOOKUP(B43,'пр.взв'!$D$6:$Q$70,8,0),"") -> Санкт-Петербург | L43: 10 | M43: ='пр.хода'!AA14 -> 10 | N43: =IFERROR(VLOOKUP(M43,'пр.взв'!$D$6:$Q$70,2,0),"") -> ДАМДИНОВ Бато | O43: =IFERROR(VLOOKUP(M43,'пр.взв'!$D$6:$Q$70,5,0),"") -> МС | P43: =IFERROR(VLOOKUP(M43,'пр.взв'!$D$6:$Q$70,6,0),"") -> ДВФО | Q43: =IFERROR(VLOOKUP(M43,'пр.взв'!$D$6:$Q$70,8,0),"") -> Р.Бурятия
B44: ='пр.хода'!E18 -> 25 | C44: =IFERROR(VLOOKUP(B44,'пр.взв'!$D$6:$Q$70,2,0),"") -> ШЕИН Дмитрий | D44: =IFERROR(VLOOKUP(B44,'пр.взв'!$D$6:$Q$70,5,0),"") -> КМС | E44: =IFERROR(VLOOKUP(B44,'пр.взв'!$D$6:$Q$70,6,0),"") -> ПФО | F44: =IFERROR(VLOOKUP(B44,'пр.взв'!$D$6:$Q$70,8,0),"") -> Пермский | M44: ='пр.хода'!AA18 -> 26 | N44: =IFERROR(VLOOKUP(M44,'пр.взв'!$D$6:$Q$70,2,0),"") -> ДУЛОВ Владислав | O44: =IFERROR(VLOOKUP(M44,'пр.взв'!$D$6:$Q$70,5,0),"") -> КМС | P44: =IFERROR(VLOOKUP(M44,'пр.взв'!$D$6:$Q$70,6,0),"") -> ПФО | Q44: =IFERROR(VLOOKUP(M44,'пр.взв'!$D$6:$Q$70,8,0),"") -> Р.Башкортостан
A45: 3 | B45: ='пр.хода'!E22 -> 5 | C45: =IFERROR(VLOOKUP(B45,'пр.взв'!$D$6:$Q$70,2,0),"") -> КРАСАВЦЕВ Александр | D45: =IFERROR(VLOOKUP(B45,'пр.взв'!$D$6:$Q$70,5,0),"") -> МС | E45: =IFERROR(VLOOKUP(B45,'пр.взв'!$D$6:$Q$70,6,0),"") -> ЦФО | F45: =IFERROR(VLOOKUP(B45,'пр.взв'!$D$6:$Q$70,8,0),"") -> Московская | L45: 11 | M45: ='пр.хода'!AA22 -> 6 | N45: =IFERROR(VLOOKUP(M45,'пр.взв'!$D$6:$Q$70,2,0),"") -> САИДОВ Магомед | O45: =IFERROR(VLOOKUP(M45,'пр.взв'!$D$6:$Q$70,5,0),"") -> КМС | P45: =IFERROR(VLOOKUP(M45,'пр.взв'!$D$6:$Q$70,6,0),"") -> СКФО | Q45: =IFERROR(VLOOKUP(M45,'пр.взв'!$D$6:$Q$70,8,0),"") -> Р.Дагестан
B46: ='пр.хода'!E26 -> 21 | C46: =IFERROR(VLOOKUP(B46,'пр.взв'!$D$6:$Q$70,2,0),"") -> ПОДОЙНИЦЫН Константин | D46: =IFERROR(VLOOKUP(B46,'пр.взв'!$D$6:$Q$70,5,0),"") -> КМС | E46: =IFERROR(VLOOKUP(B46,'пр.взв'!$D$6:$Q$70,6,0),"") -> ДВФО | F46: =IFERROR(VLOOKUP(B46,'пр.взв'!$D$6:$Q$70,8,0),"") -> Р.Бурятия | M46: ='пр.хода'!AA26 -> 22 | N46: =IFERROR(VLOOKUP(M46,'пр.взв'!$D$6:$Q$70,2,0),"") -> ЗАЙНУТДИНОВ Ренас | O46: =IFERROR(VLOOKUP(M46,'пр.взв'!$D$6:$Q$70,5,0),"") -> МСМК | P46: =IFERROR(VLOOKUP(M46,'пр.взв'!$D$6:$Q$70,6,0),"") -> ПФО | Q46: =IFERROR(VLOOKUP(M46,'пр.взв'!$D$6:$Q$70,8,0),"") -> Р.Татарстан
A47: 4 | B47: ='пр.хода'!E30 -> 13 | C47: =IFERROR(VLOOKUP(B47,'пр.взв'!$D$6:$Q$70,2,0),"") -> БОГАЧЕВ Сергей | D47: =IFERROR(VLOOKUP(B47,'пр.взв'!$D$6:$Q$70,5,0),"") -> КМС | E47: =IFERROR(VLOOKUP(B47,'пр.взв'!$D$6:$Q$70,6,0),"") -> СФО | F47: =IFERROR(VLOOKUP(B47,'пр.взв'!$D$6:$Q$70,8,0),"") -> Красноярский | L47: 12 | M47: ='пр.хода'!AA30 -> 14 | N47: =IFERROR(VLOOKUP(M47,'пр.взв'!$D$6:$Q$70,2,0),"") -> КОБЕНОВ Степан | O47: =IFERROR(VLOOKUP(M47,'пр.взв'!$D$6:$Q$70,5,0),"") -> ЗМС | P47: =IFERROR(VLOOKUP(M47,'пр.взв'!$D$6:$Q$70,6,0),"") -> СФО | Q47: =IFERROR(VLOOKUP(M47,'пр.взв'!$D$6:$Q$70,8,0),"") -> Р.Алтай
B48: ='пр.хода'!E34 -> 29 | C48: =IFERROR(VLOOKUP(B48,'пр.взв'!$D$6:$Q$70,2,0),"") -> ПОДКОВАЛЬНИКОВ Никита | D48: =IFERROR(VLOOKUP(B48,'пр.взв'!$D$6:$Q$70,5,0),"") -> МС | E48: =IFERROR(VLOOKUP(B48,'пр.взв'!$D$6:$Q$70,6,0),"") -> ПФО | F48: =IFERROR(VLOOKUP(B48,'пр.взв'!$D$6:$Q$70,8,0),"") -> Самарская | M48: ='пр.хода'!AA34 -> 30 | N48: =IFERROR(VLOOKUP(M48,'пр.взв'!$D$6:$Q$70,2,0),"") -> АХТЕМИРОВ Темирхан | O48: =IFERROR(VLOOKUP(M48,'пр.взв'!$D$6:$Q$70,5,0),"") -> КМС | P48: =IFERROR(VLOOKUP(M48,'пр.взв'!$D$6:$Q$70,6,0),"") -> ЦФО | Q48: =IFERROR(VLOOKUP(M48,'пр.взв'!$D$6:$Q$70,8,0),"") -> Тверская
A49: 5 | B49: ='пр.хода'!E39 | C49: =IFERROR(VLOOKUP(B49,'пр.взв'!$D$6:$Q$70,2,0),"") | D49: =IFERROR(VLOOKUP(B49,'пр.взв'!$D$6:$Q$70,5,0),"") | E49: =IFERROR(VLOOKUP(B49,'пр.взв'!$D$6:$Q$70,6,0),"") | F49: =IFERROR(VLOOKUP(B49,'пр.взв'!$D$6:$Q$70,8,0),"") | L49: 13 | M49: ='пр.хода'!AA39 | N49: =IFERROR(VLOOKUP(M49,'пр.взв'!$D$6:$Q$70,2,0),"") | O49: =IFERROR(VLOOKUP(M49,'пр.взв'!$D$6:$Q$70,5,0),"") | P49: =IFERROR(VLOOKUP(M49,'пр.взв'!$D$6:$Q$70,6,0),"") | Q49: =IFERROR(VLOOKUP(M49,'пр.взв'!$D$6:$Q$70,8,0),"")
B50: ='пр.хода'!E43 -> 19 | C50: =IFERROR(VLOOKUP(B50,'пр.взв'!$D$6:$Q$70,2,0),"") -> ПОНОМАРЕВ Павел | D50: =IFERROR(VLOOKUP(B50,'пр.взв'!$D$6:$Q$70,5,0),"") -> КМС | E50: =IFERROR(VLOOKUP(B50,'пр.взв'!$D$6:$Q$70,6,0),"") -> ЦФО | F50: =IFERROR(VLOOKUP(B50,'пр.взв'!$D$6:$Q$70,8,0),"") -> Смоленская | M50: ='пр.хода'!AA43 -> 20 | N50: =IFERROR(VLOOKUP(M50,'пр.взв'!$D$6:$Q$70,2,0),"") -> ЦУРКАН Алексей | O50: =IFERROR(VLOOKUP(M50,'пр.взв'!$D$6:$Q$70,5,0),"") -> КМС | P50: =IFERROR(VLOOKUP(M50,'пр.взв'!$D$6:$Q$70,6,0),"") -> ЦФО | Q50: =IFERROR(VLOOKUP(M50,'пр.взв'!$D$6:$Q$70,8,0),"") -> Ярославская
A51: 6 | B51: ='пр.хода'!E47 -> 11 | C51: =IFERROR(VLOOKUP(B51,'пр.взв'!$D$6:$Q$70,2,0),"") -> КОЗЛОВ Даниил | D51: =IFERROR(VLOOKUP(B51,'пр.взв'!$D$6:$Q$70,5,0),"") -> МС | E51: =IFERROR(VLOOKUP(B51,'пр.взв'!$D$6:$Q$70,6,0),"") -> СПБ | F51: =IFERROR(VLOOKUP(B51,'пр.взв'!$D$6:$Q$70,8,0),"") -> Санкт-Петербург | L51: 14 | M51: ='пр.хода'!AA47 -> 12 | N51: =IFERROR(VLOOKUP(M51,'пр.взв'!$D$6:$Q$70,2,0),"") -> СИРЕНКО Дмитрий | O51: =IFERROR(VLOOKUP(M51,'пр.взв'!$D$6:$Q$70,5,0),"") -> МС | P51: =IFERROR(VLOOKUP(M51,'пр.взв'!$D$6:$Q$70,6,0),"") -> ПФО | Q51: =IFERROR(VLOOKUP(M51,'пр.взв'!$D$6:$Q$70,8,0),"") -> Нижегородская
B52: ='пр.хода'!E51 -> 27 | C52: =IFERROR(VLOOKUP(B52,'пр.взв'!$D$6:$Q$70,2,0),"") -> ЗИННАТОВ Ролан | D52: =IFERROR(VLOOKUP(B52,'пр.взв'!$D$6:$Q$70,5,0),"") -> МСМК | E52: =IFERROR(VLOOKUP(B52,'пр.взв'!$D$6:$Q$70,6,0),"") -> ПФО | F52: =IFERROR(VLOOKUP(B52,'пр.взв'!$D$6:$Q$70,8,0),"") -> Нижегородская | M52: ='пр.хода'!AA51 -> 28 | N52: =IFERROR(VLOOKUP(M52,'пр.взв'!$D$6:$Q$70,2,0),"") -> АЛИБЕКОВ Джаддал | O52: =IFERROR(VLOOKUP(M52,'пр.взв'!$D$6:$Q$70,5,0),"") -> МС | P52: =IFERROR(VLOOKUP(M52,'пр.взв'!$D$6:$Q$70,6,0),"") -> СКФО | Q52: =IFERROR(VLOOKUP(M52,'пр.взв'!$D$6:$Q$70,8,0),"") -> Чеченская
A53: 7 | B53: ='пр.хода'!E55 -> 7 | C53: =IFERROR(VLOOKUP(B53,'пр.взв'!$D$6:$Q$70,2,0),"") -> ПАДАЕВ Муслим | D53: =IFERROR(VLOOKUP(B53,'пр.взв'!$D$6:$Q$70,5,0),"") -> КМС | E53: =IFERROR(VLOOKUP(B53,'пр.взв'!$D$6:$Q$70,6,0),"") -> СКФО | F53: =IFERROR(VLOOKUP(B53,'пр.взв'!$D$6:$Q$70,8,0),"") -> Чеченская | L53: 15 | M53: ='пр.хода'!AA55 -> 8 | N53: =IFERROR(VLOOKUP(M53,'пр.взв'!$D$6:$Q$70,2,0),"") -> ТАЛДИЕВ Рустам | O53: =IFERROR(VLOOKUP(M53,'пр.взв'!$D$6:$Q$70,5,0),"") -> ЗМС | P53: =IFERROR(VLOOKUP(M53,'пр.взв'!$D$6:$Q$70,6,0),"") -> СПБ | Q53: =IFERROR(VLOOKUP(M53,'пр.взв'!$D$6:$Q$70,8,0),"") -> Санкт-Петербург
B54: ='пр.хода'!E59 -> 23 | C54: =IFERROR(VLOOKUP(B54,'пр.взв'!$D$6:$Q$70,2,0),"") -> КОСЫРЕВ Филипп | D54: =IFERROR(VLOOKUP(B54,'пр.взв'!$D$6:$Q$70,5,0),"") -> МС | E54: =IFERROR(VLOOKUP(B54,'пр.взв'!$D$6:$Q$70,6,0),"") -> ЦФО | F54: =IFERROR(VLOOKUP(B54,'пр.взв'!$D$6:$Q$70,8,0),"") -> Костромская | M54: ='пр.хода'!AA59 -> 24 | N54: =IFERROR(VLOOKUP(M54,'пр.взв'!$D$6:$Q$70,2,0),"") -> БАРАХОЕВ Ахмет | O54: =IFERROR(VLOOKUP(M54,'пр.взв'!$D$6:$Q$70,5,0),"") -> КМС | P54: =IFERROR(VLOOKUP(M54,'пр.взв'!$D$6:$Q$70,6,0),"") -> СПБ | Q54: =IFERROR(VLOOKUP(M54,'пр.взв'!$D$6:$Q$70,8,0),"") -> Санкт-Петербург
A55: 8 | B55: ='пр.хода'!E63 -> 15 | C55: =IFERROR(VLOOKUP(B55,'пр.взв'!$D$6:$Q$70,2,0),"") -> ОРЛОВ Егор | D55: =IFERROR(VLOOKUP(B55,'пр.взв'!$D$6:$Q$70,5,0),"") -> МС | E55: =IFERROR(VLOOKUP(B55,'пр.взв'!$D$6:$Q$70,6,0),"") -> ЦФО | F55: =IFERROR(VLOOKUP(B55,'пр.взв'!$D$6:$Q$70,8,0),"") -> Ярославская | L55: 16 | M55: ='пр.хода'!AA63 -> 16 | N55: =IFERROR(VLOOKUP(M55,'пр.взв'!$D$6:$Q$70,2,0),"") -> МАГОМЕДАЛИЕВ Салих | O55: =IFERROR(VLOOKUP(M55,'пр.взв'!$D$6:$Q$70,5,0),"") -> МС | P55: =IFERROR(VLOOKUP(M55,'пр.взв'!$D$6:$Q$70,6,0),"") -> СКФО | Q55: =IFERROR(VLOOKUP(M55,'пр.взв'!$D$6:$Q$70,8,0),"") -> Р.Дагестан
B56: ='пр.хода'!E67 -> 31 | C56: =IFERROR(VLOOKUP(B56,'пр.взв'!$D$6:$Q$70,2,0),"") -> ЗАГИДОВ Далгат | D56: =IFERROR(VLOOKUP(B56,'пр.взв'!$D$6:$Q$70,5,0),"") -> МС | E56: =IFERROR(VLOOKUP(B56,'пр.взв'!$D$6:$Q$70,6,0),"") -> СКФО | F56: =IFERROR(VLOOKUP(B56,'пр.взв'!$D$6:$Q$70,8,0),"") -> Р.Дагестан | M56: ='пр.хода'!AA67 -> 32 | N56: =IFERROR(VLOOKUP(M56,'пр.взв'!$D$6:$Q$70,2,0),"") -> НИЛОВ Дмитрий | O56: =IFERROR(VLOOKUP(M56,'пр.взв'!$D$6:$Q$70,5,0),"") -> МС | P56: =IFERROR(VLOOKUP(M56,'пр.взв'!$D$6:$Q$70,6,0),"") -> СФО | Q56: =IFERROR(VLOOKUP(M56,'пр.взв'!$D$6:$Q$70,8,0),"") -> Новосибирская
B57: A | C57: (Круг) | F57: 1/8 | G57: ='пр.взв'!$D$4 | M57: Б | N57: (Круг) | Q57: 1/8 | R57: ='пр.взв'!$D$4
A58: № встр | B58: № п/ж | C58: Ф.И.О. | D58: Д. р., разряд | E58: Вед., регион | G58: Оценки | H58: Очки | I58: Результат | J58: Время | L58: № встр | M58: № п/ж | N58: Ф.И.О. | O58: Д. р., разряд | P58: Вед., регион | R58: Оценки | S58: Очки | T58: Результат | U58: Время
A60: 1 | B60: ='пр.хода'!G8 | C60: =IFERROR(VLOOKUP(B60,'пр.взв'!$D$6:$Q$70,2,0),"") | D60: =IFERROR(VLOOKUP(B60,'пр.взв'!$D$6:$Q$70,5,0),"") | E60: =IFERROR(VLOOKUP(B60,'пр.взв'!$D$6:$Q$70,6,0),"") | F60: =IFERROR(VLOOKUP(B60,'пр.взв'!$D$6:$Q$70,8,0),"") | L60: 5 | M60: ='пр.хода'!Y8 | N60: =IFERROR(VLOOKUP(M60,'пр.взв'!$D$6:$Q$70,2,0),"") | O60: =IFERROR(VLOOKUP(M60,'пр.взв'!$D$6:$Q$70,5,0),"") | P60: =IFERROR(VLOOKUP(M60,'пр.взв'!$D$6:$Q$70,6,0),"") | Q60: =IFERROR(VLOOKUP(M60,'пр.взв'!$D$6:$Q$70,8,0),"")
B61: ='пр.хода'!G16 | C61: =IFERROR(VLOOKUP(B61,'пр.взв'!$D$6:$Q$70,2,0),"") | D61: =IFERROR(VLOOKUP(B61,'пр.взв'!$D$6:$Q$70,5,0),"") | E61: =IFERROR(VLOOKUP(B61,'пр.взв'!$D$6:$Q$70,6,0),"") | F61: =IFERROR(VLOOKUP(B61,'пр.взв'!$D$6:$Q$70,8,0),"") | M61: ='пр.хода'!Y16 | N61: =IFERROR(VLOOKUP(M61,'пр.взв'!$D$6:$Q$70,2,0),"") | O61: =IFERROR(VLOOKUP(M61,'пр.взв'!$D$6:$Q$70,5,0),"") | P61: =IFERROR(VLOOKUP(M61,'пр.взв'!$D$6:$Q$70,6,0),"") | Q61: =IFERROR(VLOOKUP(M61,'пр.взв'!$D$6:$Q$70,8,0),"")
A62: 2 | B62: ='пр.хода'!G24 | C62: =IFERROR(VLOOKUP(B62,'пр.взв'!$D$6:$Q$70,2,0),"") | D62: =IFERROR(VLOOKUP(B62,'пр.взв'!$D$6:$Q$70,5,0),"") | E62: =IFERROR(VLOOKUP(B62,'пр.взв'!$D$6:$Q$70,6,0),"") | F62: =IFERROR(VLOOKUP(B62,'пр.взв'!$D$6:$Q$70,8,0),"") | L62: 6 | M62: ='пр.хода'!Y24 | N62: =IFERROR(VLOOKUP(M62,'пр.взв'!$D$6:$Q$70,2,0),"") | O62: =IFERROR(VLOOKUP(M62,'пр.взв'!$D$6:$Q$70,5,0),"") | P62: =IFERROR(VLOOKUP(M62,'пр.взв'!$D$6:$Q$70,6,0),"") | Q62: =IFERROR(VLOOKUP(M62,'пр.взв'!$D$6:$Q$70,8,0),"")
B63: ='пр.хода'!G32 | C63: =IFERROR(VLOOKUP(B63,'пр.взв'!$D$6:$Q$70,2,0),"") | D63: =IFERROR(VLOOKUP(B63,'пр.взв'!$D$6:$Q$70,5,0),"") | E63: =IFERROR(VLOOKUP(B63,'пр.взв'!$D$6:$Q$70,6,0),"") | F63: =IFERROR(VLOOKUP(B63,'пр.взв'!$D$6:$Q$70,8,0),"") | M63: ='пр.хода'!Y32 | N63: =IFERROR(VLOOKUP(M63,'пр.взв'!$D$6:$Q$70,2,0),"") | O63: =IFERROR(VLOOKUP(M63,'пр.взв'!$D$6:$Q$70,5,0),"") | P63: =IFERROR(VLOOKUP(M63,'пр.взв'!$D$6:$Q$70,6,0),"") | Q63: =IFERROR(VLOOKUP(M63,'пр.взв'!$D$6:$Q$70,8,0),"")
A64: 3 | B64: ='пр.хода'!G41 | C64: =IFERROR(VLOOKUP(B64,'пр.взв'!$D$6:$Q$70,2,0),"") | D64: =IFERROR(VLOOKUP(B64,'пр.взв'!$D$6:$Q$70,5,0),"") | E64: =IFERROR(VLOOKUP(B64,'пр.взв'!$D$6:$Q$70,6,0),"") | F64: =IFERROR(VLOOKUP(B64,'пр.взв'!$D$6:$Q$70,8,0),"") | L64: 7 | M64: ='пр.хода'!Y41 | N64: =IFERROR(VLOOKUP(M64,'пр.взв'!$D$6:$Q$70,2,0),"") | O64: =IFERROR(VLOOKUP(M64,'пр.взв'!$D$6:$Q$70,5,0),"") | P64: =IFERROR(VLOOKUP(M64,'пр.взв'!$D$6:$Q$70,6,0),"") | Q64: =IFERROR(VLOOKUP(M64,'пр.взв'!$D$6:$Q$70,8,0),"")
B65: ='пр.хода'!G49 | C65: =IFERROR(VLOOKUP(B65,'пр.взв'!$D$6:$Q$70,2,0),"") | D65: =IFERROR(VLOOKUP(B65,'пр.взв'!$D$6:$Q$70,5,0),"") | E65: =IFERROR(VLOOKUP(B65,'пр.взв'!$D$6:$Q$70,6,0),"") | F65: =IFERROR(VLOOKUP(B65,'пр.взв'!$D$6:$Q$70,8,0),"") | M65: ='пр.хода'!Y49 | N65: =IFERROR(VLOOKUP(M65,'пр.взв'!$D$6:$Q$70,2,0),"") | O65: =IFERROR(VLOOKUP(M65,'пр.взв'!$D$6:$Q$70,5,0),"") | P65: =IFERROR(VLOOKUP(M65,'пр.взв'!$D$6:$Q$70,6,0),"") | Q65: =IFERROR(VLOOKUP(M65,'пр.взв'!$D$6:$Q$70,8,0),"")
A66: 4 | B66: ='пр.хода'!G57 | C66: =IFERROR(VLOOKUP(B66,'пр.взв'!$D$6:$Q$70,2,0),"") | D66: =IFERROR(VLOOKUP(B66,'пр.взв'!$D$6:$Q$70,5,0),"") | E66: =IFERROR(VLOOKUP(B66,'пр.взв'!$D$6:$Q$70,6,0),"") | F66: =IFERROR(VLOOKUP(B66,'пр.взв'!$D$6:$Q$70,8,0),"") | L66: 8 | M66: ='пр.хода'!Y57 | N66: =IFERROR(VLOOKUP(M66,'пр.взв'!$D$6:$Q$70,2,0),"") | O66: =IFERROR(VLOOKUP(M66,'пр.взв'!$D$6:$Q$70,5,0),"") | P66: =IFERROR(VLOOKUP(M66,'пр.взв'!$D$6:$Q$70,6,0),"") | Q66: =IFERROR(VLOOKUP(M66,'пр.взв'!$D$6:$Q$70,8,0),"")
B67: ='пр.хода'!G65 | C67: =IFERROR(VLOOKUP(B67,'пр.взв'!$D$6:$Q$70,2,0),"") | D67: =IFERROR(VLOOKUP(B67,'пр.взв'!$D$6:$Q$70,5,0),"") | E67: =IFERROR(VLOOKUP(B67,'пр.взв'!$D$6:$Q$70,6,0),"") | F67: =IFERROR(VLOOKUP(B67,'пр.взв'!$D$6:$Q$70,8,0),"") | M67: ='пр.хода'!Y65 | N67: =IFERROR(VLOOKUP(M67,'пр.взв'!$D$6:$Q$70,2,0),"") | O67: =IFERROR(VLOOKUP(M67,'пр.взв'!$D$6:$Q$70,5,0),"") | P67: =IFERROR(VLOOKUP(M67,'пр.взв'!$D$6:$Q$70,6,0),"") | Q67: =IFERROR(VLOOKUP(M67,'пр.взв'!$D$6:$Q$70,8,0),"")
B68: A | C68: (Круг) | F68: 1/4 | G68: ='пр.взв'!$D$4 | M68: B | N68: (Круг) | Q68: 1/4 | R68: ='пр.взв'!$D$4
A69: № встр | B69: № п/ж | C69: Ф.И.О. | D69: Д. р., разряд | E69: Вед., регион | G69: Оценки | H69: Очки | I69: Результат | J69: Время | L69: № встр | M69: № п/ж | N69: Ф.И.О. | O69: Д. р., разряд | P69: Вед., регион | R69: Оценки | S69: Очки | T69: Результат | U69: Время
A71: 1 | B71: ='пр.хода'!I12 | C71: =IFERROR(VLOOKUP(B71,'пр.взв'!$D$6:$Q$70,2,0),"") | D71: =IFERROR(VLOOKUP(B71,'пр.взв'!$D$6:$Q$70,5,0),"") | E71: =IFERROR(VLOOKUP(B71,'пр.взв'!$D$6:$Q$70,6,0),"") | F71: =IFERROR(VLOOKUP(B71,'пр.взв'!$D$6:$Q$70,8,0),"") | L71: 3 | M71: ='пр.хода'!W12 | N71: =IFERROR(VLOOKUP(M71,'пр.взв'!$D$6:$Q$70,2,0),"") | O71: =IFERROR(VLOOKUP(M71,'пр.взв'!$D$6:$Q$70,5,0),"") | P71: =IFERROR(VLOOKUP(M71,'пр.взв'!$D$6:$Q$70,6,0),"") | Q71: =IFERROR(VLOOKUP(M71,'пр.взв'!$D$6:$Q$70,8,0),"")
B72: ='пр.хода'!I28 | C72: =IFERROR(VLOOKUP(B72,'пр.взв'!$D$6:$Q$70,2,0),"") | D72: =IFERROR(VLOOKUP(B72,'пр.взв'!$D$6:$Q$70,5,0),"") | E72: =IFERROR(VLOOKUP(B72,'пр.взв'!$D$6:$Q$70,6,0),"") | F72: =IFERROR(VLOOKUP(B72,'пр.взв'!$D$6:$Q$70,8,0),"") | M72: ='пр.хода'!W28 | N72: =IFERROR(VLOOKUP(M72,'пр.взв'!$D$6:$Q$70,2,0),"") | O72: =IFERROR(VLOOKUP(M72,'пр.взв'!$D$6:$Q$70,5,0),"") | P72: =IFERROR(VLOOKUP(M72,'пр.взв'!$D$6:$Q$70,6,0),"") | Q72: =IFERROR(VLOOKUP(M72,'пр.взв'!$D$6:$Q$70,8,0),"")
A73: 2 | B73: ='пр.хода'!I46 | C73: =IFERROR(VLOOKUP(B73,'пр.взв'!$D$6:$Q$70,2,0),"") | D73: =IFERROR(VLOOKUP(B73,'пр.взв'!$D$6:$Q$70,5,0),"") | E73: =IFERROR(VLOOKUP(B73,'пр.взв'!$D$6:$Q$70,6,0),"") | F73: =IFERROR(VLOOKUP(B73,'пр.взв'!$D$6:$Q$70,8,0),"") | L73: 4 | M73: ='пр.хода'!W45 | N73: =IFERROR(VLOOKUP(M73,'пр.взв'!$D$6:$Q$70,2,0),"") | O73: =IFERROR(VLOOKUP(M73,'пр.взв'!$D$6:$Q$70,5,0),"") | P73: =IFERROR(VLOOKUP(M73,'пр.взв'!$D$6:$Q$70,6,0),"") | Q73: =IFERROR(VLOOKUP(M73,'пр.взв'!$D$6:$Q$70,8,0),"")
B74: ='пр.хода'!I61 | C74: =IFERROR(VLOOKUP(B74,'пр.взв'!$D$6:$Q$70,2,0),"") | D74: =IFERROR(VLOOKUP(B74,'пр.взв'!$D$6:$Q$70,5,0),"") | E74: =IFERROR(VLOOKUP(B74,'пр.взв'!$D$6:$Q$70,6,0),"") | F74: =IFERROR(VLOOKUP(B74,'пр.взв'!$D$6:$Q$70,8,0),"") | M74: ='пр.хода'!W61 | N74: =IFERROR(VLOOKUP(M74,'пр.взв'!$D$6:$Q$70,2,0),"") | O74: =IFERROR(VLOOKUP(M74,'пр.взв'!$D$6:$Q$70,5,0),"") | P74: =IFERROR(VLOOKUP(M74,'пр.взв'!$D$6:$Q$70,6,0),"") | Q74: =IFERROR(VLOOKUP(M74,'пр.взв'!$D$6:$Q$70,8,0),"")
B75: A | C75: Полуфинал | G75: ='пр.взв'!$D$4 | M75: Б | N75: Полуфинал | R75: ='пр.взв'!$D$4
A76: № встр | B76: № п/ж | C76: Ф.И.О. | D76: Д. р., разряд | E76: Вед., регион | G76: Оценки | H76: Очки | I76: Результат | J76: Время | L76: № встр | M76: № п/ж | N76: Ф.И.О. | O76: Д. р., разряд | P76: Вед., регион | R76: Оценки | S76: Очки | T76: Результат | U76: Время
A78: 1 | B78: ='пр.хода'!K20 | C78: =IFERROR(VLOOKUP(B78,'пр.взв'!$D$6:$Q$70,2,0),"") | D78: =IFERROR(VLOOKUP(B78,'пр.взв'!$D$6:$Q$70,5,0),"") | E78: =IFERROR(VLOOKUP(B78,'пр.взв'!$D$6:$Q$70,6,0),"") | F78: =IFERROR(VLOOKUP(B78,'пр.взв'!$D$6:$Q$70,8,0),"") | L78: 2 | M78: ='пр.хода'!U20 | N78: =IFERROR(VLOOKUP(M78,'пр.взв'!$D$6:$Q$70,2,0),"") | O78: =IFERROR(VLOOKUP(M78,'пр.взв'!$D$6:$Q$70,5,0),"") | P78: =IFERROR(VLOOKUP(M78,'пр.взв'!$D$6:$Q$70,6,0),"") | Q78: =IFERROR(VLOOKUP(M78,'пр.взв'!$D$6:$Q$70,8,0),"")
B79: ='пр.хода'!K53 | C79: =IFERROR(VLOOKUP(B79,'пр.взв'!$D$6:$Q$70,2,0),"") | D79: =IFERROR(VLOOKUP(B79,'пр.взв'!$D$6:$Q$70,5,0),"") | E79: =IFERROR(VLOOKUP(B79,'пр.взв'!$D$6:$Q$70,6,0),"") | F79: =IFERROR(VLOOKUP(B79,'пр.взв'!$D$6:$Q$70,8,0),"") | M79: ='пр.хода'!U53 | N79: =IFERROR(VLOOKUP(M79,'пр.взв'!$D$6:$Q$70,2,0),"") | O79: =IFERROR(VLOOKUP(M79,'пр.взв'!$D$6:$Q$70,5,0),"") | P79: =IFERROR(VLOOKUP(M79,'пр.взв'!$D$6:$Q$70,6,0),"") | Q79: =IFERROR(VLOOKUP(M79,'пр.взв'!$D$6:$Q$70,8,0),"")
A80: (Утешительные встречи) 16 | L80: (Утешительные встречи) 16
B81: A | G81: ='пр.взв'!$D$4 | M81: Б | R81: ='пр.взв'!$D$4
A82: № встр | B82: № п/ж | C82: Ф.И.О. | D82: Д. р., разряд | E82: Вед., регион | G82: Оценки | H82: Очки | I82: Результат | J82: Время | L82: № встр | M82: № п/ж | N82: Ф.И.О. | O82: Д. р., разряд | P82: Вед., регион | R82: Оценки | S82: Очки | T82: Результат | U82: Время
A84: 1 | B84: ='пр.хода'!L7 | C84: =IFERROR(VLOOKUP(B84,'пр.взв'!$B$7:$H$70,2,0),"") | D84: =IFERROR(VLOOKUP(B84,'пр.взв'!$B$7:$H$70,3,0),"") | E84: =IFERROR(VLOOKUP(B84,'пр.взв'!$B$7:$H$70,4,0),"") | F84: =IFERROR(VLOOKUP(B84,'пр.взв'!$B$7:$H$70,5,0),"") | L84: 3 | M84: ='пр.хода'!L56 | N84: =IFERROR(VLOOKUP(M84,'пр.взв'!$B$7:$H$70,2,0),"") | O84: =IFERROR(VLOOKUP(M84,'пр.взв'!$B$7:$H$70,3,0),"") | P84: =IFERROR(VLOOKUP(M84,'пр.взв'!$B$7:$H$70,4,0),"") | Q84: =IFERROR(VLOOKUP(M84,'пр.взв'!$B$7:$H$70,5,0),"")
B85: ='пр.хода'!L10 | C85: =IFERROR(VLOOKUP(B85,'пр.взв'!$B$7:$H$70,2,0),"") | D85: =IFERROR(VLOOKUP(B85,'пр.взв'!$B$7:$H$70,3,0),"") | E85: =IFERROR(VLOOKUP(B85,'пр.взв'!$B$7:$H$70,4,0),"") | F85: =IFERROR(VLOOKUP(B85,'пр.взв'!$B$7:$H$70,5,0),"") | M85: ='пр.хода'!L59 | N85: =IFERROR(VLOOKUP(M85,'пр.взв'!$B$7:$H$70,2,0),"") | O85: =IFERROR(VLOOKUP(M85,'пр.взв'!$B$7:$H$70,3,0),"") | P85: =IFERROR(VLOOKUP(M85,'пр.взв'!$B$7:$H$70,4,0),"") | Q85: =IFERROR(VLOOKUP(M85,'пр.взв'!$B$7:$H$70,5,0),"")
A86: 2 | B86: ='пр.хода'!L14 | C86: =IFERROR(VLOOKUP(B86,'пр.взв'!$B$7:$H$70,2,0),"") | D86: =IFERROR(VLOOKUP(B86,'пр.взв'!$B$7:$H$70,3,0),"") | E86: =IFERROR(VLOOKUP(B86,'пр.взв'!$B$7:$H$70,4,0),"") | F86: =IFERROR(VLOOKUP(B86,'пр.взв'!$B$7:$H$70,5,0),"") | L86: 4 | M86: ='пр.хода'!L63 | N86: =IFERROR(VLOOKUP(M86,'пр.взв'!$B$7:$H$70,2,0),"") | O86: =IFERROR(VLOOKUP(M86,'пр.взв'!$B$7:$H$70,3,0),"") | P86: =IFERROR(VLOOKUP(M86,'пр.взв'!$B$7:$H$70,4,0),"") | Q86: =IFERROR(VLOOKUP(M86,'пр.взв'!$B$7:$H$70,5,0),"")
B87: ='пр.хода'!L17 | C87: =IFERROR(VLOOKUP(B87,'пр.взв'!$B$7:$H$70,2,0),"") | D87: =IFERROR(VLOOKUP(B87,'пр.взв'!$B$7:$H$70,3,0),"") | E87: =IFERROR(VLOOKUP(B87,'пр.взв'!$B$7:$H$70,4,0),"") | F87: =IFERROR(VLOOKUP(B87,'пр.взв'!$B$7:$H$70,5,0),"") | M87: ='пр.хода'!L66 | N87: =IFERROR(VLOOKUP(M87,'пр.взв'!$B$7:$H$70,2,0),"") | O87: =IFERROR(VLOOKUP(M87,'пр.взв'!$B$7:$H$70,3,0),"") | P87: =IFERROR(VLOOKUP(M87,'пр.взв'!$B$7:$H$70,4,0),"") | Q87: =IFERROR(VLOOKUP(M87,'пр.взв'!$B$7:$H$70,5,0),"")
A88: (Утешительные встречи) 12 | L88: (Утешительные встречи) 12
A89: 5 | B89: ='пр.хода'!N8 | C89: =IFERROR(VLOOKUP(B89,'пр.взв'!$B$7:$H$70,2,0),"") | D89: =IFERROR(VLOOKUP(B89,'пр.взв'!$B$7:$H$70,3,0),"") | E89: =IFERROR(VLOOKUP(B89,'пр.взв'!$B$7:$H$70,4,0),"") | F89: =IFERROR(VLOOKUP(B89,'пр.взв'!$B$7:$H$70,5,0),"") | L89: 7 | M89: ='пр.хода'!N57 | N89: =IFERROR(VLOOKUP(M89,'пр.взв'!$B$7:$H$70,2,0),"") | O89: =IFERROR(VLOOKUP(M89,'пр.взв'!$B$7:$H$70,3,0),"") | P89: =IFERROR(VLOOKUP(M89,'пр.взв'!$B$7:$H$70,4,0),"") | Q89: =IFERROR(VLOOKUP(M89,'пр.взв'!$B$7:$H$70,5,0),"")
B90: ='пр.хода'!N11 | C90: =IFERROR(VLOOKUP(B90,'пр.взв'!$B$7:$H$70,2,0),"") | D90: =IFERROR(VLOOKUP(B90,'пр.взв'!$B$7:$H$70,3,0),"") | E90: =IFERROR(VLOOKUP(B90,'пр.взв'!$B$7:$H$70,4,0),"") | F90: =IFERROR(VLOOKUP(B90,'пр.взв'!$B$7:$H$70,5,0),"") | M90: ='пр.хода'!N60 | N90: =IFERROR(VLOOKUP(M90,'пр.взв'!$B$7:$H$70,2,0),"") | O90: =IFERROR(VLOOKUP(M90,'пр.взв'!$B$7:$H$70,3,0),"") | P90: =IFERROR(VLOOKUP(M90,'пр.взв'!$B$7:$H$70,4,0),"") | Q90: =IFERROR(VLOOKUP(M90,'пр.взв'!$B$7:$H$70,5,0),"")
A91: 6 | B91: ='пр.хода'!N15 | C91: =IFERROR(VLOOKUP(B91,'пр.взв'!$B$7:$H$70,2,0),"") | D91: =IFERROR(VLOOKUP(B91,'пр.взв'!$B$7:$H$70,3,0),"") | E91: =IFERROR(VLOOKUP(B91,'пр.взв'!$B$7:$H$70,4,0),"") | F91: =IFERROR(VLOOKUP(B91,'пр.взв'!$B$7:$H$70,5,0),"") | L91: 8 | M91: ='пр.хода'!N64 | N91: =IFERROR(VLOOKUP(M91,'пр.взв'!$B$7:$H$70,2,0),"") | O91: =IFERROR(VLOOKUP(M91,'пр.взв'!$B$7:$H$70,3,0),"") | P91: =IFERROR(VLOOKUP(M91,'пр.взв'!$B$7:$H$70,4,0),"") | Q91: =IFERROR(VLOOKUP(M91,'пр.взв'!$B$7:$H$70,5,0),"")
B92: ='пр.хода'!N18 | C92: =IFERROR(VLOOKUP(B92,'пр.взв'!$B$7:$H$70,2,0),"") | D92: =IFERROR(VLOOKUP(B92,'пр.взв'!$B$7:$H$70,3,0),"") | E92: =IFERROR(VLOOKUP(B92,'пр.взв'!$B$7:$H$70,4,0),"") | F92: =IFERROR(VLOOKUP(B92,'пр.взв'!$B$7:$H$70,5,0),"") | M92: ='пр.хода'!N67 | N92: =IFERROR(VLOOKUP(M92,'пр.взв'!$B$7:$H$70,2,0),"") | O92: =IFERROR(VLOOKUP(M92,'пр.взв'!$B$7:$H$70,3,0),"") | P92: =IFERROR(VLOOKUP(M92,'пр.взв'!$B$7:$H$70,4,0),"") | Q92: =IFERROR(VLOOKUP(M92,'пр.взв'!$B$7:$H$70,5,0),"")
A93: (Утешительные встречи) 8 | L93: (Утешительные встречи) 8
A94: 9 | B94: ='пр.хода'!O10 | C94: =IFERROR(VLOOKUP(B94,'пр.взв'!$B$7:$H$70,2,0),"") | D94: =IFERROR(VLOOKUP(B94,'пр.взв'!$B$7:$H$70,3,0),"") | E94: =IFERROR(VLOOKUP(B94,'пр.взв'!$B$7:$H$70,4,0),"") | F94: =IFERROR(VLOOKUP(B94,'пр.взв'!$B$7:$H$70,5,0),"") | L94: 11 | M94: ='пр.хода'!O59 | N94: =IFERROR(VLOOKUP(M94,'пр.взв'!$B$7:$H$70,2,0),"") | O94: =IFERROR(VLOOKUP(M94,'пр.взв'!$B$7:$H$70,3,0),"") | P94: =IFERROR(VLOOKUP(M94,'пр.взв'!$B$7:$H$70,4,0),"") | Q94: =IFERROR(VLOOKUP(M94,'пр.взв'!$B$7:$H$70,5,0),"")
B95: ='пр.хода'!O13 | C95: =IFERROR(VLOOKUP(B95,'пр.взв'!$B$7:$H$70,2,0),"") | D95: =IFERROR(VLOOKUP(B95,'пр.взв'!$B$7:$H$70,3,0),"") | E95: =IFERROR(VLOOKUP(B95,'пр.взв'!$B$7:$H$70,4,0),"") | F95: =IFERROR(VLOOKUP(B95,'пр.взв'!$B$7:$H$70,5,0),"") | M95: ='пр.хода'!O62 | N95: =IFERROR(VLOOKUP(M95,'пр.взв'!$B$7:$H$70,2,0),"") | O95: =IFERROR(VLOOKUP(M95,'пр.взв'!$B$7:$H$70,3,0),"") | P95: =IFERROR(VLOOKUP(M95,'пр.взв'!$B$7:$H$70,4,0),"") | Q95: =IFERROR(VLOOKUP(M95,'пр.взв'!$B$7:$H$70,5,0),"")
A96: 10 | B96: ='пр.хода'!O17 | C96: =IFERROR(VLOOKUP(B96,'пр.взв'!$B$7:$H$70,2,0),"") | D96: =IFERROR(VLOOKUP(B96,'пр.взв'!$B$7:$H$70,3,0),"") | E96: =IFERROR(VLOOKUP(B96,'пр.взв'!$B$7:$H$70,4,0),"") | F96: =IFERROR(VLOOKUP(B96,'пр.взв'!$B$7:$H$70,5,0),"") | L96: 12 | M96: ='пр.хода'!O66 | N96: =IFERROR(VLOOKUP(M96,'пр.взв'!$B$7:$H$70,2,0),"") | O96: =IFERROR(VLOOKUP(M96,'пр.взв'!$B$7:$H$70,3,0),"") | P96: =IFERROR(VLOOKUP(M96,'пр.взв'!$B$7:$H$70,4,0),"") | Q96: =IFERROR(VLOOKUP(M96,'пр.взв'!$B$7:$H$70,5,0),"")
B97: ='пр.хода'!O20 | C97: =IFERROR(VLOOKUP(B97,'пр.взв'!$B$7:$H$70,2,0),"") | D97: =IFERROR(VLOOKUP(B97,'пр.взв'!$B$7:$H$70,3,0),"") | E97: =IFERROR(VLOOKUP(B97,'пр.взв'!$B$7:$H$70,4,0),"") | F97: =IFERROR(VLOOKUP(B97,'пр.взв'!$B$7:$H$70,5,0),"") | M97: ='пр.хода'!O69 | N97: =IFERROR(VLOOKUP(M97,'пр.взв'!$B$7:$H$70,2,0),"") | O97: =IFERROR(VLOOKUP(M97,'пр.взв'!$B$7:$H$70,3,0),"") | P97: =IFERROR(VLOOKUP(M97,'пр.взв'!$B$7:$H$70,4,0),"") | Q97: =IFERROR(VLOOKUP(M97,'пр.взв'!$B$7:$H$70,5,0),"")
A98: (Утешительные встречи) 6 | L98: (Утешительные встречи) 6
A99: 13 | B99: ='пр.хода'!P12 | C99: =IFERROR(VLOOKUP(B99,'пр.взв'!$B$7:$H$70,2,0),"") | D99: =IFERROR(VLOOKUP(B99,'пр.взв'!$B$7:$H$70,3,0),"") | E99: =IFERROR(VLOOKUP(B99,'пр.взв'!$B$7:$H$70,4,0),"") | F99: =IFERROR(VLOOKUP(B99,'пр.взв'!$B$7:$H$70,5,0),"") | L99: 14 | M99: ='пр.хода'!P61 | N99: =IFERROR(VLOOKUP(M99,'пр.взв'!$B$7:$H$70,2,0),"") | O99: =IFERROR(VLOOKUP(M99,'пр.взв'!$B$7:$H$70,3,0),"") | P99: =IFERROR(VLOOKUP(M99,'пр.взв'!$B$7:$H$70,4,0),"") | Q99: =IFERROR(VLOOKUP(M99,'пр.взв'!$B$7:$H$70,5,0),"")
B100: ='пр.хода'!P19 | C100: =IFERROR(VLOOKUP(B100,'пр.взв'!$B$7:$H$70,2,0),"") | D100: =IFERROR(VLOOKUP(B100,'пр.взв'!$B$7:$H$70,3,0),"") | E100: =IFERROR(VLOOKUP(B100,'пр.взв'!$B$7:$H$70,4,0),"") | F100: =IFERROR(VLOOKUP(B100,'пр.взв'!$B$7:$H$70,5,0),"") | M100: ='пр.хода'!P68 | N100: =IFERROR(VLOOKUP(M100,'пр.взв'!$B$7:$H$70,2,0),"") | O100: =IFERROR(VLOOKUP(M100,'пр.взв'!$B$7:$H$70,3,0),"") | P100: =IFERROR(VLOOKUP(M100,'пр.взв'!$B$7:$H$70,4,0),"") | Q100: =IFERROR(VLOOKUP(M100,'пр.взв'!$B$7:$H$70,5,0),"")
C101: ЗА 3 МЕСТО | N101: ЗА 3 МЕСТО
C102: ВСТРЕЧА 1 | D102: ='пр.взв'!$D$4 | N102: ВСТРЕЧА 1 | O102: ='пр.взв'!$D$4
B103: ='пр.хода'!Q15 | C103: =IFERROR(VLOOKUP(B103,'пр.взв'!$B$7:$H$70,2,0),"") | D103: =IFERROR(VLOOKUP(B103,'пр.взв'!$B$7:$H$70,3,0),"") | E103: =IFERROR(VLOOKUP(B103,'пр.взв'!$B$7:$H$70,4,0),"") | F103: =IFERROR(VLOOKUP(B103,'пр.взв'!$B$7:$H$70,5,0),"") | M103: ='пр.хода'!Q15 | N103: =IFERROR(VLOOKUP(M103,'пр.взв'!$B$7:$H$70,2,0),"") | O103: =IFERROR(VLOOKUP(M103,'пр.взв'!$B$7:$H$70,3,0),"") | P103: =IFERROR(VLOOKUP(M103,'пр.взв'!$B$7:$H$70,4,0),"") | Q103: =IFERROR(VLOOKUP(M103,'пр.взв'!$B$7:$H$70,5,0),"")
B104: ='пр.хода'!Q21 | C104: =IFERROR(VLOOKUP(B104,'пр.взв'!$B$7:$H$70,2,0),"") | D104: =IFERROR(VLOOKUP(B104,'пр.взв'!$B$7:$H$70,3,0),"") | E104: =IFERROR(VLOOKUP(B104,'пр.взв'!$B$7:$H$70,4,0),"") | F104: =IFERROR(VLOOKUP(B104,'пр.взв'!$B$7:$H$70,5,0),"") | M104: ='пр.хода'!Q21 | N104: =IFERROR(VLOOKUP(M104,'пр.взв'!$B$7:$H$70,2,0),"") | O104: =IFERROR(VLOOKUP(M104,'пр.взв'!$B$7:$H$70,3,0),"") | P104: =IFERROR(VLOOKUP(M104,'пр.взв'!$B$7:$H$70,4,0),"") | Q104: =IFERROR(VLOOKUP(M104,'пр.взв'!$B$7:$H$70,5,0),"")
C105: 3А 3 МЕСТО | N105: 3А 3 МЕСТО
C106: ВСТРЕЧА 2 | D106: ='пр.взв'!$D$4 | N106: ВСТРЕЧА 2 | O106: ='пр.взв'!$D$4
...

Sheet ит.пр
A1: ВСЕРОССИЙСКАЯ ФЕДЕРАЦИЯ САМБО | T1: =SUMIF(T6:T11,V1,$K$14:$K$17) -> 1 | V1: =J12
B2: ИТОГОВЫЙ ПРОТОКОЛ БОЕВОЕ | D2: ='пр.взв'!C2 -> Чемпионат России по самбо (боевое) мужчины (отбор на Чемпионат Мира и Европы) ЕКП №23747 | T2: =SUMIF(J14:J16,V1,$K$14:$K$17) -> 2
B3: ='пр.взв'!C3 -> 27.02 - 03.03.2023 г. г. Пермь | H3: ='пр.взв'!$D$4
A4: место | B4: № п/ж | C4: Ф.И.О. | D4: Дата рожд., разряд | E4: Округ, субъект, город, ведомство | G4: № карточки | H4: Тренер | J4: =IFERROR(LEFT(F6,FIND(",",F6)-1),F6) | K4: 1 | L4: №пп | M4: Субъект | S4: №пп | T4: Субъект | AC4: №пп | AD4: Субъект | AJ4: №пп | AK4: Субъект
N5: 1 | O5: 2 | P5: 3 | Q5: 5 | U5: 1 | V5: 2 | W5: 3 | X5: 5 | Z5: 1 | AB5: 2 | AE5: 1 | AF5: 2 | AG5: 3 | AH5: 5 | AL5: 1 | AM5: 2 | AN5: 3 | AO5: 5
A6: 1 | B6: ='пр.хода'!N32 | C6: =IFERROR(VLOOKUP(B6,'пр.взв'!$D$6:$Q$70,3,0),"") | D6: =IFERROR(VLOOKUP(B6,'пр.взв'!$D$6:$Q$70,4,0),"") | E6: =IFERROR(VLOOKUP(B6,'пр.взв'!$D$6:$Q$70,6,0),"") | F6: =IFERROR(VLOOKUP(B6,'пр.взв'!$D$6:$Q$70,7,0),"") | G6: =IFERROR(VLOOKUP(B6,'пр.взв'!$D$6:$Q$70,8,0),"") | H6: =IFERROR(VLOOKUP(B6,'пр.взв'!$D$6:$Q$70,10,0),"") | J6: СМИТ | K6: 1 | L6: 1 | M6: Алтайский | N6: =SUMIF($J$4:$J$7,J4,$K$4:$K$7) -> 1 | O6: =SUMIF($I$8:$J$9,"алт",$K$6:$K$9) -> 0 | P6: =SUMIF($J$10:$J$13,"Алт",$K$10:$K$13) -> 0 | Q6: =SUMIF($J$14:$J$17,"Алт",$K$14:$K$17) -> 0 | S6: 1 | T6: =J4 | U6: =SUMIF($J$4:$J$7,T6,$K$4:$K$7) -> 1 | V6: =SUMIF($I$8:$J$9,T6,$K$6:$K$9) -> 4 | W6: =SUMIF($J$10:$J$13,T6,$K$10:$K$13) -> 2 | X6: =SUMIF($J$14:$J$17,T6,$K$14:$K$17) -> 2 | Z6: =T6 | AB6: =Z6 | AC6: 1 | AD6: =AB6 | AE6: =SUMIF($J$4:$J$7,AD6,$K$4:$K$7) -> 1 | AF6: =SUMIF($I$8:$J$9,AD6,$K$6:$K$9) -> 4 | AG6: =SUMIF($J$10:$J$13,AD6,$K$10:$K$13) -> 2 | AH6: =SUMIF($J$14:$J$17,AD6,$K$14:$K$17) -> 2 | AJ6: 1 | AK6: =IF(AD6=0," ",AD6) | AL6: =IF(AE6=0," ",AE6) -> 1 | AM6: =IF(AF6=0," ",AF6) -> 4 | AN6: =IF(AG6=0," ",AG6) -> 2 | AO6: =IF(AH6=0," ",AH6) -> 2
A7: 2 | B7: ='пр.хода'!N40 | C7: =IFERROR(VLOOKUP(B7,'пр.взв'!$D$6:$Q$70,3,0),"") | D7: =IFERROR(VLOOKUP(B7,'пр.взв'!$D$6:$Q$70,4,0),"") | E7: =IFERROR(VLOOKUP(B7,'пр.взв'!$D$6:$Q$70,6,0),"") | F7: =IFERROR(VLOOKUP(B7,'пр.взв'!$D$6:$Q$70,7,0),"") | G7: =IFERROR(VLOOKUP(B7,'пр.взв'!$D$6:$Q$70,8,0),"") | H7: =IFERROR(VLOOKUP(B7,'пр.взв'!$D$6:$Q$70,10,0),"") | L7: 2 | M7: Забайкальский | N7: =SUMIF($J$4:$J$7,"заб",$K$4:$K$7) -> 0 | O7: =SUMIF($I$8:$J$9,"заб",$K$6:$K$9) -> 0 | P7: =SUMIF($J$10:$J$13,"заб",$K$10:$K$13) -> 0 | Q7: =SUMIF($J$14:$J$17,"заб",$K$14:$K$17) -> 0 | S7: 2 | T7: =IF(J8=J4," ",J8) | U7: =SUMIF($J$4:$J$7,T7,$K$4:$K$7) -> 0 | V7: =SUMIF($I$8:$J$9,T7,$K$6:$K$9) -> 0 | W7: =SUMIF($J$10:$J$13,T7,$K$10:$K$13) -> 0 | X7: =SUMIF($J$14:$J$17,T7,$K$14:$K$17) -> 0 | Z7: =IF(OR(T7=" "),T8,T7) | AA7: =IF(U7=U6," ",U7) -> 0 | AB7: =IF(OR(Z7=" "),Z8,Z7) | AC7: 2 | AD7: =IF(OR(AB7=" "),AB8,AB7) | AE7: =SUMIF($J$4:$J$7,AD7,$K$4:$K$7) -> 0 | AF7: =SUMIF($I$8:$J$9,AD7,$K$6:$K$9) -> 0 | AG7: =SUMIF($J$10:$J$13,AD7,$K$10:$K$13) -> 0 | AH7: =SUMIF($J$14:$J$17,AD7,$K$14:$K$17) -> 0 | AJ7: 2 | AK7: =IF(AD7=0," ",AD7) | AL7: =IF(AE7=0," ",AE7) | AM7: =IF(AF7=0," ",AF7) | AN7: =IF(AG7=0," ",AG7) | AO7: =IF(AH7=0," ",AH7)
A8: 3 | B8: ='пр.хода'!AH8 | C8: =IFERROR(VLOOKUP(B8,'пр.взв'!$D$6:$Q$70,3,0),"") | D8: =IFERROR(VLOOKUP(B8,'пр.взв'!$D$6:$Q$70,4,0),"") | E8: =IFERROR(VLOOKUP(B8,'пр.взв'!$D$6:$Q$70,6,0),"") | F8: =IFERROR(VLOOKUP(B8,'пр.взв'!$D$6:$Q$70,7,0),"") | G8: =IFERROR(VLOOKUP(B8,'пр.взв'!$D$6:$Q$70,8,0),"") | H8: =IFERROR(VLOOKUP(B8,'пр.взв'!$D$6:$Q$70,10,0),"") | J8: =IFERROR(LEFT(F7,FIND(",",F7)-1),F7) | K8: 1 | L8: 3 | M8: Иркутская | N8: =SUMIF($J$4:$J$7,"ирк",$K$4:$K$7) -> 0 | O8: =SUMIF($I$8:$J$9,"ирк",$K$6:$K$9) -> 0 | P8: =SUMIF($J$10:$J$13,"ирк",$K$10:$K$13) -> 0 | Q8: =SUMIF($J$14:$J$17,"ирк",$K$14:$K$17) -> 0 | S8: 3 | T8: =IF(OR(J10=J4,J10=J8)," ",J10) | U8: =SUMIF($J$4:$J$7,T8,$K$4:$K$7) -> 0 | V8: =SUMIF($I$8:$J$9,T8,$K$6:$K$9) -> 0 | W8: =SUMIF($J$10:$J$13,T8,$K$10:$K$13) -> 0 | X8: =SUMIF($J$14:$J$17,T8,$K$14:$K$17) -> 0 | Z8: =IF(OR(T8=" ",T7=" "),T9,T8) | AB8: =IF(OR(Z8=" ",Z7=" "),Z9,Z8) | AC8: 3 | AD8: =IF(OR(AB8=" ",AB7=" "),AB9,AB8) | AE8: =SUMIF($J$4:$J$7,AD8,$K$4:$K$7) -> 0 | AF8: =SUMIF($I$8:$J$9,AD8,$K$6:$K$9) -> 0 | AG8: =SUMIF($J$10:$J$13,AD8,$K$10:$K$13) -> 0 | AH8: =SUMIF($J$14:$J$17,AD8,$K$14:$K$17) -> 0 | AJ8: 3 | AK8: =IF(AD8=0," ",AD8) | AL8: =IF(AE8=0," ",AE8) | AM8: =IF(AF8=0," ",AF8) | AN8: =IF(AG8=0," ",AG8) | AO8: =IF(AH8=0," ",AH8)
A9: 3 | B9: ='пр.хода'!AH9 | C9: =IFERROR(VLOOKUP(B9,'пр.взв'!$D$6:$Q$70,3,0),"") | D9: =IFERROR(VLOOKUP(B9,'пр.взв'!$D$6:$Q$70,4,0),"") | E9: =IFERROR(VLOOKUP(B9,'пр.взв'!$D$6:$Q$70,6,0),"") | F9: =IFERROR(VLOOKUP(B9,'пр.взв'!$D$6:$Q$70,7,0),"") | G9: =IFERROR(VLOOKUP(B9,'пр.взв'!$D$6:$Q$70,8,0),"") | H9: =IFERROR(VLOOKUP(B9,'пр.взв'!$D$6:$Q$70,10,0),"") | L9: 4 | M9: Кемеровская | N9: =SUMIF($J$4:$J$7,"кем",$K$4:$K$7) -> 0 | O9: =SUMIF($I$8:$J$9,"кем",$K$6:$K$9) -> 0 | P9: =SUMIF($J$10:$J$13,"кем",$K$10:$K$13) -> 0 | Q9: =SUMIF($J$14:$J$17,"кем",$K$14:$K$17) -> 0 | S9: 4 | T9: =IF(OR(J12=J4,J12=J8,J12=J10)," ",J12) | U9: =SUMIF($J$4:$J$7,T9,$K$4:$K$7) -> 0 | V9: =SUMIF($I$8:$J$9,T9,$K$6:$K$9) -> 0 | W9: =SUMIF($J$10:$J$13,T9,$K$10:$K$13) -> 0 | X9: =SUMIF($J$14:$J$17,T9,$K$14:$K$17) -> 0 | Z9: =IF(OR(T7=" ",T8=" ",T9=" "),T10,T9) | AB9: =IF(OR(Z7=" ",Z8=" ",Z9=" "),Z10,Z9) | AC9: 4 | AD9: =IF(OR(AB7=" ",AB8=" ",AB9=" "),AB10,AB9) | AE9: =SUMIF($J$4:$J$7,AD9,$K$4:$K$7) -> 0 | AF9: =SUMIF($I$8:$J$9,AD9,$K$6:$K$9) -> 0 | AG9: =SUMIF($J$10:$J$13,AD9,$K$10:$K$13) -> 0 | AH9: =SUMIF($J$14:$J$17,AD9,$K$14:$K$17) -> 0 | AJ9: 4 | AK9: =IF(AD9=0," ",AD9) | AL9: =IF(AE9=0," ",AE9) | AM9: =IF(AF9=0," ",AF9) | AN9: =IF(AG9=0," ",AG9) | AO9: =IF(AH9=0," ",AH9)
A10: 5 | B10: ='пр.хода'!AH10 | C10: =IFERROR(VLOOKUP(B10,'пр.взв'!$D$6:$Q$70,3,0),"") | D10: =IFERROR(VLOOKUP(B10,'пр.взв'!$D$6:$Q$70,4,0),"") | E10: =IFERROR(VLOOKUP(B10,'пр.взв'!$D$6:$Q$70,6,0),"") | F10: =IFERROR(VLOOKUP(B10,'пр.взв'!$D$6:$Q$70,7,0),"") | G10: =IFERROR(VLOOKUP(B10,'пр.взв'!$D$6:$Q$70,8,0),"") | H10: =IFERROR(VLOOKUP(B10,'пр.взв'!$D$6:$Q$70,10,0),"") | J10: =IFERROR(LEFT(F8,FIND(",",F8)-1),F8) | K10: 1 | L10: 5 | M10: Красноярский | N10: =SUMIF($J$4:$J$7,"кра",$K$4:$K$7) -> 0 | O10: =SUMIF($I$8:$J$9,"кра",$K$6:$K$9) -> 0 | P10: =SUMIF($J$10:$J$13,"кра",$K$10:$K$13) -> 0 | Q10: =SUMIF($J$14:$J$17,"кра",$K$14:$K$17) -> 0 | S10: 5 | T10: =IF(OR(J14=J4,J14=J8,J14=J10,J14=J12)," ",J14) | U10: =SUMIF($J$4:$J$7,T10,$K$4:$K$7) -> 0 | V10: =SUMIF($I$8:$J$9,T10,$K$6:$K$9) -> 0 | W10: =SUMIF($J$10:$J$13,T10,$K$10:$K$13) -> 0 | X10: =SUMIF($J$14:$J$17,T10,$K$14:$K$17) -> 0 | Z10: =IF(OR(T7=" ",T8=" ",T9=" ",T10=" "),T11,T10) | AB10: =IF(OR(Z7=" ",Z8=" ",Z9=" ")," ",Z10) | AC10: 5 | AD10: =IF(OR(AB7=" ",AB8=" ",AB9=" ")," ",AB10) | AE10: =SUMIF($J$4:$J$7,AD10,$K$4:$K$7) -> 0 | AF10: =SUMIF($I$8:$J$9,AD10,$K$6:$K$9) -> 0 | AG10: =SUMIF($J$10:$J$13,AD10,$K$10:$K$13) -> 0 | AH10: =SUMIF($J$14:$J$17,AD10,$K$14:$K$17) -> 0 | AJ10: 5 | AK10: =IF(AD10=0," ",AD10) | AL10: =IF(AE10=0," ",AE10) | AM10: =IF(AF10=0," ",AF10) | AN10: =IF(AG10=0," ",AG10) | AO10: =IF(AH10=0," ",AH10)
A11: 5 | B11: ='пр.хода'!AH11 | C11: =IFERROR(VLOOKUP(B11,'пр.взв'!$D$6:$Q$70,3,0),"") | D11: =IFERROR(VLOOKUP(B11,'пр.взв'!$D$6:$Q$70,4,0),"") | E11: =IFERROR(VLOOKUP(B11,'пр.взв'!$D$6:$Q$70,6,0),"") | F11: =IFERROR(VLOOKUP(B11,'пр.взв'!$D$6:$Q$70,7,0),"") | G11: =IFERROR(VLOOKUP(B11,'пр.взв'!$D$6:$Q$70,8,0),"") | H11: =IFERROR(VLOOKUP(B11,'пр.взв'!$D$6:$Q$70,10,0),"") | L11: 6 | M11: Новосибирская | N11: =SUMIF($J$4:$J$7,"нов",$K$4:$K$7) -> 0 | O11: =SUMIF($I$8:$J$9,"нов",$K$6:$K$9) -> 0 | P11: =SUMIF($J$10:$J$13,"нов",$K$10:$K$13) -> 0 | Q11: =SUMIF($J$14:$J$17,"нов",$K$14:$K$17) -> 0 | S11: 6 | T11: =IF(OR(J16=J4,J16=J8,J16=J10,J16=J12,J16=J14)," ",J16) | U11: =SUMIF($J$4:$J$7,T11,$K$4:$K$7) -> 0 | V11: =SUMIF($I$8:$J$9,T11,$K$6:$K$9) -> 0 | W11: =SUMIF($J$10:$J$13,T11,$K$10:$K$13) -> 0 | X11: =SUMIF($J$14:$J$17,T11,$K$8:$K$17) -> 0 | Z11: =IF(OR(T7=" ",T8=" ",T9=" ",T10=" ")," ",T11) | AB11: =IF(OR(Z7=" ",Z8=" ",Z9=" ",Z10=" ")," ",Z11) | AC11: 6 | AD11: =IF(OR(AB7=" ",AB8=" ",AB9=" ",AB10=" ")," ",AB11) | AE11: =SUMIF($J$4:$J$7,AD11,$K$4:$K$7) -> 0 | AF11: =SUMIF($I$8:$J$9,AD11,$K$6:$K$9) -> 0 | AG11: =SUMIF($J$10:$J$13,AD11,$K$10:$K$13) -> 0 | AH11: =SUMIF($J$14:$J$17,AD11,$K$14:$K$17) -> 0 | AJ11: 6 | AK11: =IF(AD11=0," ",AD11) | AL11: =IF(AE11=0," ",AE11) | AM11: =IF(AF11=0," ",AF11) | AN11: =IF(AG11=0," ",AG11) | AO11: =IF(AH11=0," ",AH11)
A12: 5 | B12: ='пр.хода'!AH12 | C12: =IFERROR(VLOOKUP(B12,'пр.взв'!$D$6:$Q$70,3,0),"") | D12: =IFERROR(VLOOKUP(B12,'пр.взв'!$D$6:$Q$70,4,0),"") | E12: =IFERROR(VLOOKUP(B12,'пр.взв'!$D$6:$Q$70,6,0),"") | F12: =IFERROR(VLOOKUP(B12,'пр.взв'!$D$6:$Q$70,7,0),"") | G12: =IFERROR(VLOOKUP(B12,'пр.взв'!$D$6:$Q$70,8,0),"") | H12: =IFERROR(VLOOKUP(B12,'пр.взв'!$D$6:$Q$70,10,0),"") | J12: =IFERROR(LEFT(F9,FIND(",",F9)-1),F9) | K12: 1 | L12: 7 | M12: Омская | N12: =SUMIF($J$4:$J$7,"омс",$K$4:$K$7) -> 0 | O12: =SUMIF($I$8:$J$9,"омс",$K$6:$K$9) -> 0 | P12: =SUMIF($J$10:$J$13,"омс",$K$10:$K$13) -> 0 | Q12: =SUMIF($J$14:$J$17,"омс",$K$14:$K$17) -> 0 | T12: =IF(OR(J15=J7,J15=J11,J15=J13)," ",J15) | AE12: =SUM(AE6:AE11) -> 1 | AF12: =SUM(AF6:AF11) -> 4 | AG12: =SUM(AG6:AG11) -> 2 | AH12: =SUM(AH6:AH11) -> 2 | AL12: =SUM(AL6:AL11) -> 1 | AM12: =SUM(AM6:AM11) -> 4 | AN12: =SUM(AN6:AN11) -> 2 | AO12: =SUM(AO6:AO11) -> 2
A13: 5 | B13: ='пр.хода'!AH13 | C13: =IFERROR(VLOOKUP(B13,'пр.взв'!$D$6:$Q$70,3,0),"") | D13: =IFERROR(VLOOKUP(B13,'пр.взв'!$D$6:$Q$70,4,0),"") | E13: =IFERROR(VLOOKUP(B13,'пр.взв'!$D$6:$Q$70,6,0),"") | F13: =IFERROR(VLOOKUP(B13,'пр.взв'!$D$6:$Q$70,7,0),"") | G13: =IFERROR(VLOOKUP(B13,'пр.взв'!$D$6:$Q$70,8,0),"") | H13: =IFERROR(VLOOKUP(B13,'пр.взв'!$D$6:$Q$70,10,0),"") | L13: 8 | M13: Р.Алтай | N13: =SUMIF($J$4:$J$7,"р.а",$K$4:$K$7) -> 0 | O13: =SUMIF($I$8:$J$9,"р.а",$K$6:$K$9) -> 0 | P13: =SUMIF($J$10:$J$13,"р.а",$K$10:$K$13) -> 0 | Q13: =SUMIF($J$14:$J$17,"р.а",$K$14:$K$17) -> 0 | T13: =IF(OR(J16=J8,J16=J12,J16=J14)," ",J16)
A14: 9-16 | B14: ='пр.хода'!AH14 | C14: =IFERROR(VLOOKUP(B14,'пр.взв'!$D$6:$Q$70,3,0),"") | D14: =IFERROR(VLOOKUP(B14,'пр.взв'!$D$6:$Q$70,4,0),"") | E14: =IFERROR(VLOOKUP(B14,'пр.взв'!$D$6:$Q$70,6,0),"") | F14: =IFERROR(VLOOKUP(B14,'пр.взв'!$D$6:$Q$70,7,0),"") | G14: =IFERROR(VLOOKUP(B14,'пр.взв'!$D$6:$Q$70,8,0),"") | H14: =IFERROR(VLOOKUP(B14,'пр.взв'!$D$6:$Q$70,10,0),"") | J14: =IFERROR(LEFT(F10,FIND(",",F10)-1),F10) | K14: 1 | L14: 9 | M14: Р.Бурятия | N14: =SUMIF($J$4:$J$7,"р.б",$K$4:$K$7) -> 0 | O14: =SUMIF($I$8:$J$9,"р.б",$K$6:$K$9) -> 0 | P14: =SUMIF($J$10:$J$13,"р.б",$K$10:$K$13) -> 0 | Q14: =SUMIF($J$14:$J$17,"р.б",$K$14:$K$17) -> 0
A15: 9-16 | B15: ='пр.хода'!AH15 | C15: =IFERROR(VLOOKUP(B15,'пр.взв'!$D$6:$Q$70,3,0),"") | D15: =IFERROR(VLOOKUP(B15,'пр.взв'!$D$6:$Q$70,4,0),"") | E15: =IFERROR(VLOOKUP(B15,'пр.взв'!$D$6:$Q$70,6,0),"") | F15: =IFERROR(VLOOKUP(B15,'пр.взв'!$D$6:$Q$70,7,0),"") | G15: =IFERROR(VLOOKUP(B15,'пр.взв'!$D$6:$Q$70,8,0),"") | H15: =IFERROR(VLOOKUP(B15,'пр.взв'!$D$6:$Q$70,10,0),"") | L15: 10 | M15: Р.Хакасия | N15: =SUMIF($J$4:$J$7,"р.х",$K$4:$K$7) -> 0 | O15: =SUMIF($I$8:$J$9,"р.х",$K$6:$K$9) -> 0 | P15: =SUMIF($J$10:$J$13,"р.х",$K$10:$K$13) -> 0 | Q15: =SUMIF($J$14:$J$17,"р.х",$K$14:$K$17) -> 0
A16: 9-16 | B16: ='пр.хода'!AH16 | C16: =IFERROR(VLOOKUP(B16,'пр.взв'!$D$6:$Q$70,3,0),"") | D16: =IFERROR(VLOOKUP(B16,'пр.взв'!$D$6:$Q$70,4,0),"") | E16: =IFERROR(VLOOKUP(B16,'пр.взв'!$D$6:$Q$70,6,0),"") | F16: =IFERROR(VLOOKUP(B16,'пр.взв'!$D$6:$Q$70,7,0),"") | G16: =IFERROR(VLOOKUP(B16,'пр.взв'!$D$6:$Q$70,8,0),"") | H16: =IFERROR(VLOOKUP(B16,'пр.взв'!$D$6:$Q$70,10,0),"") | J16: =IFERROR(LEFT(F11,FIND(",",F11)-1),F11) | K16: 1 | L16: 11 | M16: Томская | N16: =SUMIF($J$4:$J$7,"том",$K$4:$K$7) -> 0 | O16: =SUMIF($I$8:$J$9,"том",$K$6:$K$9) -> 0 | P16: =SUMIF($J$10:$J$13,"том",$K$10:$K$13) -> 0 | Q16: =SUMIF($J$14:$J$17,"том",$K$14:$K$17) -> 0
A17: 9-16 | B17: ='пр.хода'!AH17 | C17: =IFERROR(VLOOKUP(B17,'пр.взв'!$D$6:$Q$70,3,0),"") | D17: =IFERROR(VLOOKUP(B17,'пр.взв'!$D$6:$Q$70,4,0),"") | E17: =IFERROR(VLOOKUP(B17,'пр.взв'!$D$6:$Q$70,6,0),"") | F17: =IFERROR(VLOOKUP(B17,'пр.взв'!$D$6:$Q$70,7,0),"") | G17: =IFERROR(VLOOKUP(B17,'пр.взв'!$D$6:$Q$70,8,0),"") | H17: =IFERROR(VLOOKUP(B17,'пр.взв'!$D$6:$Q$70,10,0),"") | L17: 12 | M17: Мос | N17: =SUMIF($J$4:$J$7,"Мос",$K$4:$K$7) -> 0 | O17: =SUMIF($I$8:$J$9,"Мос",$K$6:$K$9) -> 0 | P17: =SUMIF($J$10:$J$13,"Мос",$K$10:$K$13) -> 0 | Q17: =SUMIF($J$14:$J$17,"Мос",$K$14:$K$17) -> 0
A18: 9-16 | B18: ='пр.хода'!AH18 | C18: =IFERROR(VLOOKUP(B18,'пр.взв'!$D$6:$Q$70,3,0),"") | D18: =IFERROR(VLOOKUP(B18,'пр.взв'!$D$6:$Q$70,4,0),"") | E18: =IFERROR(VLOOKUP(B18,'пр.взв'!$D$6:$Q$70,6,0),"") | F18: =IFERROR(VLOOKUP(B18,'пр.взв'!$D$6:$Q$70,7,0),"") | G18: =IFERROR(VLOOKUP(B18,'пр.взв'!$D$6:$Q$70,8,0),"") | H18: =IFERROR(VLOOKUP(B18,'пр.взв'!$D$6:$Q$70,10,0),"") | N18: =SUM(N6:N17) -> 1 | O18: =SUM(O6:O17) -> 0 | P18: =SUM(P6:P17) -> 0 | Q18: =SUM(Q6:Q17) -> 0 | U18: =SUM(U6:U17) -> 1 | V18: =SUM(V6:V17) -> 4 | W18: =SUM(W6:W17) -> 2 | X18: =SUM(X6:X17) -> 2
A19: 9-16 | B19: ='пр.хода'!AH19 | C19: =IFERROR(VLOOKUP(B19,'пр.взв'!$D$6:$Q$70,3,0),"") | D19: =IFERROR(VLOOKUP(B19,'пр.взв'!$D$6:$Q$70,4,0),"") | E19: =IFERROR(VLOOKUP(B19,'пр.взв'!$D$6:$Q$70,6,0),"") | F19: =IFERROR(VLOOKUP(B19,'пр.взв'!$D$6:$Q$70,7,0),"") | G19: =IFERROR(VLOOKUP(B19,'пр.взв'!$D$6:$Q$70,8,0),"") | H19: =IFERROR(VLOOKUP(B19,'пр.взв'!$D$6:$Q$70,10,0),"")
A20: 9-16 | B20: ='пр.хода'!AH20 | C20: =IFERROR(VLOOKUP(B20,'пр.взв'!$D$6:$Q$70,3,0),"") | D20: =IFERROR(VLOOKUP(B20,'пр.взв'!$D$6:$Q$70,4,0),"") | E20: =IFERROR(VLOOKUP(B20,'пр.взв'!$D$6:$Q$70,6,0),"") | F20: =IFERROR(VLOOKUP(B20,'пр.взв'!$D$6:$Q$70,7,0),"") | G20: =IFERROR(VLOOKUP(B20,'пр.взв'!$D$6:$Q$70,8,0),"") | H20: =IFERROR(VLOOKUP(B20,'пр.взв'!$D$6:$Q$70,10,0),"")
A21: 9-16 | B21: ='пр.хода'!AH21 | C21: =IFERROR(VLOOKUP(B21,'пр.взв'!$D$6:$Q$70,3,0),"") | D21: =IFERROR(VLOOKUP(B21,'пр.взв'!$D$6:$Q$70,4,0),"") | E21: =IFERROR(VLOOKUP(B21,'пр.взв'!$D$6:$Q$70,6,0),"") | F21: =IFERROR(VLOOKUP(B21,'пр.взв'!$D$6:$Q$70,7,0),"") | G21: =IFERROR(VLOOKUP(B21,'пр.взв'!$D$6:$Q$70,8,0),"") | H21: =IFERROR(VLOOKUP(B21,'пр.взв'!$D$6:$Q$70,10,0),"")
A22: 17-32 | B22: ='пр.хода'!AH22 | C22: =IFERROR(VLOOKUP(B22,'пр.взв'!$D$6:$Q$70,3,0),"") | D22: =IFERROR(VLOOKUP(B22,'пр.взв'!$D$6:$Q$70,4,0),"") | E22: =IFERROR(VLOOKUP(B22,'пр.взв'!$D$6:$Q$70,6,0),"") | F22: =IFERROR(VLOOKUP(B22,'пр.взв'!$D$6:$Q$70,7,0),"") | G22: =IFERROR(VLOOKUP(B22,'пр.взв'!$D$6:$Q$70,8,0),"") | H22: =IFERROR(VLOOKUP(B22,'пр.взв'!$D$6:$Q$70,10,0),"")
A23: 17-32 | B23: ='пр.хода'!AH23 | C23: =IFERROR(VLOOKUP(B23,'пр.взв'!$D$6:$Q$70,3,0),"") | D23: =IFERROR(VLOOKUP(B23,'пр.взв'!$D$6:$Q$70,4,0),"") | E23: =IFERROR(VLOOKUP(B23,'пр.взв'!$D$6:$Q$70,6,0),"") | F23: =IFERROR(VLOOKUP(B23,'пр.взв'!$D$6:$Q$70,7,0),"") | G23: =IFERROR(VLOOKUP(B23,'пр.взв'!$D$6:$Q$70,8,0),"") | H23: =IFERROR(VLOOKUP(B23,'пр.взв'!$D$6:$Q$70,10,0),"")
A24: 17-32 | B24: ='пр.хода'!AH24 | C24: =IFERROR(VLOOKUP(B24,'пр.взв'!$D$6:$Q$70,3,0),"") | D24: =IFERROR(VLOOKUP(B24,'пр.взв'!$D$6:$Q$70,4,0),"") | E24: =IFERROR(VLOOKUP(B24,'пр.взв'!$D$6:$Q$70,6,0),"") | F24: =IFERROR(VLOOKUP(B24,'пр.взв'!$D$6:$Q$70,7,0),"") | G24: =IFERROR(VLOOKUP(B24,'пр.взв'!$D$6:$Q$70,8,0),"") | H24: =IFERROR(VLOOKUP(B24,'пр.взв'!$D$6:$Q$70,10,0),"")
A25: 17-32 | B25: ='пр.хода'!AH25 | C25: =IFERROR(VLOOKUP(B25,'пр.взв'!$D$6:$Q$70,3,0),"") | D25: =IFERROR(VLOOKUP(B25,'пр.взв'!$D$6:$Q$70,4,0),"") | E25: =IFERROR(VLOOKUP(B25,'пр.взв'!$D$6:$Q$70,6,0),"") | F25: =IFERROR(VLOOKUP(B25,'пр.взв'!$D$6:$Q$70,7,0),"") | G25: =IFERROR(VLOOKUP(B25,'пр.взв'!$D$6:$Q$70,8,0),"") | H25: =IFERROR(VLOOKUP(B25,'пр.взв'!$D$6:$Q$70,10,0),"")
A26: 17-32 | B26: ='пр.хода'!AH26 | C26: =IFERROR(VLOOKUP(B26,'пр.взв'!$D$6:$Q$70,3,0),"") | D26: =IFERROR(VLOOKUP(B26,'пр.взв'!$D$6:$Q$70,4,0),"") | E26: =IFERROR(VLOOKUP(B26,'пр.взв'!$D$6:$Q$70,6,0),"") | F26: =IFERROR(VLOOKUP(B26,'пр.взв'!$D$6:$Q$70,7,0),"") | G26: =IFERROR(VLOOKUP(B26,'пр.взв'!$D$6:$Q$70,8,0),"") | H26: =IFERROR(VLOOKUP(B26,'пр.взв'!$D$6:$Q$70,10,0),"")
A27: 17-32 | B27: ='пр.хода'!AH27 | C27: =IFERROR(VLOOKUP(B27,'пр.взв'!$D$6:$Q$70,3,0),"") | D27: =IFERROR(VLOOKUP(B27,'пр.взв'!$D$6:$Q$70,4,0),"") | E27: =IFERROR(VLOOKUP(B27,'пр.взв'!$D$6:$Q$70,6,0),"") | F27: =IFERROR(VLOOKUP(B27,'пр.взв'!$D$6:$Q$70,7,0),"") | G27: =IFERROR(VLOOKUP(B27,'пр.взв'!$D$6:$Q$70,8,0),"") | H27: =IFERROR(VLOOKUP(B27,'пр.взв'!$D$6:$Q$70,10,0),"")
A28: 17-32 | B28: ='пр.хода'!AH28 | C28: =IFERROR(VLOOKUP(B28,'пр.взв'!$D$6:$Q$70,3,0),"") | D28: =IFERROR(VLOOKUP(B28,'пр.взв'!$D$6:$Q$70,4,0),"") | E28: =IFERROR(VLOOKUP(B28,'пр.взв'!$D$6:$Q$70,6,0),"") | F28: =IFERROR(VLOOKUP(B28,'пр.взв'!$D$6:$Q$70,7,0),"") | G28: =IFERROR(VLOOKUP(B28,'пр.взв'!$D$6:$Q$70,8,0),"") | H28: =IFERROR(VLOOKUP(B28,'пр.взв'!$D$6:$Q$70,10,0),"")
A29: 17-32 | B29: ='пр.хода'!AH29 | C29: =IFERROR(VLOOKUP(B29,'пр.взв'!$D$6:$Q$70,3,0),"") | D29: =IFERROR(VLOOKUP(B29,'пр.взв'!$D$6:$Q$70,4,0),"") | E29: =IFERROR(VLOOKUP(B29,'пр.взв'!$D$6:$Q$70,6,0),"") | F29: =IFERROR(VLOOKUP(B29,'пр.взв'!$D$6:$Q$70,7,0),"") | G29: =IFERROR(VLOOKUP(B29,'пр.взв'!$D$6:$Q$70,8,0),"") | H29: =IFERROR(VLOOKUP(B29,'пр.взв'!$D$6:$Q$70,10,0),"")
A30: 17-32 | B30: ='пр.хода'!AH30 | C30: =IFERROR(VLOOKUP(B30,'пр.взв'!$D$6:$Q$70,3,0),"") | D30: =IFERROR(VLOOKUP(B30,'пр.взв'!$D$6:$Q$70,4,0),"") | E30: =IFERROR(VLOOKUP(B30,'пр.взв'!$D$6:$Q$70,6,0),"") | F30: =IFERROR(VLOOKUP(B30,'пр.взв'!$D$6:$Q$70,7,0),"") | G30: =IFERROR(VLOOKUP(B30,'пр.взв'!$D$6:$Q$70,8,0),"") | H30: =IFERROR(VLOOKUP(B30,'пр.взв'!$D$6:$Q$70,10,0),"")
... A69: 64 | B69: ='пр.хода'!AH69 -> 64 | C69: =IFERROR(VLOOKUP(B69,'пр.взв'!$D$6:$Q$70,3,0),"") | D69: =IFERROR(VLOOKUP(B69,'пр.взв'!$D$6:$Q$70,4,0),"") | E69: =IFERROR(VLOOKUP(B69,'пр.взв'!$D$6:$Q$70,6,0),"") | F69: =IFERROR(VLOOKUP(B69,'пр.взв'!$D$6:$Q$70,7,0),"") | G69: =IFERROR(VLOOKUP(B69,'пр.взв'!$D$6:$Q$70,8,0),"") | H69: =IFERROR(VLOOKUP(B69,'пр.взв'!$D$6:$Q$70,10,0),"")
A71: ='пр.хода'!A73 -> Гл.судья, судья ВК | F71: ='пр.хода'!G73 -> Болотсктй Р.М. | H71: ='пр.хода'!J73 -> Москва
A74: ='пр.хода'!T73 -> Гл.секретарь, судья ВК | F74: ='пр.хода'!AB73 -> Зарипов А.А. | H74: ='пр.хода'!AC73 -> Р.Татарстан

Sheet наградной лист
A1: ='пр.взв'!C2 -> Чемпионат России по самбо (боевое) мужчины (отбор на Чемпионат Мира и Европы) ЕКП №23747
A2: ='пр.взв'!C3 -> 27.02 - 03.03.2023 г. г. Пермь
A3: НАГРАДНОЙ ЛИСТ БОЕВОЕ
D4: ='пр.взв'!G4 -> В.к. 71 кг
A6: I м | B6: =IFERROR(VLOOKUP(J6,'пр.взв'!$D$6:$Q$70,2,0),"") | H6: =IFERROR(VLOOKUP(J6,'пр.взв'!$D$6:$Q$70,4,0),"") | J6: ='пр.хода'!N32
B8: =IFERROR(VLOOKUP(J6,'пр.взв'!$D$6:$Q$70,6,0),"") | E8: =IFERROR(VLOOKUP(J6,'пр.взв'!$D$6:$Q$70,7,0),"")
A11: II м | B11: =IFERROR(VLOOKUP(J11,'пр.взв'!$D$6:$Q$70,2,0),"") | H11: =IFERROR(VLOOKUP(J11,'пр.взв'!$D$6:$Q$21,4,0),"") | J11: ='пр.хода'!N40
B13: =IFERROR(VLOOKUP(J11,'пр.взв'!$D$6:$Q$21,6,0),"") | E13: =IFERROR(VLOOKUP(J11,'пр.взв'!$D$6:$Q$70,7,0),"")
A16: III м | B16: =IFERROR(VLOOKUP(J16,'пр.взв'!$D$6:$Q$70,2,0),"") | H16: =IFERROR(VLOOKUP(J16,'пр.взв'!$D$6:$Q$21,4,0),"") | J16: ='пр.хода'!AH8
B18: =IFERROR(VLOOKUP(J16,'пр.взв'!$D$6:$Q$21,6,0),"") | E18: =IFERROR(VLOOKUP(J16,'пр.взв'!$D$6:$Q$21,7,0),"")
A21: III м | B21: =IFERROR(VLOOKUP(J21,'пр.взв'!$D$6:$Q$70,2,0),"") | H21: =IFERROR(VLOOKUP(J21,'пр.взв'!$D$6:$Q$21,4,0),"") | J21: ='пр.хода'!M47
B23: =IFERROR(VLOOKUP(J21,'пр.взв'!$D$6:$Q$21,6,0),"") | E23: =IFERROR(VLOOKUP(J21,'пр.взв'!$D$6:$Q$21,7,0),"")
A26: Тренер победителя:
A28: =IFERROR(VLOOKUP(J28,'пр.взв'!$B$7:$H$70,7,0),"") | J28: ='пр.хода'!M32
A32: Награждение проводят:

Sheet Ст Б
A1: Чемпионат России по БОЕВОМУ САМБО
H2: ='пр.взв'!D4
A3: 2 | B3: =VLOOKUP(A3,#REF!,2,FALSE) -> #REF! | C3: =VLOOKUP(A3,#REF!,3,FALSE) -> #REF! | D3: =VLOOKUP(A3,#REF!,4,FALSE) -> #REF!
H4: Подгруппа Б
A5: 34 | B5: =VLOOKUP(A5,#REF!,2,FALSE) -> #REF! | C5: =VLOOKUP(A5,#REF!,3,FALSE) -> #REF! | D5: =VLOOKUP(A5,#REF!,4,FALSE) -> #REF!
A7: 18 | B7: =VLOOKUP(A7,#REF!,2,FALSE) -> #REF! | C7: =VLOOKUP(A7,#REF!,3,FALSE) -> #REF! | D7: =VLOOKUP(A7,#REF!,4,FALSE) -> #REF!
A9: 50 | B9: =VLOOKUP(A9,#REF!,2,FALSE) -> #REF! | C9: =VLOOKUP(A9,#REF!,3,FALSE) -> #REF! | D9: =VLOOKUP(A9,#REF!,4,FALSE) -> #REF!
A11: 10 | B11: =VLOOKUP(A11,#REF!,2,FALSE) -> #REF! | C11: =VLOOKUP(A11,#REF!,3,FALSE) -> #REF! | D11: =VLOOKUP(A11,#REF!,4,FALSE) -> #REF!
A13: 42 | B13: =VLOOKUP(A13,#REF!,2,FALSE) -> #REF! | C13: =VLOOKUP(A13,#REF!,3,FALSE) -> #REF! | D13: =VLOOKUP(A13,#REF!,4,FALSE) -> #REF!
A15: 26 | B15: =VLOOKUP(A15,#REF!,2,FALSE) -> #REF! | C15: =VLOOKUP(A15,#REF!,3,FALSE) -> #REF! | D15: =VLOOKUP(A15,#REF!,4,FALSE) -> #REF!
A17: 58 | B17: =VLOOKUP(A17,#REF!,2,FALSE) -> #REF! | C17: =VLOOKUP(A17,#REF!,3,FALSE) -> #REF! | D17: =VLOOKUP(A17,#REF!,4,FALSE) -> #REF!
A19: 6 | B19: =VLOOKUP(A19,#REF!,2,FALSE) -> #REF! | C19: =VLOOKUP(A19,#REF!,3,FALSE) -> #REF! | D19: =VLOOKUP(A19,#REF!,4,FALSE) -> #REF!
A21: 38 | B21: =VLOOKUP(A21,#REF!,2,FALSE) -> #REF! | C21: =VLOOKUP(A21,#REF!,3,FALSE) -> #REF! | D21: =VLOOKUP(A21,#REF!,4,FALSE) -> #REF!
A23: 22 | B23: =VLOOKUP(A23,#REF!,2,FALSE) -> #REF! | C23: =VLOOKUP(A23,#REF!,3,FALSE) -> #REF! | D23: =VLOOKUP(A23,#REF!,4,FALSE) -> #REF!
A25: 54 | B25: =VLOOKUP(A25,#REF!,2,FALSE) -> #REF! | C25: =VLOOKUP(A25,#REF!,3,FALSE) -> #REF! | D25: =VLOOKUP(A25,#REF!,4,FALSE) -> #REF!
A27: 14 | B27: =VLOOKUP(A27,#REF!,2,FALSE) -> #REF! | C27: =VLOOKUP(A27,#REF!,3,FALSE) -> #REF! | D27: =VLOOKUP(A27,#REF!,4,FALSE) -> #REF!
... A66: 64 | B66: =VLOOKUP(A66,#REF!,2,FALSE) -> #REF! | C66: =VLOOKUP(A66,#REF!,3,FALSE) -> #REF! | D66: =VLOOKUP(A66,#REF!,4,FALSE) -> #REF!
A70: Утешительные встречи | E70: =H2 | G70: Подгруппа Б1

Sheet Ст А
A1: Чемпионат России по БОЕВОМУ САМБО
H2: ='пр.взв'!D4
A3: 1 | B3: =VLOOKUP(A3,#REF!,2,FALSE) -> #REF! | C3: =VLOOKUP(A3,#REF!,3,FALSE) -> #REF! | D3: =VLOOKUP(A3,#REF!,4,FALSE) -> #REF!
A5: 33 | B5: =VLOOKUP(A5,#REF!,2,FALSE) -> #REF! | C5: =VLOOKUP(A5,#REF!,3,FALSE) -> #REF! | D5: =VLOOKUP(A5,#REF!,4,FALSE) -> #REF! | H5: Подгруппа А
A7: 17 | B7: =VLOOKUP(A7,#REF!,2,FALSE) -> #REF! | C7: =VLOOKUP(A7,#REF!,3,FALSE) -> #REF! | D7: =VLOOKUP(A7,#REF!,4,FALSE) -> #REF!
A9: 49 | B9: =VLOOKUP(A9,#REF!,2,FALSE) -> #REF! | C9: =VLOOKUP(A9,#REF!,3,FALSE) -> #REF! | D9: =VLOOKUP(A9,#REF!,4,FALSE) -> #REF!
A11: 9 | B11: =VLOOKUP(A11,#REF!,2,FALSE) -> #REF! | C11: =VLOOKUP(A11,#REF!,3,FALSE) -> #REF! | D11: =VLOOKUP(A11,#REF!,4,FALSE) -> #REF!
A13: 41 | B13: =VLOOKUP(A13,#REF!,2,FALSE) -> #REF! | C13: =VLOOKUP(A13,#REF!,3,FALSE) -> #REF! | D13: =VLOOKUP(A13,#REF!,4,FALSE) -> #REF!
A15: 25 | B15: =VLOOKUP(A15,#REF!,2,FALSE) -> #REF! | C15: =VLOOKUP(A15,#REF!,3,FALSE) -> #REF! | D15: =VLOOKUP(A15,#REF!,4,FALSE) -> #REF!
A17: 57 | B17: =VLOOKUP(A17,#REF!,2,FALSE) -> #REF! | C17: =VLOOKUP(A17,#REF!,3,FALSE) -> #REF! | D17: =VLOOKUP(A17,#REF!,4,FALSE) -> #REF!
A19: 5 | B19: =VLOOKUP(A19,#REF!,2,FALSE) -> #REF! | C19: =VLOOKUP(A19,#REF!,3,FALSE) -> #REF! | D19: =VLOOKUP(A19,#REF!,4,FALSE) -> #REF!
A21: 37 | B21: =VLOOKUP(A21,#REF!,2,FALSE) -> #REF! | C21: =VLOOKUP(A21,#REF!,3,FALSE) -> #REF! | D21: =VLOOKUP(A21,#REF!,4,FALSE) -> #REF!
A23: 21 | B23: =VLOOKUP(A23,#REF!,2,FALSE) -> #REF! | C23: =VLOOKUP(A23,#REF!,3,FALSE) -> #REF! | D23: =VLOOKUP(A23,#REF!,4,FALSE) -> #REF!
A25: 53 | B25: =VLOOKUP(A25,#REF!,2,FALSE) -> #REF! | C25: =VLOOKUP(A25,#REF!,3,FALSE) -> #REF! | D25: =VLOOKUP(A25,#REF!,4,FALSE) -> #REF!
A27: 13 | B27: =VLOOKUP(A27,#REF!,2,FALSE) -> #REF! | C27: =VLOOKUP(A27,#REF!,3,FALSE) -> #REF! | D27: =VLOOKUP(A27,#REF!,4,FALSE) -> #REF!
A29: 45 | B29: =VLOOKUP(A29,#REF!,2,FALSE) -> #REF! | C29: =VLOOKUP(A29,#REF!,3,FALSE) -> #REF! | D29: =VLOOKUP(A29,#REF!,4,FALSE) -> #REF!
... A66: 63 | B66: =VLOOKUP(A66,#REF!,2,FALSE) -> #REF! | C66: =VLOOKUP(A66,#REF!,3,FALSE) -> #REF! | D66: =VLOOKUP(A66,#REF!,4,FALSE) -> #REF!
A72: Утешительные встречи | E72: =HYPERLINK(#REF!) -> #REF! | G72: Подгруппа А1
