Workbook
Name разряд: 'пр.взв'!$K$7:$K$70
Name Е5кр: 'пр.хода'!$BZ$6:$BZ$117
Name разряд: #REF!
Name НетПустых: 'пр.хода'!$BS$6:$BS$23
Name субъект: 'пр.взв'!$L$7:$L$70
Name ЕстьПустые: 'пр.хода'!$BQ$6:$BQ$117
Name Е4кр: 'пр.хода'!$BT$6:$BT$117
Name Е6кр: 'пр.хода'!$CF$6:$CF$117
Name Н5кр: 'пр.хода'!$CA$6:$CA$117
Name Н4кр: 'пр.хода'!$BU$6:$BU$117
Name субъект: #REF!
Name Н6кр: 'пр.хода'!$CG$6:$CG$117

Sheet пр.взв
A1: select Col1,Col3,Col4,Col5,Col6,Col10,Col12,Col13,Col14,Col15,Col16,Col17 WHERE Col1>1 | C1: ПРОТОКОЛ ВЗВЕШИВАНИЯ БОЕВОЕ САМБО | N1: https://docs.google.com/spreadsheets/d/1rKfsKa6WmRbizI2Vsft_Oh4qzmnej0rfhiwi6Wf8WXM/edit#gid=946786355 | O1: =IF(O2="98+",99,O2) -> 71
C2: =IFERROR(__xludf.DUMMYFUNCTION("IMPORTRANGE(N1,""Реквизиты!A1"")"),"Чемпионат России по самбо (боевое) мужчины (отбор на Чемпионат Мира и Европы) ЕКП №23747") -> Чемпионат России по самбо (боевое) мужчины (отбор на Чемпионат Мира и Европы) ЕКП №23747 | O2: 71 | P2: В.к. | Q2: кг
C3: =IFERROR(__xludf.DUMMYFUNCTION("IMPORTRANGE(N1,""Реквизиты!A3"")"),"27.02 - 03.03.2023 г. г. Пермь") -> 27.02 - 03.03.2023 г. г. Пермь | O3: =COUNTA(F6:F1000) -> 37 | P3: участников | AX3: =SUM(AX7:AX12) -> 0
G4: =P2&" "&O2&" "&Q2 -> В.к. 71 кг | Y4: Мандатка
A5: ВК | B5: ВК | C5: № п/п | D5: № п/ж | E5: Ф.И.О. | F5: Ф.И.О. | G5: Дата рожд., разряд | H5: Разряд | I5: Округ, субъект, город, ведомство | K5: Субъект | L5: № карточки | M5: Тренер
A6: 71 | B6: 71 | C6: 12 | D6: 1 | E6: БУДАКОВ Наил | F6: БУДАКОВ Наил Намиг Оглы | G6: 01.05.93, МС | H6: МС | I6: ПФО | J6: Самарская обл., Самара, ГАУ ДО СО СШОР 1 | K6: Самарская | M6: Коновалов А.П. | N6: {=IF(D6:D1000="","",(LEFT(F6:F1000,FIND(" ",F6:F1000)-1)))} -> БУДАКОВ | O6: 53 | Q6: =N7 -> ДУШКАНОВ | R6: =N8 -> НОВИКОВ | S6: =N9 -> СОРОКИН | T6: =N10 -> КРАСАВЦЕВ | U6: =N11 -> САИДОВ | V6: =N12 -> ПАДАЕВ | W6: =N13 -> ТАЛДИЕВ | Y6: Субъект, город. | Z6: =Q6 -> ДУШКАНОВ | AA6: =R6 -> НОВИКОВ | AB6: =S6 -> СОРОКИН | AC6: =T6 -> КРАСАВЦЕВ | AD6: =U6 -> САИДОВ | AE6: =V6 -> ПАДАЕВ | AF6: =W6 -> ТАЛДИЕВ
A7: 71 | B7: 71 | C7: 12 | D7: 2 | E7: ДУШКАНОВ Дамир | F7: ДУШКАНОВ Дамир Нурланович | G7: 12.07.02, КМС | H7: КМС | I7: ПФО | J7: Самарская обл., Самара, Спарта | K7: Самарская | M7: Агамирян С.С | N7: ДУШКАНОВ | O7: 58 | Q7: =SUMIFS($J$7:$J$88,$L$7:$L$88,P7,$K$7:$K$88,Q$6) -> 0 | R7: =SUMIFS($J$7:$J$88,$L$7:$L$88,P7,$K$7:$K$88,R$6) -> 0 | S7: =SUMIFS($J$7:$J$88,$L$7:$L$88,P7,$K$7:$K$88,S$6) -> 0 | T7: =SUMIFS($J$7:$J$88,$L$7:$L$88,P7,$K$7:$K$88,T$6) -> 0 | U7: =SUMIFS($J$7:$J$88,$L$7:$L$88,P7,$K$7:$K$88,U$6) -> 0 | V7: =SUMIFS($J$7:$J$88,$L$7:$L$88,P7,$K$7:$K$88,V$6) -> 0 | W7: =SUMIFS($J$7:$J$88,$L$7:$L$88,P7,$K$7:$K$88,W$6) -> 0 | Y7: =P7 | Z7: =IF(Q7=0," ",Q7) | AA7: =IF(R7=0," ",R7) | AB7: =IF(S7=0," ",S7) | AC7: =IF(T7=0," ",T7) | AD7: =IF(U7=0," ",U7) | AE7: =IF(V7=0," ",V7) | AF7: =IF(W7=0," ",W7) | AH7: =SUM(Z7:AF70) -> 0
A8: 71 | B8: 71 | C8: 9 | D8: 3 | E8: НОВИКОВ Никита | F8: НОВИКОВ Никита Иванович | G8: 29.10.00, КМС | H8: КМС | I8: ПФО | J8: Р. Татарстан, Казань, СШОР « Батыр» | K8: Р.Татарстан | M8: Иванов В.А | N8: НОВИКОВ | O8: 64 | Q8: =SUMIFS($J$7:$J$88,$L$7:$L$88,P8,$K$7:$K$88,Q$6) -> 0 | R8: =SUMIFS($J$7:$J$88,$L$7:$L$88,P8,$K$7:$K$88,R$6) -> 0 | S8: =SUMIFS($J$7:$J$88,$L$7:$L$88,P8,$K$7:$K$88,S$6) -> 0 | T8: =SUMIFS($J$7:$J$88,$L$7:$L$88,P8,$K$7:$K$88,T$6) -> 0 | U8: =SUMIFS($J$7:$J$88,$L$7:$L$88,P8,$K$7:$K$88,U$6) -> 0 | V8: =SUMIFS($J$7:$J$88,$L$7:$L$88,P8,$K$7:$K$88,V$6) -> 0 | W8: =SUMIFS($J$7:$J$88,$L$7:$L$88,P8,$K$7:$K$88,W$6) -> 0 | Y8: =P8 | Z8: =IF($Y$8=$Y$7," ",IF(Q8=0," ",Q8)) | AA8: =IF($Y$8=$Y$7," ",IF(R8=0," ",R8)) | AB8: =IF($Y$8=$Y$7," ",IF(S8=0," ",S8)) | AC8: =IF($Y$8=$Y$7," ",IF(T8=0," ",T8)) | AD8: =IF(U8=0," ",U8) | AE8: =IF(V8=0," ",V8) | AF8: =IF(W8=0," ",W8)
A9: 71 | B9: 71 | C9: 22 | D9: 4 | E9: СОРОКИН Алексей | F9: СОРОКИН Алексей Павлович | G9: 05.12.01, КМС | H9: КМС | I9: СЗФО | J9: Р. Коми, Сыктывкар, СПб ГБУ СШОР | K9: Р.Коми | M9: Коршунов Александр Игоревич | N9: СОРОКИН | O9: 71 | Q9: =SUMIFS($J$7:$J$88,$L$7:$L$88,P9,$K$7:$K$88,Q$6) -> 0 | R9: =SUMIFS($J$7:$J$88,$L$7:$L$88,P9,$K$7:$K$88,R$6) -> 0 | S9: =SUMIFS($J$7:$J$88,$L$7:$L$88,P9,$K$7:$K$88,S$6) -> 0 | T9: =SUMIFS($J$7:$J$88,$L$7:$L$88,P9,$K$7:$K$88,T$6) -> 0 | U9: =SUMIFS($J$7:$J$88,$L$7:$L$88,P9,$K$7:$K$88,U$6) -> 0 | V9: =SUMIFS($J$7:$J$88,$L$7:$L$88,P9,$K$7:$K$88,V$6) -> 0 | W9: =SUMIFS($J$7:$J$88,$L$7:$L$88,P9,$K$7:$K$88,W$6) -> 0 | Y9: =P9 | Z9: =IF(OR($Y9=$Y7,$Y9=$Y8)," ",IF(Q9=0," ",Q9)) | AA9: =IF(OR($Y9=$Y7,$Y9=$Y8)," ",IF(R9=0," ",R9)) | AB9: =IF(OR($Y9=$Y7,$Y9=$Y8)," ",IF(S9=0," ",S9)) | AC9: =IF(OR($Y9=$Y7,$Y9=$Y8)," ",IF(T9=0," ",T9)) | AD9: =IF(U9=0," ",U9) | AE9: =IF(V9=0," ",V9) | AF9: =IF(W9=0," ",W9)
A10: 71 | B10: 71 | C10: 22 | D10: 5 | E10: КРАСАВЦЕВ Александр | F10: КРАСАВЦЕВ Александр Анатольевич | G10: 23.05.96, МС | H10: МС | I10: ЦФО | J10: Московская обл., г.о. Сергиев-Посад, рп. Богородское, ГБУ МО "СШОР по Единоборствам " | K10: Московская | M10: Бондаренко Александр Павлович | N10: КРАСАВЦЕВ | O10: 79 | Q10: =SUMIFS($J$7:$J$88,$L$7:$L$88,P10,$K$7:$K$88,Q$6) -> 0 | R10: =SUMIFS($J$7:$J$88,$L$7:$L$88,P10,$K$7:$K$88,R$6) -> 0 | S10: =SUMIFS($J$7:$J$88,$L$7:$L$88,P10,$K$7:$K$88,S$6) -> 0 | T10: =SUMIFS($J$7:$J$88,$L$7:$L$88,P10,$K$7:$K$88,T$6) -> 0 | U10: =SUMIFS($J$7:$J$88,$L$7:$L$88,P10,$K$7:$K$88,U$6) -> 0 | V10: =SUMIFS($J$7:$J$88,$L$7:$L$88,P10,$K$7:$K$88,V$6) -> 0 | W10: =SUMIFS($J$7:$J$88,$L$7:$L$88,P10,$K$7:$K$88,W$6) -> 0 | Y10: =P10 | Z10: =IF(OR($Y10=$Y8,$Y10=$Y9,$Y10=$Y7)," ",IF(Q10=0," ",Q10)) | AA10: =IF(OR($Y10=$Y8,$Y10=$Y9,$Y10=$Y7)," ",IF(R10=0," ",R10)) | AB10: =IF(OR($Y10=$Y8,$Y10=$Y9,$Y10=$Y7)," ",IF(S10=0," ",S10)) | AC10: =IF(OR($Y10=$Y8,$Y10=$Y9,$Y10=$Y7)," ",IF(T10=0," ",T10)) | AD10: =IF(U10=0," ",U10) | AE10: =IF(V10=0," ",V10) | AF10: =IF(W10=0," ",W10)
A11: 71 | B11: 71 | C11: 4 | D11: 6 | E11: САИДОВ Магомед | F11: САИДОВ Магомед Магомедханович | G11: 01.01.02, КМС | H11: КМС | I11: СКФО | J11: Р.Дагестан, Махачкала, Абдулманапа Нурмагомедова | K11: Р.Дагестан | M11: Магомедов М.А. Омаров Г.А | N11: САИДОВ | O11: 88 | Q11: =SUMIFS($J$7:$J$88,$L$7:$L$88,P11,$K$7:$K$88,Q$6) -> 0 | R11: =SUMIFS($J$7:$J$88,$L$7:$L$88,P11,$K$7:$K$88,R$6) -> 0 | S11: =SUMIFS($J$7:$J$88,$L$7:$L$88,P11,$K$7:$K$88,S$6) -> 0 | T11: =SUMIFS($J$7:$J$88,$L$7:$L$88,P11,$K$7:$K$88,T$6) -> 0 | U11: =SUMIFS($J$7:$J$88,$L$7:$L$88,P11,$K$7:$K$88,U$6) -> 0 | V11: =SUMIFS($J$7:$J$88,$L$7:$L$88,P11,$K$7:$K$88,V$6) -> 0 | W11: =SUMIFS($J$7:$J$88,$L$7:$L$88,P11,$K$7:$K$88,W$6) -> 0 | Y11: =P11 | Z11: =IF(OR($Y11=$Y9,$Y11=$Y10,$Y11=$Y8,$Y11=$Y7)," ",IF(Q11=0," ",Q11)) | AA11: =IF(OR($Y11=$Y9,$Y11=$Y10,$Y11=$Y8,$Y11=$Y7)," ",IF(R11=0," ",R11)) | AB11: =IF(OR($Y11=$Y9,$Y11=$Y10,$Y11=$Y8,$Y11=$Y7)," ",IF(S11=0," ",S11)) | AC11: =IF(OR($Y11=$Y9,$Y11=$Y10,$Y11=$Y8,$Y11=$Y7)," ",IF(T11=0," ",T11)) | AD11: =IF(U11=0," ",U11) | AE11: =IF(V11=0," ",V11) | AF11: =IF(W11=0," ",W11)
A12: 71 | B12: 71 | C12: 4 | D12: 7 | E12: ПАДАЕВ Муслим | F12: ПАДАЕВ Муслим Арсланбекович | G12: 18.09.01, КМС | H12: КМС | I12: СКФО | J12: Чеченская, Грозный, ДЮСШ/2 | K12: Чеченская | M12: Бушуев.И.А | N12: ПАДАЕВ | O12: 98 | Q12: =SUMIFS($J$7:$J$88,$L$7:$L$88,P12,$K$7:$K$88,Q$6) -> 0 | R12: =SUMIFS($J$7:$J$88,$L$7:$L$88,P12,$K$7:$K$88,R$6) -> 0 | S12: =SUMIFS($J$7:$J$88,$L$7:$L$88,P12,$K$7:$K$88,S$6) -> 0 | T12: =SUMIFS($J$7:$J$88,$L$7:$L$88,P12,$K$7:$K$88,T$6) -> 0 | U12: =SUMIFS($J$7:$J$88,$L$7:$L$88,P12,$K$7:$K$88,U$6) -> 0 | V12: =SUMIFS($J$7:$J$88,$L$7:$L$88,P12,$K$7:$K$88,V$6) -> 0 | W12: =SUMIFS($J$7:$J$88,$L$7:$L$88,P12,$K$7:$K$88,W$6) -> 0 | Y12: =P12 | Z12: =IF(OR($Y12=$Y10,$Y12=$Y11,$Y12=$Y9,$Y12=$Y8,$Y12=$Y7)," ",IF(Q12=0," ",Q12)) | AA12: =IF(OR($Y12=$Y10,$Y12=$Y11,$Y12=$Y9,$Y12=$Y8,$Y12=$Y7)," ",IF(R12=0," ",R12)) | AB12: =IF(OR($Y12=$Y10,$Y12=$Y11,$Y12=$Y9,$Y12=$Y8,$Y12=$Y7)," ",IF(S12=0," ",S12)) | AC12: =IF(OR($Y12=$Y10,$Y12=$Y11,$Y12=$Y9,$Y12=$Y8,$Y12=$Y7)," ",IF(T12=0," ",T12)) | AD12: =IF(U12=0," ",U12) | AE12: =IF(V12=0," ",V12) | AF12: =IF(W12=0," ",W12)
A13: 71 | B13: 71 | C13: 4 | D13: 8 | E13: ТАЛДИЕВ Рустам | F13: ТАЛДИЕВ Рустам Амерханович | G13: 01.01.93, ЗМС | H13: ЗМС | I13: СПБ | J13: Санкт-Петербург, Санкт-Петербург, Кшвсм | K13: Санкт-Петербург | M13: Коршунов Александр Игоревич, Талдиев Адам | N13: ТАЛДИЕВ | O13: 98+ | Q13: =SUMIFS($J$7:$J$88,$L$7:$L$88,P13,$K$7:$K$88,Q$6) -> 0 | R13: =SUMIFS($J$7:$J$88,$L$7:$L$88,P13,$K$7:$K$88,R$6) -> 0 | S13: =SUMIFS($J$7:$J$88,$L$7:$L$88,P13,$K$7:$K$88,S$6) -> 0 | T13: =SUMIFS($J$7:$J$88,$L$7:$L$88,P13,$K$7:$K$88,T$6) -> 0 | U13: =SUMIFS($J$7:$J$88,$L$7:$L$88,P13,$K$7:$K$88,U$6) -> 0 | V13: =SUMIFS($J$7:$J$88,$L$7:$L$88,P13,$K$7:$K$88,V$6) -> 0 | W13: =SUMIFS($J$7:$J$88,$L$7:$L$88,P13,$K$7:$K$88,W$6) -> 0 | Y13: =P13 | Z13: =IF(OR($Y13=$Y11,$Y13=$Y12,$Y13=$Y10,$Y13=$Y9,$Y13=$Y8,$Y13=$Y7)," ",IF(Q13=0," ",Q13)) | AA13: =IF(OR($Y13=$Y11,$Y13=$Y12,$Y13=$Y10,$Y13=$Y9,$Y13=$Y8,$Y13=$Y7)," ",IF(R13=0," ",R13)) | AB13: =IF(OR($Y13=$Y11,$Y13=$Y12,$Y13=$Y10,$Y13=$Y9,$Y13=$Y8,$Y13=$Y7)," ",IF(S13=0," ",S13)) | AC13: =IF(OR($Y13=$Y11,$Y13=$Y12,$Y13=$Y10,$Y13=$Y9,$Y13=$Y8,$Y13=$Y7)," ",IF(T13=0," ",T13)) | AD13: =IF(U13=0," ",U13) | AE13: =IF(V13=0," ",V13) | AF13: =IF(W13=0," ",W13)
A14: 71 | B14: 71 | D14: 9 | E14: ДУГУЖЕВ Азамат | F14: ДУГУЖЕВ Азамат Заурович | G14: 29.08.97, МС | H14: МС | I14: СПБ | J14: Санкт-Петербург, СПб ГБУ СШОР «КШВСМ» | K14: Санкт-Петербург | M14: Давиденко И.А., Коршунов А.И. | N14: ДУГУЖЕВ | O14: 65 | Q14: =SUMIFS($J$7:$J$88,$L$7:$L$88,P14,$K$7:$K$88,Q$6) -> 0 | R14: =SUMIFS($J$7:$J$88,$L$7:$L$88,P14,$K$7:$K$88,R$6) -> 0 | S14: =SUMIFS($J$7:$J$88,$L$7:$L$88,P14,$K$7:$K$88,S$6) -> 0 | T14: =SUMIFS($J$7:$J$88,$L$7:$L$88,P14,$K$7:$K$88,T$6) -> 0 | U14: =SUMIFS($J$7:$J$88,$L$7:$L$88,P14,$K$7:$K$88,U$6) -> 0 | V14: =SUMIFS($J$7:$J$88,$L$7:$L$88,P14,$K$7:$K$88,V$6) -> 0 | W14: =SUMIFS($J$7:$J$88,$L$7:$L$88,P14,$K$7:$K$88,W$6) -> 0 | Y14: =P14 | Z14: =IF(OR($Y14=$Y12,$Y14=$Y13,$Y14=$Y11,$Y14=$Y10,$Y14=$Y9,$Y14=$Y7)," ",IF(Q14=0," ",Q14)) | AA14: =IF(OR($Y14=$Y12,$Y14=$Y13,$Y14=$Y11,$Y14=$Y10,$Y14=$Y9,$Y14=$Y7)," ",IF(R14=0," ",R14)) | AB14: =IF(OR($Y14=$Y12,$Y14=$Y13,$Y14=$Y11,$Y14=$Y10,$Y14=$Y9,$Y14=$Y7)," ",IF(S14=0," ",S14)) | AC14: =IF(OR($Y14=$Y12,$Y14=$Y13,$Y14=$Y11,$Y14=$Y10,$Y14=$Y9,$Y14=$Y7)," ",IF(T14=0," ",T14)) | AD14: =IF(U14=0," ",U14) | AE14: =IF(V14=0," ",V14) | AF14: =IF(W14=0," ",W14)
A15: 71 | B15: 71 | C15: 38 | D15: 10 | E15: ДАМДИНОВ Бато | F15: ДАМДИНОВ Бато Зориктуевич | G15: 28.08.92, МС | H15: МС | I15: ДВФО | J15: Р. Бурятия, Улан-Удэ, ДЮСШ 18 | K15: Р.Бурятия | M15: Цыдыпов Б.В. | N15: ДАМДИНОВ | O15: 71 | Q15: =SUMIFS($J$7:$J$88,$L$7:$L$88,P15,$K$7:$K$88,Q$6) -> 0 | R15: =SUMIFS($J$7:$J$88,$L$7:$L$88,P15,$K$7:$K$88,R$6) -> 0 | S15: =SUMIFS($J$7:$J$88,$L$7:$L$88,P15,$K$7:$K$88,S$6) -> 0 | T15: =SUMIFS($J$7:$J$88,$L$7:$L$88,P15,$K$7:$K$88,T$6) -> 0 | U15: =SUMIFS($J$7:$J$88,$L$7:$L$88,P15,$K$7:$K$88,U$6) -> 0 | V15: =SUMIFS($J$7:$J$88,$L$7:$L$88,P15,$K$7:$K$88,V$6) -> 0 | W15: =SUMIFS($J$7:$J$88,$L$7:$L$88,P15,$K$7:$K$88,W$6) -> 0 | Y15: =P15 | Z15: =IF(OR($Y15=$Y13,$Y15=$Y14,$Y15=$Y12,$Y15=$Y11,$Y15=$Y10,$Y15=$Y8,$Y15=$Y7)," ",IF(Q15=0," ",Q15)) | AA15: =IF(OR($Y15=$Y13,$Y15=$Y14,$Y15=$Y12,$Y15=$Y11,$Y15=$Y10,$Y15=$Y8,$Y15=$Y7)," ",IF(R15=0," ",R15)) | AB15: =IF(OR($Y15=$Y13,$Y15=$Y14,$Y15=$Y12,$Y15=$Y11,$Y15=$Y10,$Y15=$Y8,$Y15=$Y7)," ",IF(S15=0," ",S15)) | AC15: =IF(OR($Y15=$Y13,$Y15=$Y14,$Y15=$Y12,$Y15=$Y11,$Y15=$Y10,$Y15=$Y8,$Y15=$Y7)," ",IF(T15=0," ",T15)) | AD15: =IF(U15=0," ",U15) | AE15: =IF(V15=0," ",V15) | AF15: =IF(W15=0," ",W15)
A16: 71 | B16: 71 | C16: 38 | D16: 11 | E16: КОЗЛОВ Даниил | F16: КОЗЛОВ Даниил Игоревич | G16: 06.02.01, МС | H16: МС | I16: СПБ | J16: Санкт-Петербург, Санкт-Петербург, КШВС | K16: Санкт-Петербург | M16: Коршунов А.И. | N16: КОЗЛОВ | Q16: =SUMIFS($J$7:$J$88,$L$7:$L$88,P16,$K$7:$K$88,Q$6) -> 0 | R16: =SUMIFS($J$7:$J$88,$L$7:$L$88,P16,$K$7:$K$88,R$6) -> 0 | S16: =SUMIFS($J$7:$J$88,$L$7:$L$88,P16,$K$7:$K$88,S$6) -> 0 | T16: =SUMIFS($J$7:$J$88,$L$7:$L$88,P16,$K$7:$K$88,T$6) -> 0 | U16: =SUMIFS($J$7:$J$88,$L$7:$L$88,P16,$K$7:$K$88,U$6) -> 0 | V16: =SUMIFS($J$7:$J$88,$L$7:$L$88,P16,$K$7:$K$88,V$6) -> 0 | W16: =SUMIFS($J$7:$J$88,$L$7:$L$88,P16,$K$7:$K$88,W$6) -> 0 | Y16: =P16 | Z16: =IF(OR($Y16=$Y14,$Y16=$Y15,$Y16=$Y13,$Y16=$Y12,$Y16=$Y11,$Y16=$Y9,$Y16=$Y8,$Y16=$Y7)," ",IF(Q16=0," ",Q16)) | AA16: =IF(OR($Y16=$Y14,$Y16=$Y15,$Y16=$Y13,$Y16=$Y12,$Y16=$Y11,$Y16=$Y9,$Y16=$Y8,$Y16=$Y7)," ",IF(R16=0," ",R16)) | AB16: =IF(OR($Y16=$Y14,$Y16=$Y15,$Y16=$Y13,$Y16=$Y12,$Y16=$Y11,$Y16=$Y9,$Y16=$Y8,$Y16=$Y7)," ",IF(S16=0," ",S16)) | AC16: =IF(OR($Y16=$Y14,$Y16=$Y15,$Y16=$Y13,$Y16=$Y12,$Y16=$Y11,$Y16=$Y9,$Y16=$Y8,$Y16=$Y7)," ",IF(T16=0," ",T16)) | AD16: =IF(U16=0," ",U16) | AE16: =IF(V16=0," ",V16) | AF16: =IF(W16=0," ",W16)
A17: 71 | B17: 71 | C17: 31 | D17: 12 | E17: СИРЕНКО Дмитрий | F17: СИРЕНКО Дмитрий Владимирович | G17: 29.03.01, МС | H17: МС | I17: ПФО | J17: Нижегородская обл., Кстово, ГБОУ ДО СШОР по самбо | K17: Нижегородская | M17: Бахчев ВК, Тимошин АС | N17: СИРЕНКО | Q17: =SUMIFS($J$7:$J$88,$L$7:$L$88,P17,$K$7:$K$88,Q$6) -> 0 | R17: =SUMIFS($J$7:$J$88,$L$7:$L$88,P17,$K$7:$K$88,R$6) -> 0 | S17: =SUMIFS($J$7:$J$88,$L$7:$L$88,P17,$K$7:$K$88,S$6) -> 0 | T17: =SUMIFS($J$7:$J$88,$L$7:$L$88,P17,$K$7:$K$88,T$6) -> 0 | U17: =SUMIFS($J$7:$J$88,$L$7:$L$88,P17,$K$7:$K$88,U$6) -> 0 | V17: =SUMIFS($J$7:$J$88,$L$7:$L$88,P17,$K$7:$K$88,V$6) -> 0 | W17: =SUMIFS($J$7:$J$88,$L$7:$L$88,P17,$K$7:$K$88,W$6) -> 0 | Y17: =P17 | Z17: =IF(OR($Y17=$Y15,$Y17=$Y16,$Y17=$Y14,$Y17=$Y13,$Y17=$Y12,$Y17=$Y10,$Y17=$Y9,$Y17=$Y8,$Y17=$Y7)," ",IF(Q17=0," ",Q17)) | AA17: =IF(OR($Y17=$Y15,$Y17=$Y16,$Y17=$Y14,$Y17=$Y13,$Y17=$Y12,$Y17=$Y10,$Y17=$Y9,$Y17=$Y8,$Y17=$Y7)," ",IF(R17=0," ",R17)) | AB17: =IF(OR($Y17=$Y15,$Y17=$Y16,$Y17=$Y14,$Y17=$Y13,$Y17=$Y12,$Y17=$Y10,$Y17=$Y9,$Y17=$Y8,$Y17=$Y7)," ",IF(S17=0," ",S17)) | AC17: =IF(OR($Y17=$Y15,$Y17=$Y16,$Y17=$Y14,$Y17=$Y13,$Y17=$Y12,$Y17=$Y10,$Y17=$Y9,$Y17=$Y8,$Y17=$Y7)," ",IF(T17=0," ",T17)) | AD17: =IF(U17=0," ",U17) | AE17: =IF(V17=0," ",V17) | AF17: =IF(W17=0," ",W17)
A18: 71 | B18: 71 | D18: 13 | E18: БОГАЧЕВ Сергей | F18: БОГАЧЕВ Сергей Иванович | G18: 08.08.02, КМС | H18: КМС | I18: СФО | J18: Красноярский край, Красноярск, СШОР имени Б.Х. Сайтиева | K18: Красноярский | M18: Казанцев И.О. Степанян Н. В. | N18: БОГАЧЕВ | Q18: =SUMIFS($J$7:$J$88,$L$7:$L$88,P18,$K$7:$K$88,Q$6) -> 0 | R18: =SUMIFS($J$7:$J$88,$L$7:$L$88,P18,$K$7:$K$88,R$6) -> 0 | S18: =SUMIFS($J$7:$J$88,$L$7:$L$88,P18,$K$7:$K$88,S$6) -> 0 | T18: =SUMIFS($J$7:$J$88,$L$7:$L$88,P18,$K$7:$K$88,T$6) -> 0 | U18: =SUMIFS($J$7:$J$88,$L$7:$L$88,P18,$K$7:$K$88,U$6) -> 0 | V18: =SUMIFS($J$7:$J$88,$L$7:$L$88,P18,$K$7:$K$88,V$6) -> 0 | W18: =SUMIFS($J$7:$J$88,$L$7:$L$88,P18,$K$7:$K$88,W$6) -> 0 | Y18: =P18 | Z18: =IF(OR($Y18=$Y16,$Y18=$Y17,$Y18=$Y15,$Y18=$Y14,$Y18=$Y13,$Y18=$Y11,$Y18=$Y10,$Y18=$Y9,$Y18=$Y8,$Y18=$Y7)," ",IF(Q18=0," ",Q18)) | AA18: =IF(OR($Y18=$Y16,$Y18=$Y17,$Y18=$Y15,$Y18=$Y14,$Y18=$Y13,$Y18=$Y11,$Y18=$Y10,$Y18=$Y9,$Y18=$Y8,$Y18=$Y7)," ",IF(R18=0," ",R18)) | AB18: =IF(OR($Y18=$Y16,$Y18=$Y17,$Y18=$Y15,$Y18=$Y14,$Y18=$Y13,$Y18=$Y11,$Y18=$Y10,$Y18=$Y9,$Y18=$Y8,$Y18=$Y7)," ",IF(S18=0," ",S18)) | AC18: =IF(OR($Y18=$Y16,$Y18=$Y17,$Y18=$Y15,$Y18=$Y14,$Y18=$Y13,$Y18=$Y11,$Y18=$Y10,$Y18=$Y9,$Y18=$Y8,$Y18=$Y7)," ",IF(T18=0," ",T18)) | AD18: =IF(U18=0," ",U18) | AE18: =IF(V18=0," ",V18) | AF18: =IF(W18=0," ",W18)
A19: 71 | B19: 71 | D19: 14 | E19: КОБЕНОВ Степан | F19: КОБЕНОВ Степан Альбертович | G19: 28.02.90, ЗМС | H19: ЗМС | I19: СФО | J19: Р. Алтай, Горно-Алтайск, АУ ДО РА "СШОР Единоборств "Ирбизек" | K19: Р.Алтай | M19: Майчиков А.В, Яйтаков Г. Я | N19: КОБЕНОВ | Q19: =SUMIFS($J$7:$J$88,$L$7:$L$88,P19,$K$7:$K$88,Q$6) -> 0 | R19: =SUMIFS($J$7:$J$88,$L$7:$L$88,P19,$K$7:$K$88,R$6) -> 0 | S19: =SUMIFS($J$7:$J$88,$L$7:$L$88,P19,$K$7:$K$88,S$6) -> 0 | T19: =SUMIFS($J$7:$J$88,$L$7:$L$88,P19,$K$7:$K$88,T$6) -> 0 | U19: =SUMIFS($J$7:$J$88,$L$7:$L$88,P19,$K$7:$K$88,U$6) -> 0 | V19: =SUMIFS($J$7:$J$88,$L$7:$L$88,P19,$K$7:$K$88,V$6) -> 0 | W19: =SUMIFS($J$7:$J$88,$L$7:$L$88,P19,$K$7:$K$88,W$6) -> 0 | Y19: =P19 | Z19: =IF(Q19=0," ",Q19) | AA19: =IF(R19=0," ",R19) | AB19: =IF(S19=0," ",S19) | AC19: =IF(T19=0," ",T19) | AD19: =IF(U19=0," ",U19) | AE19: =IF(V19=0," ",V19) | AF19: =IF(W19=0," ",W19)
A20: 71 | B20: 71 | C20: 21 | D20: 15 | E20: ОРЛОВ Егор | F20: ОРЛОВ Егор Алексеевич | G20: 01.09.02, МС | H20: МС | I20: ЦФО | J20: Ярославская обл., Рыбинск, МАУ СШ Метеор | K20: Ярославская | M20: Шкарбан М.С | N20: ОРЛОВ | Q20: =SUMIFS($J$7:$J$88,$L$7:$L$88,P20,$K$7:$K$88,Q$6) -> 0 | R20: =SUMIFS($J$7:$J$88,$L$7:$L$88,P20,$K$7:$K$88,R$6) -> 0 | S20: =SUMIFS($J$7:$J$88,$L$7:$L$88,P20,$K$7:$K$88,S$6) -> 0 | T20: =SUMIFS($J$7:$J$88,$L$7:$L$88,P20,$K$7:$K$88,T$6) -> 0 | U20: =SUMIFS($J$7:$J$88,$L$7:$L$88,P20,$K$7:$K$88,U$6) -> 0 | V20: =SUMIFS($J$7:$J$88,$L$7:$L$88,P20,$K$7:$K$88,V$6) -> 0 | W20: =SUMIFS($J$7:$J$88,$L$7:$L$88,P20,$K$7:$K$88,W$6) -> 0 | Y20: =P20 | Z20: =IF(Q20=0," ",Q20) | AA20: =IF(R20=0," ",R20) | AB20: =IF(S20=0," ",S20) | AC20: =IF(T20=0," ",T20) | AD20: =IF(U20=0," ",U20) | AE20: =IF(V20=0," ",V20) | AF20: =IF(W20=0," ",W20)
A21: 71 | B21: 71 | C21: 13 | D21: 16 | E21: МАГОМЕДАЛИЕВ Салих | F21: МАГОМЕДАЛИЕВ Салих Анарбегович | G21: 31.03.99, МС | H21: МС | I21: СКФО | J21: Р.Дагестан, Махачкала, Абдулманапа Нурмагомедова | K21: Р.Дагестан | M21: Гасанханов З.М. | N21: МАГОМЕДАЛИЕВ | Q21: =SUMIFS($J$7:$J$88,$L$7:$L$88,P21,$K$7:$K$88,Q$6) -> 0 | R21: =SUMIFS($J$7:$J$88,$L$7:$L$88,P21,$K$7:$K$88,R$6) -> 0 | S21: =SUMIFS($J$7:$J$88,$L$7:$L$88,P21,$K$7:$K$88,S$6) -> 0 | T21: =SUMIFS($J$7:$J$88,$L$7:$L$88,P21,$K$7:$K$88,T$6) -> 0 | U21: =SUMIFS($J$7:$J$88,$L$7:$L$88,P21,$K$7:$K$88,U$6) -> 0 | V21: =SUMIFS($J$7:$J$88,$L$7:$L$88,P21,$K$7:$K$88,V$6) -> 0 | W21: =SUMIFS($J$7:$J$88,$L$7:$L$88,P21,$K$7:$K$88,W$6) -> 0 | Y21: =P21 | Z21: =IF(Q21=0," ",Q21) | AA21: =IF(R21=0," ",R21) | AB21: =IF(S21=0," ",S21) | AC21: =IF(T21=0," ",T21) | AD21: =IF(U21=0," ",U21) | AE21: =IF(V21=0," ",V21) | AF21: =IF(W21=0," ",W21)
A22: 71 | B22: 71 | C22: 19 | D22: 17 | E22: ЭСКИЕВ Рузбек | F22: ЭСКИЕВ Рузбек Сулумбекович | G22: 27.05.93, МС | H22: МС | I22: СКФО | J22: Чеченская, Грозный, МС | K22: Чеченская | M22: Кагерманов Р.Б Успаев Б.А-Б | N22: ЭСКИЕВ | Q22: =SUMIFS($J$7:$J$88,$L$7:$L$88,P22,$K$7:$K$88,Q$6) -> 0 | R22: =SUMIFS($J$7:$J$88,$L$7:$L$88,P22,$K$7:$K$88,R$6) -> 0 | S22: =SUMIFS($J$7:$J$88,$L$7:$L$88,P22,$K$7:$K$88,S$6) -> 0 | T22: =SUMIFS($J$7:$J$88,$L$7:$L$88,P22,$K$7:$K$88,T$6) -> 0 | U22: =SUMIFS($J$7:$J$88,$L$7:$L$88,P22,$K$7:$K$88,U$6) -> 0 | V22: =SUMIFS($J$7:$J$88,$L$7:$L$88,P22,$K$7:$K$88,V$6) -> 0 | W22: =SUMIFS($J$7:$J$88,$L$7:$L$88,P22,$K$7:$K$88,W$6) -> 0 | Y22: =P22 | Z22: =IF(Q22=0," ",Q22) | AA22: =IF(R22=0," ",R22) | AB22: =IF(S22=0," ",S22) | AC22: =IF(T22=0," ",T22) | AD22: =IF(U22=0," ",U22) | AE22: =IF(V22=0," ",V22) | AF22: =IF(W22=0," ",W22)
A23: 71 | B23: 71 | C23: 19 | D23: 18 | E23: ГЛАЗЫРИН Александр | F23: ГЛАЗЫРИН Александр Сергеевич | G23: 25.06.95, КМС | H23: КМС | I23: ПФО | J23: Пермский край, Пермь, Витязь | K23: Пермский | M23: Мачулин.С.А, Спирин А. В | N23: ГЛАЗЫРИН | Q23: =SUMIFS($J$7:$J$88,$L$7:$L$88,P23,$K$7:$K$88,Q$6) -> 0 | R23: =SUMIFS($J$7:$J$88,$L$7:$L$88,P23,$K$7:$K$88,R$6) -> 0 | S23: =SUMIFS($J$7:$J$88,$L$7:$L$88,P23,$K$7:$K$88,S$6) -> 0 | T23: =SUMIFS($J$7:$J$88,$L$7:$L$88,P23,$K$7:$K$88,T$6) -> 0 | U23: =SUMIFS($J$7:$J$88,$L$7:$L$88,P23,$K$7:$K$88,U$6) -> 0 | V23: =SUMIFS($J$7:$J$88,$L$7:$L$88,P23,$K$7:$K$88,V$6) -> 0 | W23: =SUMIFS($J$7:$J$88,$L$7:$L$88,P23,$K$7:$K$88,W$6) -> 0 | Y23: =P23 | Z23: =IF(Q23=0," ",Q23) | AA23: =IF(R23=0," ",R23) | AB23: =IF(S23=0," ",S23) | AC23: =IF(T23=0," ",T23) | AD23: =IF(U23=0," ",U23) | AE23: =IF(V23=0," ",V23) | AF23: =IF(W23=0," ",W23)
A24: 71 | B24: 71 | C24: 19 | D24: 19 | E24: ПОНОМАРЕВ Павел | F24: ПОНОМАРЕВ Павел Олегович | G24: 03.06.96, КМС | H24: КМС | I24: ЦФО | J24: Смоленская обл., Ярцево, МБУ | K24: Смоленская | M24: Грузнов Владимир Валерьевич | N24: ПОНОМАРЕВ | Q24: =SUMIFS($J$7:$J$88,$L$7:$L$88,P24,$K$7:$K$88,Q$6) -> 0 | R24: =SUMIFS($J$7:$J$88,$L$7:$L$88,P24,$K$7:$K$88,R$6) -> 0 | S24: =SUMIFS($J$7:$J$88,$L$7:$L$88,P24,$K$7:$K$88,S$6) -> 0 | T24: =SUMIFS($J$7:$J$88,$L$7:$L$88,P24,$K$7:$K$88,T$6) -> 0 | U24: =SUMIFS($J$7:$J$88,$L$7:$L$88,P24,$K$7:$K$88,U$6) -> 0 | V24: =SUMIFS($J$7:$J$88,$L$7:$L$88,P24,$K$7:$K$88,V$6) -> 0 | W24: =SUMIFS($J$7:$J$88,$L$7:$L$88,P24,$K$7:$K$88,W$6) -> 0 | Y24: =P24 | Z24: =IF(Q24=0," ",Q24) | AA24: =IF(R24=0," ",R24) | AB24: =IF(S24=0," ",S24) | AC24: =IF(T24=0," ",T24) | AD24: =IF(U24=0," ",U24) | AE24: =IF(V24=0," ",V24) | AF24: =IF(W24=0," ",W24)
A25: 71 | B25: 71 | D25: 20 | E25: ЦУРКАН Алексей | F25: ЦУРКАН Алексей Романович | G25: 11.09.97, КМС | H25: КМС | I25: ЦФО | J25: Ярославская, Рыбинск, МО | K25: Ярославская | M25: Шкарбан М.М | N25: ЦУРКАН | Q25: =SUMIFS($J$7:$J$88,$L$7:$L$88,P25,$K$7:$K$88,Q$6) -> 0 | R25: =SUMIFS($J$7:$J$88,$L$7:$L$88,P25,$K$7:$K$88,R$6) -> 0 | S25: =SUMIFS($J$7:$J$88,$L$7:$L$88,P25,$K$7:$K$88,S$6) -> 0 | T25: =SUMIFS($J$7:$J$88,$L$7:$L$88,P25,$K$7:$K$88,T$6) -> 0 | U25: =SUMIFS($J$7:$J$88,$L$7:$L$88,P25,$K$7:$K$88,U$6) -> 0 | V25: =SUMIFS($J$7:$J$88,$L$7:$L$88,P25,$K$7:$K$88,V$6) -> 0 | W25: =SUMIFS($J$7:$J$88,$L$7:$L$88,P25,$K$7:$K$88,W$6) -> 0 | Y25: =P25 | Z25: =IF(Q25=0," ",Q25) | AA25: =IF(R25=0," ",R25) | AB25: =IF(S25=0," ",S25) | AC25: =IF(T25=0," ",T25) | AD25: =IF(U25=0," ",U25) | AE25: =IF(V25=0," ",V25) | AF25: =IF(W25=0," ",W25)
A26: 71 | B26: 71 | C26: 17 | D26: 21 | E26: ПОДОЙНИЦЫН Константин | F26: ПОДОЙНИЦЫН Константин Юрьевич | G26: 19.08.99, КМС | H26: КМС | I26: ДВФО | J26: Р. Бурятия, Улан-Удэ, ДЮСШ 23 | K26: Р.Бурятия | M26: Жигжитов Жаргал Баирович | N26: ПОДОЙНИЦЫН | Q26: =SUMIFS($J$7:$J$88,$L$7:$L$88,P26,$K$7:$K$88,Q$6) -> 0 | R26: =SUMIFS($J$7:$J$88,$L$7:$L$88,P26,$K$7:$K$88,R$6) -> 0 | S26: =SUMIFS($J$7:$J$88,$L$7:$L$88,P26,$K$7:$K$88,S$6) -> 0 | T26: =SUMIFS($J$7:$J$88,$L$7:$L$88,P26,$K$7:$K$88,T$6) -> 0 | U26: =SUMIFS($J$7:$J$88,$L$7:$L$88,P26,$K$7:$K$88,U$6) -> 0 | V26: =SUMIFS($J$7:$J$88,$L$7:$L$88,P26,$K$7:$K$88,V$6) -> 0 | W26: =SUMIFS($J$7:$J$88,$L$7:$L$88,P26,$K$7:$K$88,W$6) -> 0 | Y26: =P26 | Z26: =IF(Q26=0," ",Q26) | AA26: =IF(R26=0," ",R26) | AB26: =IF(S26=0," ",S26) | AC26: =IF(T26=0," ",T26) | AD26: =IF(U26=0," ",U26) | AE26: =IF(V26=0," ",V26) | AF26: =IF(W26=0," ",W26)
A27: 71 | B27: 71 | C27: 17 | D27: 22 | E27: ЗАЙНУТДИНОВ Ренас | F27: ЗАЙНУТДИНОВ Ренас Раисович | G27: 03.06.00, МСМК | H27: МСМК | I27: ПФО | J27: Р. Татарстан, Казань, СШОР « Батыр» | K27: Р.Татарстан | M27: Иванов Василий Александрович | N27: ЗАЙНУТДИНОВ | Q27: =SUMIFS($J$7:$J$88,$L$7:$L$88,P27,$K$7:$K$88,Q$6) -> 0 | R27: =SUMIFS($J$7:$J$88,$L$7:$L$88,P27,$K$7:$K$88,R$6) -> 0 | S27: =SUMIFS($J$7:$J$88,$L$7:$L$88,P27,$K$7:$K$88,S$6) -> 0 | T27: =SUMIFS($J$7:$J$88,$L$7:$L$88,P27,$K$7:$K$88,T$6) -> 0 | U27: =SUMIFS($J$7:$J$88,$L$7:$L$88,P27,$K$7:$K$88,U$6) -> 0 | V27: =SUMIFS($J$7:$J$88,$L$7:$L$88,P27,$K$7:$K$88,V$6) -> 0 | W27: =SUMIFS($J$7:$J$88,$L$7:$L$88,P27,$K$7:$K$88,W$6) -> 0 | Y27: =P27 | Z27: =IF(Q27=0," ",Q27) | AA27: =IF(R27=0," ",R27) | AB27: =IF(S27=0," ",S27) | AC27: =IF(T27=0," ",T27) | AD27: =IF(U27=0," ",U27) | AE27: =IF(V27=0," ",V27) | AF27: =IF(W27=0," ",W27)
A28: 71 | B28: 71 | C28: 17 | D28: 23 | E28: КОСЫРЕВ Филипп | F28: КОСЫРЕВ Филипп Сергеевич | G28: 10.06.90, МС | H28: МС | I28: ЦФО | J28: Костромская обл., Кострома, ГБУ КО СШОР единоборств | K28: Костромская | M28: Кушнерик Г.Г., Степанов АА | N28: КОСЫРЕВ | Q28: =SUMIFS($J$7:$J$88,$L$7:$L$88,P28,$K$7:$K$88,Q$6) -> 0 | R28: =SUMIFS($J$7:$J$88,$L$7:$L$88,P28,$K$7:$K$88,R$6) -> 0 | S28: =SUMIFS($J$7:$J$88,$L$7:$L$88,P28,$K$7:$K$88,S$6) -> 0 | T28: =SUMIFS($J$7:$J$88,$L$7:$L$88,P28,$K$7:$K$88,T$6) -> 0 | U28: =SUMIFS($J$7:$J$88,$L$7:$L$88,P28,$K$7:$K$88,U$6) -> 0 | V28: =SUMIFS($J$7:$J$88,$L$7:$L$88,P28,$K$7:$K$88,V$6) -> 0 | W28: =SUMIFS($J$7:$J$88,$L$7:$L$88,P28,$K$7:$K$88,W$6) -> 0 | Y28: =P28 | Z28: =IF(Q28=0," ",Q28) | AA28: =IF(R28=0," ",R28) | AB28: =IF(S28=0," ",S28) | AC28: =IF(T28=0," ",T28) | AD28: =IF(U28=0," ",U28) | AE28: =IF(V28=0," ",V28) | AF28: =IF(W28=0," ",W28)
A29: 71 | B29: 71 | C29: 14 | D29: 24 | E29: БАРАХОЕВ Ахмет | F29: БАРАХОЕВ Ахмет Абдул-Ваганович | G29: 12.03.95, КМС | H29: КМС | I29: СПБ | J29: Санкт-Петербург, , Самбо-Питер | K29: Санкт-Петербург | M29: Талдиев А.А. | N29: БАРАХОЕВ | Q29: =SUMIFS($J$7:$J$88,$L$7:$L$88,P29,$K$7:$K$88,Q$6) -> 0 | R29: =SUMIFS($J$7:$J$88,$L$7:$L$88,P29,$K$7:$K$88,R$6) -> 0 | S29: =SUMIFS($J$7:$J$88,$L$7:$L$88,P29,$K$7:$K$88,S$6) -> 0 | T29: =SUMIFS($J$7:$J$88,$L$7:$L$88,P29,$K$7:$K$88,T$6) -> 0 | U29: =SUMIFS($J$7:$J$88,$L$7:$L$88,P29,$K$7:$K$88,U$6) -> 0 | V29: =SUMIFS($J$7:$J$88,$L$7:$L$88,P29,$K$7:$K$88,V$6) -> 0 | W29: =SUMIFS($J$7:$J$88,$L$7:$L$88,P29,$K$7:$K$88,W$6) -> 0 | Y29: =P29 | Z29: =IF(Q29=0," ",Q29) | AA29: =IF(R29=0," ",R29) | AB29: =IF(S29=0," ",S29) | AC29: =IF(T29=0," ",T29) | AD29: =IF(U29=0," ",U29) | AE29: =IF(V29=0," ",V29) | AF29: =IF(W29=0," ",W29)
A30: 71 | B30: 71 | D30: 25 | E30: ШЕИН Дмитрий | F30: ШЕИН Дмитрий Олегович | G30: 15.05.95, КМС | H30: КМС | I30: ПФО | J30: Пермский край, Пермь, СШОР г. Перми по дзюдо и самбо «Витязь» им. И. И. Пономарёва | K30: Пермский | M30: Спирин А. В. | N30: ШЕИН | Q30: =SUMIFS($J$7:$J$88,$L$7:$L$88,P30,$K$7:$K$88,Q$6) -> 0 | R30: =SUMIFS($J$7:$J$88,$L$7:$L$88,P30,$K$7:$K$88,R$6) -> 0 | S30: =SUMIFS($J$7:$J$88,$L$7:$L$88,P30,$K$7:$K$88,S$6) -> 0 | T30: =SUMIFS($J$7:$J$88,$L$7:$L$88,P30,$K$7:$K$88,T$6) -> 0 | U30: =SUMIFS($J$7:$J$88,$L$7:$L$88,P30,$K$7:$K$88,U$6) -> 0 | V30: =SUMIFS($J$7:$J$88,$L$7:$L$88,P30,$K$7:$K$88,V$6) -> 0 | W30: =SUMIFS($J$7:$J$88,$L$7:$L$88,P30,$K$7:$K$88,W$6) -> 0 | Y30: =P30 | Z30: =IF(Q30=0," ",Q30) | AA30: =IF(R30=0," ",R30) | AB30: =IF(S30=0," ",S30) | AC30: =IF(T30=0," ",T30) | AD30: =IF(U30=0," ",U30) | AE30: =IF(V30=0," ",V30) | AF30: =IF(W30=0," ",W30)
A31: 71 | B31: 71 | C31: 14 | D31: 26 | E31: ДУЛОВ Владислав | F31: ДУЛОВ Владислав Ярославович | G31: 22.08.02, КМС | H31: КМС | I31: ПФО | J31: Р. Башкортостан, г.Уфа, ВС | K31: Р.Башкортостан | M31: Ахметвалеев Ильнур Флюрович, Старовойтов Александр Эдуардович | N31: ДУЛОВ | Q31: =SUMIFS($J$7:$J$88,$L$7:$L$88,P31,$K$7:$K$88,Q$6) -> 0 | R31: =SUMIFS($J$7:$J$88,$L$7:$L$88,P31,$K$7:$K$88,R$6) -> 0 | S31: =SUMIFS($J$7:$J$88,$L$7:$L$88,P31,$K$7:$K$88,S$6) -> 0 | T31: =SUMIFS($J$7:$J$88,$L$7:$L$88,P31,$K$7:$K$88,T$6) -> 0 | U31: =SUMIFS($J$7:$J$88,$L$7:$L$88,P31,$K$7:$K$88,U$6) -> 0 | V31: =SUMIFS($J$7:$J$88,$L$7:$L$88,P31,$K$7:$K$88,V$6) -> 0 | W31: =SUMIFS($J$7:$J$88,$L$7:$L$88,P31,$K$7:$K$88,W$6) -> 0 | Y31: =P31 | Z31: =IF(Q31=0," ",Q31) | AA31: =IF(R31=0," ",R31) | AB31: =IF(S31=0," ",S31) | AC31: =IF(T31=0," ",T31) | AD31: =IF(U31=0," ",U31) | AE31: =IF(V31=0," ",V31) | AF31: =IF(W31=0," ",W31)
A32: 71 | B32: 71 | C32: 14 | D32: 27 | E32: ЗИННАТОВ Ролан | F32: ЗИННАТОВ Ролан Рифатович | G32: 26.12.96, МСМК | H32: МСМК | I32: ПФО | J32: Нижегородская обл., Кстово, ГБОУ ДО СШОР по самбо | K32: Нижегородская | M32: Елизаров ВА, Тимошин АС | N32: ЗИННАТОВ | Q32: =SUMIFS($J$7:$J$88,$L$7:$L$88,P32,$K$7:$K$88,Q$6) -> 0 | R32: =SUMIFS($J$7:$J$88,$L$7:$L$88,P32,$K$7:$K$88,R$6) -> 0 | S32: =SUMIFS($J$7:$J$88,$L$7:$L$88,P32,$K$7:$K$88,S$6) -> 0 | T32: =SUMIFS($J$7:$J$88,$L$7:$L$88,P32,$K$7:$K$88,T$6) -> 0 | U32: =SUMIFS($J$7:$J$88,$L$7:$L$88,P32,$K$7:$K$88,U$6) -> 0 | V32: =SUMIFS($J$7:$J$88,$L$7:$L$88,P32,$K$7:$K$88,V$6) -> 0 | W32: =SUMIFS($J$7:$J$88,$L$7:$L$88,P32,$K$7:$K$88,W$6) -> 0 | Y32: =P32 | Z32: =IF(Q32=0," ",Q32) | AA32: =IF(R32=0," ",R32) | AB32: =IF(S32=0," ",S32) | AC32: =IF(T32=0," ",T32) | AD32: =IF(U32=0," ",U32) | AE32: =IF(V32=0," ",V32) | AF32: =IF(W32=0," ",W32)
A33: 71 | B33: 71 | C33: 3 | D33: 28 | E33: АЛИБЕКОВ Джаддал | F33: АЛИБЕКОВ Джаддал Джамбекович | G33: 11.08.96, МС | H33: МС | I33: СКФО | J33: Чеченская, Грозный, МС | K33: Чеченская | M33: Исрапилов Х | N33: АЛИБЕКОВ | Q33: =SUMIFS($J$7:$J$88,$L$7:$L$88,P33,$K$7:$K$88,Q$6) -> 0 | R33: =SUMIFS($J$7:$J$88,$L$7:$L$88,P33,$K$7:$K$88,R$6) -> 0 | S33: =SUMIFS($J$7:$J$88,$L$7:$L$88,P33,$K$7:$K$88,S$6) -> 0 | T33: =SUMIFS($J$7:$J$88,$L$7:$L$88,P33,$K$7:$K$88,T$6) -> 0 | U33: =SUMIFS($J$7:$J$88,$L$7:$L$88,P33,$K$7:$K$88,U$6) -> 0 | V33: =SUMIFS($J$7:$J$88,$L$7:$L$88,P33,$K$7:$K$88,V$6) -> 0 | W33: =SUMIFS($J$7:$J$88,$L$7:$L$88,P33,$K$7:$K$88,W$6) -> 0 | Y33: =P33 | Z33: =IF(Q33=0," ",Q33) | AA33: =IF(R33=0," ",R33) | AB33: =IF(S33=0," ",S33) | AC33: =IF(T33=0," ",T33) | AD33: =IF(U33=0," ",U33) | AE33: =IF(V33=0," ",V33) | AF33: =IF(W33=0," ",W33)
A34: 71 | B34: 71 | C34: 7 | D34: 29 | E34: ПОДКОВАЛЬНИКОВ Никита | F34: ПОДКОВАЛЬНИКОВ Никита Сергеевич | G34: 21.03.93, МС | H34: МС | I34: ПФО | J34: Самарская обл., Самара, ГАУ ДО СО СШОР 1 | K34: Самарская | M34: Коновалов А.П., Будаков Н.Н. | N34: ПОДКОВАЛЬНИКОВ | Q34: =SUMIFS($J$7:$J$88,$L$7:$L$88,P34,$K$7:$K$88,Q$6) -> 0 | R34: =SUMIFS($J$7:$J$88,$L$7:$L$88,P34,$K$7:$K$88,R$6) -> 0 | S34: =SUMIFS($J$7:$J$88,$L$7:$L$88,P34,$K$7:$K$88,S$6) -> 0 | T34: =SUMIFS($J$7:$J$88,$L$7:$L$88,P34,$K$7:$K$88,T$6) -> 0 | U34: =SUMIFS($J$7:$J$88,$L$7:$L$88,P34,$K$7:$K$88,U$6) -> 0 | V34: =SUMIFS($J$7:$J$88,$L$7:$L$88,P34,$K$7:$K$88,V$6) -> 0 | W34: =SUMIFS($J$7:$J$88,$L$7:$L$88,P34,$K$7:$K$88,W$6) -> 0 | Y34: =P34 | Z34: =IF(Q34=0," ",Q34) | AA34: =IF(R34=0," ",R34) | AB34: =IF(S34=0," ",S34) | AC34: =IF(T34=0," ",T34) | AD34: =IF(U34=0," ",U34) | AE34: =IF(V34=0," ",V34) | AF34: =IF(W34=0," ",W34)
A35: 71 | B35: 71 | C35: 1 | D35: 30 | E35: АХТЕМИРОВ Темирхан | F35: АХТЕМИРОВ Темирхан Магомедович | G35: 31.08.93, КМС | H35: КМС | I35: ЦФО | J35: Тверская обл., Тверь, ТРСОО "ПСК "БРОСАЮЩИЙ ВЫЗОВ" | K35: Тверская | M35: Рыбинкин К.В., Матюшенский А.В. | N35: АХТЕМИРОВ | Q35: =SUMIFS($J$7:$J$88,$L$7:$L$88,P35,$K$7:$K$88,Q$6) -> 0 | R35: =SUMIFS($J$7:$J$88,$L$7:$L$88,P35,$K$7:$K$88,R$6) -> 0 | S35: =SUMIFS($J$7:$J$88,$L$7:$L$88,P35,$K$7:$K$88,S$6) -> 0 | T35: =SUMIFS($J$7:$J$88,$L$7:$L$88,P35,$K$7:$K$88,T$6) -> 0 | U35: =SUMIFS($J$7:$J$88,$L$7:$L$88,P35,$K$7:$K$88,U$6) -> 0 | V35: =SUMIFS($J$7:$J$88,$L$7:$L$88,P35,$K$7:$K$88,V$6) -> 0 | W35: =SUMIFS($J$7:$J$88,$L$7:$L$88,P35,$K$7:$K$88,W$6) -> 0 | Y35: =P35 | Z35: =IF(Q35=0," ",Q35) | AA35: =IF(R35=0," ",R35) | AB35: =IF(S35=0," ",S35) | AC35: =IF(T35=0," ",T35) | AD35: =IF(U35=0," ",U35) | AE35: =IF(V35=0," ",V35) | AF35: =IF(W35=0," ",W35)
A36: 71 | B36: 71 | C36: 27 | D36: 31 | E36: ЗАГИДОВ Далгат | F36: ЗАГИДОВ Далгат Энверович | G36: 05.02.95, МС | H36: МС | I36: СКФО | J36: Р.Дагестан, Махачкала, Абдулманапа Нурмагомедова | K36: Р.Дагестан | M36: Магомедов Махач Ахмедович | N36: ЗАГИДОВ | Q36: =SUMIFS($J$7:$J$88,$L$7:$L$88,P36,$K$7:$K$88,Q$6) -> 0 | R36: =SUMIFS($J$7:$J$88,$L$7:$L$88,P36,$K$7:$K$88,R$6) -> 0 | S36: =SUMIFS($J$7:$J$88,$L$7:$L$88,P36,$K$7:$K$88,S$6) -> 0 | T36: =SUMIFS($J$7:$J$88,$L$7:$L$88,P36,$K$7:$K$88,T$6) -> 0 | U36: =SUMIFS($J$7:$J$88,$L$7:$L$88,P36,$K$7:$K$88,U$6) -> 0 | V36: =SUMIFS($J$7:$J$88,$L$7:$L$88,P36,$K$7:$K$88,V$6) -> 0 | W36: =SUMIFS($J$7:$J$88,$L$7:$L$88,P36,$K$7:$K$88,W$6) -> 0 | Y36: =P36 | Z36: =IF(Q36=0," ",Q36) | AA36: =IF(R36=0," ",R36) | AB36: =IF(S36=0," ",S36) | AC36: =IF(T36=0," ",T36) | AD36: =IF(U36=0," ",U36) | AE36: =IF(V36=0," ",V36) | AF36: =IF(W36=0," ",W36)
A37: 71 | B37: 71 | C37: 28 | D37: 32 | E37: НИЛОВ Дмитрий | F37: НИЛОВ Дмитрий Сергеевич | G37: 09.10.99, МС | H37: МС | I37: СФО | J37: Новосибирская обл., Новосибирск, ГАУ ДО НСО СШ самбо | K37: Новосибирская | M37: Цыганов Сергей Владимирович, Постников Дмитрий Михайлович | N37: НИЛОВ | Q37: =SUMIFS($J$7:$J$88,$L$7:$L$88,P37,$K$7:$K$88,Q$6) -> 0 | R37: =SUMIFS($J$7:$J$88,$L$7:$L$88,P37,$K$7:$K$88,R$6) -> 0 | S37: =SUMIFS($J$7:$J$88,$L$7:$L$88,P37,$K$7:$K$88,S$6) -> 0 | T37: =SUMIFS($J$7:$J$88,$L$7:$L$88,P37,$K$7:$K$88,T$6) -> 0 | U37: =SUMIFS($J$7:$J$88,$L$7:$L$88,P37,$K$7:$K$88,U$6) -> 0 | V37: =SUMIFS($J$7:$J$88,$L$7:$L$88,P37,$K$7:$K$88,V$6) -> 0 | W37: =SUMIFS($J$7:$J$88,$L$7:$L$88,P37,$K$7:$K$88,W$6) -> 0 | Y37: =P37 | Z37: =IF(Q37=0," ",Q37) | AA37: =IF(R37=0," ",R37) | AB37: =IF(S37=0," ",S37) | AC37: =IF(T37=0," ",T37) | AD37: =IF(U37=0," ",U37) | AE37: =IF(V37=0," ",V37) | AF37: =IF(W37=0," ",W37)
A38: 71 | B38: 71 | C38: 33 | D38: 33 | E38: МУРАДОВ Рашад | F38: МУРАДОВ Рашад Махир Оглы | G38: 29.10.89, МСМК | H38: МСМК | I38: СЗФО | J38: Р. Карелия, Петрозаводск, СШОР 5 | K38: Р.Карелия | M38: Шегельман Р.И. | N38: МУРАДОВ | Q38: =SUMIFS($J$7:$J$88,$L$7:$L$88,P38,$K$7:$K$88,Q$6) -> 0 | R38: =SUMIFS($J$7:$J$88,$L$7:$L$88,P38,$K$7:$K$88,R$6) -> 0 | S38: =SUMIFS($J$7:$J$88,$L$7:$L$88,P38,$K$7:$K$88,S$6) -> 0 | T38: =SUMIFS($J$7:$J$88,$L$7:$L$88,P38,$K$7:$K$88,T$6) -> 0 | U38: =SUMIFS($J$7:$J$88,$L$7:$L$88,P38,$K$7:$K$88,U$6) -> 0 | V38: =SUMIFS($J$7:$J$88,$L$7:$L$88,P38,$K$7:$K$88,V$6) -> 0 | W38: =SUMIFS($J$7:$J$88,$L$7:$L$88,P38,$K$7:$K$88,W$6) -> 0 | Y38: =P38 | Z38: =IF(Q38=0," ",Q38) | AA38: =IF(R38=0," ",R38) | AB38: =IF(S38=0," ",S38) | AC38: =IF(T38=0," ",T38) | AD38: =IF(U38=0," ",U38) | AE38: =IF(V38=0," ",V38) | AF38: =IF(W38=0," ",W38)
A39: 71 | B39: 71 | C39: 35 | D39: 34 | E39: ДУГИЕВ Ибрагим | F39: ДУГИЕВ Ибрагим Хасанович | G39: 29.12.91, МСМК | H39: МСМК | I39: ЦФО | J39: Ярославская обл., Ярославль, МУ СШОР №17 | K39: Ярославская | M39: Воронин С.М. | N39: ДУГИЕВ | Q39: =SUMIFS($J$7:$J$88,$L$7:$L$88,P39,$K$7:$K$88,Q$6) -> 0 | R39: =SUMIFS($J$7:$J$88,$L$7:$L$88,P39,$K$7:$K$88,R$6) -> 0 | S39: =SUMIFS($J$7:$J$88,$L$7:$L$88,P39,$K$7:$K$88,S$6) -> 0 | T39: =SUMIFS($J$7:$J$88,$L$7:$L$88,P39,$K$7:$K$88,T$6) -> 0 | U39: =SUMIFS($J$7:$J$88,$L$7:$L$88,P39,$K$7:$K$88,U$6) -> 0 | V39: =SUMIFS($J$7:$J$88,$L$7:$L$88,P39,$K$7:$K$88,V$6) -> 0 | W39: =SUMIFS($J$7:$J$88,$L$7:$L$88,P39,$K$7:$K$88,W$6) -> 0 | X39: =SUM(Q7:T38) -> 0 | Y39: =P39 | Z39: =IF(Q39=0," ",Q39) | AA39: =IF(R39=0," ",R39) | AB39: =IF(S39=0," ",S39) | AC39: =IF(T39=0," ",T39) | AD39: =IF(U39=0," ",U39) | AE39: =IF(V39=0," ",V39) | AF39: =IF(W39=0," ",W39)
A40: 71 | B40: 71 | C40: 6 | D40: 35 | E40: БЕЛОНОГОВ Михаил | F40: БЕЛОНОГОВ Михаил Эдуардович | G40: 24.08.99, МС | H40: МС | I40: ПФО | J40: Пермский край, Пермь, Мау "сшор по дзюдо г. Перми Пермский Кодокан " | K40: Пермский | M40: Шакало С.В. Спирин А.В. | N40: БЕЛОНОГОВ | Q40: =SUMIFS($J$7:$J$88,$L$7:$L$88,P40,$K$7:$K$88,Q$6) -> 0 | R40: =SUMIFS($J$7:$J$88,$L$7:$L$88,P40,$K$7:$K$88,R$6) -> 0 | S40: =SUMIFS($J$7:$J$88,$L$7:$L$88,P40,$K$7:$K$88,S$6) -> 0 | T40: =SUMIFS($J$7:$J$88,$L$7:$L$88,P40,$K$7:$K$88,T$6) -> 0 | U40: =SUMIFS($J$7:$J$88,$L$7:$L$88,P40,$K$7:$K$88,U$6) -> 0 | V40: =SUMIFS($J$7:$J$88,$L$7:$L$88,P40,$K$7:$K$88,V$6) -> 0 | W40: =SUMIFS($J$7:$J$88,$L$7:$L$88,P40,$K$7:$K$88,W$6) -> 0 | Y40: =P40 | Z40: =IF(Q40=0," ",Q40) | AA40: =IF(R40=0," ",R40) | AB40: =IF(S40=0," ",S40) | AC40: =IF(T40=0," ",T40) | AD40: =IF(U40=0," ",U40) | AE40: =IF(V40=0," ",V40) | AF40: =IF(W40=0," ",W40)
...

Sheet пр.хода
F1: ВСЕРОССИЙСКАЯ ФЕДЕРАЦИЯ САМБО | AB1: ='пр.взв'!$D$4 | AD1: ='пр.взв'!G4 -> В.к. 71 кг
F2: ПРОТОКОЛ ХОДА СОРЕВНОВАНИЙ
C3: ='пр.взв'!C2 -> Чемпионат России по самбо (боевое) мужчины (отбор на Чемпионат Мира и Европы) ЕКП №23747 | AD3: =AH3&" "&AI3 -> 37 участников | AH3: ='пр.взв'!O3 -> 37 | AI3: участников
A4: Подгруппа А | H4: ='пр.взв'!C3 -> 27.02 - 03.03.2023 г. г. Пермь | AB4: Подгруппа Б
A5: 1 | B5: =IFERROR(VLOOKUP(A5,'пр.взв'!$D$6:$Q$70,2,0),"") -> БУДАКОВ Наил | C5: =IFERROR(VLOOKUP(A5,'пр.взв'!$D$6:$Q$70,5,0),"") -> МС | D5: =IFERROR(VLOOKUP(A5,'пр.взв'!$D$6:$Q$70,8,0),"") -> Самарская | AB5: =IFERROR(VLOOKUP(AE5,'пр.взв'!$D$6:$Q$70,2,0),"") -> ДУШКАНОВ Дамир | AC5: =IFERROR(VLOOKUP(AE5,'пр.взв'!$D$6:$Q$70,5,0),"") -> КМС | AD5: =IFERROR(VLOOKUP(AE5,'пр.взв'!$D$6:$Q$70,8,0),"") -> Самарская | AE5: 2
AH6: =N32 | AK6: 1
A7: 33 | B7: =IFERROR(VLOOKUP(A7,'пр.взв'!$D$6:$Q$70,2,0),"") -> МУРАДОВ Рашад | C7: =IFERROR(VLOOKUP(A7,'пр.взв'!$D$6:$Q$70,5,0),"") -> МСМК | D7: =IFERROR(VLOOKUP(A7,'пр.взв'!$D$6:$Q$70,8,0),"") -> Р.Карелия | AB7: =IFERROR(VLOOKUP(AE7,'пр.взв'!$D$6:$Q$70,2,0),"") -> ДУГИЕВ Ибрагим | AC7: =IFERROR(VLOOKUP(AE7,'пр.взв'!$D$6:$Q$70,5,0),"") -> МСМК | AD7: =IFERROR(VLOOKUP(AE7,'пр.взв'!$D$6:$Q$70,8,0),"") -> Ярославская | AE7: 34 | AH7: =N40 | AK7: 2
AG8: 3м | AH8: =IF(M36=""," ",IF(M36=K20,K53,K20)) | AI8: 3 | AK8: 3
A9: 17 | B9: =IFERROR(VLOOKUP(A9,'пр.взв'!$D$6:$Q$70,2,0),"") -> ЭСКИЕВ Рузбек | C9: =IFERROR(VLOOKUP(A9,'пр.взв'!$D$6:$Q$70,5,0),"") -> МС | D9: =IFERROR(VLOOKUP(A9,'пр.взв'!$D$6:$Q$70,8,0),"") -> Чеченская | AB9: =IFERROR(VLOOKUP(AE9,'пр.взв'!$D$6:$Q$70,2,0),"") -> ГЛАЗЫРИН Александр | AC9: =IFERROR(VLOOKUP(AE9,'пр.взв'!$D$6:$Q$70,5,0),"") -> КМС | AD9: =IFERROR(VLOOKUP(AE9,'пр.взв'!$D$6:$Q$70,8,0),"") -> Пермский | AE9: 18 | AG9: 3м | AH9: =IF(S36=""," ",IF(S36=U20,U53,U20)) | AI9: 4 | AK9: 5
E10: 17 | AA10: 18 | AG10: 5м | AH10: =IF(K20=""," ",IF(K20=I12,I28,I12)) | AI10: 5 | AK10: 6
A11: 49 | B11: =IFERROR(VLOOKUP(A11,'пр.взв'!$D$6:$Q$70,2,0),"") | C11: =IFERROR(VLOOKUP(A11,'пр.взв'!$D$6:$Q$70,5,0),"") | D11: =IFERROR(VLOOKUP(A11,'пр.взв'!$D$6:$Q$70,8,0),"") | AB11: =IFERROR(VLOOKUP(AE11,'пр.взв'!$D$6:$Q$70,2,0),"") | AC11: =IFERROR(VLOOKUP(AE11,'пр.взв'!$D$6:$Q$70,5,0),"") | AD11: =IFERROR(VLOOKUP(AE11,'пр.взв'!$D$6:$Q$70,8,0),"") | AE11: 50 | AG11: 5м | AH11: =IF(K53=""," ",IF(K53=I45,I61,I45)) | AI11: 6 | AK11: 7
AG12: 5м | AH12: =IF(U20=""," ",IF(U20=W12,W28,U20)) | AI12: 7 | AK12: 8
A13: 9 | B13: =IFERROR(VLOOKUP(A13,'пр.взв'!$D$6:$Q$70,2,0),"") -> ДУГУЖЕВ Азамат | C13: =IFERROR(VLOOKUP(A13,'пр.взв'!$D$6:$Q$70,5,0),"") -> МС | D13: =IFERROR(VLOOKUP(A13,'пр.взв'!$D$6:$Q$70,8,0),"") -> Санкт-Петербург | AB13: =IFERROR(VLOOKUP(AE13,'пр.взв'!$D$6:$Q$70,2,0),"") -> ДАМДИНОВ Бато | AC13: =IFERROR(VLOOKUP(AE13,'пр.взв'!$D$6:$Q$70,5,0),"") -> МС | AD13: =IFERROR(VLOOKUP(AE13,'пр.взв'!$D$6:$Q$70,8,0),"") -> Р.Бурятия | AE13: 10 | AG13: 5м | AH13: =IF(U53=""," ",IF(U53=W45,W61,W45)) | AI13: 8 | AK13: 10
E14: 9 | AA14: 10 | AG14: 9м | AH14: =IF(I12=""," ",IF(I12=G8,G16,G8)) | AI14: 9 | AK14: 11
A15: 41 | B15: =IFERROR(VLOOKUP(A15,'пр.взв'!$D$6:$Q$70,2,0),"") | C15: =IFERROR(VLOOKUP(A15,'пр.взв'!$D$6:$Q$70,5,0),"") | D15: =IFERROR(VLOOKUP(A15,'пр.взв'!$D$6:$Q$70,8,0),"") | AB15: =IFERROR(VLOOKUP(AE15,'пр.взв'!$D$6:$Q$70,2,0),"") | AC15: =IFERROR(VLOOKUP(AE15,'пр.взв'!$D$6:$Q$70,5,0),"") | AD15: =IFERROR(VLOOKUP(AE15,'пр.взв'!$D$6:$Q$70,8,0),"") | AE15: 42 | AG15: 9м | AH15: =IF(I28=""," ",IF(I28=G24,G32,G24)) | AI15: 10 | AK15: 12
AG16: 9м | AH16: =IF(I45=""," ",IF(I45=G41,G49,G41)) | AI16: 11 | AK16: 13
A17: 25 | B17: =IFERROR(VLOOKUP(A17,'пр.взв'!$D$6:$Q$70,2,0),"") -> ШЕИН Дмитрий | C17: =IFERROR(VLOOKUP(A17,'пр.взв'!$D$6:$Q$70,5,0),"") -> КМС | D17: =IFERROR(VLOOKUP(A17,'пр.взв'!$D$6:$Q$70,8,0),"") -> Пермский | AB17: =IFERROR(VLOOKUP(AE17,'пр.взв'!$D$6:$Q$70,2,0),"") -> ДУЛОВ Владислав | AC17: =IFERROR(VLOOKUP(AE17,'пр.взв'!$D$6:$Q$70,5,0),"") -> КМС | AD17: =IFERROR(VLOOKUP(AE17,'пр.взв'!$D$6:$Q$70,8,0),"") -> Р.Башкортостан | AE17: 26 | AG17: 9м | AH17: =IF(I61=""," ",IF(I61=G57,G65,G57)) | AI17: 12 | AK17: 14
E18: 25 | AA18: 26 | AG18: 9м | AH18: =IF(W12=""," ",IF(W12=Y8,Y16,Y8)) | AI18: 13 | AK18: 15
A19: 57 | B19: =IFERROR(VLOOKUP(A19,'пр.взв'!$D$6:$Q$70,2,0),"") | C19: =IFERROR(VLOOKUP(A19,'пр.взв'!$D$6:$Q$70,5,0),"") | D19: =IFERROR(VLOOKUP(A19,'пр.взв'!$D$6:$Q$70,8,0),"") | AB19: =IFERROR(VLOOKUP(AE19,'пр.взв'!$D$6:$Q$70,2,0),"") | AC19: =IFERROR(VLOOKUP(AE19,'пр.взв'!$D$6:$Q$70,5,0),"") | AD19: =IFERROR(VLOOKUP(AE19,'пр.взв'!$D$6:$Q$70,8,0),"") | AE19: 58 | AG19: 9м | AH19: =IF(W28=""," ",IF(W28=Y24,Y32,Y24)) | AI19: 14 | AK19: 16
AG20: 9м | AH20: =IF(W45=""," ",IF(W45=Y41,Y49,Y41)) | AI20: 15 | AK20: 17
A21: 5 | B21: =IFERROR(VLOOKUP(A21,'пр.взв'!$D$6:$Q$70,2,0),"") -> КРАСАВЦЕВ Александр | C21: =IFERROR(VLOOKUP(A21,'пр.взв'!$D$6:$Q$70,5,0),"") -> МС | D21: =IFERROR(VLOOKUP(A21,'пр.взв'!$D$6:$Q$70,8,0),"") -> Московская | AB21: =IFERROR(VLOOKUP(AE21,'пр.взв'!$D$6:$Q$70,2,0),"") -> САИДОВ Магомед | AC21: =IFERROR(VLOOKUP(AE21,'пр.взв'!$D$6:$Q$70,5,0),"") -> КМС | AD21: =IFERROR(VLOOKUP(AE21,'пр.взв'!$D$6:$Q$70,8,0),"") -> Р.Дагестан | AE21: 6 | AG21: 9м | AH21: =IF(W61=""," ",IF(W61=Y57,Y65,Y57)) | AI21: 16 | AK21: 18
E22: 5 | AA22: 6 | AG22: 17 | AH22: =IF(G8=""," ",IF(E6=G8,E10,E6)) | AI22: 17 | AK22: 19
A23: 37 | B23: =IFERROR(VLOOKUP(A23,'пр.взв'!$D$6:$Q$70,2,0),"") -> СУЛТАНОВ Иман | C23: =IFERROR(VLOOKUP(A23,'пр.взв'!$D$6:$Q$70,5,0),"") -> КМС | D23: =IFERROR(VLOOKUP(A23,'пр.взв'!$D$6:$Q$70,8,0),"") -> Р.Дагестан | AB23: =IFERROR(VLOOKUP(AE23,'пр.взв'!$D$6:$Q$70,2,0),"") | AC23: =IFERROR(VLOOKUP(AE23,'пр.взв'!$D$6:$Q$70,5,0),"") | AD23: =IFERROR(VLOOKUP(AE23,'пр.взв'!$D$6:$Q$70,8,0),"") | AE23: 38 | AG23: 18 | AH23: =IF(G16=""," ",IF(E14=G16,E18,E14)) | AI23: 18 | AK23: 20
AG24: 19 | AH24: =IF(G24=""," ",IF(E22=G24,E26,E22)) | AI24: 19 | AK24: 21
A25: 21 | B25: =IFERROR(VLOOKUP(A25,'пр.взв'!$D$6:$Q$70,2,0),"") -> ПОДОЙНИЦЫН Константин | C25: =IFERROR(VLOOKUP(A25,'пр.взв'!$D$6:$Q$70,5,0),"") -> КМС | D25: =IFERROR(VLOOKUP(A25,'пр.взв'!$D$6:$Q$70,8,0),"") -> Р.Бурятия | AB25: =IFERROR(VLOOKUP(AE25,'пр.взв'!$D$6:$Q$70,2,0),"") -> ЗАЙНУТДИНОВ Ренас | AC25: =IFERROR(VLOOKUP(AE25,'пр.взв'!$D$6:$Q$70,5,0),"") -> МСМК | AD25: =IFERROR(VLOOKUP(AE25,'пр.взв'!$D$6:$Q$70,8,0),"") -> Р.Татарстан | AE25: 22 | AG25: 20 | AH25: =IF(G32=""," ",IF(E30=G32,E34,E30)) | AI25: 20 | AK25: 22
E26: 21 | P26: 3 м | AA26: 22 | AG26: 21 | AH26: =IF(G41=""," ",IF(E39=G41,E43,E39)) | AI26: 21 | AK26: 23
A27: 53 | B27: =IFERROR(VLOOKUP(A27,'пр.взв'!$D$6:$Q$70,2,0),"") | C27: =IFERROR(VLOOKUP(A27,'пр.взв'!$D$6:$Q$70,5,0),"") | D27: =IFERROR(VLOOKUP(A27,'пр.взв'!$D$6:$Q$70,8,0),"") | N27: =IFERROR(VLOOKUP(AH8,'пр.взв'!$D$6:$Q$70,2,0),"") | AB27: =IFERROR(VLOOKUP(AE27,'пр.взв'!$D$6:$Q$70,2,0),"") | AC27: =IFERROR(VLOOKUP(AE27,'пр.взв'!$D$6:$Q$70,5,0),"") | AD27: =IFERROR(VLOOKUP(AE27,'пр.взв'!$D$6:$Q$70,8,0),"") | AE27: 54 | AG27: 22 | AH27: =IF(G49=""," ",IF(E47=G49,E51,E47)) | AI27: 22 | AK27: 24
AG28: 23 | AH28: =IF(G57=""," ",IF(E55=G57,E59,E55)) | AI28: 23 | AK28: 25
A29: 13 | B29: =IFERROR(VLOOKUP(A29,'пр.взв'!$D$6:$Q$70,2,0),"") -> БОГАЧЕВ Сергей | C29: =IFERROR(VLOOKUP(A29,'пр.взв'!$D$6:$Q$70,5,0),"") -> КМС | D29: =IFERROR(VLOOKUP(A29,'пр.взв'!$D$6:$Q$70,8,0),"") -> Красноярский | AB29: =IFERROR(VLOOKUP(AE29,'пр.взв'!$D$6:$Q$70,2,0),"") -> КОБЕНОВ Степан | AC29: =IFERROR(VLOOKUP(AE29,'пр.взв'!$D$6:$Q$70,5,0),"") -> ЗМС | AD29: =IFERROR(VLOOKUP(AE29,'пр.взв'!$D$6:$Q$70,8,0),"") -> Р.Алтай | AE29: 14 | AG29: 24 | AH29: =IF(G65=""," ",IF(E63=G65,E67,E63)) | AI29: 24 | AK29: 26
E30: 13 | AA30: 14 | AG30: 25 | AH30: =IF(Y8=""," ",IF(Y8=AA6,AA10,AA6)) | AI30: 25 | AK30: 27
A31: 45 | B31: =IFERROR(VLOOKUP(A31,'пр.взв'!$D$6:$Q$70,2,0),"") | C31: =IFERROR(VLOOKUP(A31,'пр.взв'!$D$6:$Q$70,5,0),"") | D31: =IFERROR(VLOOKUP(A31,'пр.взв'!$D$6:$Q$70,8,0),"") | P31: 1 м | AB31: =IFERROR(VLOOKUP(AE31,'пр.взв'!$D$6:$Q$70,2,0),"") | AC31: =IFERROR(VLOOKUP(AE31,'пр.взв'!$D$6:$Q$70,5,0),"") | AD31: =IFERROR(VLOOKUP(AE31,'пр.взв'!$D$6:$Q$70,8,0),"") | AE31: 46 | AG31: 26 | AH31: =IF(Y16=""," ",IF(Y16=AA14,AA18,AA14)) | AI31: 26 | AK31: 28
AG32: 27 | AH32: =IF(Y24=""," ",IF(Y24=AA22,AA26,AA22)) | AI32: 27 | AK32: 29
A33: 29 | B33: =IFERROR(VLOOKUP(A33,'пр.взв'!$D$6:$Q$70,2,0),"") -> ПОДКОВАЛЬНИКОВ Никита | C33: =IFERROR(VLOOKUP(A33,'пр.взв'!$D$6:$Q$70,5,0),"") -> МС | D33: =IFERROR(VLOOKUP(A33,'пр.взв'!$D$6:$Q$70,8,0),"") -> Самарская | N33: =IFERROR(VLOOKUP(N32,'пр.взв'!$D$6:$Q$70,2,0),"") | AB33: =IFERROR(VLOOKUP(AE33,'пр.взв'!$D$6:$Q$70,2,0),"") -> АХТЕМИРОВ Темирхан | AC33: =IFERROR(VLOOKUP(AE33,'пр.взв'!$D$6:$Q$70,5,0),"") -> КМС | AD33: =IFERROR(VLOOKUP(AE33,'пр.взв'!$D$6:$Q$70,8,0),"") -> Тверская | AE33: 30 | AG33: 28 | AH33: =IF(Y32=""," ",IF(Y32=AA30,AA34,AA30)) | AI33: 28 | AK33: 30
E34: 29 | AA34: 30 | AG34: 29 | AH34: =IF(Y41=""," ",IF(Y41=AA39,AA43,AA39)) | AI34: 29 | AK34: 31
A35: 61 | B35: =IFERROR(VLOOKUP(A35,'пр.взв'!$D$6:$Q$70,2,0),"") | C35: =IFERROR(VLOOKUP(A35,'пр.взв'!$D$6:$Q$70,5,0),"") | D35: =IFERROR(VLOOKUP(A35,'пр.взв'!$D$6:$Q$70,8,0),"") | AB35: =IFERROR(VLOOKUP(AE35,'пр.взв'!$D$6:$Q$70,2,0),"") | AC35: =IFERROR(VLOOKUP(AE35,'пр.взв'!$D$6:$Q$70,5,0),"") | AD35: =IFERROR(VLOOKUP(AE35,'пр.взв'!$D$6:$Q$70,8,0),"") | AE35: 62 | AG35: 30 | AH35: =IF(Y49=""," ",IF(Y49=AA47,AA51,AA47)) | AI35: 30 | AK35: 32
AG36: 31 | AH36: =IF(Y57=""," ",IF(Y57=AA55,AA59,AA55)) | AI36: 31 | AK36: 33
AH37: =IF(Y58=""," ",IF(Y58=AA56,AA60,AA56)) | AI37: 32 | AK37: 34
A38: 3 | B38: =IFERROR(VLOOKUP(A38,'пр.взв'!$D$6:$Q$70,2,0),"") -> НОВИКОВ Никита | C38: =IFERROR(VLOOKUP(A38,'пр.взв'!$D$6:$Q$70,5,0),"") -> КМС | D38: =IFERROR(VLOOKUP(A38,'пр.взв'!$D$6:$Q$70,8,0),"") -> Р.Татарстан | AB38: =IFERROR(VLOOKUP(AE38,'пр.взв'!$D$6:$Q$70,2,0),"") -> СОРОКИН Алексей | AC38: =IFERROR(VLOOKUP(AE38,'пр.взв'!$D$6:$Q$70,5,0),"") -> КМС | AD38: =IFERROR(VLOOKUP(AE38,'пр.взв'!$D$6:$Q$70,8,0),"") -> Р.Коми | AE38: 4 | AG38: 32 | AH38: =IF(Y65=""," ",IF(Y65=AA63,AA67,AA63)) | AI38: 32 | AK38: 35
P39: 2 м | AG39: 33 | AH39: =IF(E6=""," ",IF(E6=A5,A7,A5)) | AI39: 33 | AK39: 36
A40: 35 | B40: =IFERROR(VLOOKUP(A40,'пр.взв'!$D$6:$Q$70,2,0),"") -> БЕЛОНОГОВ Михаил | C40: =IFERROR(VLOOKUP(A40,'пр.взв'!$D$6:$Q$70,5,0),"") -> МС | D40: =IFERROR(VLOOKUP(A40,'пр.взв'!$D$6:$Q$70,8,0),"") -> Пермский | M40: =AH70 | N40: =IF(N32=""," ",IF(M36=N32,S36,M36)) | AB40: =IFERROR(VLOOKUP(AE40,'пр.взв'!$D$6:$Q$70,2,0),"") -> АБДУЛАЗИЗОВ Камиль | AC40: =IFERROR(VLOOKUP(AE40,'пр.взв'!$D$6:$Q$70,5,0),"") -> МСМК | AD40: =IFERROR(VLOOKUP(AE40,'пр.взв'!$D$6:$Q$70,8,0),"") -> Москва | AE40: 36 | AH40: =IF(E14=""," ",IF(E14=A13,A15,A13)) -> 41 | AI40: 34 | AK40: 37
...

Sheet круги
B1: ВСТРЕЧИ ПО КРУГАМ | L1: ВСТРЕЧИ ПО КРУГАМ
B2: ='пр.взв'!$D$4 | L2: ='пр.взв'!$D$4
B3: 0 | C3: КОВЕР | L3: =B3 -> 0 | M3: КОВЕР
B4: A | C4: (Круг) | F4: 1/32 | L4: Б | M4: (Круг) | P4: 1/32
A5: № встр | B5: № п/ж | C5: Ф.И.О. | D5: Д. р., разряд | E5: Вед., регион | G5: Оценки | H5: Очки | I5: Рез-т | J5: Время | K5: № встр | L5: № п/ж | M5: Ф.И.О. | N5: Д. р., разряд | O5: Вед., регион | Q5: Оценки | R5: Очки | S5: Рез-т | T5: Время
A7: 1 | B7: 1 | C7: =IFERROR(VLOOKUP(B7,'пр.взв'!$D$6:$Q$70,2,0),"") -> БУДАКОВ Наил | D7: =IFERROR(VLOOKUP(B7,'пр.взв'!$D$6:$Q$70,5,0),"") -> МС | E7: =IFERROR(VLOOKUP(B7,'пр.взв'!$D$6:$Q$70,6,0),"") -> ПФО | F7: =IFERROR(VLOOKUP(B7,'пр.взв'!$D$6:$Q$70,8,0),"") -> Самарская | K7: 17 | L7: 2 | M7: =IFERROR(VLOOKUP(L7,'пр.взв'!$D$6:$Q$70,2,0),"") -> ДУШКАНОВ Дамир | N7: =IFERROR(VLOOKUP(L7,'пр.взв'!$D$6:$Q$70,5,0),"") -> КМС | O7: =IFERROR(VLOOKUP(L7,'пр.взв'!$D$6:$Q$70,6,0),"") -> ПФО | P7: =IFERROR(VLOOKUP(L7,'пр.взв'!$D$6:$Q$70,8,0),"") -> Самарская
B8: 33 | C8: =IFERROR(VLOOKUP(B8,'пр.взв'!$D$6:$Q$70,2,0),"") -> МУРАДОВ Рашад | D8: =IFERROR(VLOOKUP(B8,'пр.взв'!$D$6:$Q$70,5,0),"") -> МСМК | E8: =IFERROR(VLOOKUP(B8,'пр.взв'!$D$6:$Q$70,6,0),"") -> СЗФО | F8: =IFERROR(VLOOKUP(B8,'пр.взв'!$D$6:$Q$70,8,0),"") -> Р.Карелия | L8: 34 | M8: =IFERROR(VLOOKUP(L8,'пр.взв'!$D$6:$Q$70,2,0),"") -> ДУГИЕВ Ибрагим | N8: =IFERROR(VLOOKUP(L8,'пр.взв'!$D$6:$Q$70,5,0),"") -> МСМК | O8: =IFERROR(VLOOKUP(L8,'пр.взв'!$D$6:$Q$70,6,0),"") -> ЦФО | P8: =IFERROR(VLOOKUP(L8,'пр.взв'!$D$6:$Q$70,8,0),"") -> Ярославская
A9: 2 | B9: 17 | C9: =IFERROR(VLOOKUP(B9,'пр.взв'!$D$6:$Q$70,2,0),"") -> ЭСКИЕВ Рузбек | D9: =IFERROR(VLOOKUP(B9,'пр.взв'!$D$6:$Q$70,5,0),"") -> МС | E9: =IFERROR(VLOOKUP(B9,'пр.взв'!$D$6:$Q$70,6,0),"") -> СКФО | F9: =IFERROR(VLOOKUP(B9,'пр.взв'!$D$6:$Q$70,8,0),"") -> Чеченская | K9: 18 | L9: 18 | M9: =IFERROR(VLOOKUP(L9,'пр.взв'!$D$6:$Q$70,2,0),"") -> ГЛАЗЫРИН Александр | N9: =IFERROR(VLOOKUP(L9,'пр.взв'!$D$6:$Q$70,5,0),"") -> КМС | O9: =IFERROR(VLOOKUP(L9,'пр.взв'!$D$6:$Q$70,6,0),"") -> ПФО | P9: =IFERROR(VLOOKUP(L9,'пр.взв'!$D$6:$Q$70,8,0),"") -> Пермский
B10: 49 | C10: =IFERROR(VLOOKUP(B10,'пр.взв'!$D$6:$Q$70,2,0),"") | D10: =IFERROR(VLOOKUP(B10,'пр.взв'!$D$6:$Q$70,5,0),"") | E10: =IFERROR(VLOOKUP(B10,'пр.взв'!$D$6:$Q$70,6,0),"") | F10: =IFERROR(VLOOKUP(B10,'пр.взв'!$D$6:$Q$70,8,0),"") | L10: 50 | M10: =IFERROR(VLOOKUP(L10,'пр.взв'!$D$6:$Q$70,2,0),"") | N10: =IFERROR(VLOOKUP(L10,'пр.взв'!$D$6:$Q$70,5,0),"") | O10: =IFERROR(VLOOKUP(L10,'пр.взв'!$D$6:$Q$70,6,0),"") | P10: =IFERROR(VLOOKUP(L10,'пр.взв'!$D$6:$Q$70,8,0),"")
A11: 3 | B11: 9 | C11: =IFERROR(VLOOKUP(B11,'пр.взв'!$D$6:$Q$70,2,0),"") -> ДУГУЖЕВ Азамат | D11: =IFERROR(VLOOKUP(B11,'пр.взв'!$D$6:$Q$70,5,0),"") -> МС | E11: =IFERROR(VLOOKUP(B11,'пр.взв'!$D$6:$Q$70,6,0),"") -> СПБ | F11: =IFERROR(VLOOKUP(B11,'пр.взв'!$D$6:$Q$70,8,0),"") -> Санкт-Петербург | K11: 19 | L11: 10 | M11: =IFERROR(VLOOKUP(L11,'пр.взв'!$D$6:$Q$70,2,0),"") -> ДАМДИНОВ Бато | N11: =IFERROR(VLOOKUP(L11,'пр.взв'!$D$6:$Q$70,5,0),"") -> МС | O11: =IFERROR(VLOOKUP(L11,'пр.взв'!$D$6:$Q$70,6,0),"") -> ДВФО | P11: =IFERROR(VLOOKUP(L11,'пр.взв'!$D$6:$Q$70,8,0),"") -> Р.Бурятия
B12: 41 | C12: =IFERROR(VLOOKUP(B12,'пр.взв'!$D$6:$Q$70,2,0),"") | D12: =IFERROR(VLOOKUP(B12,'пр.взв'!$D$6:$Q$70,5,0),"") | E12: =IFERROR(VLOOKUP(B12,'пр.взв'!$D$6:$Q$70,6,0),"") | F12: =IFERROR(VLOOKUP(B12,'пр.взв'!$D$6:$Q$70,8,0),"") | L12: 42 | M12: =IFERROR(VLOOKUP(L12,'пр.взв'!$D$6:$Q$70,2,0),"") | N12: =IFERROR(VLOOKUP(L12,'пр.взв'!$D$6:$Q$70,5,0),"") | O12: =IFERROR(VLOOKUP(L12,'пр.взв'!$D$6:$Q$70,6,0),"") | P12: =IFERROR(VLOOKUP(L12,'пр.взв'!$D$6:$Q$70,8,0),"")
A13: 4 | B13: 25 | C13: =IFERROR(VLOOKUP(B13,'пр.взв'!$D$6:$Q$70,2,0),"") -> ШЕИН Дмитрий | D13: =IFERROR(VLOOKUP(B13,'пр.взв'!$D$6:$Q$70,5,0),"") -> КМС | E13: =IFERROR(VLOOKUP(B13,'пр.взв'!$D$6:$Q$70,6,0),"") -> ПФО | F13: =IFERROR(VLOOKUP(B13,'пр.взв'!$D$6:$Q$70,8,0),"") -> Пермский | K13: 20 | L13: 26 | M13: =IFERROR(VLOOKUP(L13,'пр.взв'!$D$6:$Q$70,2,0),"") -> ДУЛОВ Владислав | N13: =IFERROR(VLOOKUP(L13,'пр.взв'!$D$6:$Q$70,5,0),"") -> КМС | O13: =IFERROR(VLOOKUP(L13,'пр.взв'!$D$6:$Q$70,6,0),"") -> ПФО | P13: =IFERROR(VLOOKUP(L13,'пр.взв'!$D$6:$Q$70,8,0),"") -> Р.Башкортостан
B14: 57 | C14: =IFERROR(VLOOKUP(B14,'пр.взв'!$D$6:$Q$70,2,0),"") | D14: =IFERROR(VLOOKUP(B14,'пр.взв'!$D$6:$Q$70,5,0),"") | E14: =IFERROR(VLOOKUP(B14,'пр.взв'!$D$6:$Q$70,6,0),"") | F14: =IFERROR(VLOOKUP(B14,'пр.взв'!$D$6:$Q$70,8,0),"") | L14: 58 | M14: =IFERROR(VLOOKUP(L14,'пр.взв'!$D$6:$Q$70,2,0),"") | N14: =IFERROR(VLOOKUP(L14,'пр.взв'!$D$6:$Q$70,5,0),"") | O14: =IFERROR(VLOOKUP(L14,'пр.взв'!$D$6:$Q$70,6,0),"") | P14: =IFERROR(VLOOKUP(L14,'пр.взв'!$D$6:$Q$70,8,0),"")
A15: 5 | B15: 5 | C15: =IFERROR(VLOOKUP(B15,'пр.взв'!$D$6:$Q$70,2,0),"") -> КРАСАВЦЕВ Александр | D15: =IFERROR(VLOOKUP(B15,'пр.взв'!$D$6:$Q$70,5,0),"") -> МС | E15: =IFERROR(VLOOKUP(B15,'пр.взв'!$D$6:$Q$70,6,0),"") -> ЦФО | F15: =IFERROR(VLOOKUP(B15,'пр.взв'!$D$6:$Q$70,8,0),"") -> Московская | K15: 21 | L15: 6 | M15: =IFERROR(VLOOKUP(L15,'пр.взв'!$D$6:$Q$70,2,0),"") -> САИДОВ Магомед | N15: =IFERROR(VLOOKUP(L15,'пр.взв'!$D$6:$Q$70,5,0),"") -> КМС | O15: =IFERROR(VLOOKUP(L15,'пр.взв'!$D$6:$Q$70,6,0),"") -> СКФО | P15: =IFERROR(VLOOKUP(L15,'пр.взв'!$D$6:$Q$70,8,0),"") -> Р.Дагестан
B16: 37 | C16: =IFERROR(VLOOKUP(B16,'пр.взв'!$D$6:$Q$70,2,0),"") -> СУЛТАНОВ Иман | D16: =IFERROR(VLOOKUP(B16,'пр.взв'!$D$6:$Q$70,5,0),"") -> КМС | E16: =IFERROR(VLOOKUP(B16,'пр.взв'!$D$6:$Q$70,6,0),"") -> СКФО | F16: =IFERROR(VLOOKUP(B16,'пр.взв'!$D$6:$Q$70,8,0),"") -> Р.Дагестан | L16: 38 | M16: =IFERROR(VLOOKUP(L16,'пр.взв'!$D$6:$Q$70,2,0),"") | N16: =IFERROR(VLOOKUP(L16,'пр.взв'!$D$6:$Q$70,5,0),"") | O16: =IFERROR(VLOOKUP(L16,'пр.взв'!$D$6:$Q$70,6,0),"") | P16: =IFERROR(VLOOKUP(L16,'пр.взв'!$D$6:$Q$70,8,0),"")
A17: 6 | B17: 21 | C17: =IFERROR(VLOOKUP(B17,'пр.взв'!$D$6:$Q$70,2,0),"") -> ПОДОЙНИЦЫН Константин | D17: =IFERROR(VLOOKUP(B17,'пр.взв'!$D$6:$Q$70,5,0),"") -> КМС | E17: =IFERROR(VLOOKUP(B17,'пр.взв'!$D$6:$Q$70,6,0),"") -> ДВФО | F17: =IFERROR(VLOOKUP(B17,'пр.взв'!$D$6:$Q$70,8,0),"") -> Р.Бурятия | K17: 22 | L17: 22 | M17: =IFERROR(VLOOKUP(L17,'пр.взв'!$D$6:$Q$70,2,0),"") -> ЗАЙНУТДИНОВ Ренас | N17: =IFERROR(VLOOKUP(L17,'пр.взв'!$D$6:$Q$70,5,0),"") -> МСМК | O17: =IFERROR(VLOOKUP(L17,'пр.взв'!$D$6:$Q$70,6,0),"") -> ПФО | P17: =IFERROR(VLOOKUP(L17,'пр.взв'!$D$6:$Q$70,8,0),"") -> Р.Татарстан
B18: 53 | C18: =IFERROR(VLOOKUP(B18,'пр.взв'!$D$6:$Q$70,2,0),"") | D18: =IFERROR(VLOOKUP(B18,'пр.взв'!$D$6:$Q$70,5,0),"") | E18: =IFERROR(VLOOKUP(B18,'пр.взв'!$D$6:$Q$70,6,0),"") | F18: =IFERROR(VLOOKUP(B18,'пр.взв'!$D$6:$Q$70,8,0),"") | L18: 54 | M18: =IFERROR(VLOOKUP(L18,'пр.взв'!$D$6:$Q$70,2,0),"") | N18: =IFERROR(VLOOKUP(L18,'пр.взв'!$D$6:$Q$70,5,0),"") | O18: =IFERROR(VLOOKUP(L18,'пр.взв'!$D$6:$Q$70,6,0),"") | P18: =IFERROR(VLOOKUP(L18,'пр.взв'!$D$6:$Q$70,8,0),"")
A19: 7 | B19: 13 | C19: =IFERROR(VLOOKUP(B19,'пр.взв'!$D$6:$Q$70,2,0),"") -> БОГАЧЕВ Сергей | D19: =IFERROR(VLOOKUP(B19,'пр.взв'!$D$6:$Q$70,5,0),"") -> КМС | E19: =IFERROR(VLOOKUP(B19,'пр.взв'!$D$6:$Q$70,6,0),"") -> СФО | F19: =IFERROR(VLOOKUP(B19,'пр.взв'!$D$6:$Q$70,8,0),"") -> Красноярский | K19: 23 | L19: 14 | M19: =IFERROR(VLOOKUP(L19,'пр.взв'!$D$6:$Q$70,2,0),"") -> КОБЕНОВ Степан | N19: =IFERROR(VLOOKUP(L19,'пр.взв'!$D$6:$Q$70,5,0),"") -> ЗМС | O19: =IFERROR(VLOOKUP(L19,'пр.взв'!$D$6:$Q$70,6,0),"") -> СФО | P19: =IFERROR(VLOOKUP(L19,'пр.взв'!$D$6:$Q$70,8,0),"") -> Р.Алтай
B20: 45 | C20: =IFERROR(VLOOKUP(B20,'пр.взв'!$D$6:$Q$70,2,0),"") | D20: =IFERROR(VLOOKUP(B20,'пр.взв'!$D$6:$Q$70,5,0),"") | E20: =IFERROR(VLOOKUP(B20,'пр.взв'!$D$6:$Q$70,6,0),"") | F20: =IFERROR(VLOOKUP(B20,'пр.взв'!$D$6:$Q$70,8,0),"") | L20: 46 | M20: =IFERROR(VLOOKUP(L20,'пр.взв'!$D$6:$Q$70,2,0),"") | N20: =IFERROR(VLOOKUP(L20,'пр.взв'!$D$6:$Q$70,5,0),"") | O20: =IFERROR(VLOOKUP(L20,'пр.взв'!$D$6:$Q$70,6,0),"") | P20: =IFERROR(VLOOKUP(L20,'пр.взв'!$D$6:$Q$70,8,0),"")
A21: 8 | B21: 29 | C21: =IFERROR(VLOOKUP(B21,'пр.взв'!$D$6:$Q$70,2,0),"") -> ПОДКОВАЛЬНИКОВ Никита | D21: =IFERROR(VLOOKUP(B21,'пр.взв'!$D$6:$Q$70,5,0),"") -> МС | E21: =IFERROR(VLOOKUP(B21,'пр.взв'!$D$6:$Q$70,6,0),"") -> ПФО | F21: =IFERROR(VLOOKUP(B21,'пр.взв'!$D$6:$Q$70,8,0),"") -> Самарская | K21: 24 | L21: 30 | M21: =IFERROR(VLOOKUP(L21,'пр.взв'!$D$6:$Q$70,2,0),"") -> АХТЕМИРОВ Темирхан | N21: =IFERROR(VLOOKUP(L21,'пр.взв'!$D$6:$Q$70,5,0),"") -> КМС | O21: =IFERROR(VLOOKUP(L21,'пр.взв'!$D$6:$Q$70,6,0),"") -> ЦФО | P21: =IFERROR(VLOOKUP(L21,'пр.взв'!$D$6:$Q$70,8,0),"") -> Тверская
B22: 61 | C22: =IFERROR(VLOOKUP(B22,'пр.взв'!$D$6:$Q$70,2,0),"") | D22: =IFERROR(VLOOKUP(B22,'пр.взв'!$D$6:$Q$70,5,0),"") | E22: =IFERROR(VLOOKUP(B22,'пр.взв'!$D$6:$Q$70,6,0),"") | F22: =IFERROR(VLOOKUP(B22,'пр.взв'!$D$6:$Q$70,8,0),"") | L22: 62 | M22: =IFERROR(VLOOKUP(L22,'пр.взв'!$D$6:$Q$70,2,0),"") | N22: =IFERROR(VLOOKUP(L22,'пр.взв'!$D$6:$Q$70,5,0),"") | O22: =IFERROR(VLOOKUP(L22,'пр.взв'!$D$6:$Q$70,6,0),"") | P22: =IFERROR(VLOOKUP(L22,'пр.взв'!$D$6:$Q$70,8,0),"")
A23: 9 | B23: 3 | C23: =IFERROR(VLOOKUP(B23,'пр.взв'!$D$6:$Q$70,2,0),"") -> НОВИКОВ Никита | D23: =IFERROR(VLOOKUP(B23,'пр.взв'!$D$6:$Q$70,5,0),"") -> КМС | E23: =IFERROR(VLOOKUP(B23,'пр.взв'!$D$6:$Q$70,6,0),"") -> ПФО | F23: =IFERROR(VLOOKUP(B23,'пр.взв'!$D$6:$Q$70,8,0),"") -> Р.Татарстан | K23: 25 | L23: 4 | M23: =IFERROR(VLOOKUP(L23,'пр.взв'!$D$6:$Q$70,2,0),"") -> СОРОКИН Алексей | N23: =IFERROR(VLOOKUP(L23,'пр.взв'!$D$6:$Q$70,5,0),"") -> КМС | O23: =IFERROR(VLOOKUP(L23,'пр.взв'!$D$6:$Q$70,6,0),"") -> СЗФО | P23: =IFERROR(VLOOKUP(L23,'пр.взв'!$D$6:$Q$70,8,0),"") -> Р.Коми
B24: 35 | C24: =IFERROR(VLOOKUP(B24,'пр.взв'!$D$6:$Q$70,2,0),"") -> БЕЛОНОГОВ Михаил | D24: =IFERROR(VLOOKUP(B24,'пр.взв'!$D$6:$Q$70,5,0),"") -> МС | E24: =IFERROR(VLOOKUP(B24,'пр.взв'!$D$6:$Q$70,6,0),"") -> ПФО | F24: =IFERROR(VLOOKUP(B24,'пр.взв'!$D$6:$Q$70,8,0),"") -> Пермский | L24: 36 | M24: =IFERROR(VLOOKUP(L24,'пр.взв'!$D$6:$Q$70,2,0),"") -> АБДУЛАЗИЗОВ Камиль | N24: =IFERROR(VLOOKUP(L24,'пр.взв'!$D$6:$Q$70,5,0),"") -> МСМК | O24: =IFERROR(VLOOKUP(L24,'пр.взв'!$D$6:$Q$70,6,0),"") -> МОС | P24: =IFERROR(VLOOKUP(L24,'пр.взв'!$D$6:$Q$70,8,0),"") -> Москва
A25: 10 | B25: 19 | C25: =IFERROR(VLOOKUP(B25,'пр.взв'!$D$6:$Q$70,2,0),"") -> ПОНОМАРЕВ Павел | D25: =IFERROR(VLOOKUP(B25,'пр.взв'!$D$6:$Q$70,5,0),"") -> КМС | E25: =IFERROR(VLOOKUP(B25,'пр.взв'!$D$6:$Q$70,6,0),"") -> ЦФО | F25: =IFERROR(VLOOKUP(B25,'пр.взв'!$D$6:$Q$70,8,0),"") -> Смоленская | K25: 26 | L25: 20 | M25: =IFERROR(VLOOKUP(L25,'пр.взв'!$D$6:$Q$70,2,0),"") -> ЦУРКАН Алексей | N25: =IFERROR(VLOOKUP(L25,'пр.взв'!$D$6:$Q$70,5,0),"") -> КМС | O25: =IFERROR(VLOOKUP(L25,'пр.взв'!$D$6:$Q$70,6,0),"") -> ЦФО | P25: =IFERROR(VLOOKUP(L25,'пр.взв'!$D$6:$Q$70,8,0),"") -> Ярославская
B26: 51 | C26: =IFERROR(VLOOKUP(B26,'пр.взв'!$D$6:$Q$70,2,0),"") | D26: =IFERROR(VLOOKUP(B26,'пр.взв'!$D$6:$Q$70,5,0),"") | E26: =IFERROR(VLOOKUP(B26,'пр.взв'!$D$6:$Q$70,6,0),"") | F26: =IFERROR(VLOOKUP(B26,'пр.взв'!$D$6:$Q$70,8,0),"") | L26: 52 | M26: =IFERROR(VLOOKUP(L26,'пр.взв'!$D$6:$Q$70,2,0),"") | N26: =IFERROR(VLOOKUP(L26,'пр.взв'!$D$6:$Q$70,5,0),"") | O26: =IFERROR(VLOOKUP(L26,'пр.взв'!$D$6:$Q$70,6,0),"") | P26: =IFERROR(VLOOKUP(L26,'пр.взв'!$D$6:$Q$70,8,0),"")
A27: 11 | B27: 11 | C27: =IFERROR(VLOOKUP(B27,'пр.взв'!$D$6:$Q$70,2,0),"") -> КОЗЛОВ Даниил | D27: =IFERROR(VLOOKUP(B27,'пр.взв'!$D$6:$Q$70,5,0),"") -> МС | E27: =IFERROR(VLOOKUP(B27,'пр.взв'!$D$6:$Q$70,6,0),"") -> СПБ | F27: =IFERROR(VLOOKUP(B27,'пр.взв'!$D$6:$Q$70,8,0),"") -> Санкт-Петербург | K27: 27 | L27: 12 | M27: =IFERROR(VLOOKUP(L27,'пр.взв'!$D$6:$Q$70,2,0),"") -> СИРЕНКО Дмитрий | N27: =IFERROR(VLOOKUP(L27,'пр.взв'!$D$6:$Q$70,5,0),"") -> МС | O27: =IFERROR(VLOOKUP(L27,'пр.взв'!$D$6:$Q$70,6,0),"") -> ПФО | P27: =IFERROR(VLOOKUP(L27,'пр.взв'!$D$6:$Q$70,8,0),"") -> Нижегородская
B28: 43 | C28: =IFERROR(VLOOKUP(B28,'пр.взв'!$D$6:$Q$70,2,0),"") | D28: =IFERROR(VLOOKUP(B28,'пр.взв'!$D$6:$Q$70,5,0),"") | E28: =IFERROR(VLOOKUP(B28,'пр.взв'!$D$6:$Q$70,6,0),"") | F28: =IFERROR(VLOOKUP(B28,'пр.взв'!$D$6:$Q$70,8,0),"") | L28: 44 | M28: =IFERROR(VLOOKUP(L28,'пр.взв'!$D$6:$Q$70,2,0),"") | N28: =IFERROR(VLOOKUP(L28,'пр.взв'!$D$6:$Q$70,5,0),"") | O28: =IFERROR(VLOOKUP(L28,'пр.взв'!$D$6:$Q$70,6,0),"") | P28: =IFERROR(VLOOKUP(L28,'пр.взв'!$D$6:$Q$70,8,0),"")
A29: 12 | B29: 27 | C29: =IFERROR(VLOOKUP(B29,'пр.взв'!$D$6:$Q$70,2,0),"") -> ЗИННАТОВ Ролан | D29: =IFERROR(VLOOKUP(B29,'пр.взв'!$D$6:$Q$70,5,0),"") -> МСМК | E29: =IFERROR(VLOOKUP(B29,'пр.взв'!$D$6:$Q$70,6,0),"") -> ПФО | F29: =IFERROR(VLOOKUP(B29,'пр.взв'!$D$6:$Q$70,8,0),"") -> Нижегородская | K29: 28 | L29: 28 | M29: =IFERROR(VLOOKUP(L29,'пр.взв'!$D$6:$Q$70,2,0),"") -> АЛИБЕКОВ Джаддал | N29: =IFERROR(VLOOKUP(L29,'пр.взв'!$D$6:$Q$70,5,0),"") -> МС | O29: =IFERROR(VLOOKUP(L29,'пр.взв'!$D$6:$Q$70,6,0),"") -> СКФО | P29: =IFERROR(VLOOKUP(L29,'пр.взв'!$D$6:$Q$70,8,0),"") -> Чеченская
B30: 59 | C30: =IFERROR(VLOOKUP(B30,'пр.взв'!$D$6:$Q$70,2,0),"") | D30: =IFERROR(VLOOKUP(B30,'пр.взв'!$D$6:$Q$70,5,0),"") | E30: =IFERROR(VLOOKUP(B30,'пр.взв'!$D$6:$Q$70,6,0),"") | F30: =IFERROR(VLOOKUP(B30,'пр.взв'!$D$6:$Q$70,8,0),"") | L30: 60 | M30: =IFERROR(VLOOKUP(L30,'пр.взв'!$D$6:$Q$70,2,0),"") | N30: =IFERROR(VLOOKUP(L30,'пр.взв'!$D$6:$Q$70,5,0),"") | O30: =IFERROR(VLOOKUP(L30,'пр.взв'!$D$6:$Q$70,6,0),"") | P30: =IFERROR(VLOOKUP(L30,'пр.взв'!$D$6:$Q$70,8,0),"")
A31: 13 | B31: 7 | C31: =IFERROR(VLOOKUP(B31,'пр.взв'!$D$6:$Q$70,2,0),"") -> ПАДАЕВ Муслим | D31: =IFERROR(VLOOKUP(B31,'пр.взв'!$D$6:$Q$70,5,0),"") -> КМС | E31: =IFERROR(VLOOKUP(B31,'пр.взв'!$D$6:$Q$70,6,0),"") -> СКФО | F31: =IFERROR(VLOOKUP(B31,'пр.взв'!$D$6:$Q$70,8,0),"") -> Чеченская | K31: 29 | L31: 8 | M31: =IFERROR(VLOOKUP(L31,'пр.взв'!$D$6:$Q$70,2,0),"") -> ТАЛДИЕВ Рустам | N31: =IFERROR(VLOOKUP(L31,'пр.взв'!$D$6:$Q$70,5,0),"") -> ЗМС | O31: =IFERROR(VLOOKUP(L31,'пр.взв'!$D$6:$Q$70,6,0),"") -> СПБ | P31: =IFERROR(VLOOKUP(L31,'пр.взв'!$D$6:$Q$70,8,0),"") -> Санкт-Петербург
