Workbook
Name субъект: #REF!
Name разряд: #REF!

Sheet пр.взв
A1: select Col1,Col3,Col4,Col5,Col6,Col10,Col12,Col13,Col14,Col15,Col16,Col17 WHERE Col1>1 | C1: ПРОТОКОЛ ВЗВЕШИВАНИЯ | N1: https://docs.google.com/spreadsheets/d/1rKfsKa6WmRbizI2Vsft_Oh4qzmnej0rfhiwi6Wf8WXM/edit?usp=share_link | O1: =IF(O2="98+",99,O2) -> 88
C2: =IFERROR(__xludf.DUMMYFUNCTION("IMPORTRANGE(N1,""Реквизиты!A1"")"),"Чемпионат России по самбо (боевое) мужчины (отбор на Чемпионат Мира и Европы) ЕКП №23747") -> Чемпионат России по самбо (боевое) мужчины (отбор на Чемпионат Мира и Европы) ЕКП №23747 | O2: 88 | P2: В.к. | Q2: кг
C3: =IFERROR(__xludf.DUMMYFUNCTION("IMPORTRANGE(N1,""Реквизиты!A3"")"),"27.02 - 03.03.2023 г. г. Пермь") -> 27.02 - 03.03.2023 г. г. Пермь | O3: =COUNTA(F6:F1001) -> 29 | P3: участников
G4: =P2&" "&O2&" "&Q2 -> В.к. 88 кг
A5: ВК | B5: ВК | C5: № п/п | D5: № п/ж | E5: Ф.И.О. | F5: Ф.И.О. | G5: Дата рожд., разряд | H5: Разряд | I5: Округ, субъект, город, ведомство | K5: Субъект | L5: № карточки | M5: Тренер
A6: 88 | B6: 88 | D6: 1 | E6: МАГОМЕДОВ Камал | F6: МАГОМЕДОВ Камал Магомедсаидович | G6: 15.05.91, МС | H6: МС | I6: ЦФО | J6: Тверская обл., Тверь, ТРСОО "ПСК "БРОСАЮЩИЙ ВЫЗОВ" | K6: Тверская | M6: Рыбинкин К.В., Матюшенский А.В. | N6: {=IF(D6:D1001="","",(LEFT(F6:F1001,FIND(" ",F6:F1001)-1)))} -> МАГОМЕДОВ | O6: 53
A7: 88 | B7: 88 | C7: 9 | D7: 2 | E7: АДЛЕЙБА Саид | F7: АДЛЕЙБА Саид Бесланович | G7: 01.03.96, КМС | H7: КМС | I7: ЮФО | J7: Ростовская обл., Таганрог, ССК самбо и дзюдо ТИ им. Чехова РГЭУ (РИНХ) | K7: Ростовская | M7: Чайкин К.Г., Погосов А.Б. | N7: АДЛЕЙБА | O7: 58
A8: 88 | B8: 88 | C8: 22 | D8: 3 | E8: ВАЛИЕВ Мансур | F8: ВАЛИЕВ Мансур Рамазанович | G8: 08.11.96, КМС | H8: КМС | I8: СКФО | J8: Р.Дагестан, Махачкала, Абдулманапа Нурмагомедова | K8: Р.Дагестан | M8: Магомедов М.А. Гасанханов Р.З. | N8: ВАЛИЕВ | O8: 64
A9: 88 | B9: 88 | C9: 22 | D9: 4 | E9: МЕДЖИДОВ джамбулат | F9: МЕДЖИДОВ джамбулат меджидович | G9: 13.10.94, МС | H9: МС | I9: ЦФО | J9: Костромская обл., Кострома, динамо Кострома | K9: Костромская | M9: Кушнерик ГГ | N9: МЕДЖИДОВ | O9: 71
A10: 88 | B10: 88 | C10: 31 | D10: 5 | E10: АВДЕЕВ Артём | F10: АВДЕЕВ Артём Анатольевич | G10: 25.01.99, МС | H10: МС | I10: ПФО | J10: Самарская обл., Самара, ГАУ ДО СО СШОР 1 | K10: Самарская | M10: Коновалов А.П., Будаков Н.Н. | N10: АВДЕЕВ | O10: 79
A11: 88 | B11: 88 | C11: 31 | D11: 6 | E11: МАКСУТОВ Руслан | F11: МАКСУТОВ Руслан Рифатович | G11: 15.12.96, МС | H11: МС | I11: СПБ | J11: Санкт-Петербург, Санкт-Петербург, СПб ГБУ СШОР "КШВСМ" | K11: Санкт-Петербург | M11: Коршунов А.И | N11: МАКСУТОВ | O11: 88
A12: 88 | B12: 88 | C12: 31 | D12: 7 | E12: РОДИН Николай | F12: РОДИН Николай Николаевич | G12: 17.12.01, МС | H12: МС | I12: ПФО | J12: Самарская обл., Самара, ГАУ ДО СО СШОР 1 | K12: Самарская | M12: Коновалов А.П., Будаков Н.Н. | N12: РОДИН
A13: 88 | B13: 88 | D13: 8 | E13: ФЕДОРЕНКО Руслан | F13: ФЕДОРЕНКО Руслан Владимирович | G13: 22.02.23, КМС | H13: КМС | I13: СФО | J13: Красноярский край, Красноярск, ШВСМ | K13: Красноярский | M13: Андрюшко Д В | N13: ФЕДОРЕНКО
A14: 88 | B14: 88 | C14: 31 | D14: 9 | E14: ШАРИПОВ Рустам | F14: ШАРИПОВ Рустам Наилевич | G14: 30.10.99, КМС | H14: КМС | I14: УФО | J14: Челябинская обл., Челябинск, Общество Динамо, спортивный клуб братич | K14: Челябинская | M14: Мисбахов Валерий Нуриахметович | N14: ШАРИПОВ | O14: 98
A15: 88 | B15: 88 | C15: 19 | D15: 10 | E15: МАГОМЕДОВ Магомед | F15: МАГОМЕДОВ Магомед Хадисович | G15: 13.08.91, ЗМС | H15: ЗМС | I15: МОС | J15: Москва, Центр спорта и образования Самбо-70 | K15: Московская | M15: Елесин Н.А | N15: МАГОМЕДОВ | O15: 98+
A16: 88 | B16: 88 | C16: 19 | D16: 11 | E16: РУСТАМОВ Солтан | F16: РУСТАМОВ Солтан Рустамович | G16: 14.12.97, КМС | H16: КМС | I16: СПБ | J16: Санкт-Петербург, Санкт-Петербург, Мсоо «Самбо-Питер» | K16: Санкт-Петербург | M16: Коршунов Александр Игоревич | N16: РУСТАМОВ | O16: 65
A17: 88 | B17: 88 | C17: 19 | D17: 12 | E17: МАНУКЯН Аркади | F17: МАНУКЯН Аркади Ишханович | G17: 03.05.93, КМС | H17: КМС | I17: УФО | J17: Челябинская обл., Челябинск, СШОР Динамо | K17: Челябинская | M17: Кузьмин Данила Сергеевич | N17: МАНУКЯН | O17: 71
A18: 88 | B18: 88 | C18: 19 | D18: 13 | E18: МАГОМЕДОВ Нуцалхан | F18: МАГОМЕДОВ Нуцалхан Шахбанович | G18: 29.06.02, МС | H18: МС | I18: СКФО | J18: Р.Дагестан, Махачкала, Абдулманапа Нурмагомедова | K18: Р.Дагестан | M18: Раджабов.Р.М | N18: МАГОМЕДОВ | O18: 71+
A19: 88 | B19: 88 | C19: 19 | D19: 14 | E19: ХАЧАТРЯН Давид | F19: ХАЧАТРЯН Давид Артурович | G19: 14.09.00, МС | H19: МС | I19: ПФО | J19: Нижегородская обл., Кстово, ГБОУ ДО СШОР по самбо | K19: Нижегородская | M19: Комаров АА, Тимошин АС | N19: ХАЧАТРЯН
A20: 88 | B20: 88 | C20: 19 | D20: 15 | E20: ЖДАНОВ Даниил | F20: ЖДАНОВ Даниил Артемович | G20: 10.05.01, МС | H20: МС | I20: ПФО | J20: Самарская обл., Самара, Сшор-11 им.Ольховского | K20: Самарская | M20: Становкин М.Н, Родомакин Ю.С. | N20: ЖДАНОВ
A21: 88 | B21: 88 | C21: 14 | D21: 16 | E21: ЗАХАРОВ Гордей | F21: ЗАХАРОВ Гордей Сергеевич | G21: 10.07.01, КМС | H21: КМС | I21: СПБ | J21: Санкт-Петербург, Санкт-Петербург, СПб ГБУ СШОР | K21: Санкт-Петербург | M21: Коршунов Александр Игоревич | N21: ЗАХАРОВ
A22: 88 | B22: 88 | C22: 14 | D22: 17 | E22: СНАХО Аслан | F22: СНАХО Аслан Абрекович | G22: 10.11.93, МС | H22: МС | I22: ЮФО | J22: Р.Адыгея, Майкоп , Д | K22: Р.Адыгея | M22: Джаримок Р.Н Хапай А.Ю | N22: СНАХО
A23: 88 | B23: 88 | C23: 14 | D23: 18 | E23: МАГОМЕДОВ Магомед | F23: МАГОМЕДОВ Магомед Магомедович | G23: 08.02.01, МСМК | H23: МСМК | I23: СКФО | J23: Р.Дагестан, Махачкала, Абдулманапа Нурмагомедова | K23: Р.Дагестан | M23: Раджабов Р.М | N23: МАГОМЕДОВ
A24: 88 | B24: 88 | C24: 14 | D24: 19 | E24: СИНЕПУП Ярослав | F24: СИНЕПУП Ярослав Германович | G24: 04.03.99, КМС | H24: КМС | I24: ЦФО | J24: Калужская обл., Обнинск, СШОР КВАНТ | K24: Калужская | M24: Королев А.И | N24: СИНЕПУП
A25: 88 | B25: 88 | C25: 14 | D25: 20 | E25: БАГИЯН Владислав | F25: БАГИЯН Владислав Артурович | G25: 23.08.98, МС | H25: МС | I25: ПФО | J25: Самарская обл., Самара, ГАУ ДО СО СШОР 1 | K25: Самарская | M25: Коновалов А.П., Будаков Н.Н. | N25: БАГИЯН
A26: 88 | B26: 88 | C26: 3 | D26: 21 | E26: ЕГОРОВ Роман | F26: ЕГОРОВ Роман Геннадьевич | G26: 11.11.94, МСМК | H26: МСМК | I26: МОС | J26: Москва, Москва, ГБОУ «ЦСиО «Самбо-70» | K26: Москва | M26: Фунтиков П.В., Елесин Н.А. | N26: ЕГОРОВ
A27: 88 | B27: 88 | D27: 22 | E27: СУМАЛАЕВ Гаджимурад | F27: СУМАЛАЕВ Гаджимурад Гасанович | G27: 22.06.95, МС | H27: МС | I27: СКФО | J27: Р.Дагестан, Махачкала, Абдулманапа Нурмагомедова | K27: Р.Дагестан | M27: Джанбеков Т.А., Магомедов М.А. | N27: СУМАЛАЕВ
A28: 88 | B28: 88 | D28: 23 | E28: САИДОВ Саид | F28: САИДОВ Саид Магомедович | G28: 24.08.94, МСМК | H28: МСМК | I28: СКФО | J28: Р.Дагестан, Махачкала, Абдулманапа Нурмагомедова | K28: Р.Дагестан | M28: Магомедов.М.А | N28: САИДОВ
A29: 88 | B29: 88 | D29: 24 | E29: БЕГОВ Бегов | F29: БЕГОВ Бегов Хайбулаевис | G29: 19.08.01, КМС | H29: КМС | I29: СКФО | J29: Р.Дагестан, Махачкала , ПР | K29: Р.Дагестан | M29: Магомедов М А | N29: БЕГОВ
A30: 88 | B30: 88 | C30: 29 | D30: 25 | E30: АЛИХАНОВ Абусупиян | F30: АЛИХАНОВ Абусупиян Саймирзаевич | G30: 01.05.89, МСМК | H30: МСМК | I30: ПФО | J30: Нижегородская обл., Кстово, ГБОУ ДО СШОР по самбо | K30: Нижегородская | M30: Гасанханов ЗМ, Тимошин АС | N30: АЛИХАНОВ
A31: 88 | B31: 88 | C31: 27 | D31: 26 | E31: КИЧКИН Сергей | F31: КИЧКИН Сергей Николаевич | G31: 05.02.97, КМС | H31: КМС | I31: ПФО | J31: Самарская обл., Тольятти, ОО СОФС | K31: Самарская | M31: Коновалов А.П., Будаков Н.Н. | N31: КИЧКИН
A32: 88 | B32: 88 | C32: 9 | D32: 27 | E32: МАГОМЕДОВ Ибрагим | F32: МАГОМЕДОВ Ибрагим Рамазанович | G32: 23.07.92, КМС | H32: КМС | I32: СФО | J32: Красноярский край, Норильск, Заполярная Федерация Самбо и Дзюдо | K32: Красноярский | M32: Азахов Алтай Адалат оглы | N32: МАГОМЕДОВ
A33: 88 | B33: 88 | D33: 28 | E33: ТАРАНОВ Лев | F33: ТАРАНОВ Лев Максимович | G33: 12.03.95, МС | H33: МС | I33: СПБ | J33: Санкт-Петербург, , КШВСМ | K33: Санкт-Петербург | M33: Коршунов А.И. | N33: ТАРАНОВ
A34: 88 | B34: 88 | C34: 35 | D34: 29 | E34: КОНОВАЛОВ Михаил | F34: КОНОВАЛОВ Михаил Вячеславович | G34: 08.07.00, МС | H34: МС | I34: СПБ | J34: Санкт-Петербург, СПб ГБУ СШОР «КШВСМ» | K34: Санкт-Петербург | M34: Давиденко И.А., Ненахов А.Г. | N34: КОНОВАЛОВ

Sheet пр.хода
A1: ВСЕРОССИЙСКАЯ ФЕДЕРАЦИЯ САМБО
A2: ПРОТОКОЛ ХОДА СОРЕВНОВАНИЙ (БОЕВОЕ САМБО)
C3: ='пр.взв'!C2 -> Чемпионат России по самбо (боевое) мужчины (отбор на Чемпионат Мира и Европы) ЕКП №23747
F4: ='пр.взв'!C3 -> 27.02 - 03.03.2023 г. г. Пермь | AG4: =AK4&" "&AL4 -> 29 участников | AH4: ='пр.взв'!G4 -> В.к. 88 кг | AK4: ='пр.взв'!O3 -> 29 | AL4: участников
AA5: =IFERROR(VLOOKUP(O9,'пр.взв'!$B$7:$H$39,2,0),"")
A6: А | J6: =IFERROR(VLOOKUP(I6,'пр.взв'!$D$6:$Q$38,2,0),"") | AJ6: Б | AQ6: =IF(I31=""," ",IF(I31=A10,A16,IF(I31=A16,A10,IF(I31=A22,A28,IF(I31=A28,A22,IF(I31=A34,A40,IF(I31=A40,A34,IF(I31=A46,A52,A46))))))))
AM9: 5м | AN9: =IF(I31=""," ",IF(G19=I31,G43,G19)) | AQ9: =IF(I31=""," ",IF(E13=I31,E25,IF(E25=I31,E13,IF(E37=I31,E49,E37))))
A10: 1 | B10: =IFERROR(VLOOKUP(1,'пр.взв'!$D$6:$Q$38,2,0),"") -> МАГОМЕДОВ Камал | C10: =IFERROR(VLOOKUP(A10,'пр.взв'!$D$6:$Q$38,5,0),"") -> МС | D10: =IFERROR(VLOOKUP(A10,'пр.взв'!$D$6:$Q$38,8,0),"") -> Тверская | AG10: =IFERROR(VLOOKUP(AJ10,'пр.взв'!$D$6:$Q$38,2,0),"") -> АДЛЕЙБА Саид | AH10: =IFERROR(VLOOKUP(AJ10,'пр.взв'!$D$6:$Q$38,5,0),"") -> КМС | AI10: =IFERROR(VLOOKUP(AJ10,'пр.взв'!$D$6:$Q$38,8,0),"") -> Ростовская | AJ10: 2 | AP10: =IF(K6=L9,K10,K6)
AM12: 5м | AN12: =IF(I79=""," ",IF(G67=I79,G91,G67)) | AQ12: =IF(I31=""," ",IF(I31=G19,G43,G19))
AM15: 5м | AN15: =IF(AB31=""," ",IF(AB31=AD19,AD43,AD19)) | AQ15: =IF(I79=""," ",IF(I79=A58,A64,IF(I79=A64,A58,IF(I79=A70,A76,IF(I79=A76,A70,IF(I79=A82,A88,IF(I79=A88,A82,IF(I79=A94,A100,A94))))))))
A16: 17 | B16: =IFERROR(VLOOKUP(17,'пр.взв'!$D$6:$Q$38,2,0),"") -> СНАХО Аслан | C16: =IFERROR(VLOOKUP(A16,'пр.взв'!$D$6:$Q$38,5,0),"") -> МС | D16: =IFERROR(VLOOKUP(A16,'пр.взв'!$D$6:$Q$38,8,0),"") -> Р.Адыгея | AG16: =IFERROR(VLOOKUP(AJ16:AJ21,'пр.взв'!$D$6:$Q$38,2,0),"") -> МАГОМЕДОВ Магомед | AH16: =IFERROR(VLOOKUP(AJ16,'пр.взв'!$D$6:$Q$38,5,0),"") -> МСМК | AI16: =IFERROR(VLOOKUP(AJ16,'пр.взв'!$D$6:$Q$38,8,0),"") -> Р.Дагестан | AJ16: 18
AP17: =IF(K83=L84,K88,K83)
AM18: 5м | AN18: =IF(AB79=""," ",IF(AB79=AD67,AD91,AD67)) | AP18: =IF(K93=L94,K97,K93) | AQ18: =IF(I79=""," ",IF(E61=I79,E73,IF(E73=I79,E61,IF(E85=I79,E97,E85))))
AM21: 9м | AN21: =IF(G19=""," ",IF(G19=E13,E25,E13)) | AQ21: =IF(I79=""," ",IF(I79=G67,G91,G67))
A22: 9 | B22: =IFERROR(VLOOKUP(A22,'пр.взв'!$D$6:$Q$38,2,0),"") -> ШАРИПОВ Рустам | C22: =IFERROR(VLOOKUP(A22,'пр.взв'!$D$6:$Q$38,5,0),"") -> КМС | D22: =IFERROR(VLOOKUP(A22,'пр.взв'!$D$6:$Q$38,8,0),"") -> Челябинская | AG22: =IFERROR(VLOOKUP(AJ22,'пр.взв'!$D$6:$Q$38,2,0),"") -> МАГОМЕДОВ Магомед | AH22: =IFERROR(VLOOKUP(AJ22,'пр.взв'!$D$6:$Q$38,5,0),"") -> ЗМС | AI22: =IFERROR(VLOOKUP(AJ22,'пр.взв'!$D$6:$Q$38,8,0),"") -> Московская | AJ22: 10
AM24: 9м | AN24: =IF(G43=""," ",IF(G43=E37,E49,E37)) | AO24: =IF(AND(OR(E12=I30,E24=I30),E37=G45),E50,IF(AND(OR(E12=I30,E24=I30),E50=G45),E37,IF(E12=G18,E24,E12))) | AP24: =IF(L9=M10,L12,L9) | AQ24: =IF(K55=""," ",IF(K55=I31,I79,I31))
AM27: 9м | AN27: =IF(G67=""," ",IF(G67=E61,E73,E61)) | AQ27: =IF(AB31=""," ",IF(AB31=AJ10,AJ16,IF(AB31=AJ16,AJ10,IF(AB31=AJ22,AJ28,IF(AB31=AJ28,AJ22,IF(AB31=AJ34,AJ40,IF(AB31=AJ40,AJ34,IF(AB31=AJ46,AJ52,AJ46))))))))
A28: 25 | B28: =IFERROR(VLOOKUP(A28,'пр.взв'!$D$6:$Q$38,2,0),"") -> АЛИХАНОВ Абусупиян | C28: =IFERROR(VLOOKUP(A28,'пр.взв'!$D$6:$Q$38,5,0),"") -> МСМК | D28: =IFERROR(VLOOKUP(A28,'пр.взв'!$D$6:$Q$38,8,0),"") -> Нижегородская | AG28: =IFERROR(VLOOKUP(AJ28:AJ33,'пр.взв'!$D$6:$Q$38,2,0),"") -> КИЧКИН Сергей | AH28: =IFERROR(VLOOKUP(AJ28,'пр.взв'!$D$6:$Q$38,5,0),"") -> КМС | AI28: =IFERROR(VLOOKUP(AJ28,'пр.взв'!$D$6:$Q$38,8,0),"") -> Самарская | AJ28: 26 | AP28: =IF(L18=M22,L24,L18)
AM30: 9м | AN30: =IF(G91=""," ",IF(G91=E85,E97,E85)) | AP30: =IF(L84=M88,L89,L84) | AQ30: =IF(AB31=""," ",IF(AB31=AF13,AF25,IF(AF25=AB31,AF13,IF(AF37=AB31,AF49,AF37))))
J31: =IFERROR(VLOOKUP(I31,'пр.взв'!$D$6:$Q$38,2,0),"") | X31: =IFERROR(VLOOKUP(AB31,'пр.взв'!$D$6:$Q$38,2,0),"")
O32: =IFERROR(VLOOKUP(P31,'пр.взв'!$B$7:$H$39,2,0),"")
AM33: 9м | AN33: =IF(AD19=""," ",IF(AD19=AF13,AF25,AF13)) | AQ33: =IF(AB31=""," ",IF(AB31=AD19,AD43,AD19))
A34: 5 | B34: =IFERROR(VLOOKUP(A34,'пр.взв'!$D$6:$Q$38,2,0),"") -> АВДЕЕВ Артём | C34: =IFERROR(VLOOKUP(A34,'пр.взв'!$D$6:$Q$38,5,0),"") -> МС | D34: =IFERROR(VLOOKUP(A34,'пр.взв'!$D$6:$Q$38,8,0),"") -> Самарская | P34: 1 место | AG34: =IFERROR(VLOOKUP(AJ34,'пр.взв'!$D$6:$Q$38,2,0),"") -> МАКСУТОВ Руслан | AH34: =IFERROR(VLOOKUP(AJ34,'пр.взв'!$D$6:$Q$38,5,0),"") -> МС | AI34: =IFERROR(VLOOKUP(AJ34,'пр.взв'!$D$6:$Q$38,8,0),"") -> Санкт-Петербург | AJ34: 6 | AP34: =IF(L94=M97,L99,L94)
AM36: 9м | AN36: =IF(AD43=""," ",IF(AD43=AF37,AF49,AF37)) | AQ36: =IF(AB79=""," ",IF(AB79=AJ58,AJ64,IF(AB79=AJ64,AJ58,IF(AB79=AJ70,AJ76,IF(AB79=AJ76,AJ70,IF(AB79=AJ82,AJ88,IF(AB79=AJ88,AJ82,IF(AB79=AJ94,AJ100,AJ94))))))))
P38: =IFERROR(VLOOKUP(O38,'пр.взв'!$D$6:$Q$39,2,0),"")
AM39: 9м | AN39: =IF(AD67=""," ",IF(AD67=AF61,AF73,AF61)) | AQ39: =IF(AB79=""," ",IF(AF61=AB79,AF73,IF(AF73=AB79,AF61,IF(AF85=AB79,AF97,AF85))))
A40: 21 | B40: =IFERROR(VLOOKUP(A40,'пр.взв'!$D$6:$Q$38,2,0),"") -> ЕГОРОВ Роман | C40: =IFERROR(VLOOKUP(A40,'пр.взв'!$D$6:$Q$38,5,0),"") -> МСМК | D40: =IFERROR(VLOOKUP(A40,'пр.взв'!$D$6:$Q$38,8,0),"") -> Москва | AG40: =IFERROR(VLOOKUP(AJ40:AJ45,'пр.взв'!$D$6:$Q$38,2,0),"") -> СУМАЛАЕВ Гаджимурад | AH40: =IFERROR(VLOOKUP(AJ40,'пр.взв'!$D$6:$Q$38,5,0),"") -> МС | AI40: =IFERROR(VLOOKUP(AJ40,'пр.взв'!$D$6:$Q$38,8,0),"") -> Р.Дагестан | AJ40: 22 | AO40: =IF(AND(OR(E60=I76,E71=I76),E81=G84),E89,IF(AND(OR(E60=I76,E71=I76),E89=G84),E81,IF(E60=G67,E71,E60)))
AM42: 9м | AN42: =IF(AD91=""," ",IF(AD91=AF85,AF97,AF85)) | AQ42: =IF(AB79=""," ",IF(AB79=AD67,AD91,AD67))
AM45: 17м | AN45: =IF(E13=""," ",IF(E13=A10,A16,A10)) | AP45: =IF(M88=N93,M97,M88) | AQ45: =IF(Z55=""," ",IF(Z55=AB31,AB79,AB31))
A46: 13 | B46: =IFERROR(VLOOKUP(A46,'пр.взв'!$D$6:$Q$38,2,0),"") -> МАГОМЕДОВ Нуцалхан | C46: =IFERROR(VLOOKUP(A46,'пр.взв'!$D$6:$Q$38,5,0),"") -> МС | D46: =IFERROR(VLOOKUP(A46,'пр.взв'!$D$6:$Q$38,8,0),"") -> Р.Дагестан | AG46: =IFERROR(VLOOKUP(AJ46,'пр.взв'!$D$6:$Q$38,2,0),"") -> ХАЧАТРЯН Давид | AH46: =IFERROR(VLOOKUP(AJ46,'пр.взв'!$D$6:$Q$38,5,0),"") -> МС | AI46: =IFERROR(VLOOKUP(AJ46,'пр.взв'!$D$6:$Q$38,8,0),"") -> Нижегородская | AJ46: 14
O47: =IFERROR(VLOOKUP(U44,'пр.взв'!$B$7:$H$39,2,0),"") | P47: 2 место
AM48: 17м | AN48: =IF(E25=""," ",IF(E25=A22,A28,A22)) | AP48: =IF(E13=I31,"",IF(AND(E13<>I31,E13=A10),A16,A10)) | AQ48: =IF(AF13=AB31,"",IF(AND(AF13<>AB31,AJ16=AJ10),AJ16,AJ10)) | AR48: =IF(AG13=AC31,"",IF(AND(AG13<>AC31,AK16=AK10),AK16,AK10))
AF49: 14
O51: =IF(O38=""," ",IF(O38=K55,Z55,K55)) | P51: =IFERROR(VLOOKUP(O51,'пр.взв'!$D$6:$Q$39,2,0),"") | AM51: 17м | AN51: =IF(E37=""," ",IF(E37=A34,A40,A34)) | AP51: =IF(E25=I31,"",IF(AND(E25<>I31,E25=A22),A28,A22)) | AQ51: =IF(AF25=AB31,"",IF(AND(AF25<>AB31,AF25=AJ22),AJ28,AJ22)) | AR51: =ROW() -> 51
A52: 29 | B52: =IFERROR(VLOOKUP(A52,'пр.взв'!$D$6:$Q$38,2,0),"") -> КОНОВАЛОВ Михаил | C52: =IFERROR(VLOOKUP(A52,'пр.взв'!$D$6:$Q$38,5,0),"") -> МС | D52: =IFERROR(VLOOKUP(A52,'пр.взв'!$D$6:$Q$38,8,0),"") -> Санкт-Петербург | AG52: =IFERROR(VLOOKUP(AJ52:AJ57,'пр.взв'!$D$6:$Q$38,2,0),"") | AH52: =IFERROR(VLOOKUP(AJ52,'пр.взв'!$D$6:$Q$38,5,0),"") | AI52: =IFERROR(VLOOKUP(AJ52,'пр.взв'!$D$6:$Q$38,8,0),"") | AJ52: 30
AM54: 17м | AN54: =IF(E61=""," ",IF(E61=A58,A64,A58)) | AP54: =IF(E37=I31,"",IF(AND(E37<>I31,E37=A34),A40,A34)) | AQ54: =IF(AF37=AB31,"",IF(AND(AF37<>AB31,AF37=AJ34),AJ40,AJ34)) | AR54: =IF(AG37=AC31,"",IF(AND(AG37<>AC31,AG37=AK34),AK40,AK34))
L55: =IFERROR(VLOOKUP(K55,'пр.взв'!$D$6:$Q$38,2,0),"") | W55: =IFERROR(VLOOKUP(Z55,'пр.взв'!$D$6:$Q$39,2,0),"")
AM57: 21м | AN57: =IF(E73=""," ",IF(E73=A70,A76,A70)) | AP57: =IF(E49=I31,"",IF(AND(E49<>I31,E49=A46),A52,A46)) | AQ57: =IF(AF49=AB31,"",IF(AND(AF49<>AB31,AF49=AJ46),AJ52,AJ46)) -> 30 | AR57: =IF(AG49=AC31,"",IF(AND(AG49<>AC31,AG49=AK46),AK52,AK46))
A58: 3 | B58: =IFERROR(VLOOKUP(A58,'пр.взв'!$D$6:$Q$38,2,0),"") -> ВАЛИЕВ Мансур | C58: =IFERROR(VLOOKUP(A58,'пр.взв'!$D$6:$Q$38,5,0),"") -> КМС | D58: =IFERROR(VLOOKUP(A58,'пр.взв'!$D$6:$Q$38,8,0),"") -> Р.Дагестан | P58: 3 место | AG58: =IFERROR(VLOOKUP(AJ58,'пр.взв'!$D$6:$Q$38,2,0),"") -> МЕДЖИДОВ джамбулат | AH58: =IFERROR(VLOOKUP(AJ58,'пр.взв'!$D$6:$Q$38,5,0),"") -> МС | AI58: =IFERROR(VLOOKUP(AJ58,'пр.взв'!$D$6:$Q$38,8,0),"") -> Костромская | AJ58: 4
AM60: 13м | AN60: =IF(E85=""," ",IF(E85=A82,A88,A82)) -> 7 | AP60: =IF(I79=E61,"",IF(E61=A58,A64,A58)) | AQ60: =IF(AF61=AB79,"",IF(AND(AF61<>AB79,AJ64=AF61),AJ58,AJ64)) | AR60: =IF(AG61=AC79,"",IF(AND(AG61<>AC79,AK64=AG61),AK58,AK64))
...

Sheet круги
B1: ВСТРЕЧИ ПО КРУГАМ | L1: ВСТРЕЧИ ПО КРУГАМ
B2: 1 | C2: КОВЕР | E2: ='пр.взв'!D4 | L2: =B2 -> 1 | M2: КОВЕР | O2: =E2
B3: A | C3: (Круг) | D3: 1/16 | F3: БОЕВОЕ | G3: ='пр.взв'!G4 -> В.к. 88 кг | L3: Б | M3: (Круг) | N3: 1/16 | P3: =F3 -> БОЕВОЕ | Q3: =G3 -> В.к. 88 кг
A4: № встр | B4: № п/ж | C4: Ф.И.О. | D4: Д. р., разряд | E4: Вед., регион | G4: Оценки | H4: Очки | I4: Рез-т | J4: Время | K4: № встр | L4: № п/ж | M4: Ф.И.О. | N4: Д. р., разряд | O4: Вед., регион | Q4: Оценки | R4: Очки | S4: Рез-т | T4: Время
A6: 1 | B6: 1 | C6: =IFERROR(VLOOKUP(B6,'пр.взв'!$D$6:$Q$38,2,0),"") -> МАГОМЕДОВ Камал | D6: =IFERROR(VLOOKUP(B6,'пр.взв'!$D$6:$Q$38,5,0),"") -> МС | E6: =IFERROR(VLOOKUP(B6,'пр.взв'!$D$6:$Q$38,6,0),"") -> ЦФО | F6: =IFERROR(VLOOKUP(B6,'пр.взв'!$D$6:$Q$38,8,0),"") -> Тверская | K6: 9 | L6: 2 | M6: =IFERROR(VLOOKUP(L6,'пр.взв'!$D$6:$Q$38,2,0),"") -> АДЛЕЙБА Саид | N6: =IFERROR(VLOOKUP(L6,'пр.взв'!$D$6:$Q$38,5,0),"") -> КМС | O6: =IFERROR(VLOOKUP(L6,'пр.взв'!$D$6:$Q$38,6,0),"") -> ЮФО | P6: =IFERROR(VLOOKUP(L6,'пр.взв'!$D$6:$Q$38,8,0),"") -> Ростовская
B8: 17 | C8: =IFERROR(VLOOKUP(B8,'пр.взв'!$D$6:$Q$38,2,0),"") -> СНАХО Аслан | D8: =IFERROR(VLOOKUP(B8,'пр.взв'!$D$6:$Q$38,5,0),"") -> МС | E8: =IFERROR(VLOOKUP(B8,'пр.взв'!$D$6:$Q$38,6,0),"") -> ЮФО | F8: =IFERROR(VLOOKUP(B8,'пр.взв'!$D$6:$Q$38,8,0),"") -> Р.Адыгея | L8: 18 | M8: =IFERROR(VLOOKUP(L8,'пр.взв'!$D$6:$Q$38,2,0),"") -> МАГОМЕДОВ Магомед | N8: =IFERROR(VLOOKUP(L8,'пр.взв'!$D$6:$Q$38,5,0),"") -> МСМК | O8: =IFERROR(VLOOKUP(L8,'пр.взв'!$D$6:$Q$38,6,0),"") -> СКФО | P8: =IFERROR(VLOOKUP(L8,'пр.взв'!$D$6:$Q$38,8,0),"") -> Р.Дагестан
A10: 2 | B10: 9 | C10: =IFERROR(VLOOKUP(B10,'пр.взв'!$D$6:$Q$38,2,0),"") -> ШАРИПОВ Рустам | D10: =IFERROR(VLOOKUP(B10,'пр.взв'!$D$6:$Q$38,5,0),"") -> КМС | E10: =IFERROR(VLOOKUP(B10,'пр.взв'!$D$6:$Q$38,6,0),"") -> УФО | F10: =IFERROR(VLOOKUP(B10,'пр.взв'!$D$6:$Q$38,8,0),"") -> Челябинская | K10: 10 | L10: 10 | M10: =IFERROR(VLOOKUP(L10,'пр.взв'!$D$6:$Q$38,2,0),"") -> МАГОМЕДОВ Магомед | N10: =IFERROR(VLOOKUP(L10,'пр.взв'!$D$6:$Q$38,5,0),"") -> ЗМС | O10: =IFERROR(VLOOKUP(L10,'пр.взв'!$D$6:$Q$38,6,0),"") -> МОС | P10: =IFERROR(VLOOKUP(L10,'пр.взв'!$D$6:$Q$38,8,0),"") -> Московская
B12: 25 | C12: =IFERROR(VLOOKUP(B12,'пр.взв'!$D$6:$Q$38,2,0),"") -> АЛИХАНОВ Абусупиян | D12: =IFERROR(VLOOKUP(B12,'пр.взв'!$D$6:$Q$38,5,0),"") -> МСМК | E12: =IFERROR(VLOOKUP(B12,'пр.взв'!$D$6:$Q$38,6,0),"") -> ПФО | F12: =IFERROR(VLOOKUP(B12,'пр.взв'!$D$6:$Q$38,8,0),"") -> Нижегородская | L12: 26 | M12: =IFERROR(VLOOKUP(L12,'пр.взв'!$D$6:$Q$38,2,0),"") -> КИЧКИН Сергей | N12: =IFERROR(VLOOKUP(L12,'пр.взв'!$D$6:$Q$38,5,0),"") -> КМС | O12: =IFERROR(VLOOKUP(L12,'пр.взв'!$D$6:$Q$38,6,0),"") -> ПФО | P12: =IFERROR(VLOOKUP(L12,'пр.взв'!$D$6:$Q$38,8,0),"") -> Самарская
A14: 3 | B14: 5 | C14: =IFERROR(VLOOKUP(B14,'пр.взв'!$D$6:$Q$38,2,0),"") -> АВДЕЕВ Артём | D14: =IFERROR(VLOOKUP(B14,'пр.взв'!$D$6:$Q$38,5,0),"") -> МС | E14: =IFERROR(VLOOKUP(B14,'пр.взв'!$D$6:$Q$38,6,0),"") -> ПФО | F14: =IFERROR(VLOOKUP(B14,'пр.взв'!$D$6:$Q$38,8,0),"") -> Самарская | K14: 11 | L14: 6 | M14: =IFERROR(VLOOKUP(L14,'пр.взв'!$D$6:$Q$38,2,0),"") -> МАКСУТОВ Руслан | N14: =IFERROR(VLOOKUP(L14,'пр.взв'!$D$6:$Q$38,5,0),"") -> МС | O14: =IFERROR(VLOOKUP(L14,'пр.взв'!$D$6:$Q$38,6,0),"") -> СПБ | P14: =IFERROR(VLOOKUP(L14,'пр.взв'!$D$6:$Q$38,8,0),"") -> Санкт-Петербург
B16: 21 | C16: =IFERROR(VLOOKUP(B16,'пр.взв'!$D$6:$Q$38,2,0),"") -> ЕГОРОВ Роман | D16: =IFERROR(VLOOKUP(B16,'пр.взв'!$D$6:$Q$38,5,0),"") -> МСМК | E16: =IFERROR(VLOOKUP(B16,'пр.взв'!$D$6:$Q$38,6,0),"") -> МОС | F16: =IFERROR(VLOOKUP(B16,'пр.взв'!$D$6:$Q$38,8,0),"") -> Москва | L16: 22 | M16: =IFERROR(VLOOKUP(L16,'пр.взв'!$D$6:$Q$38,2,0),"") -> СУМАЛАЕВ Гаджимурад | N16: =IFERROR(VLOOKUP(L16,'пр.взв'!$D$6:$Q$38,5,0),"") -> МС | O16: =IFERROR(VLOOKUP(L16,'пр.взв'!$D$6:$Q$38,6,0),"") -> СКФО | P16: =IFERROR(VLOOKUP(L16,'пр.взв'!$D$6:$Q$38,8,0),"") -> Р.Дагестан
A18: 4 | B18: 13 | C18: =IFERROR(VLOOKUP(B18,'пр.взв'!$D$6:$Q$38,2,0),"") -> МАГОМЕДОВ Нуцалхан | D18: =IFERROR(VLOOKUP(B18,'пр.взв'!$D$6:$Q$38,5,0),"") -> МС | E18: =IFERROR(VLOOKUP(B18,'пр.взв'!$D$6:$Q$38,6,0),"") -> СКФО | F18: =IFERROR(VLOOKUP(B18,'пр.взв'!$D$6:$Q$38,8,0),"") -> Р.Дагестан | K18: 12 | L18: 14 | M18: =IFERROR(VLOOKUP(L18,'пр.взв'!$D$6:$Q$38,2,0),"") -> ХАЧАТРЯН Давид | N18: =IFERROR(VLOOKUP(L18,'пр.взв'!$D$6:$Q$38,5,0),"") -> МС | O18: =IFERROR(VLOOKUP(L18,'пр.взв'!$D$6:$Q$38,6,0),"") -> ПФО | P18: =IFERROR(VLOOKUP(L18,'пр.взв'!$D$6:$Q$38,8,0),"") -> Нижегородская
B20: 29 | C20: =IFERROR(VLOOKUP(B20,'пр.взв'!$D$6:$Q$38,2,0),"") -> КОНОВАЛОВ Михаил | D20: =IFERROR(VLOOKUP(B20,'пр.взв'!$D$6:$Q$38,5,0),"") -> МС | E20: =IFERROR(VLOOKUP(B20,'пр.взв'!$D$6:$Q$38,6,0),"") -> СПБ | F20: =IFERROR(VLOOKUP(B20,'пр.взв'!$D$6:$Q$38,8,0),"") -> Санкт-Петербург | L20: 30 | M20: =IFERROR(VLOOKUP(L20,'пр.взв'!$D$6:$Q$38,2,0),"") | N20: =IFERROR(VLOOKUP(L20,'пр.взв'!$D$6:$Q$38,5,0),"") | O20: =IFERROR(VLOOKUP(L20,'пр.взв'!$D$6:$Q$38,6,0),"") | P20: =IFERROR(VLOOKUP(L20,'пр.взв'!$D$6:$Q$38,8,0),"")
A22: 5 | B22: 3 | C22: =IFERROR(VLOOKUP(B22,'пр.взв'!$D$6:$Q$38,2,0),"") -> ВАЛИЕВ Мансур | D22: =IFERROR(VLOOKUP(B22,'пр.взв'!$D$6:$Q$38,5,0),"") -> КМС | E22: =IFERROR(VLOOKUP(B22,'пр.взв'!$D$6:$Q$38,6,0),"") -> СКФО | F22: =IFERROR(VLOOKUP(B22,'пр.взв'!$D$6:$Q$38,8,0),"") -> Р.Дагестан | K22: 13 | L22: 4 | M22: =IFERROR(VLOOKUP(L22,'пр.взв'!$D$6:$Q$38,2,0),"") -> МЕДЖИДОВ джамбулат | N22: =IFERROR(VLOOKUP(L22,'пр.взв'!$D$6:$Q$38,5,0),"") -> МС | O22: =IFERROR(VLOOKUP(L22,'пр.взв'!$D$6:$Q$38,6,0),"") -> ЦФО | P22: =IFERROR(VLOOKUP(L22,'пр.взв'!$D$6:$Q$38,8,0),"") -> Костромская
B24: 19 | C24: =IFERROR(VLOOKUP(B24,'пр.взв'!$D$6:$Q$38,2,0),"") -> СИНЕПУП Ярослав | D24: =IFERROR(VLOOKUP(B24,'пр.взв'!$D$6:$Q$38,5,0),"") -> КМС | E24: =IFERROR(VLOOKUP(B24,'пр.взв'!$D$6:$Q$38,6,0),"") -> ЦФО | F24: =IFERROR(VLOOKUP(B24,'пр.взв'!$D$6:$Q$38,8,0),"") -> Калужская | L24: 20 | M24: =IFERROR(VLOOKUP(L24,'пр.взв'!$D$6:$Q$38,2,0),"") -> БАГИЯН Владислав | N24: =IFERROR(VLOOKUP(L24,'пр.взв'!$D$6:$Q$38,5,0),"") -> МС | O24: =IFERROR(VLOOKUP(L24,'пр.взв'!$D$6:$Q$38,6,0),"") -> ПФО | P24: =IFERROR(VLOOKUP(L24,'пр.взв'!$D$6:$Q$38,8,0),"") -> Самарская
A26: 6 | B26: 11 | C26: =IFERROR(VLOOKUP(B26,'пр.взв'!$D$6:$Q$38,2,0),"") -> РУСТАМОВ Солтан | D26: =IFERROR(VLOOKUP(B26,'пр.взв'!$D$6:$Q$38,5,0),"") -> КМС | E26: =IFERROR(VLOOKUP(B26,'пр.взв'!$D$6:$Q$38,6,0),"") -> СПБ | F26: =IFERROR(VLOOKUP(B26,'пр.взв'!$D$6:$Q$38,8,0),"") -> Санкт-Петербург | K26: 14 | L26: 12 | M26: =IFERROR(VLOOKUP(L26,'пр.взв'!$D$6:$Q$38,2,0),"") -> МАНУКЯН Аркади | N26: =IFERROR(VLOOKUP(L26,'пр.взв'!$D$6:$Q$38,5,0),"") -> КМС | O26: =IFERROR(VLOOKUP(L26,'пр.взв'!$D$6:$Q$38,6,0),"") -> УФО | P26: =IFERROR(VLOOKUP(L26,'пр.взв'!$D$6:$Q$38,8,0),"") -> Челябинская
B28: 27 | C28: =IFERROR(VLOOKUP(B28,'пр.взв'!$D$6:$Q$38,2,0),"") -> МАГОМЕДОВ Ибрагим | D28: =IFERROR(VLOOKUP(B28,'пр.взв'!$D$6:$Q$38,5,0),"") -> КМС | E28: =IFERROR(VLOOKUP(B28,'пр.взв'!$D$6:$Q$38,6,0),"") -> СФО | F28: =IFERROR(VLOOKUP(B28,'пр.взв'!$D$6:$Q$38,8,0),"") -> Красноярский | L28: 28 | M28: =IFERROR(VLOOKUP(L28,'пр.взв'!$D$6:$Q$38,2,0),"") -> ТАРАНОВ Лев | N28: =IFERROR(VLOOKUP(L28,'пр.взв'!$D$6:$Q$38,5,0),"") -> МС | O28: =IFERROR(VLOOKUP(L28,'пр.взв'!$D$6:$Q$38,6,0),"") -> СПБ | P28: =IFERROR(VLOOKUP(L28,'пр.взв'!$D$6:$Q$38,8,0),"") -> Санкт-Петербург
A30: 7 | B30: 7 | C30: =IFERROR(VLOOKUP(B30,'пр.взв'!$D$6:$Q$38,2,0),"") -> РОДИН Николай | D30: =IFERROR(VLOOKUP(B30,'пр.взв'!$D$6:$Q$38,5,0),"") -> МС | E30: =IFERROR(VLOOKUP(B30,'пр.взв'!$D$6:$Q$38,6,0),"") -> ПФО | F30: =IFERROR(VLOOKUP(B30,'пр.взв'!$D$6:$Q$38,8,0),"") -> Самарская | K30: 15 | L30: 8 | M30: =IFERROR(VLOOKUP(L30,'пр.взв'!$D$6:$Q$38,2,0),"") -> ФЕДОРЕНКО Руслан | N30: =IFERROR(VLOOKUP(L30,'пр.взв'!$D$6:$Q$38,5,0),"") -> КМС | O30: =IFERROR(VLOOKUP(L30,'пр.взв'!$D$6:$Q$38,6,0),"") -> СФО | P30: =IFERROR(VLOOKUP(L30,'пр.взв'!$D$6:$Q$38,8,0),"") -> Красноярский
B32: 23 | C32: =IFERROR(VLOOKUP(B32,'пр.взв'!$D$6:$Q$38,2,0),"") -> САИДОВ Саид | D32: =IFERROR(VLOOKUP(B32,'пр.взв'!$D$6:$Q$38,5,0),"") -> МСМК | E32: =IFERROR(VLOOKUP(B32,'пр.взв'!$D$6:$Q$38,6,0),"") -> СКФО | F32: =IFERROR(VLOOKUP(B32,'пр.взв'!$D$6:$Q$38,8,0),"") -> Р.Дагестан | L32: 24 | M32: =IFERROR(VLOOKUP(L32,'пр.взв'!$D$6:$Q$38,2,0),"") -> БЕГОВ Бегов | N32: =IFERROR(VLOOKUP(L32,'пр.взв'!$D$6:$Q$38,5,0),"") -> КМС | O32: =IFERROR(VLOOKUP(L32,'пр.взв'!$D$6:$Q$38,6,0),"") -> СКФО | P32: =IFERROR(VLOOKUP(L32,'пр.взв'!$D$6:$Q$38,8,0),"") -> Р.Дагестан
A34: 8 | B34: 15 | C34: =IFERROR(VLOOKUP(B34,'пр.взв'!$D$6:$Q$38,2,0),"") -> ЖДАНОВ Даниил | D34: =IFERROR(VLOOKUP(B34,'пр.взв'!$D$6:$Q$38,5,0),"") -> МС | E34: =IFERROR(VLOOKUP(B34,'пр.взв'!$D$6:$Q$38,6,0),"") -> ПФО | F34: =IFERROR(VLOOKUP(B34,'пр.взв'!$D$6:$Q$38,8,0),"") -> Самарская | K34: 16 | L34: 16 | M34: =IFERROR(VLOOKUP(L34,'пр.взв'!$D$6:$Q$38,2,0),"") -> ЗАХАРОВ Гордей | N34: =IFERROR(VLOOKUP(L34,'пр.взв'!$D$6:$Q$38,5,0),"") -> КМС | O34: =IFERROR(VLOOKUP(L34,'пр.взв'!$D$6:$Q$38,6,0),"") -> СПБ | P34: =IFERROR(VLOOKUP(L34,'пр.взв'!$D$6:$Q$38,8,0),"") -> Санкт-Петербург
B36: 31 | C36: =IFERROR(VLOOKUP(B36,'пр.взв'!$D$6:$Q$38,2,0),"") | D36: =IFERROR(VLOOKUP(B36,'пр.взв'!$D$6:$Q$38,5,0),"") | E36: =IFERROR(VLOOKUP(B36,'пр.взв'!$D$6:$Q$38,6,0),"") | F36: =IFERROR(VLOOKUP(B36,'пр.взв'!$D$6:$Q$38,8,0),"") | L36: 32 | M36: =IFERROR(VLOOKUP(L36,'пр.взв'!$D$6:$Q$39,2,0),"") | N36: =IFERROR(VLOOKUP(L36,'пр.взв'!$D$6:$Q$39,5,0),"") | O36: =IFERROR(VLOOKUP(L36,'пр.взв'!$D$6:$Q$39,6,0),"") | P36: =IFERROR(VLOOKUP(L36,'пр.взв'!$D$6:$Q$39,8,0),"")
B38: =B2 -> 1 | C38: КОВЕР | L38: =L2 -> 1 | M38: КОВЕР
B39: A | C39: (Круг) | D39: 1/8 | F39: =F3 -> БОЕВОЕ | G39: =G3 -> В.к. 88 кг | L39: Б | M39: (Круг) | N39: 1/8 | P39: =F39 -> БОЕВОЕ | Q39: =G39 -> В.к. 88 кг
A40: № встр | B40: № п/ж | C40: Ф.И.О. | D40: Д. р., разряд | E40: Вед., регион | G40: Оценки | H40: Очки | I40: Рез-т | J40: Время | K40: № встр | L40: № п/ж | M40: Ф.И.О. | N40: Д. р., разряд | O40: Вед., регион | Q40: Оценки | R40: Очки | S40: Рез-т | T40: Время
A42: 1 | B42: ='пр.хода'!E13 | C42: =IFERROR(VLOOKUP(B42,'пр.взв'!$D$6:$Q$38,2,0),"") | D42: =IFERROR(VLOOKUP(B42,'пр.взв'!$D$6:$Q$38,5,0),"") | E42: =IFERROR(VLOOKUP(B42,'пр.взв'!$D$6:$Q$38,6,0),"") | F42: =IFERROR(VLOOKUP(B42,'пр.взв'!$D$6:$Q$38,8,0),"") | K42: 5 | L42: ='пр.хода'!AF13 | M42: =IFERROR(VLOOKUP(L42,'пр.взв'!$D$6:$Q$38,2,0),"") | N42: =IFERROR(VLOOKUP(L42,'пр.взв'!$D$6:$Q$38,5,0),"") | O42: =IFERROR(VLOOKUP(L42,'пр.взв'!$D$6:$Q$38,6,0),"") | P42: =IFERROR(VLOOKUP(L42,'пр.взв'!$D$6:$Q$38,8,0),"")
B44: ='пр.хода'!E25 | C44: =IFERROR(VLOOKUP(B44,'пр.взв'!$D$6:$Q$38,2,0),"") | D44: =IFERROR(VLOOKUP(B44,'пр.взв'!$D$6:$Q$38,5,0),"") | E44: =IFERROR(VLOOKUP(B44,'пр.взв'!$D$6:$Q$38,6,0),"") | F44: =IFERROR(VLOOKUP(B44,'пр.взв'!$D$6:$Q$38,8,0),"") | L44: ='пр.хода'!AF25 | M44: =IFERROR(VLOOKUP(L44,'пр.взв'!$D$6:$Q$38,2,0),"") | N44: =IFERROR(VLOOKUP(L44,'пр.взв'!$D$6:$Q$38,5,0),"") | O44: =IFERROR(VLOOKUP(L44,'пр.взв'!$D$6:$Q$38,6,0),"") | P44: =IFERROR(VLOOKUP(L44,'пр.взв'!$D$6:$Q$38,8,0),"")
A46: 2 | B46: ='пр.хода'!E37 | C46: =IFERROR(VLOOKUP(B46,'пр.взв'!$D$6:$Q$38,2,0),"") | D46: =IFERROR(VLOOKUP(B46,'пр.взв'!$D$6:$Q$38,5,0),"") | E46: =IFERROR(VLOOKUP(B46,'пр.взв'!$D$6:$Q$38,6,0),"") | F46: =IFERROR(VLOOKUP(B46,'пр.взв'!$D$6:$Q$38,8,0),"") | K46: 6 | L46: ='пр.хода'!AF37 | M46: =IFERROR(VLOOKUP(L46,'пр.взв'!$D$6:$Q$38,2,0),"") | N46: =IFERROR(VLOOKUP(L46,'пр.взв'!$D$6:$Q$38,5,0),"") | O46: =IFERROR(VLOOKUP(L46,'пр.взв'!$D$6:$Q$38,6,0),"") | P46: =IFERROR(VLOOKUP(L46,'пр.взв'!$D$6:$Q$38,8,0),"")
B48: ='пр.хода'!E49 | C48: =IFERROR(VLOOKUP(B48,'пр.взв'!$D$6:$Q$38,2,0),"") | D48: =IFERROR(VLOOKUP(B48,'пр.взв'!$D$6:$Q$38,5,0),"") | E48: =IFERROR(VLOOKUP(B48,'пр.взв'!$D$6:$Q$38,6,0),"") | F48: =IFERROR(VLOOKUP(B48,'пр.взв'!$D$6:$Q$38,8,0),"") | L48: ='пр.хода'!AF49 -> 14 | M48: =IFERROR(VLOOKUP(L48,'пр.взв'!$D$6:$Q$38,2,0),"") -> ХАЧАТРЯН Давид | N48: =IFERROR(VLOOKUP(L48,'пр.взв'!$D$6:$Q$38,5,0),"") -> МС | O48: =IFERROR(VLOOKUP(L48,'пр.взв'!$D$6:$Q$38,6,0),"") -> ПФО | P48: =IFERROR(VLOOKUP(L48,'пр.взв'!$D$6:$Q$38,8,0),"") -> Нижегородская
A50: 3 | B50: ='пр.хода'!E61 | C50: =IFERROR(VLOOKUP(B50,'пр.взв'!$D$6:$Q$38,2,0),"") | D50: =IFERROR(VLOOKUP(B50,'пр.взв'!$D$6:$Q$38,5,0),"") | E50: =IFERROR(VLOOKUP(B50,'пр.взв'!$D$6:$Q$38,6,0),"") | F50: =IFERROR(VLOOKUP(B50,'пр.взв'!$D$6:$Q$38,8,0),"") | K50: 7 | L50: ='пр.хода'!AF61 | M50: =IFERROR(VLOOKUP(L50,'пр.взв'!$D$6:$Q$38,2,0),"") | N50: =IFERROR(VLOOKUP(L50,'пр.взв'!$D$6:$Q$38,5,0),"") | O50: =IFERROR(VLOOKUP(L50,'пр.взв'!$D$6:$Q$38,6,0),"") | P50: =IFERROR(VLOOKUP(L50,'пр.взв'!$D$6:$Q$38,8,0),"")
B52: ='пр.хода'!E73 | C52: =IFERROR(VLOOKUP(B52,'пр.взв'!$D$6:$Q$38,2,0),"") | D52: =IFERROR(VLOOKUP(B52,'пр.взв'!$D$6:$Q$38,5,0),"") | E52: =IFERROR(VLOOKUP(B52,'пр.взв'!$D$6:$Q$38,6,0),"") | F52: =IFERROR(VLOOKUP(B52,'пр.взв'!$D$6:$Q$38,8,0),"") | L52: ='пр.хода'!AF73 | M52: =IFERROR(VLOOKUP(L52,'пр.взв'!$D$6:$Q$38,2,0),"") | N52: =IFERROR(VLOOKUP(L52,'пр.взв'!$D$6:$Q$38,5,0),"") | O52: =IFERROR(VLOOKUP(L52,'пр.взв'!$D$6:$Q$38,6,0),"") | P52: =IFERROR(VLOOKUP(L52,'пр.взв'!$D$6:$Q$38,8,0),"")
A54: 4 | B54: ='пр.хода'!E85 -> 23 | C54: =IFERROR(VLOOKUP(B54,'пр.взв'!$D$6:$Q$38,2,0),"") -> САИДОВ Саид | D54: =IFERROR(VLOOKUP(B54,'пр.взв'!$D$6:$Q$38,5,0),"") -> МСМК | E54: =IFERROR(VLOOKUP(B54,'пр.взв'!$D$6:$Q$38,6,0),"") -> СКФО | F54: =IFERROR(VLOOKUP(B54,'пр.взв'!$D$6:$Q$38,8,0),"") -> Р.Дагестан | K54: 8 | L54: ='пр.хода'!AF85 | M54: =IFERROR(VLOOKUP(L54,'пр.взв'!$D$6:$Q$38,2,0),"") | N54: =IFERROR(VLOOKUP(L54,'пр.взв'!$D$6:$Q$38,5,0),"") | O54: =IFERROR(VLOOKUP(L54,'пр.взв'!$D$6:$Q$38,6,0),"") | P54: =IFERROR(VLOOKUP(L54,'пр.взв'!$D$6:$Q$38,8,0),"")
B56: ='пр.хода'!E97 -> 15 | C56: =IFERROR(VLOOKUP(B56,'пр.взв'!$D$6:$Q$38,2,0),"") -> ЖДАНОВ Даниил | D56: =IFERROR(VLOOKUP(B56,'пр.взв'!$D$6:$Q$38,5,0),"") -> МС | E56: =IFERROR(VLOOKUP(B56,'пр.взв'!$D$6:$Q$38,6,0),"") -> ПФО | F56: =IFERROR(VLOOKUP(B56,'пр.взв'!$D$6:$Q$38,8,0),"") -> Самарская | L56: ='пр.хода'!AF97 -> 16 | M56: =IFERROR(VLOOKUP(L56,'пр.взв'!$D$6:$Q$39,2,0),"") -> ЗАХАРОВ Гордей | N56: =IFERROR(VLOOKUP(L56,'пр.взв'!$D$6:$Q$39,5,0),"") -> КМС | O56: =IFERROR(VLOOKUP(L56,'пр.взв'!$D$6:$Q$39,6,0),"") -> СПБ | P56: =IFERROR(VLOOKUP(L56,'пр.взв'!$D$6:$Q$39,8,0),"") -> Санкт-Петербург
B58: =B38 -> 1 | C58: КОВЕР | L58: =L38 -> 1 | M58: КОВЕР
B59: A | C59: (Круг) | D59: 1/4 | F59: =F39 -> БОЕВОЕ | G59: =G39 -> В.к. 88 кг | L59: B | M59: (Круг) | N59: 1/4 | P59: =P39 -> БОЕВОЕ | Q59: =G59 -> В.к. 88 кг
A60: № встр | B60: № п/ж | C60: Ф.И.О. | D60: Д. р., разряд | E60: Вед., регион | G60: Оценки | H60: Очки | I60: Рез-т | J60: Время | K60: № встр | L60: № п/ж | M60: Ф.И.О. | N60: Д. р., разряд | O60: Вед., регион | Q60: Оценки | R60: Очки | S60: Рез-т | T60: Время
A62: 1 | B62: ='пр.хода'!G19 | C62: =IFERROR(VLOOKUP(B62,'пр.взв'!$D$6:$Q$38,2,0),"") | D62: =IFERROR(VLOOKUP(B62,'пр.взв'!$D$6:$Q$38,5,0),"") | E62: =IFERROR(VLOOKUP(B62,'пр.взв'!$D$6:$Q$38,6,0),"") | F62: =IFERROR(VLOOKUP(B62,'пр.взв'!$D$6:$Q$38,8,0),"") | K62: 3 | L62: ='пр.хода'!AD19 | M62: =IFERROR(VLOOKUP(L62,'пр.взв'!$D$6:$Q$38,2,0),"") | N62: =IFERROR(VLOOKUP(L62,'пр.взв'!$D$6:$Q$38,5,0),"") | O62: =IFERROR(VLOOKUP(L62,'пр.взв'!$D$6:$Q$38,6,0),"") | P62: =IFERROR(VLOOKUP(L62,'пр.взв'!$D$6:$Q$38,8,0),"")
B64: ='пр.хода'!G43 | C64: =IFERROR(VLOOKUP(B64,'пр.взв'!$D$6:$Q$38,2,0),"") | D64: =IFERROR(VLOOKUP(B64,'пр.взв'!$D$6:$Q$38,5,0),"") | E64: =IFERROR(VLOOKUP(B64,'пр.взв'!$D$6:$Q$38,6,0),"") | F64: =IFERROR(VLOOKUP(B64,'пр.взв'!$D$6:$Q$38,8,0),"") | L64: ='пр.хода'!AD43 | M64: =IFERROR(VLOOKUP(L64,'пр.взв'!$D$6:$Q$38,2,0),"") | N64: =IFERROR(VLOOKUP(L64,'пр.взв'!$D$6:$Q$38,5,0),"") | O64: =IFERROR(VLOOKUP(L64,'пр.взв'!$D$6:$Q$38,6,0),"") | P64: =IFERROR(VLOOKUP(L64,'пр.взв'!$D$6:$Q$38,8,0),"")
A66: 2 | B66: ='пр.хода'!G67 | C66: =IFERROR(VLOOKUP(B66,'пр.взв'!$D$6:$Q$38,2,0),"") | D66: =IFERROR(VLOOKUP(B66,'пр.взв'!$D$6:$Q$38,5,0),"") | E66: =IFERROR(VLOOKUP(B66,'пр.взв'!$D$6:$Q$38,6,0),"") | F66: =IFERROR(VLOOKUP(B66,'пр.взв'!$D$6:$Q$38,8,0),"") | K66: 4 | L66: ='пр.хода'!AD67 | M66: =IFERROR(VLOOKUP(L66,'пр.взв'!$D$6:$Q$38,2,0),"") | N66: =IFERROR(VLOOKUP(L66,'пр.взв'!$D$6:$Q$38,5,0),"") | O66: =IFERROR(VLOOKUP(L66,'пр.взв'!$D$6:$Q$38,6,0),"") | P66: =IFERROR(VLOOKUP(L66,'пр.взв'!$D$6:$Q$38,8,0),"")
B68: ='пр.хода'!G91 | C68: =IFERROR(VLOOKUP(B68,'пр.взв'!$D$6:$Q$38,2,0),"") | D68: =IFERROR(VLOOKUP(B68,'пр.взв'!$D$6:$Q$38,5,0),"") | E68: =IFERROR(VLOOKUP(B68,'пр.взв'!$D$6:$Q$38,6,0),"") | F68: =IFERROR(VLOOKUP(B68,'пр.взв'!$D$6:$Q$38,8,0),"") | L68: ='пр.хода'!AD91 | M68: =IFERROR(VLOOKUP(L68,'пр.взв'!$D$6:$Q$39,2,0),"") | N68: =IFERROR(VLOOKUP(L68,'пр.взв'!$D$6:$Q$39,5,0),"") | O68: =IFERROR(VLOOKUP(L68,'пр.взв'!$D$6:$Q$39,6,0),"") | P68: =IFERROR(VLOOKUP(L68,'пр.взв'!$D$6:$Q$39,8,0),"")
B70: =B58 -> 1 | C70: КОВЕР | L70: =L58 -> 1 | M70: КОВЕР
B71: A | C71: Полуфинал | F71: =F59 -> БОЕВОЕ | G71: =G59 -> В.к. 88 кг | L71: Б | M71: Полуфинал | P71: =P59 -> БОЕВОЕ | Q71: =G71 -> В.к. 88 кг
...

Sheet Табло
B1: ВСТРЕЧИ ПО КРУГАМ | M1: ВСТРЕЧИ ПО КРУГАМ
B2: 3 | C2: КОВЕР | E2: ='пр.взв'!H4 | M2: =B2 -> 3 | N2: КОВЕР | P2: =F2
B3: A | C3: (Круг) | D3: 1/16 | F3: 1/16 | G3: ='пр.взв'!G4 -> В.к. 88 кг | M3: Б | N3: (Круг) | O3: 1/16 | P3: 1/16 | R3: =G3 -> В.к. 88 кг
A4: № встр | B4: № п/ж | C4: Ф.И.О. | D4: Д. р., разряд | E4: Округ., субъект | G4: Оценки | H4: Очки | I4: Рез-т | J4: Время | L4: № встр | M4: № п/ж | N4: Ф.И.О. | O4: Д. р., разряд | P4: Вед., регион | R4: Оценки | S4: Очки | T4: Рез-т | U4: Время
A41: 1 | B41: 1 | C41: =IFERROR(VLOOKUP(B41,'пр.взв'!$D$6:$Q$38,2,0),"") -> МАГОМЕДОВ Камал | D41: =IFERROR(VLOOKUP(B41,'пр.взв'!$D$6:$Q$35,5,0),"") -> МС | E41: =IFERROR(VLOOKUP(B41,'пр.взв'!$D$6:$Q$38,6,0),"") -> ЦФО | F41: =IFERROR(VLOOKUP(B41,'пр.взв'!$D$6:$Q$38,8,0),"") -> Тверская | L41: 9 | M41: 2 | N41: =IFERROR(VLOOKUP(M41,'пр.взв'!$D$6:$Q$38,2,0),"") -> АДЛЕЙБА Саид | O41: =IFERROR(VLOOKUP(M41,'пр.взв'!$D$6:$Q$35,5,0),"") -> КМС | P41: =IFERROR(VLOOKUP(M41,'пр.взв'!$D$6:$Q$38,6,0),"") -> ЮФО | Q41: =IFERROR(VLOOKUP(M41,'пр.взв'!$D$6:$Q$38,8,0),"") -> Ростовская
B42: 17 | C42: =IFERROR(VLOOKUP(B42,'пр.взв'!$D$6:$Q$38,2,0),"") -> СНАХО Аслан | D42: =IFERROR(VLOOKUP(B42,'пр.взв'!$D$6:$Q$35,5,0),"") -> МС | E42: =IFERROR(VLOOKUP(B42,'пр.взв'!$D$6:$Q$38,6,0),"") -> ЮФО | F42: =IFERROR(VLOOKUP(B42,'пр.взв'!$D$6:$Q$38,8,0),"") -> Р.Адыгея | M42: 18 | N42: =IFERROR(VLOOKUP(M42,'пр.взв'!$D$6:$Q$38,2,0),"") -> МАГОМЕДОВ Магомед | O42: =IFERROR(VLOOKUP(M42,'пр.взв'!$D$6:$Q$35,5,0),"") -> МСМК | P42: =IFERROR(VLOOKUP(M42,'пр.взв'!$D$6:$Q$38,6,0),"") -> СКФО | Q42: =IFERROR(VLOOKUP(M42,'пр.взв'!$D$6:$Q$38,8,0),"") -> Р.Дагестан
A43: 2 | B43: 9 | C43: =IFERROR(VLOOKUP(B43,'пр.взв'!$D$6:$Q$38,2,0),"") -> ШАРИПОВ Рустам | D43: =IFERROR(VLOOKUP(B43,'пр.взв'!$D$6:$Q$35,5,0),"") -> КМС | E43: =IFERROR(VLOOKUP(B43,'пр.взв'!$D$6:$Q$38,6,0),"") -> УФО | F43: =IFERROR(VLOOKUP(B43,'пр.взв'!$D$6:$Q$38,8,0),"") -> Челябинская | L43: 10 | M43: 10 | N43: =IFERROR(VLOOKUP(M43,'пр.взв'!$D$6:$Q$38,2,0),"") -> МАГОМЕДОВ Магомед | O43: =IFERROR(VLOOKUP(M43,'пр.взв'!$D$6:$Q$35,5,0),"") -> ЗМС | P43: =IFERROR(VLOOKUP(M43,'пр.взв'!$D$6:$Q$38,6,0),"") -> МОС | Q43: =IFERROR(VLOOKUP(M43,'пр.взв'!$D$6:$Q$38,8,0),"") -> Московская
B44: 25 | C44: =IFERROR(VLOOKUP(B44,'пр.взв'!$D$6:$Q$38,2,0),"") -> АЛИХАНОВ Абусупиян | D44: =IFERROR(VLOOKUP(B44,'пр.взв'!$D$6:$Q$35,5,0),"") -> МСМК | E44: =IFERROR(VLOOKUP(B44,'пр.взв'!$D$6:$Q$38,6,0),"") -> ПФО | F44: =IFERROR(VLOOKUP(B44,'пр.взв'!$D$6:$Q$38,8,0),"") -> Нижегородская | M44: 26 | N44: =IFERROR(VLOOKUP(M44,'пр.взв'!$D$6:$Q$38,2,0),"") -> КИЧКИН Сергей | O44: =IFERROR(VLOOKUP(M44,'пр.взв'!$D$6:$Q$35,5,0),"") -> КМС | P44: =IFERROR(VLOOKUP(M44,'пр.взв'!$D$6:$Q$38,6,0),"") -> ПФО | Q44: =IFERROR(VLOOKUP(M44,'пр.взв'!$D$6:$Q$38,8,0),"") -> Самарская
A45: 3 | B45: 5 | C45: =IFERROR(VLOOKUP(B45,'пр.взв'!$D$6:$Q$38,2,0),"") -> АВДЕЕВ Артём | D45: =IFERROR(VLOOKUP(B45,'пр.взв'!$D$6:$Q$35,5,0),"") -> МС | E45: =IFERROR(VLOOKUP(B45,'пр.взв'!$D$6:$Q$38,6,0),"") -> ПФО | F45: =IFERROR(VLOOKUP(B45,'пр.взв'!$D$6:$Q$38,8,0),"") -> Самарская | L45: 11 | M45: 6 | N45: =IFERROR(VLOOKUP(M45,'пр.взв'!$D$6:$Q$38,2,0),"") -> МАКСУТОВ Руслан | O45: =IFERROR(VLOOKUP(M45,'пр.взв'!$D$6:$Q$35,5,0),"") -> МС | P45: =IFERROR(VLOOKUP(M45,'пр.взв'!$D$6:$Q$38,6,0),"") -> СПБ | Q45: =IFERROR(VLOOKUP(M45,'пр.взв'!$D$6:$Q$38,8,0),"") -> Санкт-Петербург
B46: 21 | C46: =IFERROR(VLOOKUP(B46,'пр.взв'!$D$6:$Q$38,2,0),"") -> ЕГОРОВ Роман | D46: =IFERROR(VLOOKUP(B46,'пр.взв'!$D$6:$Q$35,5,0),"") -> МСМК | E46: =IFERROR(VLOOKUP(B46,'пр.взв'!$D$6:$Q$38,6,0),"") -> МОС | F46: =IFERROR(VLOOKUP(B46,'пр.взв'!$D$6:$Q$38,8,0),"") -> Москва | M46: 22 | N46: =IFERROR(VLOOKUP(M46,'пр.взв'!$D$6:$Q$38,2,0),"") -> СУМАЛАЕВ Гаджимурад | O46: =IFERROR(VLOOKUP(M46,'пр.взв'!$D$6:$Q$35,5,0),"") -> МС | P46: =IFERROR(VLOOKUP(M46,'пр.взв'!$D$6:$Q$38,6,0),"") -> СКФО | Q46: =IFERROR(VLOOKUP(M46,'пр.взв'!$D$6:$Q$38,8,0),"") -> Р.Дагестан
A47: 4 | B47: 13 | C47: =IFERROR(VLOOKUP(B47,'пр.взв'!$D$6:$Q$38,2,0),"") -> МАГОМЕДОВ Нуцалхан | D47: =IFERROR(VLOOKUP(B47,'пр.взв'!$D$6:$Q$35,5,0),"") -> МС | E47: =IFERROR(VLOOKUP(B47,'пр.взв'!$D$6:$Q$38,6,0),"") -> СКФО | F47: =IFERROR(VLOOKUP(B47,'пр.взв'!$D$6:$Q$38,8,0),"") -> Р.Дагестан | L47: 12 | M47: 14 | N47: =IFERROR(VLOOKUP(M47,'пр.взв'!$D$6:$Q$38,2,0),"") -> ХАЧАТРЯН Давид | O47: =IFERROR(VLOOKUP(M47,'пр.взв'!$D$6:$Q$35,5,0),"") -> МС | P47: =IFERROR(VLOOKUP(M47,'пр.взв'!$D$6:$Q$38,6,0),"") -> ПФО | Q47: =IFERROR(VLOOKUP(M47,'пр.взв'!$D$6:$Q$38,8,0),"") -> Нижегородская
B48: 29 | C48: =IFERROR(VLOOKUP(B48,'пр.взв'!$D$6:$Q$38,2,0),"") -> КОНОВАЛОВ Михаил | D48: =IFERROR(VLOOKUP(B48,'пр.взв'!$D$6:$Q$35,5,0),"") -> МС | E48: =IFERROR(VLOOKUP(B48,'пр.взв'!$D$6:$Q$38,6,0),"") -> СПБ | F48: =IFERROR(VLOOKUP(B48,'пр.взв'!$D$6:$Q$38,8,0),"") -> Санкт-Петербург | M48: 30 | N48: =IFERROR(VLOOKUP(M48,'пр.взв'!$D$6:$Q$38,2,0),"") | O48: =IFERROR(VLOOKUP(M48,'пр.взв'!$D$6:$Q$35,5,0),"") | P48: =IFERROR(VLOOKUP(M48,'пр.взв'!$D$6:$Q$38,6,0),"") | Q48: =IFERROR(VLOOKUP(M48,'пр.взв'!$D$6:$Q$38,8,0),"")
A49: 5 | B49: 3 | C49: =IFERROR(VLOOKUP(B49,'пр.взв'!$D$6:$Q$38,2,0),"") -> ВАЛИЕВ Мансур | D49: =IFERROR(VLOOKUP(B49,'пр.взв'!$D$6:$Q$35,5,0),"") -> КМС | E49: =IFERROR(VLOOKUP(B49,'пр.взв'!$D$6:$Q$38,6,0),"") -> СКФО | F49: =IFERROR(VLOOKUP(B49,'пр.взв'!$D$6:$Q$38,8,0),"") -> Р.Дагестан | L49: 13 | M49: 4 | N49: =IFERROR(VLOOKUP(M49,'пр.взв'!$D$6:$Q$38,2,0),"") -> МЕДЖИДОВ джамбулат | O49: =IFERROR(VLOOKUP(M49,'пр.взв'!$D$6:$Q$35,5,0),"") -> МС | P49: =IFERROR(VLOOKUP(M49,'пр.взв'!$D$6:$Q$38,6,0),"") -> ЦФО | Q49: =IFERROR(VLOOKUP(M49,'пр.взв'!$D$6:$Q$38,8,0),"") -> Костромская
B50: 19 | C50: =IFERROR(VLOOKUP(B50,'пр.взв'!$D$6:$Q$38,2,0),"") -> СИНЕПУП Ярослав | D50: =IFERROR(VLOOKUP(B50,'пр.взв'!$D$6:$Q$35,5,0),"") -> КМС | E50: =IFERROR(VLOOKUP(B50,'пр.взв'!$D$6:$Q$38,6,0),"") -> ЦФО | F50: =IFERROR(VLOOKUP(B50,'пр.взв'!$D$6:$Q$38,8,0),"") -> Калужская | M50: 20 | N50: =IFERROR(VLOOKUP(M50,'пр.взв'!$D$6:$Q$38,2,0),"") -> БАГИЯН Владислав | O50: =IFERROR(VLOOKUP(M50,'пр.взв'!$D$6:$Q$35,5,0),"") -> МС | P50: =IFERROR(VLOOKUP(M50,'пр.взв'!$D$6:$Q$38,6,0),"") -> ПФО | Q50: =IFERROR(VLOOKUP(M50,'пр.взв'!$D$6:$Q$38,8,0),"") -> Самарская
A51: 6 | B51: 11 | C51: =IFERROR(VLOOKUP(B51,'пр.взв'!$D$6:$Q$38,2,0),"") -> РУСТАМОВ Солтан | D51: =IFERROR(VLOOKUP(B51,'пр.взв'!$D$6:$Q$35,5,0),"") -> КМС | E51: =IFERROR(VLOOKUP(B51,'пр.взв'!$D$6:$Q$38,6,0),"") -> СПБ | F51: =IFERROR(VLOOKUP(B51,'пр.взв'!$D$6:$Q$38,8,0),"") -> Санкт-Петербург | L51: 14 | M51: 12 | N51: =IFERROR(VLOOKUP(M51,'пр.взв'!$D$6:$Q$38,2,0),"") -> МАНУКЯН Аркади | O51: =IFERROR(VLOOKUP(M51,'пр.взв'!$D$6:$Q$35,5,0),"") -> КМС | P51: =IFERROR(VLOOKUP(M51,'пр.взв'!$D$6:$Q$38,6,0),"") -> УФО | Q51: =IFERROR(VLOOKUP(M51,'пр.взв'!$D$6:$Q$38,8,0),"") -> Челябинская
B52: 27 | C52: =IFERROR(VLOOKUP(B52,'пр.взв'!$D$6:$Q$38,2,0),"") -> МАГОМЕДОВ Ибрагим | D52: =IFERROR(VLOOKUP(B52,'пр.взв'!$D$6:$Q$35,5,0),"") -> КМС | E52: =IFERROR(VLOOKUP(B52,'пр.взв'!$D$6:$Q$38,6,0),"") -> СФО | F52: =IFERROR(VLOOKUP(B52,'пр.взв'!$D$6:$Q$38,8,0),"") -> Красноярский | M52: 28 | N52: =IFERROR(VLOOKUP(M52,'пр.взв'!$D$6:$Q$38,2,0),"") -> ТАРАНОВ Лев | O52: =IFERROR(VLOOKUP(M52,'пр.взв'!$D$6:$Q$35,5,0),"") -> МС | P52: =IFERROR(VLOOKUP(M52,'пр.взв'!$D$6:$Q$38,6,0),"") -> СПБ | Q52: =IFERROR(VLOOKUP(M52,'пр.взв'!$D$6:$Q$38,8,0),"") -> Санкт-Петербург
A53: 7 | B53: 7 | C53: =IFERROR(VLOOKUP(B53,'пр.взв'!$D$6:$Q$38,2,0),"") -> РОДИН Николай | D53: =IFERROR(VLOOKUP(B53,'пр.взв'!$D$6:$Q$35,5,0),"") -> МС | E53: =IFERROR(VLOOKUP(B53,'пр.взв'!$D$6:$Q$38,6,0),"") -> ПФО | F53: =IFERROR(VLOOKUP(B53,'пр.взв'!$D$6:$Q$38,8,0),"") -> Самарская | L53: 15 | M53: 8 | N53: =IFERROR(VLOOKUP(M53,'пр.взв'!$D$6:$Q$38,2,0),"") -> ФЕДОРЕНКО Руслан | O53: =IFERROR(VLOOKUP(M53,'пр.взв'!$D$6:$Q$35,5,0),"") -> КМС | P53: =IFERROR(VLOOKUP(M53,'пр.взв'!$D$6:$Q$38,6,0),"") -> СФО | Q53: =IFERROR(VLOOKUP(M53,'пр.взв'!$D$6:$Q$38,8,0),"") -> Красноярский
B54: 23 | C54: =IFERROR(VLOOKUP(B54,'пр.взв'!$D$6:$Q$38,2,0),"") -> САИДОВ Саид | D54: =IFERROR(VLOOKUP(B54,'пр.взв'!$D$6:$Q$35,5,0),"") -> МСМК | E54: =IFERROR(VLOOKUP(B54,'пр.взв'!$D$6:$Q$38,6,0),"") -> СКФО | F54: =IFERROR(VLOOKUP(B54,'пр.взв'!$D$6:$Q$38,8,0),"") -> Р.Дагестан | M54: 24 | N54: =IFERROR(VLOOKUP(M54,'пр.взв'!$D$6:$Q$38,2,0),"") -> БЕГОВ Бегов | O54: =IFERROR(VLOOKUP(M54,'пр.взв'!$D$6:$Q$35,5,0),"") -> КМС | P54: =IFERROR(VLOOKUP(M54,'пр.взв'!$D$6:$Q$38,6,0),"") -> СКФО | Q54: =IFERROR(VLOOKUP(M54,'пр.взв'!$D$6:$Q$38,8,0),"") -> Р.Дагестан
A55: 8 | B55: 15 | C55: =IFERROR(VLOOKUP(B55,'пр.взв'!$D$6:$Q$38,2,0),"") -> ЖДАНОВ Даниил | D55: =IFERROR(VLOOKUP(B55,'пр.взв'!$D$6:$Q$35,5,0),"") -> МС | E55: =IFERROR(VLOOKUP(B55,'пр.взв'!$D$6:$Q$38,6,0),"") -> ПФО | F55: =IFERROR(VLOOKUP(B55,'пр.взв'!$D$6:$Q$38,8,0),"") -> Самарская | L55: 16 | M55: 16 | N55: =IFERROR(VLOOKUP(M55,'пр.взв'!$D$6:$Q$38,2,0),"") -> ЗАХАРОВ Гордей | O55: =IFERROR(VLOOKUP(M55,'пр.взв'!$D$6:$Q$35,5,0),"") -> КМС | P55: =IFERROR(VLOOKUP(M55,'пр.взв'!$D$6:$Q$38,6,0),"") -> СПБ | Q55: =IFERROR(VLOOKUP(M55,'пр.взв'!$D$6:$Q$38,8,0),"") -> Санкт-Петербург
B56: 31 | C56: =IFERROR(VLOOKUP(B56,'пр.взв'!$D$6:$Q$38,2,0),"") | D56: =IFERROR(VLOOKUP(B56,'пр.взв'!$D$6:$Q$35,5,0),"") | E56: =IFERROR(VLOOKUP(B56,'пр.взв'!$D$6:$Q$38,6,0),"") | F56: =IFERROR(VLOOKUP(B56,'пр.взв'!$D$6:$Q$38,8,0),"") | M56: 32 | N56: =IFERROR(VLOOKUP(M56,'пр.взв'!$D$6:$Q$38,2,0),"") | O56: =IFERROR(VLOOKUP(M56,'пр.взв'!$D$6:$Q$35,5,0),"") | P56: =IFERROR(VLOOKUP(M56,'пр.взв'!$D$6:$Q$38,6,0),"") | Q56: =IFERROR(VLOOKUP(M56,'пр.взв'!$D$6:$Q$38,8,0),"")
B57: № п/ж | C57: Подгруппа А | D57: 1/8 | F57: 1/8 | G57: =G3 -> В.к. 88 кг | M57: № п/ж | N57: Подгруппа Б | O57: 1/8 | Q57: 1/8 | R57: =G57 -> В.к. 88 кг
A58: № встр | B58: № п/ж | C58: Ф.И.О. | D58: Д. р., разряд | E58: Округ., субъект | G58: Оценки | H58: Очки | I58: Рез-т | J58: Время | L58: № встр | N58: Ф.И.О. | O58: Д. р., разряд | P58: Округ., субъект | R58: Оценки | S58: Очки | T58: Рез-т | U58: Время
A60: 1 | B60: ='пр.хода'!E13 | C60: =IFERROR(VLOOKUP(B60,'пр.взв'!$D$6:$Q$38,2,0),"") | D60: =IFERROR(VLOOKUP(B60,'пр.взв'!$D$6:$Q$35,5,0),"") | E60: =IFERROR(VLOOKUP(B60,'пр.взв'!$D$6:$Q$38,6,0),"") | F60: =IFERROR(VLOOKUP(B60,'пр.взв'!$D$6:$Q$38,8,0),"") | L60: 5 | M60: ='пр.хода'!AF13 | N60: =IFERROR(VLOOKUP(M60,'пр.взв'!$D$6:$Q$38,2,0),"") | O60: =IFERROR(VLOOKUP(M60,'пр.взв'!$D$6:$Q$35,5,0),"") | P60: =IFERROR(VLOOKUP(M60,'пр.взв'!$D$6:$Q$38,6,0),"") | Q60: =IFERROR(VLOOKUP(M60,'пр.взв'!$D$6:$Q$38,8,0),"")
B61: ='пр.хода'!E25 | C61: =IFERROR(VLOOKUP(B61,'пр.взв'!$D$6:$Q$38,2,0),"") | D61: =IFERROR(VLOOKUP(B61,'пр.взв'!$D$6:$Q$35,5,0),"") | E61: =IFERROR(VLOOKUP(B61,'пр.взв'!$D$6:$Q$38,6,0),"") | F61: =IFERROR(VLOOKUP(B61,'пр.взв'!$D$6:$Q$38,8,0),"") | M61: ='пр.хода'!AF25 | N61: =IFERROR(VLOOKUP(M61,'пр.взв'!$D$6:$Q$38,2,0),"") | O61: =IFERROR(VLOOKUP(M61,'пр.взв'!$D$6:$Q$35,5,0),"") | P61: =IFERROR(VLOOKUP(M61,'пр.взв'!$D$6:$Q$38,6,0),"") | Q61: =IFERROR(VLOOKUP(M61,'пр.взв'!$D$6:$Q$38,8,0),"")
A62: 2 | B62: ='пр.хода'!E37 | C62: =IFERROR(VLOOKUP(B62,'пр.взв'!$D$6:$Q$38,2,0),"") | D62: =IFERROR(VLOOKUP(B62,'пр.взв'!$D$6:$Q$35,5,0),"") | E62: =IFERROR(VLOOKUP(B62,'пр.взв'!$D$6:$Q$38,6,0),"") | F62: =IFERROR(VLOOKUP(B62,'пр.взв'!$D$6:$Q$38,8,0),"") | L62: 6 | M62: ='пр.хода'!AF37 | N62: =IFERROR(VLOOKUP(M62,'пр.взв'!$D$6:$Q$38,2,0),"") | O62: =IFERROR(VLOOKUP(M62,'пр.взв'!$D$6:$Q$35,5,0),"") | P62: =IFERROR(VLOOKUP(M62,'пр.взв'!$D$6:$Q$38,6,0),"") | Q62: =IFERROR(VLOOKUP(M62,'пр.взв'!$D$6:$Q$38,8,0),"")
B63: ='пр.хода'!E49 | C63: =IFERROR(VLOOKUP(B63,'пр.взв'!$D$6:$Q$38,2,0),"") | D63: =IFERROR(VLOOKUP(B63,'пр.взв'!$D$6:$Q$35,5,0),"") | E63: =IFERROR(VLOOKUP(B63,'пр.взв'!$D$6:$Q$38,6,0),"") | F63: =IFERROR(VLOOKUP(B63,'пр.взв'!$D$6:$Q$38,8,0),"") | M63: ='пр.хода'!AF49 -> 14 | N63: =IFERROR(VLOOKUP(M63,'пр.взв'!$D$6:$Q$38,2,0),"") -> ХАЧАТРЯН Давид | O63: =IFERROR(VLOOKUP(M63,'пр.взв'!$D$6:$Q$35,5,0),"") -> МС | P63: =IFERROR(VLOOKUP(M63,'пр.взв'!$D$6:$Q$38,6,0),"") -> ПФО | Q63: =IFERROR(VLOOKUP(M63,'пр.взв'!$D$6:$Q$38,8,0),"") -> Нижегородская
A64: 3 | B64: ='пр.хода'!E61 | C64: =IFERROR(VLOOKUP(B64,'пр.взв'!$D$6:$Q$38,2,0),"") | D64: =IFERROR(VLOOKUP(B64,'пр.взв'!$D$6:$Q$35,5,0),"") | E64: =IFERROR(VLOOKUP(B64,'пр.взв'!$D$6:$Q$38,6,0),"") | F64: =IFERROR(VLOOKUP(B64,'пр.взв'!$D$6:$Q$38,8,0),"") | L64: 7 | M64: ='пр.хода'!AF61 | N64: =IFERROR(VLOOKUP(M64,'пр.взв'!$D$6:$Q$38,2,0),"") | O64: =IFERROR(VLOOKUP(M64,'пр.взв'!$D$6:$Q$35,5,0),"") | P64: =IFERROR(VLOOKUP(M64,'пр.взв'!$D$6:$Q$38,6,0),"") | Q64: =IFERROR(VLOOKUP(M64,'пр.взв'!$D$6:$Q$38,8,0),"")
B65: ='пр.хода'!E73 | C65: =IFERROR(VLOOKUP(B65,'пр.взв'!$D$6:$Q$38,2,0),"") | D65: =IFERROR(VLOOKUP(B65,'пр.взв'!$D$6:$Q$35,5,0),"") | E65: =IFERROR(VLOOKUP(B65,'пр.взв'!$D$6:$Q$38,6,0),"") | F65: =IFERROR(VLOOKUP(B65,'пр.взв'!$D$6:$Q$38,8,0),"") | M65: ='пр.хода'!AF73 | N65: =IFERROR(VLOOKUP(M65,'пр.взв'!$D$6:$Q$38,2,0),"") | O65: =IFERROR(VLOOKUP(M65,'пр.взв'!$D$6:$Q$35,5,0),"") | P65: =IFERROR(VLOOKUP(M65,'пр.взв'!$D$6:$Q$38,6,0),"") | Q65: =IFERROR(VLOOKUP(M65,'пр.взв'!$D$6:$Q$38,8,0),"")
A66: 4 | B66: ='пр.хода'!E85 -> 23 | C66: =IFERROR(VLOOKUP(B66,'пр.взв'!$D$6:$Q$38,2,0),"") -> САИДОВ Саид | D66: =IFERROR(VLOOKUP(B66,'пр.взв'!$D$6:$Q$35,5,0),"") -> МСМК | E66: =IFERROR(VLOOKUP(B66,'пр.взв'!$D$6:$Q$38,6,0),"") -> СКФО | F66: =IFERROR(VLOOKUP(B66,'пр.взв'!$D$6:$Q$38,8,0),"") -> Р.Дагестан | L66: 8 | M66: ='пр.хода'!AF85 | N66: =IFERROR(VLOOKUP(M66,'пр.взв'!$D$6:$Q$38,2,0),"") | O66: =IFERROR(VLOOKUP(M66,'пр.взв'!$D$6:$Q$35,5,0),"") | P66: =IFERROR(VLOOKUP(M66,'пр.взв'!$D$6:$Q$38,6,0),"") | Q66: =IFERROR(VLOOKUP(M66,'пр.взв'!$D$6:$Q$38,8,0),"")
B67: ='пр.хода'!E97 -> 15 | C67: =IFERROR(VLOOKUP(B67,'пр.взв'!$D$6:$Q$38,2,0),"") -> ЖДАНОВ Даниил | D67: =IFERROR(VLOOKUP(B67,'пр.взв'!$D$6:$Q$35,5,0),"") -> МС | E67: =IFERROR(VLOOKUP(B67,'пр.взв'!$D$6:$Q$38,6,0),"") -> ПФО | F67: =IFERROR(VLOOKUP(B67,'пр.взв'!$D$6:$Q$38,8,0),"") -> Самарская | M67: ='пр.хода'!AF97 -> 16 | N67: =IFERROR(VLOOKUP(M67,'пр.взв'!$D$6:$Q$38,2,0),"") -> ЗАХАРОВ Гордей | O67: =IFERROR(VLOOKUP(M67,'пр.взв'!$D$6:$Q$35,5,0),"") -> КМС | P67: =IFERROR(VLOOKUP(M67,'пр.взв'!$D$6:$Q$38,6,0),"") -> СПБ | Q67: =IFERROR(VLOOKUP(M67,'пр.взв'!$D$6:$Q$38,8,0),"") -> Санкт-Петербург
B68: A | C68: (Круг) | D68: 1/4 | F68: 1/4 | G68: =G57 -> В.к. 88 кг | M68: B | N68: (Круг) | O68: 1/4 | P68: 1/4 | R68: =G68 -> В.к. 88 кг
A69: № встр | B69: № п/ж | C69: Ф.И.О. | D69: Д. р., разряд | E69: Вед., регион | G69: Оценки | H69: Очки | I69: Рез-т | J69: Время | L69: № встр | M69: № п/ж | N69: Ф.И.О. | O69: Д. р., разряд | P69: Вед., регион | R69: Оценки | S69: Очки | T69: Рез-т | U69: Время
A71: 1 | B71: ='пр.хода'!G19 | C71: =IFERROR(VLOOKUP(B71,'пр.взв'!$D$6:$Q$38,2,0),"") | D71: =IFERROR(VLOOKUP(B71,'пр.взв'!$D$6:$Q$35,5,0),"") | E71: =IFERROR(VLOOKUP(B71,'пр.взв'!$D$6:$Q$38,6,0),"") | F71: =IFERROR(VLOOKUP(B71,'пр.взв'!$D$6:$Q$38,8,0),"") | L71: 3 | M71: ='пр.хода'!AD19 | N71: =IFERROR(VLOOKUP(M71,'пр.взв'!$D$6:$Q$38,2,0),"") | O71: =IFERROR(VLOOKUP(M71,'пр.взв'!$D$6:$Q$35,5,0),"") | P71: =IFERROR(VLOOKUP(M71,'пр.взв'!$D$6:$Q$38,6,0),"") | Q71: =IFERROR(VLOOKUP(M71,'пр.взв'!$D$6:$Q$38,8,0),"")
B72: ='пр.хода'!G43 | C72: =IFERROR(VLOOKUP(B72,'пр.взв'!$D$6:$Q$38,2,0),"") | D72: =IFERROR(VLOOKUP(B72,'пр.взв'!$D$6:$Q$35,5,0),"") | E72: =IFERROR(VLOOKUP(B72,'пр.взв'!$D$6:$Q$38,6,0),"") | F72: =IFERROR(VLOOKUP(B72,'пр.взв'!$D$6:$Q$38,8,0),"") | M72: ='пр.хода'!AD43 | N72: =IFERROR(VLOOKUP(M72,'пр.взв'!$D$6:$Q$38,2,0),"") | O72: =IFERROR(VLOOKUP(M72,'пр.взв'!$D$6:$Q$35,5,0),"") | P72: =IFERROR(VLOOKUP(M72,'пр.взв'!$D$6:$Q$38,6,0),"") | Q72: =IFERROR(VLOOKUP(M72,'пр.взв'!$D$6:$Q$38,8,0),"")
A73: 2 | B73: ='пр.хода'!G67 | C73: =IFERROR(VLOOKUP(B73,'пр.взв'!$D$6:$Q$38,2,0),"") | D73: =IFERROR(VLOOKUP(B73,'пр.взв'!$D$6:$Q$35,5,0),"") | E73: =IFERROR(VLOOKUP(B73,'пр.взв'!$D$6:$Q$38,6,0),"") | F73: =IFERROR(VLOOKUP(B73,'пр.взв'!$D$6:$Q$38,8,0),"") | L73: 4 | M73: ='пр.хода'!AD67 | N73: =IFERROR(VLOOKUP(M73,'пр.взв'!$D$6:$Q$38,2,0),"") | O73: =IFERROR(VLOOKUP(M73,'пр.взв'!$D$6:$Q$35,5,0),"") | P73: =IFERROR(VLOOKUP(M73,'пр.взв'!$D$6:$Q$38,6,0),"") | Q73: =IFERROR(VLOOKUP(M73,'пр.взв'!$D$6:$Q$38,8,0),"")
B74: ='пр.хода'!G91 | C74: =IFERROR(VLOOKUP(B74,'пр.взв'!$D$6:$Q$38,2,0),"") | D74: =IFERROR(VLOOKUP(B74,'пр.взв'!$D$6:$Q$35,5,0),"") | E74: =IFERROR(VLOOKUP(B74,'пр.взв'!$D$6:$Q$38,6,0),"") | F74: =IFERROR(VLOOKUP(B74,'пр.взв'!$D$6:$Q$38,8,0),"") | M74: ='пр.хода'!AD91 | N74: =IFERROR(VLOOKUP(M74,'пр.взв'!$D$6:$Q$38,2,0),"") | O74: =IFERROR(VLOOKUP(M74,'пр.взв'!$D$6:$Q$35,5,0),"") | P74: =IFERROR(VLOOKUP(M74,'пр.взв'!$D$6:$Q$38,6,0),"") | Q74: =IFERROR(VLOOKUP(M74,'пр.взв'!$D$6:$Q$38,8,0),"")
B75: A | C75: Полуфинал | G75: =G68 -> В.к. 88 кг | M75: Б | N75: Полуфинал | R75: =G75 -> В.к. 88 кг
A76: № встр | B76: № п/ж | C76: Ф.И.О. | D76: Д. р., разряд | E76: Вед., регион | G76: Оценки | H76: Очки | I76: Рез-т | J76: Время | L76: № встр | M76: № п/ж | N76: Ф.И.О. | O76: Д. р., разряд | P76: Вед., регион | R76: Оценки | S76: Очки | T76: Рез-т | U76: Время
A78: 1 | B78: ='пр.хода'!I31 | C78: =IFERROR(VLOOKUP(B78,'пр.взв'!$D$6:$Q$38,2,0),"") | D78: =IFERROR(VLOOKUP(B78,'пр.взв'!$D$6:$Q$35,5,0),"") | E78: =IFERROR(VLOOKUP(B78,'пр.взв'!$D$6:$Q$38,6,0),"") | F78: =IFERROR(VLOOKUP(B78,'пр.взв'!$D$6:$Q$38,8,0),"") | L78: 2 | M78: ='пр.хода'!AB31 | N78: =IFERROR(VLOOKUP(M78,'пр.взв'!$D$6:$Q$38,2,0),"") | O78: =IFERROR(VLOOKUP(M78,'пр.взв'!$D$6:$Q$35,5,0),"") | P78: =IFERROR(VLOOKUP(M78,'пр.взв'!$D$6:$Q$38,6,0),"") | Q78: =IFERROR(VLOOKUP(M78,'пр.взв'!$D$6:$Q$38,8,0),"")
B79: ='пр.хода'!I79 | C79: =IFERROR(VLOOKUP(B79,'пр.взв'!$D$6:$Q$38,2,0),"") | D79: =IFERROR(VLOOKUP(B79,'пр.взв'!$D$6:$Q$35,5,0),"") | E79: =IFERROR(VLOOKUP(B79,'пр.взв'!$D$6:$Q$38,6,0),"") | F79: =IFERROR(VLOOKUP(B79,'пр.взв'!$D$6:$Q$38,8,0),"") | M79: ='пр.хода'!AB79 | N79: =IFERROR(VLOOKUP(M79,'пр.взв'!$D$6:$Q$38,2,0),"") | O79: =IFERROR(VLOOKUP(M79,'пр.взв'!$D$6:$Q$35,5,0),"") | P79: =IFERROR(VLOOKUP(M79,'пр.взв'!$D$6:$Q$38,6,0),"") | Q79: =IFERROR(VLOOKUP(M79,'пр.взв'!$D$6:$Q$38,8,0),"")
...

Sheet медали
A1: ='пр.взв'!C2 -> Чемпионат России по самбо (боевое) мужчины (отбор на Чемпионат Мира и Европы) ЕКП №23747
E2: =HYPERLINK('пр.взв'!D4)
C3: За 3-е место
C4: ВСТРЕЧА 1
A5: Цвет | B5: № п/ж | C5: Ф.И.О. | D5: Д. р., разряд | E5: Вед., регион | G5: Оценки | H5: Очки | I5: Рез-т | J5: Время
B7: ='пр.хода'!V16 | C7: =IFERROR(VLOOKUP(B7,'пр.взв'!$D$6:$Q$39,2,0),"") | D7: =IFERROR(VLOOKUP(B7,'пр.взв'!$D$6:$Q$39,5,0),"") | E7: =IFERROR(VLOOKUP(B7,'пр.взв'!$D$6:$Q$39,6,0),"") | F7: =IFERROR(VLOOKUP(B7,'пр.взв'!$D$6:$Q$39,8,0),"")
B9: ='пр.хода'!V26 | C9: =IFERROR(VLOOKUP(B9,'пр.взв'!$D$6:$Q$39,2,0),"") | D9: =IFERROR(VLOOKUP(B9,'пр.взв'!$D$6:$Q$39,5,0),"") | E9: =IFERROR(VLOOKUP(B9,'пр.взв'!$D$6:$Q$39,6,0),"") | F9: =IFERROR(VLOOKUP(B9,'пр.взв'!$D$6:$Q$39,8,0),"")
A11: Руководитель ковра
B12: А
B13: Б
C15: За 3-е место
C16: ВСТРЕЧА 2 | E16: =E2
A17: Цвет | B17: № п/ж | C17: Ф.И.О. | D17: Д. р., разряд | E17: Вед., регион | G17: Оценки | H17: Очки | I17: Рез-т | J17: Время
B19: ='пр.хода'!V97 | C19: =IFERROR(VLOOKUP(B19,'пр.взв'!$D$6:$Q$39,2,0),"") | D19: =IFERROR(VLOOKUP(B19,'пр.взв'!$D$6:$Q$39,5,0),"") | E19: =IFERROR(VLOOKUP(B19,'пр.взв'!$D$6:$Q$39,6,0),"") | F19: =IFERROR(VLOOKUP(B19,'пр.взв'!$D$6:$Q$39,8,0),"")
B21: ='пр.хода'!V107 | C21: =IFERROR(VLOOKUP(B21,'пр.взв'!$D$6:$Q$39,2,0),"") | D21: =IFERROR(VLOOKUP(B21,'пр.взв'!$D$6:$Q$39,5,0),"") | E21: =IFERROR(VLOOKUP(B21,'пр.взв'!$D$6:$Q$39,6,0),"") | F21: =IFERROR(VLOOKUP(B21,'пр.взв'!$D$6:$Q$39,8,0),"")
A23: Руководитель ковра
B24: А
B25: Б
C29: ФИНАЛ | E29: ='пр.взв'!G4 -> В.к. 88 кг | G29: БОЕВОЕ САМБО
A30: Цвет | B30: № п/ж | C30: Ф.И.О. | D30: Д. р., разряд | E30: Вед., регион | G30: Оценки | H30: Очки | I30: Рез-т | J30: Время
B32: ='пр.хода'!K55 | C32: =IFERROR(VLOOKUP(B32,'пр.взв'!$D$6:$M$39,2,0),"") | D32: =IFERROR(VLOOKUP(B32,'пр.взв'!$D$6:$M$39,5,0),"") | E32: =IFERROR(VLOOKUP(B32,'пр.взв'!$D$6:$M$39,6,0),"") | F32: =IFERROR(VLOOKUP(B32,'пр.взв'!$D$6:$M$39,8,0),"")
B34: ='пр.хода'!Z55 | C34: =IFERROR(VLOOKUP(B34,'пр.взв'!$D$6:$M$39,2,0),"") | D34: =IFERROR(VLOOKUP(B34,'пр.взв'!$D$6:$M$39,5,0),"") | E34: =IFERROR(VLOOKUP(B34,'пр.взв'!$D$6:$M$39,6,0),"") | F34: =IFERROR(VLOOKUP(B34,'пр.взв'!$D$6:$M$39,8,0),"")
A36: Руководитель ковра
B37: А
B38: Б

Sheet Ит.пр
A1: ВСЕРОССИЙСКАЯ ФЕДЕРАЦИЯ САМБО
B2: ИТОГОВЫЙ ПРОТОКОЛ БОЕВОЕ САМБО | D2: ='пр.взв'!C2 -> Чемпионат России по самбо (боевое) мужчины (отбор на Чемпионат Мира и Европы) ЕКП №23747
B3: ='пр.взв'!C3 -> 27.02 - 03.03.2023 г. г. Пермь | H3: ='пр.взв'!G4 -> В.к. 88 кг
A4: МЕСТО | B4: № п/ж | C4: Ф.И.О. | D4: Дата рожд., разряд | E4: Округ, субъект, город, ведомство | G4: № карточки | H4: Тренер
A6: 1 | B6: ='пр.хода'!O38 | C6: =IFERROR(VLOOKUP($B6,'пр.взв'!$D$6:$Q$39,2,0),"") | D6: =IFERROR(VLOOKUP($B6,'пр.взв'!$D$6:$Q$39,4,0),"") | E6: =IFERROR(VLOOKUP($B6,'пр.взв'!$D$6:$Q$39,6,0),"") | F6: =IFERROR(VLOOKUP($B6,'пр.взв'!$D$6:$Q$39,7,0),"") | G6: =IFERROR(VLOOKUP($B6,'пр.взв'!$D$6:$Q$39,8,0),"") | H6: =IFERROR(VLOOKUP($B6,'пр.взв'!$D$6:$Q$39,10,0),"")
A7: 2 | B7: ='пр.хода'!O51 | C7: =IFERROR(VLOOKUP($B7,'пр.взв'!$D$6:$Q$39,2,0),"") | D7: =IFERROR(VLOOKUP($B7,'пр.взв'!$D$6:$Q$39,4,0),"") | E7: =IFERROR(VLOOKUP($B7,'пр.взв'!$D$6:$Q$39,6,0),"") | F7: =IFERROR(VLOOKUP($B7,'пр.взв'!$D$6:$Q$39,7,0),"") | G7: =IFERROR(VLOOKUP($B7,'пр.взв'!$D$6:$Q$39,8,0),"") | H7: =IFERROR(VLOOKUP($B7,'пр.взв'!$D$6:$Q$39,10,0),"")
A8: 3 | B8: ='пр.хода'!O62 | C8: =IFERROR(VLOOKUP($B8,'пр.взв'!$D$6:$Q$39,2,0),"") | D8: =IFERROR(VLOOKUP($B8,'пр.взв'!$D$6:$Q$39,4,0),"") | E8: =IFERROR(VLOOKUP($B8,'пр.взв'!$D$6:$Q$39,6,0),"") | F8: =IFERROR(VLOOKUP($B8,'пр.взв'!$D$6:$Q$39,7,0),"") | G8: =IFERROR(VLOOKUP($B8,'пр.взв'!$D$6:$Q$39,8,0),"") | H8: =IFERROR(VLOOKUP($B8,'пр.взв'!$D$6:$Q$39,10,0),"")
A9: 3 | B9: ='пр.хода'!O73 | C9: =IFERROR(VLOOKUP($B9,'пр.взв'!$D$6:$Q$39,2,0),"") | D9: =IFERROR(VLOOKUP($B9,'пр.взв'!$D$6:$Q$39,4,0),"") | E9: =IFERROR(VLOOKUP($B9,'пр.взв'!$D$6:$Q$39,6,0),"") | F9: =IFERROR(VLOOKUP($B9,'пр.взв'!$D$6:$Q$39,7,0),"") | G9: =IFERROR(VLOOKUP($B9,'пр.взв'!$D$6:$Q$39,8,0),"") | H9: =IFERROR(VLOOKUP($B9,'пр.взв'!$D$6:$Q$39,10,0),"")
A10: 5 | B10: ='пр.хода'!AN9 | C10: =IFERROR(VLOOKUP($B10,'пр.взв'!$D$6:$Q$39,2,0),"") | D10: =IFERROR(VLOOKUP($B10,'пр.взв'!$D$6:$Q$39,4,0),"") | E10: =IFERROR(VLOOKUP($B10,'пр.взв'!$D$6:$Q$39,6,0),"") | F10: =IFERROR(VLOOKUP($B10,'пр.взв'!$D$6:$Q$39,7,0),"") | G10: =IFERROR(VLOOKUP($B10,'пр.взв'!$D$6:$Q$39,8,0),"") | H10: =IFERROR(VLOOKUP($B10,'пр.взв'!$D$6:$Q$39,10,0),"")
A11: 5 | B11: ='пр.хода'!AN12 | C11: =IFERROR(VLOOKUP($B11,'пр.взв'!$D$6:$Q$39,2,0),"") | D11: =IFERROR(VLOOKUP($B11,'пр.взв'!$D$6:$Q$39,4,0),"") | E11: =IFERROR(VLOOKUP($B11,'пр.взв'!$D$6:$Q$39,6,0),"") | F11: =IFERROR(VLOOKUP($B11,'пр.взв'!$D$6:$Q$39,7,0),"") | G11: =IFERROR(VLOOKUP($B11,'пр.взв'!$D$6:$Q$39,8,0),"") | H11: =IFERROR(VLOOKUP($B11,'пр.взв'!$D$6:$Q$39,10,0),"")
A12: 5 | B12: ='пр.хода'!AN15 | C12: =IFERROR(VLOOKUP($B12,'пр.взв'!$D$6:$Q$39,2,0),"") | D12: =IFERROR(VLOOKUP($B12,'пр.взв'!$D$6:$Q$39,4,0),"") | E12: =IFERROR(VLOOKUP($B12,'пр.взв'!$D$6:$Q$39,6,0),"") | F12: =IFERROR(VLOOKUP($B12,'пр.взв'!$D$6:$Q$39,7,0),"") | G12: =IFERROR(VLOOKUP($B12,'пр.взв'!$D$6:$Q$39,8,0),"") | H12: =IFERROR(VLOOKUP($B12,'пр.взв'!$D$6:$Q$39,10,0),"")
A13: 5 | B13: ='пр.хода'!AN18 | C13: =IFERROR(VLOOKUP($B13,'пр.взв'!$D$6:$Q$39,2,0),"") | D13: =IFERROR(VLOOKUP($B13,'пр.взв'!$D$6:$Q$39,4,0),"") | E13: =IFERROR(VLOOKUP($B13,'пр.взв'!$D$6:$Q$39,6,0),"") | F13: =IFERROR(VLOOKUP($B13,'пр.взв'!$D$6:$Q$39,7,0),"") | G13: =IFERROR(VLOOKUP($B13,'пр.взв'!$D$6:$Q$39,8,0),"") | H13: =IFERROR(VLOOKUP($B13,'пр.взв'!$D$6:$Q$39,10,0),"")
A14: 9-16 | B14: ='пр.хода'!AN21 | C14: =IFERROR(VLOOKUP($B14,'пр.взв'!$D$6:$Q$39,2,0),"") | D14: =IFERROR(VLOOKUP($B14,'пр.взв'!$D$6:$Q$39,4,0),"") | E14: =IFERROR(VLOOKUP($B14,'пр.взв'!$D$6:$Q$39,6,0),"") | F14: =IFERROR(VLOOKUP($B14,'пр.взв'!$D$6:$Q$39,7,0),"") | G14: =IFERROR(VLOOKUP($B14,'пр.взв'!$D$6:$Q$39,8,0),"") | H14: =IFERROR(VLOOKUP($B14,'пр.взв'!$D$6:$Q$39,10,0),"")
A15: 9-16 | B15: ='пр.хода'!AN24 | C15: =IFERROR(VLOOKUP($B15,'пр.взв'!$D$6:$Q$39,2,0),"") | D15: =IFERROR(VLOOKUP($B15,'пр.взв'!$D$6:$Q$39,4,0),"") | E15: =IFERROR(VLOOKUP($B15,'пр.взв'!$D$6:$Q$39,6,0),"") | F15: =IFERROR(VLOOKUP($B15,'пр.взв'!$D$6:$Q$39,7,0),"") | G15: =IFERROR(VLOOKUP($B15,'пр.взв'!$D$6:$Q$39,8,0),"") | H15: =IFERROR(VLOOKUP($B15,'пр.взв'!$D$6:$Q$39,10,0),"")
A16: 9-16 | B16: ='пр.хода'!AN27 | C16: =IFERROR(VLOOKUP($B16,'пр.взв'!$D$6:$Q$39,2,0),"") | D16: =IFERROR(VLOOKUP($B16,'пр.взв'!$D$6:$Q$39,4,0),"") | E16: =IFERROR(VLOOKUP($B16,'пр.взв'!$D$6:$Q$39,6,0),"") | F16: =IFERROR(VLOOKUP($B16,'пр.взв'!$D$6:$Q$39,7,0),"") | G16: =IFERROR(VLOOKUP($B16,'пр.взв'!$D$6:$Q$39,8,0),"") | H16: =IFERROR(VLOOKUP($B16,'пр.взв'!$D$6:$Q$39,10,0),"")
A17: 9-16 | B17: ='пр.хода'!AN30 | C17: =IFERROR(VLOOKUP($B17,'пр.взв'!$D$6:$Q$39,2,0),"") | D17: =IFERROR(VLOOKUP($B17,'пр.взв'!$D$6:$Q$39,4,0),"") | E17: =IFERROR(VLOOKUP($B17,'пр.взв'!$D$6:$Q$39,6,0),"") | F17: =IFERROR(VLOOKUP($B17,'пр.взв'!$D$6:$Q$39,7,0),"") | G17: =IFERROR(VLOOKUP($B17,'пр.взв'!$D$6:$Q$39,8,0),"") | H17: =IFERROR(VLOOKUP($B17,'пр.взв'!$D$6:$Q$39,10,0),"")
A18: 9-16 | B18: ='пр.хода'!AN33 | C18: =IFERROR(VLOOKUP($B18,'пр.взв'!$D$6:$Q$39,2,0),"") | D18: =IFERROR(VLOOKUP($B18,'пр.взв'!$D$6:$Q$39,4,0),"") | E18: =IFERROR(VLOOKUP($B18,'пр.взв'!$D$6:$Q$39,6,0),"") | F18: =IFERROR(VLOOKUP($B18,'пр.взв'!$D$6:$Q$39,7,0),"") | G18: =IFERROR(VLOOKUP($B18,'пр.взв'!$D$6:$Q$39,8,0),"") | H18: =IFERROR(VLOOKUP($B18,'пр.взв'!$D$6:$Q$39,10,0),"")
