Workbook
Name субъект: #REF!
Name разряд: #REF!

Sheet пр.взв
A1: select Col1,Col3,Col4,Col5,Col6,Col10,Col12,Col13,Col14,Col15,Col16,Col17 WHERE Col1>1 | C1: ПРОТОКОЛ ВЗВЕШИВАНИЯ | N1: https://docs.google.com/spreadsheets/d/1lAWXbxZUVSbgEB5dr9r3SAb9eFLgY8d5-08pYUVFUlI/edit?usp=share_link | O1: =IF(O2="98+",99,O2) -> 80+
C2: =IFERROR(__xludf.DUMMYFUNCTION("IMPORTRANGE(N1,""Реквизиты!A1"")"),"Чемпионат России по самбо среди женщин (отбор на Чемпионат Мира и Европы) ЕКП № 23747") -> Чемпионат России по самбо среди женщин (отбор на Чемпионат Мира и Европы) ЕКП № 23747 | O2: 80+ | P2: В.к. | Q2: кг
C3: =IFERROR(__xludf.DUMMYFUNCTION("IMPORTRANGE(N1,""Реквизиты!A3"")"),"27.02 - 03.03.2023 г. г. Пермь") -> 27.02 - 03.03.2023 г. г. Пермь | O3: =COUNTA(F6:F86) -> 9 | P3: участников
G4: =P2&" "&O2&" "&Q2 -> В.к. 80+ кг
A5: ВК | B5: ВК | C5: № п/п | D5: № п/ж | E5: Ф.И.О. | F5: Ф.И.О. | G5: Дата рожд., разряд | H5: Разряд | I5: Округ, субъект, город, ведомство | K5: Субъект | L5: № карточки | M5: Тренер
A6: 81 | B6: 81 | C6: 29 | D6: 2 | E6: АЗИЗОВА Гюльназ | F6: АЗИЗОВА Гюльназ Замировна | G6: 05.09.98, КМС | H6: КМС | I6: МОС | J6: Москва, Москва, ЦСКА | K6: Москва | M6: Хаустов А.А. | N6: {=IF(D6:D86="","",(LEFT(F6:F86,FIND(" ",F6:F86)-1)))} -> АЗИЗОВА | O6: 47
A7: 81 | B7: 81 | C7: 35 | D7: 5 | E7: САВЕЛЬЕВА Елизавета | F7: САВЕЛЬЕВА Елизавета Валерьевна | G7: 24.04.96, КМС | H7: КМС | I7: ПФО | J7: Оренбургская обл., Бузулук, БФ «Триумф» | K7: Оренбургская | M7: Плотников П.Д. | N7: САВЕЛЬЕВА | O7: 50
A8: 81 | B8: 81 | C8: 35 | D8: 7 | E8: ХАКИМОВА Елена | F8: ХАКИМОВА Елена Сергеевна | G8: 02.03.88, МСМК | H8: МСМК | I8: ПФО | J8: Оренбургская обл., Бузулук, ООО ЦСП | K8: Оренбургская | M8: Плотников П.Д., Ульянин А.Н. | N8: ХАКИМОВА | O8: 54
A9: 81 | B9: 81 | C9: 35 | D9: 6 | E9: КУСАНОВА Жанара | F9: КУСАНОВА Жанара Сагиндыковна | G9: 20.05.91, МС | H9: МС | I9: ПФО | J9: Оренбургская обл., Бузулук, ЦСП | K9: Оренбургская | M9: Плотников.П.Д | N9: КУСАНОВА | O9: 59
A10: 81 | B10: 81 | C10: 20 | D10: 1 | E10: ГАСПАРЯН Анжела | F10: ГАСПАРЯН Анжела Седраковна | G10: 07.04.95, МСМК | H10: МСМК | I10: СЗФО | J10: Калининградская обл., Калининград, ВС | K10: Калининградская | M10: Мкртчян С.Р., Быстров И.С. | N10: ГАСПАРЯН | O10: 65
A11: 81 | B11: 81 | C11: 19 | D11: 8 | E11: ЧОЛОМБИТЬКО Альбина | F11: ЧОЛОМБИТЬКО Альбина Андреевна | G11: 19.11.22, МСМК | H11: МСМК | I11: УФО | J11: Свердловская обл., Екатеринбург, ГАУ до Со Сшор по Самбо и Дзюдо | K11: Свердловская | M11: Куликов ССС, Коростелев АБ | N11: ЧОЛОМБИТЬКО | O11: 72
A12: 81 | B12: 81 | C12: 19 | D12: 9 | E12: ГЕРАСИМОВА Виктория | F12: ГЕРАСИМОВА Виктория Анатольевна | G12: 17.01.04, КМС | H12: КМС | I12: УФО | J12: Свердловская обл., Екатеринбург, Гау До Со Сшор по самбо и дзюдо | K12: Свердловская | M12: Бородин ОБ, Куликов С.С. | N12: ГЕРАСИМОВА | O12: 80
A13: 81 | B13: 81 | C13: 19 | D13: 3 | E13: МИХЕЕВА Ольга | F13: МИХЕЕВА Ольга Игоревна | G13: 21.09.02, МС | H13: МС | I13: УФО | J13: Свердловская обл., Екатеринбург, СШОР по самбо и дзюдо | K13: Свердловская | M13: Федосеев МЕ, Селянина ОВ | N13: МИХЕЕВА | O13: 65
A14: 81 | B14: 81 | C14: 34 | D14: 4 | E14: БАЯЗИТОВА Лаура | F14: БАЯЗИТОВА Лаура Львовна | G14: 10.07.99, КМС | H14: КМС | I14: УФО | J14: Тюменская обл., Тюмень, Самбо 72 | K14: Тюменская | M14: Мавлютов ОБ | N14: БАЯЗИТОВА | O14: 71

Sheet пр.хода
A1: ВСЕРОССИЙСКАЯ ФЕДЕРАЦИЯ САМБО
A2: ПРОТОКОЛ ХОДА СОРЕВНОВАНИЙ
B3: ='пр.взв'!C2 -> Чемпионат России по самбо среди женщин (отбор на Чемпионат Мира и Европы) ЕКП № 23747
A4: ='пр.взв'!A3 | B4: ='пр.взв'!C3 -> 27.02 - 03.03.2023 г. г. Пермь
M5: ='пр.взв'!G4 -> В.к. 80+ кг | R5: =AE5&" "&AF5 -> 9 участников | AE5: ='пр.взв'!O3 -> 9 | AF5: участников
A6: А | AC6: Б
A7: 1 | B7: =IFERROR(VLOOKUP(A7,'пр.взв'!$D$6:$Q$20,2,0),"") -> ГАСПАРЯН Анжела | C7: =IFERROR(VLOOKUP(A7,'пр.взв'!$D$6:$Q$20,5,0),"") -> МСМК | E7: =IFERROR(VLOOKUP(A7,'пр.взв'!$D$6:$Q$20,8,0),"") -> Калининградская | N7: 1 место | Y7: =IFERROR(VLOOKUP(AC7,'пр.взв'!$D$6:$Q$20,2,0),"") -> АЗИЗОВА Гюльназ | Z7: =IFERROR(VLOOKUP(AC7,'пр.взв'!$D$6:$Q$20,5,0),"") -> КМС | AB7: =IFERROR(VLOOKUP(AC7,'пр.взв'!$D$6:$Q$20,8,0),"") -> Москва | AC7: 2 | AE7: =IF(K10="","", IF(K10=A7,A9,IF(K10=A9,A7,IF(K10=A11,A13,A11)))) | AF7: =IF(T10="","",IF(T10=AC7,AC9,IF(T10=AC9,AC7,IF(T10=AC11,AC13,IF(T10=AC13,AC11))))) | AG7: =IF(AND(AC7=T10,AC11=X12),AC13,IF(AND(AC7=T10,AC13=X12),AC11,IF(AND(AC9=T10,AC11=X12),AC13,IF(AND(AC9=T10,AC13=X12),AC11,IF(AC7=X8,AC9,AC7))))) -> 10
M8: =IFERROR(VLOOKUP(L8,'пр.взв'!$D$6:$Q$20,2,0),"") | X8: 2 | AE8: =IF(K10="","",IF(K10=F8,F12,F8)) | AF8: =IF(T10="","",IF(T10=X8,X12,X8)) | AG8: =IF(AND(AC8=T11,AC12=X13),AC14,IF(AND(AC8=T11,AC14=X13),AC12,IF(AND(AC10=T11,AC12=X13),AC14,IF(AND(AC10=T11,AC14=X13),AC12,IF(AC8=X9,AC10,AC8)))))
A9: 9 | B9: =IFERROR(VLOOKUP(A9,'пр.взв'!$D$6:$Q$20,2,0),"") -> ГЕРАСИМОВА Виктория | C9: =IFERROR(VLOOKUP(A9,'пр.взв'!$D$6:$Q$20,5,0),"") -> КМС | E9: =IFERROR(VLOOKUP(A9,'пр.взв'!$D$6:$Q$20,8,0),"") -> Свердловская | Y9: =IFERROR(VLOOKUP(AC9,'пр.взв'!$D$6:$Q$20,2,0),"") | Z9: =IFERROR(VLOOKUP(AC9,'пр.взв'!$D$6:$Q$20,5,0),"") | AB9: =IFERROR(VLOOKUP(AC9,'пр.взв'!$D$6:$Q$20,8,0),"") | AC9: 10 | AG9: =IF(AND(AC9=T12,AC13=X14),AC15,IF(AND(AC9=T12,AC15=X14),AC13,IF(AND(AC11=T12,AC13=X14),AC15,IF(AND(AC11=T12,AC15=X14),AC13,IF(AC9=X10,AC11,AC9))))) -> 10
I10: =IFERROR(VLOOKUP(H10,'пр.взв'!$D$6:$Q$20,2,0),"") | T10: =IFERROR(VLOOKUP(V10,'пр.взв'!$D$6:$Q$20,2,0),"") | AG10: =IF(AND(AC10=T13,AC14=X15),AC16,IF(AND(AC10=T13,AC16=X15),AC14,IF(AND(AC12=T13,AC14=X15),AC16,IF(AND(AC12=T13,AC16=X15),AC14,IF(AC10=X11,AC12,AC10)))))
A11: 5 | B11: =IFERROR(VLOOKUP(A11,'пр.взв'!$D$6:$Q$20,2,0),"") -> САВЕЛЬЕВА Елизавета | C11: =IFERROR(VLOOKUP(A11,'пр.взв'!$D$6:$Q$20,5,0),"") -> КМС | E11: =IFERROR(VLOOKUP(A11,'пр.взв'!$D$6:$Q$20,8,0),"") -> Оренбургская | Y11: =IFERROR(VLOOKUP(AC11,'пр.взв'!$D$6:$Q$20,2,0),"") -> КУСАНОВА Жанара | Z11: =IFERROR(VLOOKUP(AC11,'пр.взв'!$D$6:$Q$20,5,0),"") -> МС | AB11: =IFERROR(VLOOKUP(AC11,'пр.взв'!$D$6:$Q$20,8,0),"") -> Оренбургская | AC11: 6 | AE11: =IF(M14="","",IF(M14=K10,K18,K10)) | AF11: =IF(R14="","",IF(R14=T10,T18,T10)) | AG11: =IF(AND(AC11=T14,AC15=X16),AC17,IF(AND(AC11=T14,AC17=X16),AC15,IF(AND(AC13=T14,AC15=X16),AC17,IF(AND(AC13=T14,AC17=X16),AC15,IF(AC11=X12,AC13,AC11))))) -> 14
F12: 5 | O12: ФИНАЛ | X12: 6 | AG12: =IF(AND(AC12=T15,AC16=X17),AC18,IF(AND(AC12=T15,AC18=X17),AC16,IF(AND(AC14=T15,AC16=X17),AC18,IF(AND(AC14=T15,AC18=X17),AC16,IF(AC12=X13,AC14,AC12)))))
A13: 13 | B13: =IFERROR(VLOOKUP(A13,'пр.взв'!$D$6:$Q$20,2,0),"") | C13: =IFERROR(VLOOKUP(A13,'пр.взв'!$D$6:$Q$20,5,0),"") | E13: =IFERROR(VLOOKUP(A13,'пр.взв'!$D$6:$Q$20,8,0),"") | Y13: =IFERROR(VLOOKUP(AC13,'пр.взв'!$D$6:$Q$20,2,0),"") | Z13: =IFERROR(VLOOKUP(AC13,'пр.взв'!$D$6:$Q$20,5,0),"") | AB13: =IFERROR(VLOOKUP(AC13,'пр.взв'!$D$6:$Q$20,8,0),"") | AC13: 14 | AG13: =IF(AND(AC13=T16,AC17=X18),AC19,IF(AND(AC13=T16,AC19=X18),AC17,IF(AND(AC15=T16,AC17=X18),AC19,IF(AND(AC15=T16,AC19=X18),AC17,IF(AC13=X14,AC15,AC13))))) -> 14
K14: =IFERROR(VLOOKUP(J14,'пр.взв'!$D$6:$Q$20,2,0),"") | P14: =IFERROR(VLOOKUP(T14,'пр.взв'!$D$6:$Q$20,2,0),"") | AG14: =IF(AND(AC14=T17,AC18=X19),AC20,IF(AND(AC14=T17,AC20=X19),AC18,IF(AND(AC16=T17,AC18=X19),AC20,IF(AND(AC16=T17,AC20=X19),AC18,IF(AC14=X15,AC16,AC14)))))
A15: 3 | B15: =IFERROR(VLOOKUP(A15,'пр.взв'!$D$6:$Q$20,2,0),"") -> МИХЕЕВА Ольга | C15: =IFERROR(VLOOKUP(A15,'пр.взв'!$D$6:$Q$20,5,0),"") -> МС | E15: =IFERROR(VLOOKUP(A15,'пр.взв'!$D$6:$Q$20,8,0),"") -> Свердловская | Y15: =IFERROR(VLOOKUP(AC15,'пр.взв'!$D$6:$Q$20,2,0),"") -> БАЯЗИТОВА Лаура | Z15: =IFERROR(VLOOKUP(AC15,'пр.взв'!$D$6:$Q$20,5,0),"") -> КМС | AB15: =IFERROR(VLOOKUP(AC15,'пр.взв'!$D$6:$Q$20,8,0),"") -> Тюменская | AC15: 4 | AE15: =IF(K18="","",IF(K18=A15,A17,IF(K18=A17,A15,IF(K18=A19,A21,A19)))) | AF15: =IF(T18="","",IF(T18=AC15,AC17,IF(T18=AC17,AC15,IF(T18=AC19,AC21,IF(T18=AC21,AC19))))) | AG15: =IF(AND(AC15=T18,AC19=X20),AC21,IF(AND(AC15=T18,AC21=X20),AC19,IF(AND(AC17=T18,AC19=X20),AC21,IF(AND(AC17=T18,AC21=X20),AC19,IF(AC15=X16,AC17,AC15))))) -> 12
F16: 3 | X16: 4 | AE16: =IF(K18="","",IF(K18=F16,F20,F16)) | AF16: =IF(T18="","",IF(T18=X16,X20,X16)) | AG16: =IF(AND(AC16=T19,AC20=X21),AC22,IF(AND(AC16=T19,AC22=X21),AC20,IF(AND(AC18=T19,AC20=X21),AC22,IF(AND(AC18=T19,AC22=X21),AC20,IF(AC16=X17,AC18,AC16)))))
A17: 11 | B17: =IFERROR(VLOOKUP(A17,'пр.взв'!$D$6:$Q$20,2,0),"") | C17: =IFERROR(VLOOKUP(A17,'пр.взв'!$D$6:$Q$20,5,0),"") | E17: =IFERROR(VLOOKUP(A17,'пр.взв'!$D$6:$Q$20,8,0),"") | Y17: =IFERROR(VLOOKUP(AC17,'пр.взв'!$D$6:$Q$20,2,0),"") | Z17: =IFERROR(VLOOKUP(AC17,'пр.взв'!$D$6:$Q$20,5,0),"") | AB17: =IFERROR(VLOOKUP(AC17,'пр.взв'!$D$6:$Q$20,8,0),"") | AC17: 12 | AG17: =IF(AND(AC17=T20,AC21=X22),AC23,IF(AND(AC17=T20,AC23=X22),AC21,IF(AND(AC19=T20,AC21=X22),AC23,IF(AND(AC19=T20,AC23=X22),AC21,IF(AC17=X18,AC19,AC17))))) -> 12
I18: =IFERROR(VLOOKUP(H18,'пр.взв'!$D$6:$Q$20,2,0),"") | T18: =IFERROR(VLOOKUP(V18,'пр.взв'!$D$6:$Q$20,2,0),"") | AE18: =IF(K32="","",IF(K32=F28,F34,F28)) | AF18: 5М | AG18: =IF(AND(AC18=T21,AC22=X23),AC24,IF(AND(AC18=T21,AC24=X23),AC22,IF(AND(AC20=T21,AC22=X23),AC24,IF(AND(AC20=T21,AC24=X23),AC22,IF(AC18=X19,AC20,AC18)))))
A19: 7 | B19: =IFERROR(VLOOKUP(A19,'пр.взв'!$D$6:$Q$20,2,0),"") -> ХАКИМОВА Елена | C19: =IFERROR(VLOOKUP(A19,'пр.взв'!$D$6:$Q$20,5,0),"") -> МСМК | E19: =IFERROR(VLOOKUP(A19,'пр.взв'!$D$6:$Q$20,8,0),"") -> Оренбургская | N19: 2 место | Y19: =IFERROR(VLOOKUP(AC19,'пр.взв'!$D$6:$Q$20,2,0),"") -> ЧОЛОМБИТЬКО Альбина | Z19: =IFERROR(VLOOKUP(AC19,'пр.взв'!$D$6:$Q$20,5,0),"") -> МСМК | AB19: =IFERROR(VLOOKUP(AC19,'пр.взв'!$D$6:$Q$20,8,0),"") -> Свердловская | AC19: 8 | AE19: =IF(AA32="","",IF(AA32=V28,V34,V28)) | AF19: 5М | AG19: =IF(AND(AC19=T22,AC23=X24),AC25,IF(AND(AC19=T22,AC25=X24),AC23,IF(AND(AC21=T22,AC23=X24),AC25,IF(AND(AC21=T22,AC25=X24),AC23,IF(AC19=X20,AC21,AC19))))) -> 16
F20: 7 | L20: =IF(L8="","",IF(L8=J14,T14,J14)) | M20: =IFERROR(VLOOKUP(L20,'пр.взв'!$D$6:$Q$20,2,0),"") | X20: 8 | AE20: =IF(F28="","",IF(F28=C26,C32,C26)) | AF20: 44050
A21: 15 | B21: =IFERROR(VLOOKUP(A21,'пр.взв'!$D$6:$Q$20,2,0),"") | C21: =IFERROR(VLOOKUP(A21,'пр.взв'!$D$6:$Q$20,5,0),"") | E21: =IFERROR(VLOOKUP(A21,'пр.взв'!$D$6:$Q$20,8,0),"") | Y21: =IFERROR(VLOOKUP(AC21,'пр.взв'!$D$6:$Q$20,2,0),"") | Z21: =IFERROR(VLOOKUP(AC21,'пр.взв'!$D$6:$Q$20,5,0),"") | AB21: =IFERROR(VLOOKUP(AC21,'пр.взв'!$D$6:$Q$20,8,0),"") | AC21: 16 | AE21: =IF(V28="","",IF(V28=S26,S32,S26)) | AF21: 44050
AE22: =IF(C26="","",IF(C26=A25,A27,A25)) | AF22: 44174
L23: УТЕШИТЕЛЬНЫЕ ВСТРЕЧИ | AE23: =IF(C32="","",IF(C32=A31,A33,A31)) | AF23: 44174
E24: А1 | T24: Б1 | AB24: 3 место | AE24: =IF(S26="","",IF(S26=N25,N27,N25)) | AF24: 44174
A25: =IF(H10="","", IF(H10=A7,A9,IF(H10=A9,A7,IF(H10=A11,A13,A11)))) | B25: =IFERROR(VLOOKUP(A25,'пр.взв'!$D$6:$Q$20,2,0),"") | N25: =IF(V10="","",IF(V10=AC7,AC9,IF(V10=AC9,AC7,IF(V10=AC11,AC13,IF(V10=AC13,AC11))))) | O25: =IFERROR(VLOOKUP(N25,'пр.взв'!$D$6:$Q$20,2,0),"") | AA25: =K32 | AB25: =IFERROR(VLOOKUP(AA25,'пр.взв'!$D$6:$Q$20,2,0),"") | AE25: =IF(S32="","",IF(S32=N31,N33,N31)) | AF25: 44174
D26: =IFERROR(VLOOKUP(C26,'пр.взв'!$D$6:$Q$20,2,0),"") | T26: =IFERROR(VLOOKUP(S26,'пр.взв'!$D$6:$Q$20,2,0),"") | AE26: =IF(AND(OR(A7=H10,A9=H10),A11=F12),A13,IF(AND(OR(A7=H10,A9=H10),A13=F12),A11,IF(A7=F8,A9,A7))) -> 1 | AF26: 13-16
A27: =IF(H10="","",IF(H10=F8,F12,F8)) | B27: =IFERROR(VLOOKUP(A27,'пр.взв'!$D$6:$Q$20,2,0),"") | N27: =IF(V10="","",IF(V10=X8,X12,X8)) | O27: =IFERROR(VLOOKUP(N27,'пр.взв'!$D$6:$Q$20,2,0),"") | AE27: =IF(AND(AC7=T10,AC11=X12),AC13,IF(AND(AC7=T10,AC13=X12),AC11,IF(AND(AC9=T10,AC11=X12),AC13,IF(AND(AC9=T10,AC13=X12),AC11,IF(AC7=X8,AC9,AC7))))) -> 10 | AF27: 13-16
G28: =IFERROR(VLOOKUP(F28,'пр.взв'!$D$6:$Q$20,2,0),"") | W28: =IFERROR(VLOOKUP(V28,'пр.взв'!$D$6:$Q$20,2,0),"") | AE28: =IF(AND(OR(A15=K18,A17=K18),A19=F20),A21,IF(AND(OR(A15=K18,A17=K18),A21=F20),A19,IF(A15=F16,A17,A15))) -> 11 | AF28: 13-16
O29: =IFERROR(VLOOKUP(N29,'пр.взв'!$D$6:$Q$19,2,0),"") | AE29: =IF(AND(AC15=T18,AC19=X20),AC21,IF(AND(AC15=T18,AC21=X20),AC19,IF(AND(AC17=T18,AC19=X20),AC21,IF(AND(AC17=T18,AC21=X20),AC19,IF(AC15=X16,AC17,AC15))))) -> 12 | AF29: 13-16
A31: =IF(H18="","",IF(H18=A15,A17,IF(H18=A17,A15,IF(H18=A19,A21,A19)))) | B31: =IFERROR(VLOOKUP(A31,'пр.взв'!$D$6:$Q$20,2,0),"") | N31: =IF(V18="","",IF(V18=AC15,AC17,IF(V18=AC17,AC15,IF(V18=AC19,AC21,IF(V18=AC21,AC19))))) | O31: =IFERROR(VLOOKUP(N31,'пр.взв'!$D$6:$Q$20,2,0),"") | AB31: 3 место | AE31: =IF(AND(AC15=T18,AC19=X20),AC21,IF(AND(AC15=T18,AC21=X20),AC19,IF(AND(AC17=T18,AC19=X20),AC21,IF(AND(AC17=T18,AC21=X20),AC19,IF(AC15=X16,AC17,AC15))))) -> 12 | AF31: 13-16
D32: =IFERROR(VLOOKUP(C32,'пр.взв'!$D$6:$Q$20,2,0),"") | T32: =IFERROR(VLOOKUP(S32,'пр.взв'!$D$6:$Q$20,2,0),"") | AB32: =IFERROR(VLOOKUP(AA32,'пр.взв'!$D$6:$Q$20,2,0),"")
A33: =IF(H18="","",IF(H18=F16,F20,F16)) | B33: =IFERROR(VLOOKUP(A33,'пр.взв'!$D$6:$Q$20,2,0),"") | N33: =IF(V18="","",IF(V18=X16,X20,X16)) | O33: =IFERROR(VLOOKUP(N33,'пр.взв'!$D$6:$Q$20,2,0),"")
F34: =IF(T14="","",IF(T14=V10,V18,V10)) | G34: =IFERROR(VLOOKUP(F34,'пр.взв'!$D$6:$Q$20,2,0),"") | V34: =IF(J14="","",IF(J14=H10,H18,H10)) | W34: =IFERROR(VLOOKUP(V34,'пр.взв'!$D$6:$Q$20,2,0),"")
A38: Гл. судья, судья ВК | F38: =IFERROR(__xludf.DUMMYFUNCTION("IMPORTRANGE('пр.взв'!N1,""Реквизиты!C6"")"),"Болотский Р.М.") -> Болотский Р.М. | K38: =IFERROR(__xludf.DUMMYFUNCTION("IMPORTRANGE('пр.взв'!N1,""Реквизиты!C7"")"),"Москва") -> Москва | O38: Гл. секретарь, судья ВК | Y38: =IFERROR(__xludf.DUMMYFUNCTION("IMPORTRANGE('пр.взв'!N1,""Реквизиты!C10"")"),"Зарипов А.А,") -> Зарипов А.А, | AB38: =IFERROR(__xludf.DUMMYFUNCTION("IMPORTRANGE('пр.взв'!N1,""Реквизиты!C11"")"),"Р. Татарстан") -> Р. Татарстан

Sheet круги
B1: ВСТРЕЧИ ПО КРУГАМ | L1: ВСТРЕЧИ ПО КРУГАМ
B2: ='пр.взв'!D4 | L2: =B2
B3: 0 | C3: КОВЕР | L3: =B3 -> 0 | M3: КОВЕР
B4: A | C4: (Круг) | D4: 1/8 | F4: ='пр.взв'!G4 -> В.к. 80+ кг | L4: Б | M4: (Круг) | N4: 1/8 | P4: =F4 -> В.к. 80+ кг
A5: № встр | B5: № п/ж | C5: Ф.И.О. | D5: Д. р., разряд | E5: Вед., регион | G5: Оценки | H5: Очки | I5: Рез-т | J5: Время | K5: № встр | L5: № п/ж | M5: Ф.И.О. | N5: Д. р., разряд | O5: Вед., регион | Q5: Оценки | R5: Очки | S5: Рез-т | T5: Время
A6: 1 | B6: 1 | C6: =IFERROR(VLOOKUP(B6,'пр.взв'!$D$6:$Q$20,2,0),"") -> ГАСПАРЯН Анжела | D6: =IFERROR(VLOOKUP(B6,'пр.взв'!$D$6:$Q$20,5,0),"") -> МСМК | E6: =IFERROR(VLOOKUP(B6,'пр.взв'!$D$6:$Q$20,6,0),"") -> СЗФО | F6: =IFERROR(VLOOKUP(B6,'пр.взв'!$D$6:$Q$20,8,0),"") -> Калининградская | K6: 5 | L6: 2 | M6: =IFERROR(VLOOKUP(L6,'пр.взв'!$D$6:$Q$20,2,0),"") -> АЗИЗОВА Гюльназ | N6: =IFERROR(VLOOKUP(L6,'пр.взв'!$D$6:$Q$20,5,0),"") -> КМС | O6: =IFERROR(VLOOKUP(L6,'пр.взв'!$D$6:$Q$20,6,0),"") -> МОС | P6: =IFERROR(VLOOKUP(L6,'пр.взв'!$D$6:$Q$20,8,0),"") -> Москва
B7: 9 | C7: =IFERROR(VLOOKUP(B7,'пр.взв'!$D$6:$Q$20,2,0),"") -> ГЕРАСИМОВА Виктория | D7: =IFERROR(VLOOKUP(B7,'пр.взв'!$D$6:$Q$20,5,0),"") -> КМС | E7: =IFERROR(VLOOKUP(B7,'пр.взв'!$D$6:$Q$20,6,0),"") -> УФО | F7: =IFERROR(VLOOKUP(B7,'пр.взв'!$D$6:$Q$20,8,0),"") -> Свердловская | L7: 10 | M7: =IFERROR(VLOOKUP(L7,'пр.взв'!$D$6:$Q$20,2,0),"") | N7: =IFERROR(VLOOKUP(L7,'пр.взв'!$D$6:$Q$20,5,0),"") | O7: =IFERROR(VLOOKUP(L7,'пр.взв'!$D$6:$Q$20,6,0),"") | P7: =IFERROR(VLOOKUP(L7,'пр.взв'!$D$6:$Q$20,8,0),"")
A8: 2 | B8: 5 | C8: =IFERROR(VLOOKUP(B8,'пр.взв'!$D$6:$Q$20,2,0),"") -> САВЕЛЬЕВА Елизавета | D8: =IFERROR(VLOOKUP(B8,'пр.взв'!$D$6:$Q$20,5,0),"") -> КМС | E8: =IFERROR(VLOOKUP(B8,'пр.взв'!$D$6:$Q$20,6,0),"") -> ПФО | F8: =IFERROR(VLOOKUP(B8,'пр.взв'!$D$6:$Q$20,8,0),"") -> Оренбургская | K8: 6 | L8: 6 | M8: =IFERROR(VLOOKUP(L8,'пр.взв'!$D$6:$Q$20,2,0),"") -> КУСАНОВА Жанара | N8: =IFERROR(VLOOKUP(L8,'пр.взв'!$D$6:$Q$20,5,0),"") -> МС | O8: =IFERROR(VLOOKUP(L8,'пр.взв'!$D$6:$Q$20,6,0),"") -> ПФО | P8: =IFERROR(VLOOKUP(L8,'пр.взв'!$D$6:$Q$20,8,0),"") -> Оренбургская
B9: 13 | C9: =IFERROR(VLOOKUP(B9,'пр.взв'!$D$6:$Q$20,2,0),"") | D9: =IFERROR(VLOOKUP(B9,'пр.взв'!$D$6:$Q$20,5,0),"") | E9: =IFERROR(VLOOKUP(B9,'пр.взв'!$D$6:$Q$20,6,0),"") | F9: =IFERROR(VLOOKUP(B9,'пр.взв'!$D$6:$Q$20,8,0),"") | L9: 14 | M9: =IFERROR(VLOOKUP(L9,'пр.взв'!$D$6:$Q$20,2,0),"") | N9: =IFERROR(VLOOKUP(L9,'пр.взв'!$D$6:$Q$20,5,0),"") | O9: =IFERROR(VLOOKUP(L9,'пр.взв'!$D$6:$Q$20,6,0),"") | P9: =IFERROR(VLOOKUP(L9,'пр.взв'!$D$6:$Q$20,8,0),"")
A10: 3 | B10: 3 | C10: =IFERROR(VLOOKUP(B10,'пр.взв'!$D$6:$Q$20,2,0),"") -> МИХЕЕВА Ольга | D10: =IFERROR(VLOOKUP(B10,'пр.взв'!$D$6:$Q$20,5,0),"") -> МС | E10: =IFERROR(VLOOKUP(B10,'пр.взв'!$D$6:$Q$20,6,0),"") -> УФО | F10: =IFERROR(VLOOKUP(B10,'пр.взв'!$D$6:$Q$20,8,0),"") -> Свердловская | K10: 7 | L10: 4 | M10: =IFERROR(VLOOKUP(L10,'пр.взв'!$D$6:$Q$20,2,0),"") -> БАЯЗИТОВА Лаура | N10: =IFERROR(VLOOKUP(L10,'пр.взв'!$D$6:$Q$20,5,0),"") -> КМС | O10: =IFERROR(VLOOKUP(L10,'пр.взв'!$D$6:$Q$20,6,0),"") -> УФО | P10: =IFERROR(VLOOKUP(L10,'пр.взв'!$D$6:$Q$20,8,0),"") -> Тюменская
B11: 11 | C11: =IFERROR(VLOOKUP(B11,'пр.взв'!$D$6:$Q$20,2,0),"") | D11: =IFERROR(VLOOKUP(B11,'пр.взв'!$D$6:$Q$20,5,0),"") | E11: =IFERROR(VLOOKUP(B11,'пр.взв'!$D$6:$Q$20,6,0),"") | F11: =IFERROR(VLOOKUP(B11,'пр.взв'!$D$6:$Q$20,8,0),"") | L11: 12 | M11: =IFERROR(VLOOKUP(L11,'пр.взв'!$D$6:$Q$20,2,0),"") | N11: =IFERROR(VLOOKUP(L11,'пр.взв'!$D$6:$Q$20,5,0),"") | O11: =IFERROR(VLOOKUP(L11,'пр.взв'!$D$6:$Q$20,6,0),"") | P11: =IFERROR(VLOOKUP(L11,'пр.взв'!$D$6:$Q$20,8,0),"")
A12: 4 | B12: 7 | C12: =IFERROR(VLOOKUP(B12,'пр.взв'!$D$6:$Q$20,2,0),"") -> ХАКИМОВА Елена | D12: =IFERROR(VLOOKUP(B12,'пр.взв'!$D$6:$Q$20,5,0),"") -> МСМК | E12: =IFERROR(VLOOKUP(B12,'пр.взв'!$D$6:$Q$20,6,0),"") -> ПФО | F12: =IFERROR(VLOOKUP(B12,'пр.взв'!$D$6:$Q$20,8,0),"") -> Оренбургская | K12: 8 | L12: 8 | M12: =IFERROR(VLOOKUP(L12,'пр.взв'!$D$6:$Q$20,2,0),"") -> ЧОЛОМБИТЬКО Альбина | N12: =IFERROR(VLOOKUP(L12,'пр.взв'!$D$6:$Q$20,5,0),"") -> МСМК | O12: =IFERROR(VLOOKUP(L12,'пр.взв'!$D$6:$Q$20,6,0),"") -> УФО | P12: =IFERROR(VLOOKUP(L12,'пр.взв'!$D$6:$Q$20,8,0),"") -> Свердловская
B13: 15 | C13: =IFERROR(VLOOKUP(B13,'пр.взв'!$D$6:$Q$20,2,0),"") | D13: =IFERROR(VLOOKUP(B13,'пр.взв'!$D$6:$Q$20,5,0),"") | E13: =IFERROR(VLOOKUP(B13,'пр.взв'!$D$6:$Q$20,6,0),"") | F13: =IFERROR(VLOOKUP(B13,'пр.взв'!$D$6:$Q$20,8,0),"") | L13: 16 | M13: =IFERROR(VLOOKUP(L13,'пр.взв'!$D$6:$Q$20,2,0),"") | N13: =IFERROR(VLOOKUP(L13,'пр.взв'!$D$6:$Q$20,5,0),"") | O13: =IFERROR(VLOOKUP(L13,'пр.взв'!$D$6:$Q$20,6,0),"") | P13: =IFERROR(VLOOKUP(L13,'пр.взв'!$D$6:$Q$20,8,0),"")
B14: =B3 -> 0 | C14: КОВЕР | L14: =L3 -> 0 | M14: КОВЕР
B15: A | C15: (Круг) | D15: 1/4 | F15: =F4 -> В.к. 80+ кг | G15: =B2 | L15: Б | M15: (Круг) | N15: 1/4 | P15: =P4 -> В.к. 80+ кг | Q15: =L2
A16: № встр | B16: № п/ж | C16: Ф.И.О. | D16: Д. р., разряд | E16: Вед., регион | G16: Оценки | H16: Очки | I16: Рез-т | J16: Время | K16: № встр | L16: № п/ж | M16: Ф.И.О. | N16: Д. р., разряд | O16: Вед., регион | Q16: Оценки | R16: Очки | S16: Рез-т | T16: Время
A17: 1 | B17: ='пр.хода'!F8 | C17: =IFERROR(VLOOKUP(B17,'пр.взв'!$D$6:$Q$20,2,0),"") | D17: =IFERROR(VLOOKUP(B17,'пр.взв'!$D$6:$Q$20,5,0),"") | E17: =IFERROR(VLOOKUP(B17,'пр.взв'!$D$6:$Q$20,6,0),"") | F17: =IFERROR(VLOOKUP(B17,'пр.взв'!$D$6:$Q$20,8,0),"") | K17: 3 | L17: ='пр.хода'!X8 -> 2 | M17: =IFERROR(VLOOKUP(L17,'пр.взв'!$D$6:$Q$20,2,0),"") -> АЗИЗОВА Гюльназ | N17: =IFERROR(VLOOKUP(L17,'пр.взв'!$D$6:$Q$20,5,0),"") -> КМС | O17: =IFERROR(VLOOKUP(L17,'пр.взв'!$D$6:$Q$20,6,0),"") -> МОС | P17: =IFERROR(VLOOKUP(L17,'пр.взв'!$D$6:$Q$20,8,0),"") -> Москва
B18: ='пр.хода'!F12 -> 5 | C18: =IFERROR(VLOOKUP(B18,'пр.взв'!$D$6:$Q$20,2,0),"") -> САВЕЛЬЕВА Елизавета | D18: =IFERROR(VLOOKUP(B18,'пр.взв'!$D$6:$Q$20,5,0),"") -> КМС | E18: =IFERROR(VLOOKUP(B18,'пр.взв'!$D$6:$Q$20,6,0),"") -> ПФО | F18: =IFERROR(VLOOKUP(B18,'пр.взв'!$D$6:$Q$20,8,0),"") -> Оренбургская | L18: ='пр.хода'!X12 -> 6 | M18: =IFERROR(VLOOKUP(L18,'пр.взв'!$D$6:$Q$20,2,0),"") -> КУСАНОВА Жанара | N18: =IFERROR(VLOOKUP(L18,'пр.взв'!$D$6:$Q$20,5,0),"") -> МС | O18: =IFERROR(VLOOKUP(L18,'пр.взв'!$D$6:$Q$20,6,0),"") -> ПФО | P18: =IFERROR(VLOOKUP(L18,'пр.взв'!$D$6:$Q$20,8,0),"") -> Оренбургская
A19: 2 | B19: ='пр.хода'!F16 -> 3 | C19: =IFERROR(VLOOKUP(B19,'пр.взв'!$D$6:$Q$20,2,0),"") -> МИХЕЕВА Ольга | D19: =IFERROR(VLOOKUP(B19,'пр.взв'!$D$6:$Q$20,5,0),"") -> МС | E19: =IFERROR(VLOOKUP(B19,'пр.взв'!$D$6:$Q$20,6,0),"") -> УФО | F19: =IFERROR(VLOOKUP(B19,'пр.взв'!$D$6:$Q$20,8,0),"") -> Свердловская | K19: 4 | L19: ='пр.хода'!X16 -> 4 | M19: =IFERROR(VLOOKUP(L19,'пр.взв'!$D$6:$Q$20,2,0),"") -> БАЯЗИТОВА Лаура | N19: =IFERROR(VLOOKUP(L19,'пр.взв'!$D$6:$Q$20,5,0),"") -> КМС | O19: =IFERROR(VLOOKUP(L19,'пр.взв'!$D$6:$Q$20,6,0),"") -> УФО | P19: =IFERROR(VLOOKUP(L19,'пр.взв'!$D$6:$Q$20,8,0),"") -> Тюменская
B20: ='пр.хода'!F20 -> 7 | C20: =IFERROR(VLOOKUP(B20,'пр.взв'!$D$6:$Q$20,2,0),"") -> ХАКИМОВА Елена | D20: =IFERROR(VLOOKUP(B20,'пр.взв'!$D$6:$Q$20,5,0),"") -> МСМК | E20: =IFERROR(VLOOKUP(B20,'пр.взв'!$D$6:$Q$20,6,0),"") -> ПФО | F20: =IFERROR(VLOOKUP(B20,'пр.взв'!$D$6:$Q$20,8,0),"") -> Оренбургская | L20: ='пр.хода'!X20 -> 8 | M20: =IFERROR(VLOOKUP(L20,'пр.взв'!$D$6:$Q$20,2,0),"") -> ЧОЛОМБИТЬКО Альбина | N20: =IFERROR(VLOOKUP(L20,'пр.взв'!$D$6:$Q$20,5,0),"") -> МСМК | O20: =IFERROR(VLOOKUP(L20,'пр.взв'!$D$6:$Q$20,6,0),"") -> УФО | P20: =IFERROR(VLOOKUP(L20,'пр.взв'!$D$6:$Q$20,8,0),"") -> Свердловская
B21: =B14 -> 0 | C21: КОВЕР | L21: =L14 -> 0 | M21: КОВЕР
B22: A | C22: Полуфинал | F22: =F15 -> В.к. 80+ кг | G22: =G15 | L22: Б | M22: Полуфинал | P22: =P15 -> В.к. 80+ кг | Q22: =Q15
A23: № встр | B23: № п/ж | C23: Ф.И.О. | D23: Д. р., разряд | E23: Вед., регион | G23: Оценки | H23: Очки | I23: Рез-т | J23: Время | K23: № встр | L23: № п/ж | M23: Ф.И.О. | N23: Д. р., разряд | O23: Вед., регион | Q23: Оценки | R23: Очки | S23: Рез-т | T23: Время
A25: 1 | B25: ='пр.хода'!H10 | C25: =IFERROR(VLOOKUP(B25,'пр.взв'!$D$6:$Q$20,2,0),"") | D25: =IFERROR(VLOOKUP(B25,'пр.взв'!$D$6:$Q$20,5,0),"") | E25: =IFERROR(VLOOKUP(B25,'пр.взв'!$D$6:$Q$20,6,0),"") | F25: =IFERROR(VLOOKUP(B25,'пр.взв'!$D$6:$Q$20,8,0),"") | K25: 2 | L25: ='пр.хода'!V10 | M25: =IFERROR(VLOOKUP(L25,'пр.взв'!$D$6:$Q$20,2,0),"") | N25: =IFERROR(VLOOKUP(L25,'пр.взв'!$D$6:$Q$20,5,0),"") | O25: =IFERROR(VLOOKUP(L25,'пр.взв'!$D$6:$Q$20,6,0),"") | P25: =IFERROR(VLOOKUP(L25,'пр.взв'!$D$6:$Q$20,8,0),"")
B26: ='пр.хода'!H18 | C26: =IFERROR(VLOOKUP(B26,'пр.взв'!$D$6:$Q$20,2,0),"") | D26: =IFERROR(VLOOKUP(B26,'пр.взв'!$D$6:$Q$20,5,0),"") | E26: =IFERROR(VLOOKUP(B26,'пр.взв'!$D$6:$Q$20,6,0),"") | F26: =IFERROR(VLOOKUP(B26,'пр.взв'!$D$6:$Q$20,8,0),"") | L26: ='пр.хода'!V18 | M26: =IFERROR(VLOOKUP(L26,'пр.взв'!$D$6:$Q$20,2,0),"") | N26: =IFERROR(VLOOKUP(L26,'пр.взв'!$D$6:$Q$20,5,0),"") | O26: =IFERROR(VLOOKUP(L26,'пр.взв'!$D$6:$Q$20,6,0),"") | P26: =IFERROR(VLOOKUP(L26,'пр.взв'!$D$6:$Q$20,8,0),"")
B27: =B21 -> 0 | C27: КОВЕР | L27: =L21 -> 0 | M27: КОВЕР
A28: (Утешительные встречи) 1 круг | K28: (Утешительные встречи) 1 круг
B29: A | F29: =F22 -> В.к. 80+ кг | G29: =G22 | L29: Б | P29: =P22 -> В.к. 80+ кг | Q29: =Q22
A30: № встр | B30: № п/ж | C30: Ф.И.О. | D30: Д. р., разряд | E30: Вед., регион | G30: Оценки | H30: Очки | I30: Рез-т | J30: Время | K30: № встр | L30: № п/ж | M30: Ф.И.О. | N30: Д. р., разряд | O30: Вед., регион | Q30: Оценки | R30: Очки | S30: Рез-т | T30: Время
A32: 1 | B32: ='пр.хода'!A25 | C32: =IFERROR(VLOOKUP(B32,'пр.взв'!$D$6:$Q$20,2,0),"") | D32: =IFERROR(VLOOKUP(B32,'пр.взв'!$D$6:$Q$20,5,0),"") | E32: =IFERROR(VLOOKUP(B32,'пр.взв'!$D$6:$Q$20,6,0),"") | F32: =IFERROR(VLOOKUP(B32,'пр.взв'!$D$6:$Q$20,8,0),"") | K32: 3 | L32: ='пр.хода'!N25 | M32: =IFERROR(VLOOKUP(L32,'пр.взв'!$D$6:$Q$20,2,0),"") | N32: =IFERROR(VLOOKUP(L32,'пр.взв'!$D$6:$Q$20,5,0),"") | O32: =IFERROR(VLOOKUP(L32,'пр.взв'!$D$6:$Q$20,6,0),"") | P32: =IFERROR(VLOOKUP(L32,'пр.взв'!$D$6:$Q$20,8,0),"")
B33: ='пр.хода'!A27 | C33: =IFERROR(VLOOKUP(B33,'пр.взв'!$D$6:$Q$20,2,0),"") | D33: =IFERROR(VLOOKUP(B33,'пр.взв'!$D$6:$Q$20,5,0),"") | E33: =IFERROR(VLOOKUP(B33,'пр.взв'!$D$6:$Q$20,6,0),"") | F33: =IFERROR(VLOOKUP(B33,'пр.взв'!$D$6:$Q$20,8,0),"") | L33: ='пр.хода'!N27 | M33: =IFERROR(VLOOKUP(L33,'пр.взв'!$D$6:$Q$20,2,0),"") | N33: =IFERROR(VLOOKUP(L33,'пр.взв'!$D$6:$Q$20,5,0),"") | O33: =IFERROR(VLOOKUP(L33,'пр.взв'!$D$6:$Q$20,6,0),"") | P33: =IFERROR(VLOOKUP(L33,'пр.взв'!$D$6:$Q$20,8,0),"")
A34: 2 | B34: ='пр.хода'!A31 | C34: =IFERROR(VLOOKUP(B34,'пр.взв'!$D$6:$Q$20,2,0),"") | D34: =IFERROR(VLOOKUP(B34,'пр.взв'!$D$6:$Q$20,5,0),"") | E34: =IFERROR(VLOOKUP(B34,'пр.взв'!$D$6:$Q$20,6,0),"") | F34: =IFERROR(VLOOKUP(B34,'пр.взв'!$D$6:$Q$20,8,0),"") | K34: 4 | L34: ='пр.хода'!N31 | M34: =IFERROR(VLOOKUP(L34,'пр.взв'!$D$6:$Q$20,2,0),"") | N34: =IFERROR(VLOOKUP(L34,'пр.взв'!$D$6:$Q$20,5,0),"") | O34: =IFERROR(VLOOKUP(L34,'пр.взв'!$D$6:$Q$20,6,0),"") | P34: =IFERROR(VLOOKUP(L34,'пр.взв'!$D$6:$Q$20,8,0),"")
B35: ='пр.хода'!A33 | C35: =IFERROR(VLOOKUP(B35,'пр.взв'!$D$6:$Q$20,2,0),"") | D35: =IFERROR(VLOOKUP(B35,'пр.взв'!$D$6:$Q$20,5,0),"") | E35: =IFERROR(VLOOKUP(B35,'пр.взв'!$D$6:$Q$20,6,0),"") | F35: =IFERROR(VLOOKUP(B35,'пр.взв'!$D$6:$Q$20,8,0),"") | L35: ='пр.хода'!N33 | M35: =IFERROR(VLOOKUP(L35,'пр.взв'!$D$6:$Q$20,2,0),"") | N35: =IFERROR(VLOOKUP(L35,'пр.взв'!$D$6:$Q$20,5,0),"") | O35: =IFERROR(VLOOKUP(L35,'пр.взв'!$D$6:$Q$20,6,0),"") | P35: =IFERROR(VLOOKUP(L35,'пр.взв'!$D$6:$Q$20,8,0),"")
B36: =B27 -> 0 | C36: КОВЕР | L36: =L27 -> 0 | M36: КОВЕР
A37: (Утешительные встречи) 2 круг | K37: (Утешительные встречи) 2 круг
B38: A | F38: =F29 -> В.к. 80+ кг | G38: =G29 | L38: Б | P38: =P29 -> В.к. 80+ кг | Q38: =Q29
A39: № встр | B39: № п/ж | C39: Ф.И.О. | D39: Д. р., разряд | E39: Вед., регион | G39: Оценки | H39: Очки | I39: Рез-т | J39: Время | K39: № встр | L39: № п/ж | M39: Ф.И.О. | N39: Д. р., разряд | O39: Вед., регион | Q39: Оценки | R39: Очки | S39: Рез-т | T39: Время
A41: 1 | B41: ='пр.хода'!F28 | C41: =IFERROR(VLOOKUP(B41,'пр.взв'!$D$6:$Q$20,2,0),"") | D41: =IFERROR(VLOOKUP(B41,'пр.взв'!$D$6:$Q$20,5,0),"") | E41: =IFERROR(VLOOKUP(B41,'пр.взв'!$D$6:$Q$20,6,0),"") | F41: =IFERROR(VLOOKUP(B41,'пр.взв'!$D$6:$Q$20,8,0),"") | K41: 2 | L41: ='пр.хода'!S26 | M41: =IFERROR(VLOOKUP(L41,'пр.взв'!$D$6:$Q$20,2,0),"") | N41: =IFERROR(VLOOKUP(L41,'пр.взв'!$D$6:$Q$20,5,0),"") | O41: =IFERROR(VLOOKUP(L41,'пр.взв'!$D$6:$Q$20,6,0),"") | P41: =IFERROR(VLOOKUP(L41,'пр.взв'!$D$6:$Q$20,8,0),"")
B42: ='пр.хода'!F34 | C42: =IFERROR(VLOOKUP(B42,'пр.взв'!$D$6:$Q$20,2,0),"") | D42: =IFERROR(VLOOKUP(B42,'пр.взв'!$D$6:$Q$20,5,0),"") | E42: =IFERROR(VLOOKUP(B42,'пр.взв'!$D$6:$Q$20,6,0),"") | F42: =IFERROR(VLOOKUP(B42,'пр.взв'!$D$6:$Q$20,8,0),"") | L42: ='пр.хода'!S32 | M42: =IFERROR(VLOOKUP(L42,'пр.взв'!$D$6:$Q$20,2,0),"") | N42: =IFERROR(VLOOKUP(L42,'пр.взв'!$D$6:$Q$20,5,0),"") | O42: =IFERROR(VLOOKUP(L42,'пр.взв'!$D$6:$Q$20,6,0),"") | P42: =IFERROR(VLOOKUP(L42,'пр.взв'!$D$6:$Q$20,8,0),"")

Sheet Табло
B1: ВСТРЕЧИ ПО КРУГАМ | M1: ВСТРЕЧИ ПО КРУГАМ
B2: 3 | C2: КОВЕР | E2: ='пр.взв'!I4 | M2: =B2 -> 3 | N2: КОВЕР | P2: =G2
B3: A | C3: (Круг) | D3: 1/16 | F3: 1/16 | G3: ='пр.взв'!G4 -> В.к. 80+ кг | M3: Б | N3: (Круг) | O3: 1/16 | P3: 1/16 | R3: =G3 -> В.к. 80+ кг
A4: № встр | B4: № п/ж | C4: Ф.И.О. | D4: Д. р., разряд | E4: Округ., субъект | G4: Оценки | H4: Очки | I4: Рез-т | J4: Время | L4: № встр | M4: № п/ж | N4: Ф.И.О. | O4: Д. р., разряд | P4: Вед., регион | R4: Оценки | S4: Очки | T4: Рез-т | U4: Время
A41: 1 | B41: 1 | C41: =IFERROR(VLOOKUP(B41,'пр.взв'!$D$6:$Q$32,2,0),"") -> ГАСПАРЯН Анжела | D41: =IFERROR(VLOOKUP(B41,'пр.взв'!$D$6:$Q$32,5,0),"") -> МСМК | E41: =IFERROR(VLOOKUP(B41,'пр.взв'!$D$6:$Q$32,6,0),"") -> СЗФО | F41: =IFERROR(VLOOKUP(B41,'пр.взв'!$D$6:$Q$32,8,0),"") -> Калининградская | L41: 9 | M41: 2 | N41: =IFERROR(VLOOKUP(M41,'пр.взв'!$D$6:$Q$32,2,0),"") -> АЗИЗОВА Гюльназ | O41: =IFERROR(VLOOKUP(M41,'пр.взв'!$D$6:$Q$32,5,0),"") -> КМС | P41: =IFERROR(VLOOKUP(M41,'пр.взв'!$D$6:$Q$32,6,0),"") -> МОС | Q41: =IFERROR(VLOOKUP(M41,'пр.взв'!$D$6:$Q$32,8,0),"") -> Москва
B42: 17 | C42: =IFERROR(VLOOKUP(B42,'пр.взв'!$D$6:$Q$32,2,0),"") | D42: =IFERROR(VLOOKUP(B42,'пр.взв'!$D$6:$Q$32,5,0),"") | E42: =IFERROR(VLOOKUP(B42,'пр.взв'!$D$6:$Q$32,6,0),"") | F42: =IFERROR(VLOOKUP(B42,'пр.взв'!$D$6:$Q$32,8,0),"") | M42: 18 | N42: =IFERROR(VLOOKUP(M42,'пр.взв'!$D$6:$Q$32,2,0),"") | O42: =IFERROR(VLOOKUP(M42,'пр.взв'!$D$6:$Q$32,5,0),"") | P42: =IFERROR(VLOOKUP(M42,'пр.взв'!$D$6:$Q$32,6,0),"") | Q42: =IFERROR(VLOOKUP(M42,'пр.взв'!$D$6:$Q$32,8,0),"")
A43: 2 | B43: 9 | C43: =IFERROR(VLOOKUP(B43,'пр.взв'!$D$6:$Q$32,2,0),"") -> ГЕРАСИМОВА Виктория | D43: =IFERROR(VLOOKUP(B43,'пр.взв'!$D$6:$Q$32,5,0),"") -> КМС | E43: =IFERROR(VLOOKUP(B43,'пр.взв'!$D$6:$Q$32,6,0),"") -> УФО | F43: =IFERROR(VLOOKUP(B43,'пр.взв'!$D$6:$Q$32,8,0),"") -> Свердловская | L43: 10 | M43: 10 | N43: =IFERROR(VLOOKUP(M43,'пр.взв'!$D$6:$Q$32,2,0),"") | O43: =IFERROR(VLOOKUP(M43,'пр.взв'!$D$6:$Q$32,5,0),"") | P43: =IFERROR(VLOOKUP(M43,'пр.взв'!$D$6:$Q$32,6,0),"") | Q43: =IFERROR(VLOOKUP(M43,'пр.взв'!$D$6:$Q$32,8,0),"")
B44: 25 | C44: =IFERROR(VLOOKUP(B44,'пр.взв'!$D$6:$Q$32,2,0),"") | D44: =IFERROR(VLOOKUP(B44,'пр.взв'!$D$6:$Q$32,5,0),"") | E44: =IFERROR(VLOOKUP(B44,'пр.взв'!$D$6:$Q$32,6,0),"") | F44: =IFERROR(VLOOKUP(B44,'пр.взв'!$D$6:$Q$32,8,0),"") | M44: 26 | N44: =IFERROR(VLOOKUP(M44,'пр.взв'!$D$6:$Q$32,2,0),"") | O44: =IFERROR(VLOOKUP(M44,'пр.взв'!$D$6:$Q$32,5,0),"") | P44: =IFERROR(VLOOKUP(M44,'пр.взв'!$D$6:$Q$32,6,0),"") | Q44: =IFERROR(VLOOKUP(M44,'пр.взв'!$D$6:$Q$32,8,0),"")
A45: 3 | B45: 5 | C45: =IFERROR(VLOOKUP(B45,'пр.взв'!$D$6:$Q$32,2,0),"") -> САВЕЛЬЕВА Елизавета | D45: =IFERROR(VLOOKUP(B45,'пр.взв'!$D$6:$Q$32,5,0),"") -> КМС | E45: =IFERROR(VLOOKUP(B45,'пр.взв'!$D$6:$Q$32,6,0),"") -> ПФО | F45: =IFERROR(VLOOKUP(B45,'пр.взв'!$D$6:$Q$32,8,0),"") -> Оренбургская | L45: 11 | M45: 6 | N45: =IFERROR(VLOOKUP(M45,'пр.взв'!$D$6:$Q$32,2,0),"") -> КУСАНОВА Жанара | O45: =IFERROR(VLOOKUP(M45,'пр.взв'!$D$6:$Q$32,5,0),"") -> МС | P45: =IFERROR(VLOOKUP(M45,'пр.взв'!$D$6:$Q$32,6,0),"") -> ПФО | Q45: =IFERROR(VLOOKUP(M45,'пр.взв'!$D$6:$Q$32,8,0),"") -> Оренбургская
B46: 21 | C46: =IFERROR(VLOOKUP(B46,'пр.взв'!$D$6:$Q$32,2,0),"") | D46: =IFERROR(VLOOKUP(B46,'пр.взв'!$D$6:$Q$32,5,0),"") | E46: =IFERROR(VLOOKUP(B46,'пр.взв'!$D$6:$Q$32,6,0),"") | F46: =IFERROR(VLOOKUP(B46,'пр.взв'!$D$6:$Q$32,8,0),"") | M46: 22 | N46: =IFERROR(VLOOKUP(M46,'пр.взв'!$D$6:$Q$32,2,0),"") | O46: =IFERROR(VLOOKUP(M46,'пр.взв'!$D$6:$Q$32,5,0),"") | P46: =IFERROR(VLOOKUP(M46,'пр.взв'!$D$6:$Q$32,6,0),"") | Q46: =IFERROR(VLOOKUP(M46,'пр.взв'!$D$6:$Q$32,8,0),"")
A47: 4 | B47: 13 | C47: =IFERROR(VLOOKUP(B47,'пр.взв'!$D$6:$Q$32,2,0),"") | D47: =IFERROR(VLOOKUP(B47,'пр.взв'!$D$6:$Q$32,5,0),"") | E47: =IFERROR(VLOOKUP(B47,'пр.взв'!$D$6:$Q$32,6,0),"") | F47: =IFERROR(VLOOKUP(B47,'пр.взв'!$D$6:$Q$32,8,0),"") | L47: 12 | M47: 14 | N47: =IFERROR(VLOOKUP(M47,'пр.взв'!$D$6:$Q$32,2,0),"") | O47: =IFERROR(VLOOKUP(M47,'пр.взв'!$D$6:$Q$32,5,0),"") | P47: =IFERROR(VLOOKUP(M47,'пр.взв'!$D$6:$Q$32,6,0),"") | Q47: =IFERROR(VLOOKUP(M47,'пр.взв'!$D$6:$Q$32,8,0),"")
B48: 29 | C48: =IFERROR(VLOOKUP(B48,'пр.взв'!$D$6:$Q$32,2,0),"") | D48: =IFERROR(VLOOKUP(B48,'пр.взв'!$D$6:$Q$32,5,0),"") | E48: =IFERROR(VLOOKUP(B48,'пр.взв'!$D$6:$Q$32,6,0),"") | F48: =IFERROR(VLOOKUP(B48,'пр.взв'!$D$6:$Q$32,8,0),"") | M48: 30 | N48: =IFERROR(VLOOKUP(M48,'пр.взв'!$D$6:$Q$32,2,0),"") | O48: =IFERROR(VLOOKUP(M48,'пр.взв'!$D$6:$Q$32,5,0),"") | P48: =IFERROR(VLOOKUP(M48,'пр.взв'!$D$6:$Q$32,6,0),"") | Q48: =IFERROR(VLOOKUP(M48,'пр.взв'!$D$6:$Q$32,8,0),"")
A49: 5 | B49: 3 | C49: =IFERROR(VLOOKUP(B49,'пр.взв'!$D$6:$Q$32,2,0),"") -> МИХЕЕВА Ольга | D49: =IFERROR(VLOOKUP(B49,'пр.взв'!$D$6:$Q$32,5,0),"") -> МС | E49: =IFERROR(VLOOKUP(B49,'пр.взв'!$D$6:$Q$32,6,0),"") -> УФО | F49: =IFERROR(VLOOKUP(B49,'пр.взв'!$D$6:$Q$32,8,0),"") -> Свердловская | L49: 13 | M49: 4 | N49: =IFERROR(VLOOKUP(M49,'пр.взв'!$D$6:$Q$32,2,0),"") -> БАЯЗИТОВА Лаура | O49: =IFERROR(VLOOKUP(M49,'пр.взв'!$D$6:$Q$32,5,0),"") -> КМС | P49: =IFERROR(VLOOKUP(M49,'пр.взв'!$D$6:$Q$32,6,0),"") -> УФО | Q49: =IFERROR(VLOOKUP(M49,'пр.взв'!$D$6:$Q$32,8,0),"") -> Тюменская
B50: 19 | C50: =IFERROR(VLOOKUP(B50,'пр.взв'!$D$6:$Q$32,2,0),"") | D50: =IFERROR(VLOOKUP(B50,'пр.взв'!$D$6:$Q$32,5,0),"") | E50: =IFERROR(VLOOKUP(B50,'пр.взв'!$D$6:$Q$32,6,0),"") | F50: =IFERROR(VLOOKUP(B50,'пр.взв'!$D$6:$Q$32,8,0),"") | M50: 20 | N50: =IFERROR(VLOOKUP(M50,'пр.взв'!$D$6:$Q$32,2,0),"") | O50: =IFERROR(VLOOKUP(M50,'пр.взв'!$D$6:$Q$32,5,0),"") | P50: =IFERROR(VLOOKUP(M50,'пр.взв'!$D$6:$Q$32,6,0),"") | Q50: =IFERROR(VLOOKUP(M50,'пр.взв'!$D$6:$Q$32,8,0),"")
A51: 6 | B51: 11 | C51: =IFERROR(VLOOKUP(B51,'пр.взв'!$D$6:$Q$32,2,0),"") | D51: =IFERROR(VLOOKUP(B51,'пр.взв'!$D$6:$Q$32,5,0),"") | E51: =IFERROR(VLOOKUP(B51,'пр.взв'!$D$6:$Q$32,6,0),"") | F51: =IFERROR(VLOOKUP(B51,'пр.взв'!$D$6:$Q$32,8,0),"") | L51: 14 | M51: 12 | N51: =IFERROR(VLOOKUP(M51,'пр.взв'!$D$6:$Q$32,2,0),"") | O51: =IFERROR(VLOOKUP(M51,'пр.взв'!$D$6:$Q$32,5,0),"") | P51: =IFERROR(VLOOKUP(M51,'пр.взв'!$D$6:$Q$32,6,0),"") | Q51: =IFERROR(VLOOKUP(M51,'пр.взв'!$D$6:$Q$32,8,0),"")
B52: 27 | C52: =IFERROR(VLOOKUP(B52,'пр.взв'!$D$6:$Q$32,2,0),"") | D52: =IFERROR(VLOOKUP(B52,'пр.взв'!$D$6:$Q$32,5,0),"") | E52: =IFERROR(VLOOKUP(B52,'пр.взв'!$D$6:$Q$32,6,0),"") | F52: =IFERROR(VLOOKUP(B52,'пр.взв'!$D$6:$Q$32,8,0),"") | M52: 28 | N52: =IFERROR(VLOOKUP(M52,'пр.взв'!$D$6:$Q$32,2,0),"") | O52: =IFERROR(VLOOKUP(M52,'пр.взв'!$D$6:$Q$32,5,0),"") | P52: =IFERROR(VLOOKUP(M52,'пр.взв'!$D$6:$Q$32,6,0),"") | Q52: =IFERROR(VLOOKUP(M52,'пр.взв'!$D$6:$Q$32,8,0),"")
A53: 7 | B53: 7 | C53: =IFERROR(VLOOKUP(B53,'пр.взв'!$D$6:$Q$32,2,0),"") -> ХАКИМОВА Елена | D53: =IFERROR(VLOOKUP(B53,'пр.взв'!$D$6:$Q$32,5,0),"") -> МСМК | E53: =IFERROR(VLOOKUP(B53,'пр.взв'!$D$6:$Q$32,6,0),"") -> ПФО | F53: =IFERROR(VLOOKUP(B53,'пр.взв'!$D$6:$Q$32,8,0),"") -> Оренбургская | L53: 15 | M53: 8 | N53: =IFERROR(VLOOKUP(M53,'пр.взв'!$D$6:$Q$32,2,0),"") -> ЧОЛОМБИТЬКО Альбина | O53: =IFERROR(VLOOKUP(M53,'пр.взв'!$D$6:$Q$32,5,0),"") -> МСМК | P53: =IFERROR(VLOOKUP(M53,'пр.взв'!$D$6:$Q$32,6,0),"") -> УФО | Q53: =IFERROR(VLOOKUP(M53,'пр.взв'!$D$6:$Q$32,8,0),"") -> Свердловская
B54: 23 | C54: =IFERROR(VLOOKUP(B54,'пр.взв'!$D$6:$Q$32,2,0),"") | D54: =IFERROR(VLOOKUP(B54,'пр.взв'!$D$6:$Q$32,5,0),"") | E54: =IFERROR(VLOOKUP(B54,'пр.взв'!$D$6:$Q$32,6,0),"") | F54: =IFERROR(VLOOKUP(B54,'пр.взв'!$D$6:$Q$32,8,0),"") | M54: 24 | N54: =IFERROR(VLOOKUP(M54,'пр.взв'!$D$6:$Q$32,2,0),"") | O54: =IFERROR(VLOOKUP(M54,'пр.взв'!$D$6:$Q$32,5,0),"") | P54: =IFERROR(VLOOKUP(M54,'пр.взв'!$D$6:$Q$32,6,0),"") | Q54: =IFERROR(VLOOKUP(M54,'пр.взв'!$D$6:$Q$32,8,0),"")
A55: 8 | B55: 15 | C55: =IFERROR(VLOOKUP(B55,'пр.взв'!$D$6:$Q$32,2,0),"") | D55: =IFERROR(VLOOKUP(B55,'пр.взв'!$D$6:$Q$32,5,0),"") | E55: =IFERROR(VLOOKUP(B55,'пр.взв'!$D$6:$Q$32,6,0),"") | F55: =IFERROR(VLOOKUP(B55,'пр.взв'!$D$6:$Q$32,8,0),"") | L55: 16 | M55: 16 | N55: =IFERROR(VLOOKUP(M55,'пр.взв'!$D$6:$Q$32,2,0),"") | O55: =IFERROR(VLOOKUP(M55,'пр.взв'!$D$6:$Q$32,5,0),"") | P55: =IFERROR(VLOOKUP(M55,'пр.взв'!$D$6:$Q$32,6,0),"") | Q55: =IFERROR(VLOOKUP(M55,'пр.взв'!$D$6:$Q$32,8,0),"")
B56: 31 | C56: =IFERROR(VLOOKUP(B56,'пр.взв'!$D$6:$Q$32,2,0),"") | D56: =IFERROR(VLOOKUP(B56,'пр.взв'!$D$6:$Q$32,5,0),"") | E56: =IFERROR(VLOOKUP(B56,'пр.взв'!$D$6:$Q$32,6,0),"") | F56: =IFERROR(VLOOKUP(B56,'пр.взв'!$D$6:$Q$32,8,0),"") | M56: 32 | N56: =IFERROR(VLOOKUP(M56,'пр.взв'!$D$6:$Q$32,2,0),"") | O56: =IFERROR(VLOOKUP(M56,'пр.взв'!$D$6:$Q$32,5,0),"") | P56: =IFERROR(VLOOKUP(M56,'пр.взв'!$D$6:$Q$32,6,0),"") | Q56: =IFERROR(VLOOKUP(M56,'пр.взв'!$D$6:$Q$32,8,0),"")
B57: № п/ж | C57: Подгруппа А | D57: 1/8 | F57: 1/8 | G57: =G3 -> В.к. 80+ кг | M57: № п/ж | N57: Подгруппа Б | O57: 1/8 | Q57: 1/8 | R57: =G57 -> В.к. 80+ кг
A58: № встр | B58: № п/ж | C58: Ф.И.О. | D58: Д. р., разряд | E58: Округ., субъект | G58: Оценки | H58: Очки | I58: Рез-т | J58: Время | L58: № встр | N58: Ф.И.О. | O58: Д. р., разряд | P58: Округ., субъект | R58: Оценки | S58: Очки | T58: Рез-т | U58: Время
A60: 1 | B60: 1 | C60: =IFERROR(VLOOKUP(B60,'пр.взв'!$D$6:$Q$32,2,0),"") -> ГАСПАРЯН Анжела | D60: =IFERROR(VLOOKUP(B60,'пр.взв'!$D$6:$Q$32,5,0),"") -> МСМК | E60: =IFERROR(VLOOKUP(B60,'пр.взв'!$D$6:$Q$32,6,0),"") -> СЗФО | F60: =IFERROR(VLOOKUP(B60,'пр.взв'!$D$6:$Q$32,8,0),"") -> Калининградская | L60: 5 | M60: 2 | N60: =IFERROR(VLOOKUP(M60,'пр.взв'!$D$6:$Q$32,2,0),"") -> АЗИЗОВА Гюльназ | O60: =IFERROR(VLOOKUP(M60,'пр.взв'!$D$6:$Q$32,5,0),"") -> КМС | P60: =IFERROR(VLOOKUP(M60,'пр.взв'!$D$6:$Q$32,6,0),"") -> МОС | Q60: =IFERROR(VLOOKUP(M60,'пр.взв'!$D$6:$Q$32,8,0),"") -> Москва
B61: 9 | C61: =IFERROR(VLOOKUP(B61,'пр.взв'!$D$6:$Q$32,2,0),"") -> ГЕРАСИМОВА Виктория | D61: =IFERROR(VLOOKUP(B61,'пр.взв'!$D$6:$Q$32,5,0),"") -> КМС | E61: =IFERROR(VLOOKUP(B61,'пр.взв'!$D$6:$Q$32,6,0),"") -> УФО | F61: =IFERROR(VLOOKUP(B61,'пр.взв'!$D$6:$Q$32,8,0),"") -> Свердловская | M61: 10 | N61: =IFERROR(VLOOKUP(M61,'пр.взв'!$D$6:$Q$32,2,0),"") | O61: =IFERROR(VLOOKUP(M61,'пр.взв'!$D$6:$Q$32,5,0),"") | P61: =IFERROR(VLOOKUP(M61,'пр.взв'!$D$6:$Q$32,6,0),"") | Q61: =IFERROR(VLOOKUP(M61,'пр.взв'!$D$6:$Q$32,8,0),"")
A62: 2 | B62: 5 | C62: =IFERROR(VLOOKUP(B62,'пр.взв'!$D$6:$Q$32,2,0),"") -> САВЕЛЬЕВА Елизавета | D62: =IFERROR(VLOOKUP(B62,'пр.взв'!$D$6:$Q$32,5,0),"") -> КМС | E62: =IFERROR(VLOOKUP(B62,'пр.взв'!$D$6:$Q$32,6,0),"") -> ПФО | F62: =IFERROR(VLOOKUP(B62,'пр.взв'!$D$6:$Q$32,8,0),"") -> Оренбургская | L62: 6 | M62: 6 | N62: =IFERROR(VLOOKUP(M62,'пр.взв'!$D$6:$Q$32,2,0),"") -> КУСАНОВА Жанара | O62: =IFERROR(VLOOKUP(M62,'пр.взв'!$D$6:$Q$32,5,0),"") -> МС | P62: =IFERROR(VLOOKUP(M62,'пр.взв'!$D$6:$Q$32,6,0),"") -> ПФО | Q62: =IFERROR(VLOOKUP(M62,'пр.взв'!$D$6:$Q$32,8,0),"") -> Оренбургская
B63: 13 | C63: =IFERROR(VLOOKUP(B63,'пр.взв'!$D$6:$Q$32,2,0),"") | D63: =IFERROR(VLOOKUP(B63,'пр.взв'!$D$6:$Q$32,5,0),"") | E63: =IFERROR(VLOOKUP(B63,'пр.взв'!$D$6:$Q$32,6,0),"") | F63: =IFERROR(VLOOKUP(B63,'пр.взв'!$D$6:$Q$32,8,0),"") | M63: 14 | N63: =IFERROR(VLOOKUP(M63,'пр.взв'!$D$6:$Q$32,2,0),"") | O63: =IFERROR(VLOOKUP(M63,'пр.взв'!$D$6:$Q$32,5,0),"") | P63: =IFERROR(VLOOKUP(M63,'пр.взв'!$D$6:$Q$32,6,0),"") | Q63: =IFERROR(VLOOKUP(M63,'пр.взв'!$D$6:$Q$32,8,0),"")
A64: 3 | B64: 3 | C64: =IFERROR(VLOOKUP(B64,'пр.взв'!$D$6:$Q$32,2,0),"") -> МИХЕЕВА Ольга | D64: =IFERROR(VLOOKUP(B64,'пр.взв'!$D$6:$Q$32,5,0),"") -> МС | E64: =IFERROR(VLOOKUP(B64,'пр.взв'!$D$6:$Q$32,6,0),"") -> УФО | F64: =IFERROR(VLOOKUP(B64,'пр.взв'!$D$6:$Q$32,8,0),"") -> Свердловская | L64: 7 | M64: 4 | N64: =IFERROR(VLOOKUP(M64,'пр.взв'!$D$6:$Q$32,2,0),"") -> БАЯЗИТОВА Лаура | O64: =IFERROR(VLOOKUP(M64,'пр.взв'!$D$6:$Q$32,5,0),"") -> КМС | P64: =IFERROR(VLOOKUP(M64,'пр.взв'!$D$6:$Q$32,6,0),"") -> УФО | Q64: =IFERROR(VLOOKUP(M64,'пр.взв'!$D$6:$Q$32,8,0),"") -> Тюменская
B65: 11 | C65: =IFERROR(VLOOKUP(B65,'пр.взв'!$D$6:$Q$32,2,0),"") | D65: =IFERROR(VLOOKUP(B65,'пр.взв'!$D$6:$Q$32,5,0),"") | E65: =IFERROR(VLOOKUP(B65,'пр.взв'!$D$6:$Q$32,6,0),"") | F65: =IFERROR(VLOOKUP(B65,'пр.взв'!$D$6:$Q$32,8,0),"") | M65: 12 | N65: =IFERROR(VLOOKUP(M65,'пр.взв'!$D$6:$Q$32,2,0),"") | O65: =IFERROR(VLOOKUP(M65,'пр.взв'!$D$6:$Q$32,5,0),"") | P65: =IFERROR(VLOOKUP(M65,'пр.взв'!$D$6:$Q$32,6,0),"") | Q65: =IFERROR(VLOOKUP(M65,'пр.взв'!$D$6:$Q$32,8,0),"")
A66: 4 | B66: 7 | C66: =IFERROR(VLOOKUP(B66,'пр.взв'!$D$6:$Q$32,2,0),"") -> ХАКИМОВА Елена | D66: =IFERROR(VLOOKUP(B66,'пр.взв'!$D$6:$Q$32,5,0),"") -> МСМК | E66: =IFERROR(VLOOKUP(B66,'пр.взв'!$D$6:$Q$32,6,0),"") -> ПФО | F66: =IFERROR(VLOOKUP(B66,'пр.взв'!$D$6:$Q$32,8,0),"") -> Оренбургская | L66: 8 | M66: 8 | N66: =IFERROR(VLOOKUP(M66,'пр.взв'!$D$6:$Q$32,2,0),"") -> ЧОЛОМБИТЬКО Альбина | O66: =IFERROR(VLOOKUP(M66,'пр.взв'!$D$6:$Q$32,5,0),"") -> МСМК | P66: =IFERROR(VLOOKUP(M66,'пр.взв'!$D$6:$Q$32,6,0),"") -> УФО | Q66: =IFERROR(VLOOKUP(M66,'пр.взв'!$D$6:$Q$32,8,0),"") -> Свердловская
B67: 15 | C67: =IFERROR(VLOOKUP(B67,'пр.взв'!$D$6:$Q$32,2,0),"") | D67: =IFERROR(VLOOKUP(B67,'пр.взв'!$D$6:$Q$32,5,0),"") | E67: =IFERROR(VLOOKUP(B67,'пр.взв'!$D$6:$Q$32,6,0),"") | F67: =IFERROR(VLOOKUP(B67,'пр.взв'!$D$6:$Q$32,8,0),"") | M67: 16 | N67: =IFERROR(VLOOKUP(M67,'пр.взв'!$D$6:$Q$32,2,0),"") | O67: =IFERROR(VLOOKUP(M67,'пр.взв'!$D$6:$Q$32,5,0),"") | P67: =IFERROR(VLOOKUP(M67,'пр.взв'!$D$6:$Q$32,6,0),"") | Q67: =IFERROR(VLOOKUP(M67,'пр.взв'!$D$6:$Q$32,8,0),"")
B68: A | C68: (Круг) | D68: 1/4 | F68: 1/4 | G68: =G57 -> В.к. 80+ кг | M68: B | N68: (Круг) | O68: 1/4 | P68: 1/4 | R68: =G68 -> В.к. 80+ кг
A69: № встр | B69: № п/ж | C69: Ф.И.О. | D69: Д. р., разряд | E69: Вед., регион | G69: Оценки | H69: Очки | I69: Рез-т | J69: Время | L69: № встр | M69: № п/ж | N69: Ф.И.О. | O69: Д. р., разряд | P69: Вед., регион | R69: Оценки | S69: Очки | T69: Рез-т | U69: Время
A71: 1 | B71: ='пр.хода'!F8 | C71: =IFERROR(VLOOKUP(B71,'пр.взв'!$D$6:$Q$32,2,0),"") | D71: =IFERROR(VLOOKUP(B71,'пр.взв'!$D$6:$Q$32,5,0),"") | E71: =IFERROR(VLOOKUP(B71,'пр.взв'!$D$6:$Q$32,6,0),"") | F71: =IFERROR(VLOOKUP(B71,'пр.взв'!$D$6:$Q$32,8,0),"") | L71: 3 | M71: ='пр.хода'!X8 -> 2 | N71: =IFERROR(VLOOKUP(M71,'пр.взв'!$D$6:$Q$32,2,0),"") -> АЗИЗОВА Гюльназ | O71: =IFERROR(VLOOKUP(M71,'пр.взв'!$D$6:$Q$32,5,0),"") -> КМС | P71: =IFERROR(VLOOKUP(M71,'пр.взв'!$D$6:$Q$32,6,0),"") -> МОС | Q71: =IFERROR(VLOOKUP(M71,'пр.взв'!$D$6:$Q$32,8,0),"") -> Москва
B72: ='пр.хода'!F12 -> 5 | C72: =IFERROR(VLOOKUP(B72,'пр.взв'!$D$6:$Q$32,2,0),"") -> САВЕЛЬЕВА Елизавета | D72: =IFERROR(VLOOKUP(B72,'пр.взв'!$D$6:$Q$32,5,0),"") -> КМС | E72: =IFERROR(VLOOKUP(B72,'пр.взв'!$D$6:$Q$32,6,0),"") -> ПФО | F72: =IFERROR(VLOOKUP(B72,'пр.взв'!$D$6:$Q$32,8,0),"") -> Оренбургская | M72: ='пр.хода'!X12 -> 6 | N72: =IFERROR(VLOOKUP(M72,'пр.взв'!$D$6:$Q$32,2,0),"") -> КУСАНОВА Жанара | O72: =IFERROR(VLOOKUP(M72,'пр.взв'!$D$6:$Q$32,5,0),"") -> МС | P72: =IFERROR(VLOOKUP(M72,'пр.взв'!$D$6:$Q$32,6,0),"") -> ПФО | Q72: =IFERROR(VLOOKUP(M72,'пр.взв'!$D$6:$Q$32,8,0),"") -> Оренбургская
A73: 2 | B73: ='пр.хода'!F16 -> 3 | C73: =IFERROR(VLOOKUP(B73,'пр.взв'!$D$6:$Q$32,2,0),"") -> МИХЕЕВА Ольга | D73: =IFERROR(VLOOKUP(B73,'пр.взв'!$D$6:$Q$32,5,0),"") -> МС | E73: =IFERROR(VLOOKUP(B73,'пр.взв'!$D$6:$Q$32,6,0),"") -> УФО | F73: =IFERROR(VLOOKUP(B73,'пр.взв'!$D$6:$Q$32,8,0),"") -> Свердловская | L73: 4 | M73: ='пр.хода'!X16 -> 4 | N73: =IFERROR(VLOOKUP(M73,'пр.взв'!$D$6:$Q$32,2,0),"") -> БАЯЗИТОВА Лаура | O73: =IFERROR(VLOOKUP(M73,'пр.взв'!$D$6:$Q$32,5,0),"") -> КМС | P73: =IFERROR(VLOOKUP(M73,'пр.взв'!$D$6:$Q$32,6,0),"") -> УФО | Q73: =IFERROR(VLOOKUP(M73,'пр.взв'!$D$6:$Q$32,8,0),"") -> Тюменская
B74: ='пр.хода'!F20 -> 7 | C74: =IFERROR(VLOOKUP(B74,'пр.взв'!$D$6:$Q$32,2,0),"") -> ХАКИМОВА Елена | D74: =IFERROR(VLOOKUP(B74,'пр.взв'!$D$6:$Q$32,5,0),"") -> МСМК | E74: =IFERROR(VLOOKUP(B74,'пр.взв'!$D$6:$Q$32,6,0),"") -> ПФО | F74: =IFERROR(VLOOKUP(B74,'пр.взв'!$D$6:$Q$32,8,0),"") -> Оренбургская | M74: ='пр.хода'!X20 -> 8 | N74: =IFERROR(VLOOKUP(M74,'пр.взв'!$D$6:$Q$32,2,0),"") -> ЧОЛОМБИТЬКО Альбина | O74: =IFERROR(VLOOKUP(M74,'пр.взв'!$D$6:$Q$32,5,0),"") -> МСМК | P74: =IFERROR(VLOOKUP(M74,'пр.взв'!$D$6:$Q$32,6,0),"") -> УФО | Q74: =IFERROR(VLOOKUP(M74,'пр.взв'!$D$6:$Q$32,8,0),"") -> Свердловская
B75: A | C75: Полуфинал | G75: =G68 -> В.к. 80+ кг | M75: Б | N75: Полуфинал | R75: =G75 -> В.к. 80+ кг
A76: № встр | B76: № п/ж | C76: Ф.И.О. | D76: Д. р., разряд | E76: Вед., регион | G76: Оценки | H76: Очки | I76: Рез-т | J76: Время | L76: № встр | M76: № п/ж | N76: Ф.И.О. | O76: Д. р., разряд | P76: Вед., регион | R76: Оценки | S76: Очки | T76: Рез-т | U76: Время
A78: 1 | B78: ='пр.хода'!H10 | C78: =IFERROR(VLOOKUP(B78,'пр.взв'!$D$6:$Q$32,2,0),"") | D78: =IFERROR(VLOOKUP(B78,'пр.взв'!$D$6:$Q$32,5,0),"") | E78: =IFERROR(VLOOKUP(B78,'пр.взв'!$D$6:$Q$32,6,0),"") | F78: =IFERROR(VLOOKUP(B78,'пр.взв'!$D$6:$Q$32,8,0),"") | L78: 2 | M78: ='пр.хода'!V10 | N78: =IFERROR(VLOOKUP(M78,'пр.взв'!$D$6:$Q$32,2,0),"") | O78: =IFERROR(VLOOKUP(M78,'пр.взв'!$D$6:$Q$32,5,0),"") | P78: =IFERROR(VLOOKUP(M78,'пр.взв'!$D$6:$Q$32,6,0),"") | Q78: =IFERROR(VLOOKUP(M78,'пр.взв'!$D$6:$Q$32,8,0),"")
B79: ='пр.хода'!H18 | C79: =IFERROR(VLOOKUP(B79,'пр.взв'!$D$6:$Q$32,2,0),"") | D79: =IFERROR(VLOOKUP(B79,'пр.взв'!$D$6:$Q$32,5,0),"") | E79: =IFERROR(VLOOKUP(B79,'пр.взв'!$D$6:$Q$32,6,0),"") | F79: =IFERROR(VLOOKUP(B79,'пр.взв'!$D$6:$Q$32,8,0),"") | M79: ='пр.хода'!V18 | N79: =IFERROR(VLOOKUP(M79,'пр.взв'!$D$6:$Q$32,2,0),"") | O79: =IFERROR(VLOOKUP(M79,'пр.взв'!$D$6:$Q$32,5,0),"") | P79: =IFERROR(VLOOKUP(M79,'пр.взв'!$D$6:$Q$32,6,0),"") | Q79: =IFERROR(VLOOKUP(M79,'пр.взв'!$D$6:$Q$32,8,0),"")
A85: (Утешительные встречи) 12 | L85: (Утешительные встречи) 12
B86: A | G86: =G75 -> В.к. 80+ кг | M86: Б | R86: =G86 -> В.к. 80+ кг
A87: № встр | B87: № п/ж | C87: Ф.И.О. | D87: Д. р., разряд | E87: Вед., регион | G87: Оценки | H87: Очки | I87: Рез-т | J87: Время | L87: № встр | M87: № п/ж | N87: Ф.И.О. | O87: Д. р., разряд | P87: Вед., регион | R87: Оценки | S87: Очки | T87: Рез-т | U87: Время
A89: 1 | C89: =IFERROR(VLOOKUP(B89,'пр.взв'!$D$6:$Q$32,2,0),"") | D89: =IFERROR(VLOOKUP(B89,'пр.взв'!$D$6:$Q$32,5,0),"") | E89: =IFERROR(VLOOKUP(B89,'пр.взв'!$D$6:$Q$32,6,0),"") | F89: =IFERROR(VLOOKUP(B89,'пр.взв'!$D$6:$Q$32,8,0),"") | L89: 3 | M89: ='пр.хода'!J91 | N89: =IFERROR(VLOOKUP(M89,'пр.взв'!$D$6:$Q$32,2,0),"") | O89: =IFERROR(VLOOKUP(M89,'пр.взв'!$D$6:$Q$32,5,0),"") | P89: =IFERROR(VLOOKUP(M89,'пр.взв'!$D$6:$Q$32,6,0),"") | Q89: =IFERROR(VLOOKUP(M89,'пр.взв'!$D$6:$Q$32,8,0),"")
C90: =IFERROR(VLOOKUP(B90,'пр.взв'!$D$6:$Q$32,2,0),"") | D90: =IFERROR(VLOOKUP(B90,'пр.взв'!$D$6:$Q$32,5,0),"") | E90: =IFERROR(VLOOKUP(B90,'пр.взв'!$D$6:$Q$32,6,0),"") | F90: =IFERROR(VLOOKUP(B90,'пр.взв'!$D$6:$Q$32,8,0),"") | M90: ='пр.хода'!J95 | N90: =IFERROR(VLOOKUP(M90,'пр.взв'!$D$6:$Q$32,2,0),"") | O90: =IFERROR(VLOOKUP(M90,'пр.взв'!$D$6:$Q$32,5,0),"") | P90: =IFERROR(VLOOKUP(M90,'пр.взв'!$D$6:$Q$32,6,0),"") | Q90: =IFERROR(VLOOKUP(M90,'пр.взв'!$D$6:$Q$32,8,0),"")
A91: 2 | C91: =IFERROR(VLOOKUP(B91,'пр.взв'!$D$6:$Q$32,2,0),"") | D91: =IFERROR(VLOOKUP(B91,'пр.взв'!$D$6:$Q$32,5,0),"") | E91: =IFERROR(VLOOKUP(B91,'пр.взв'!$D$6:$Q$32,6,0),"") | F91: =IFERROR(VLOOKUP(B91,'пр.взв'!$D$6:$Q$32,8,0),"") | L91: 4 | M91: ='пр.хода'!I102 | N91: =IFERROR(VLOOKUP(M91,'пр.взв'!$D$6:$Q$32,2,0),"") | O91: =IFERROR(VLOOKUP(M91,'пр.взв'!$D$6:$Q$32,5,0),"") | P91: =IFERROR(VLOOKUP(M91,'пр.взв'!$D$6:$Q$32,6,0),"") | Q91: =IFERROR(VLOOKUP(M91,'пр.взв'!$D$6:$Q$32,8,0),"")
C92: =IFERROR(VLOOKUP(B92,'пр.взв'!$D$6:$Q$32,2,0),"") | D92: =IFERROR(VLOOKUP(B92,'пр.взв'!$D$6:$Q$32,5,0),"") | E92: =IFERROR(VLOOKUP(B92,'пр.взв'!$D$6:$Q$32,6,0),"") | F92: =IFERROR(VLOOKUP(B92,'пр.взв'!$D$6:$Q$32,8,0),"") | M92: ='пр.хода'!I106 | N92: =IFERROR(VLOOKUP(M92,'пр.взв'!$D$6:$Q$32,2,0),"") | O92: =IFERROR(VLOOKUP(M92,'пр.взв'!$D$6:$Q$32,5,0),"") | P92: =IFERROR(VLOOKUP(M92,'пр.взв'!$D$6:$Q$32,6,0),"") | Q92: =IFERROR(VLOOKUP(M92,'пр.взв'!$D$6:$Q$32,8,0),"")
A93: (Утешительные встречи) 8 | L93: (Утешительные встречи) 8
A94: 5 | B94: ='пр.хода'!A25 | C94: =IFERROR(VLOOKUP(B94,'пр.взв'!$D$6:$Q$32,2,0),"") | D94: =IFERROR(VLOOKUP(B94,'пр.взв'!$D$6:$Q$32,5,0),"") | E94: =IFERROR(VLOOKUP(B94,'пр.взв'!$D$6:$Q$32,6,0),"") | F94: =IFERROR(VLOOKUP(B94,'пр.взв'!$D$6:$Q$32,8,0),"") | L94: 7 | M94: ='пр.хода'!N25 | N94: =IFERROR(VLOOKUP(M94,'пр.взв'!$D$6:$Q$32,2,0),"") | O94: =IFERROR(VLOOKUP(M94,'пр.взв'!$D$6:$Q$32,5,0),"") | P94: =IFERROR(VLOOKUP(M94,'пр.взв'!$D$6:$Q$32,6,0),"") | Q94: =IFERROR(VLOOKUP(M94,'пр.взв'!$D$6:$Q$32,8,0),"")
B95: ='пр.хода'!A27 | C95: =IFERROR(VLOOKUP(B95,'пр.взв'!$D$6:$Q$32,2,0),"") | D95: =IFERROR(VLOOKUP(B95,'пр.взв'!$D$6:$Q$32,5,0),"") | E95: =IFERROR(VLOOKUP(B95,'пр.взв'!$D$6:$Q$32,6,0),"") | F95: =IFERROR(VLOOKUP(B95,'пр.взв'!$D$6:$Q$32,8,0),"") | M95: ='пр.хода'!N27 | N95: =IFERROR(VLOOKUP(M95,'пр.взв'!$D$6:$Q$32,2,0),"") | O95: =IFERROR(VLOOKUP(M95,'пр.взв'!$D$6:$Q$32,5,0),"") | P95: =IFERROR(VLOOKUP(M95,'пр.взв'!$D$6:$Q$32,6,0),"") | Q95: =IFERROR(VLOOKUP(M95,'пр.взв'!$D$6:$Q$32,8,0),"")
A96: 6 | B96: ='пр.хода'!A31 | C96: =IFERROR(VLOOKUP(B96,'пр.взв'!$D$6:$Q$32,2,0),"") | D96: =IFERROR(VLOOKUP(B96,'пр.взв'!$D$6:$Q$32,5,0),"") | E96: =IFERROR(VLOOKUP(B96,'пр.взв'!$D$6:$Q$32,6,0),"") | F96: =IFERROR(VLOOKUP(B96,'пр.взв'!$D$6:$Q$32,8,0),"") | L96: 8 | M96: ='пр.хода'!N31 | N96: =IFERROR(VLOOKUP(M96,'пр.взв'!$D$6:$Q$32,2,0),"") | O96: =IFERROR(VLOOKUP(M96,'пр.взв'!$D$6:$Q$32,5,0),"") | P96: =IFERROR(VLOOKUP(M96,'пр.взв'!$D$6:$Q$32,6,0),"") | Q96: =IFERROR(VLOOKUP(M96,'пр.взв'!$D$6:$Q$32,8,0),"")
B97: ='пр.хода'!A33 | C97: =IFERROR(VLOOKUP(B97,'пр.взв'!$D$6:$Q$32,2,0),"") | D97: =IFERROR(VLOOKUP(B97,'пр.взв'!$D$6:$Q$32,5,0),"") | E97: =IFERROR(VLOOKUP(B97,'пр.взв'!$D$6:$Q$32,6,0),"") | F97: =IFERROR(VLOOKUP(B97,'пр.взв'!$D$6:$Q$32,8,0),"") | M97: ='пр.хода'!N33 | N97: =IFERROR(VLOOKUP(M97,'пр.взв'!$D$6:$Q$32,2,0),"") | O97: =IFERROR(VLOOKUP(M97,'пр.взв'!$D$6:$Q$32,5,0),"") | P97: =IFERROR(VLOOKUP(M97,'пр.взв'!$D$6:$Q$32,6,0),"") | Q97: =IFERROR(VLOOKUP(M97,'пр.взв'!$D$6:$Q$32,8,0),"")
A98: (Утешительные встречи) 6 | L98: (Утешительные встречи) 6
A99: 9 | B99: ='пр.хода'!F28 | C99: =IFERROR(VLOOKUP(B99,'пр.взв'!$D$6:$Q$32,2,0),"") | D99: =IFERROR(VLOOKUP(B99,'пр.взв'!$D$6:$Q$32,5,0),"") | E99: =IFERROR(VLOOKUP(B99,'пр.взв'!$D$6:$Q$32,6,0),"") | F99: =IFERROR(VLOOKUP(B99,'пр.взв'!$D$6:$Q$32,8,0),"") | L99: 10 | M99: ='пр.хода'!S26 | N99: =IFERROR(VLOOKUP(M99,'пр.взв'!$D$6:$Q$32,2,0),"") | O99: =IFERROR(VLOOKUP(M99,'пр.взв'!$D$6:$Q$32,5,0),"") | P99: =IFERROR(VLOOKUP(M99,'пр.взв'!$D$6:$Q$32,6,0),"") | Q99: =IFERROR(VLOOKUP(M99,'пр.взв'!$D$6:$Q$32,8,0),"")
B100: ='пр.хода'!F34 | C100: =IFERROR(VLOOKUP(B100,'пр.взв'!$D$6:$Q$32,2,0),"") | D100: =IFERROR(VLOOKUP(B100,'пр.взв'!$D$6:$Q$32,5,0),"") | E100: =IFERROR(VLOOKUP(B100,'пр.взв'!$D$6:$Q$32,6,0),"") | F100: =IFERROR(VLOOKUP(B100,'пр.взв'!$D$6:$Q$32,8,0),"") | M100: ='пр.хода'!S32 | N100: =IFERROR(VLOOKUP(M100,'пр.взв'!$D$6:$Q$32,2,0),"") | O100: =IFERROR(VLOOKUP(M100,'пр.взв'!$D$6:$Q$32,5,0),"") | P100: =IFERROR(VLOOKUP(M100,'пр.взв'!$D$6:$Q$32,6,0),"") | Q100: =IFERROR(VLOOKUP(M100,'пр.взв'!$D$6:$Q$32,8,0),"")
C101: ЗА 3 МЕСТО | N101: ЗА 3 МЕСТО
C102: ВСТРЕЧА 1 | D102: ='пр.взв'!$D$4 | N102: ВСТРЕЧА 1 | O102: ='пр.взв'!$D$4
B103: ='пр.хода'!F28 | C103: =IFERROR(VLOOKUP(B103,'пр.взв'!$B$7:$H$69,2,0),"") | D103: =IFERROR(VLOOKUP(B103,'пр.взв'!$B$7:$H$69,3,0),"") | E103: =IFERROR(VLOOKUP(B103,'пр.взв'!$B$7:$H$69,4,0),"") | F103: =IFERROR(VLOOKUP(B103,'пр.взв'!$B$7:$H$69,5,0),"") | M103: =B103 | N103: =IFERROR(VLOOKUP(M103,'пр.взв'!$B$7:$H$69,2,0),"") | O103: =IFERROR(VLOOKUP(M103,'пр.взв'!$B$7:$H$69,3,0),"") | P103: =IFERROR(VLOOKUP(M103,'пр.взв'!$B$7:$H$69,4,0),"") | Q103: =IFERROR(VLOOKUP(M103,'пр.взв'!$B$7:$H$69,5,0),"")
B104: ='пр.хода'!F34 | C104: =IFERROR(VLOOKUP(B104,'пр.взв'!$B$7:$H$69,2,0),"") | D104: =IFERROR(VLOOKUP(B104,'пр.взв'!$B$7:$H$69,3,0),"") | E104: =IFERROR(VLOOKUP(B104,'пр.взв'!$B$7:$H$69,4,0),"") | F104: =IFERROR(VLOOKUP(B104,'пр.взв'!$B$7:$H$69,5,0),"") | M104: =B104 | N104: =IFERROR(VLOOKUP(M104,'пр.взв'!$B$7:$H$69,2,0),"") | O104: =IFERROR(VLOOKUP(M104,'пр.взв'!$B$7:$H$69,3,0),"") | P104: =IFERROR(VLOOKUP(M104,'пр.взв'!$B$7:$H$69,4,0),"") | Q104: =IFERROR(VLOOKUP(M104,'пр.взв'!$B$7:$H$69,5,0),"")
C105: 3А 3 МЕСТО | N105: 3А 3 МЕСТО
C106: ВСТРЕЧА 2 | D106: ='пр.взв'!$D$4 | N106: ВСТРЕЧА 2 | O106: ='пр.взв'!$D$4
B107: ='пр.хода'!V28 | C107: =IFERROR(VLOOKUP(B107,'пр.взв'!$B$7:$H$69,2,0),"") | D107: =IFERROR(VLOOKUP(B107,'пр.взв'!$B$7:$H$69,3,0),"") | E107: =IFERROR(VLOOKUP(B107,'пр.взв'!$B$7:$H$69,4,0),"") | F107: =IFERROR(VLOOKUP(B107,'пр.взв'!$B$7:$H$69,5,0),"") | M107: =B107 | N107: =IFERROR(VLOOKUP(M107,'пр.взв'!$B$7:$H$69,2,0),"") | O107: =IFERROR(VLOOKUP(M107,'пр.взв'!$B$7:$H$69,3,0),"") | P107: =IFERROR(VLOOKUP(M107,'пр.взв'!$B$7:$H$69,4,0),"") | Q107: =IFERROR(VLOOKUP(M107,'пр.взв'!$B$7:$H$69,5,0),"")
B108: ='пр.хода'!V34 | C108: =IFERROR(VLOOKUP(B108,'пр.взв'!$B$7:$H$69,2,0),"") | D108: =IFERROR(VLOOKUP(B108,'пр.взв'!$B$7:$H$69,3,0),"") | E108: =IFERROR(VLOOKUP(B108,'пр.взв'!$B$7:$H$69,4,0),"") | F108: =IFERROR(VLOOKUP(B108,'пр.взв'!$B$7:$H$69,5,0),"") | M108: =B108 | N108: =IFERROR(VLOOKUP(M108,'пр.взв'!$B$7:$H$69,2,0),"") | O108: =IFERROR(VLOOKUP(M108,'пр.взв'!$B$7:$H$69,3,0),"") | P108: =IFERROR(VLOOKUP(M108,'пр.взв'!$B$7:$H$69,4,0),"") | Q108: =IFERROR(VLOOKUP(M108,'пр.взв'!$B$7:$H$69,5,0),"")
C109: ФИНАЛ | D109: ='пр.взв'!$D$4 | N109: ФИНАЛ | O109: ='пр.взв'!$D$4
B110: ='пр.хода'!J14 | C110: =IFERROR(VLOOKUP(B110,'пр.взв'!$B$7:$H$69,2,0),"") | D110: =IFERROR(VLOOKUP(B110,'пр.взв'!$B$7:$H$69,3,0),"") | E110: =IFERROR(VLOOKUP(B110,'пр.взв'!$B$7:$H$69,4,0),"") | F110: =IFERROR(VLOOKUP(B110,'пр.взв'!$B$7:$H$69,5,0),"") | M110: =B110 | N110: =IFERROR(VLOOKUP(M110,'пр.взв'!$B$7:$H$69,2,0),"") | O110: =IFERROR(VLOOKUP(M110,'пр.взв'!$B$7:$H$69,3,0),"") | P110: =IFERROR(VLOOKUP(M110,'пр.взв'!$B$7:$H$69,4,0),"") | Q110: =IFERROR(VLOOKUP(M110,'пр.взв'!$B$7:$H$69,5,0),"")
B111: ='пр.хода'!T14 | C111: =IFERROR(VLOOKUP(B111,'пр.взв'!$B$7:$H$69,2,0),"") | D111: =IFERROR(VLOOKUP(B111,'пр.взв'!$B$7:$H$69,3,0),"") | E111: =IFERROR(VLOOKUP(B111,'пр.взв'!$B$7:$H$69,4,0),"") | F111: =IFERROR(VLOOKUP(B111,'пр.взв'!$B$7:$H$69,5,0),"") | M111: =B111 | N111: =IFERROR(VLOOKUP(M111,'пр.взв'!$B$7:$H$69,2,0),"") | O111: =IFERROR(VLOOKUP(M111,'пр.взв'!$B$7:$H$69,3,0),"") | P111: =IFERROR(VLOOKUP(M111,'пр.взв'!$B$7:$H$69,4,0),"") | Q111: =IFERROR(VLOOKUP(M111,'пр.взв'!$B$7:$H$69,5,0),"")

Sheet полуфинал
A1: ='пр.взв'!C2 -> Чемпионат России по самбо среди женщин (отбор на Чемпионат Мира и Европы) ЕКП № 23747
F2: =('пр.взв'!D4)
C3: ЗА 3 МЕСТО | F3: ='пр.взв'!G4 -> В.к. 80+ кг
C4: ВСТРЕЧА 1
A5: Цвет | B5: № п/ж | C5: Ф.И.О. | D5: Д. р., разряд | E5: Вед., регион | G5: Оценки | H5: Рез-т | I5: Время
B7: ='пр.хода'!F28 | C7: =IFERROR(VLOOKUP(B7,'пр.взв'!$D$6:$M$69,2,0),"") | D7: =IFERROR(VLOOKUP(B7,'пр.взв'!$D$6:$M$69,5,0),"") | E7: =IFERROR(VLOOKUP(B7,'пр.взв'!$D$6:$M$69,6,0),"") | F7: =IFERROR(VLOOKUP(B7,'пр.взв'!$D$6:$M$69,7,0),"")
B8: ='пр.хода'!F34 | C8: =IFERROR(VLOOKUP(B8,'пр.взв'!$D$6:$M$69,2,0),"") | D8: =IFERROR(VLOOKUP(B8,'пр.взв'!$D$6:$M$69,5,0),"") | E8: =IFERROR(VLOOKUP(B8,'пр.взв'!$D$6:$M$69,6,0),"") | F8: =IFERROR(VLOOKUP(B8,'пр.взв'!$D$6:$M$69,7,0),"")
A9: Руководитель ковра
B10: А
B11: Б
C13: ЗА 3 МЕСТО | F13: ='пр.взв'!G4 -> В.к. 80+ кг
C14: ВСТРЕЧА 2 | F14: =('пр.взв'!D4)
A15: Цвет | B15: № п/ж | C15: Ф.И.О. | D15: Д. р., разряд | E15: Вед., регион | G15: Оценки | H15: Рез-т | I15: Время
B17: ='пр.хода'!V28 | C17: =IFERROR(VLOOKUP(B17,'пр.взв'!$D$6:$M$69,2,0),"") | D17: =IFERROR(VLOOKUP(B17,'пр.взв'!$D$6:$M$69,5,0),"") | E17: =IFERROR(VLOOKUP(B17,'пр.взв'!$D$6:$M$69,6,0),"") | F17: =IFERROR(VLOOKUP(B17,'пр.взв'!$D$6:$M$69,7,0),"")
B18: ='пр.хода'!V34 | C18: =IFERROR(VLOOKUP(B18,'пр.взв'!$D$6:$M$69,2,0),"") | D18: =IFERROR(VLOOKUP(B18,'пр.взв'!$D$6:$M$69,5,0),"") | E18: =IFERROR(VLOOKUP(B18,'пр.взв'!$D$6:$M$69,6,0),"") | F18: =IFERROR(VLOOKUP(B18,'пр.взв'!$D$6:$M$69,7,0),"")
A19: Руководитель ковра
B20: А
B21: Б
C25: ФИНАЛ | F25: ='пр.взв'!G4 -> В.к. 80+ кг
A26: Цвет | B26: № п/ж | C26: Ф.И.О. | D26: Д. р., разряд | E26: Вед., регион | G26: Оценки | H26: Рез-т | I26: Время
B28: ='пр.хода'!J14 | C28: =IFERROR(VLOOKUP(B28,'пр.взв'!$D$6:$M$69,2,0),"") | D28: =IFERROR(VLOOKUP(B28,'пр.взв'!$D$6:$M$69,5,0),"") | E28: =IFERROR(VLOOKUP(B28,'пр.взв'!$D$6:$M$69,6,0),"") | F28: =IFERROR(VLOOKUP(B28,'пр.взв'!$D$6:$M$69,7,0),"")
B29: ='пр.хода'!T14 | C29: =IFERROR(VLOOKUP(B29,'пр.взв'!$D$6:$M$69,2,0),"") | D29: =IFERROR(VLOOKUP(B29,'пр.взв'!$D$6:$M$69,5,0),"") | E29: =IFERROR(VLOOKUP(B29,'пр.взв'!$D$6:$M$69,6,0),"") | F29: =IFERROR(VLOOKUP(B29,'пр.взв'!$D$6:$M$69,7,0),"")
A30: Руководитель ковра
B31: А
B32: Б

Sheet Ит.пр
A1: ВСЕРОССИЙСКАЯ ФЕДЕРАЦИЯ САМБО
B2: ИТОГОВЫЙ ПРОТОКОЛ ЮНИОРЫ | D2: ='пр.взв'!C2 -> Чемпионат России по самбо среди женщин (отбор на Чемпионат Мира и Европы) ЕКП № 23747
A3: ='пр.взв'!C3 -> 27.02 - 03.03.2023 г. г. Пермь | G3: ='пр.взв'!G4 -> В.к. 80+ кг
A4: место | B4: № п/ж | C4: Ф.И.О. | D4: Дата рожд., разряд | E4: Округ, субъект, город, ведомство | G4: № карточки | H4: Тренер
A6: 1 | B6: ='пр.хода'!L8 | C6: =IFERROR(VLOOKUP(B6,'пр.взв'!$D$6:$M$20,3,0),"") | D6: =IFERROR(VLOOKUP(B6,'пр.взв'!$D$6:$M$20,4,0),"") | E6: =IFERROR(VLOOKUP(B6,'пр.взв'!$D$6:$M$20,6,0),"") | F6: =IFERROR(VLOOKUP(B6,'пр.взв'!$D$6:$M$20,7,0),"") | G6: =IFERROR(VLOOKUP(B6,'пр.взв'!$D$6:$Q$19,8,0),"") | H6: =IFERROR(VLOOKUP(B6,'пр.взв'!$D$6:$M$20,10,0),"")
A7: 2 | B7: ='пр.хода'!L20 | C7: =IFERROR(VLOOKUP(B7,'пр.взв'!$D$6:$M$20,3,0),"") | D7: =IFERROR(VLOOKUP(B7,'пр.взв'!$D$6:$M$20,4,0),"") | E7: =IFERROR(VLOOKUP(B7,'пр.взв'!$D$6:$M$20,6,0),"") | F7: =IFERROR(VLOOKUP(B7,'пр.взв'!$D$6:$M$20,7,0),"") | G7: =IFERROR(VLOOKUP(B7,'пр.взв'!$D$6:$Q$19,8,0),"") | H7: =IFERROR(VLOOKUP(B7,'пр.взв'!$D$6:$M$20,10,0),"")
A8: 3 | B8: ='пр.хода'!AA25 | C8: =IFERROR(VLOOKUP(B8,'пр.взв'!$D$6:$M$20,3,0),"") | D8: =IFERROR(VLOOKUP(B8,'пр.взв'!$D$6:$M$20,4,0),"") | E8: =IFERROR(VLOOKUP(B8,'пр.взв'!$D$6:$M$20,6,0),"") | F8: =IFERROR(VLOOKUP(B8,'пр.взв'!$D$6:$M$20,7,0),"") | G8: =IFERROR(VLOOKUP(B8,'пр.взв'!$D$6:$Q$19,8,0),"") | H8: =IFERROR(VLOOKUP(B8,'пр.взв'!$D$6:$M$20,10,0),"")
A9: 3 | B9: ='пр.хода'!AA32 | C9: =IFERROR(VLOOKUP(B9,'пр.взв'!$D$6:$M$20,3,0),"") | D9: =IFERROR(VLOOKUP(B9,'пр.взв'!$D$6:$M$20,4,0),"") | E9: =IFERROR(VLOOKUP(B9,'пр.взв'!$D$6:$M$20,6,0),"") | F9: =IFERROR(VLOOKUP(B9,'пр.взв'!$D$6:$M$20,7,0),"") | G9: =IFERROR(VLOOKUP(B9,'пр.взв'!$D$6:$Q$19,8,0),"") | H9: =IFERROR(VLOOKUP(B9,'пр.взв'!$D$6:$M$20,10,0),"")
A10: 5 | B10: ='пр.хода'!AE18 | C10: =IFERROR(VLOOKUP(B10,'пр.взв'!$D$6:$M$20,3,0),"") | D10: =IFERROR(VLOOKUP(B10,'пр.взв'!$D$6:$M$20,4,0),"") | E10: =IFERROR(VLOOKUP(B10,'пр.взв'!$D$6:$M$20,6,0),"") | F10: =IFERROR(VLOOKUP(B10,'пр.взв'!$D$6:$M$20,7,0),"") | G10: =IFERROR(VLOOKUP(B10,'пр.взв'!$D$6:$Q$19,8,0),"") | H10: =IFERROR(VLOOKUP(B10,'пр.взв'!$D$6:$M$20,10,0),"")
A11: 5 | B11: ='пр.хода'!AE19 | C11: =IFERROR(VLOOKUP(B11,'пр.взв'!$D$6:$M$20,3,0),"") | D11: =IFERROR(VLOOKUP(B11,'пр.взв'!$D$6:$M$20,4,0),"") | E11: =IFERROR(VLOOKUP(B11,'пр.взв'!$D$6:$M$20,6,0),"") | F11: =IFERROR(VLOOKUP(B11,'пр.взв'!$D$6:$M$20,7,0),"") | G11: =IFERROR(VLOOKUP(B11,'пр.взв'!$D$6:$Q$19,8,0),"") | H11: =IFERROR(VLOOKUP(B11,'пр.взв'!$D$6:$M$20,10,0),"")
A12: 7-8 | B12: ='пр.хода'!AE20 | C12: =IFERROR(VLOOKUP(B12,'пр.взв'!$D$6:$M$20,3,0),"") | D12: =IFERROR(VLOOKUP(B12,'пр.взв'!$D$6:$M$20,4,0),"") | E12: =IFERROR(VLOOKUP(B12,'пр.взв'!$D$6:$M$20,6,0),"") | F12: =IFERROR(VLOOKUP(B12,'пр.взв'!$D$6:$M$20,7,0),"") | G12: =IFERROR(VLOOKUP(B12,'пр.взв'!$D$6:$Q$19,8,0),"") | H12: =IFERROR(VLOOKUP(B12,'пр.взв'!$D$6:$M$20,10,0),"")
A13: 7-8 | B13: ='пр.хода'!AE21 | C13: =IFERROR(VLOOKUP(B13,'пр.взв'!$D$6:$M$20,3,0),"") | D13: =IFERROR(VLOOKUP(B13,'пр.взв'!$D$6:$M$20,4,0),"") | E13: =IFERROR(VLOOKUP(B13,'пр.взв'!$D$6:$M$20,6,0),"") | F13: =IFERROR(VLOOKUP(B13,'пр.взв'!$D$6:$M$20,7,0),"") | G13: =IFERROR(VLOOKUP(B13,'пр.взв'!$D$6:$Q$19,8,0),"") | H13: =IFERROR(VLOOKUP(B13,'пр.взв'!$D$6:$M$20,10,0),"")
A14: 9-12 | B14: ='пр.хода'!AE22 | C14: =IFERROR(VLOOKUP(B14,'пр.взв'!$D$6:$M$20,3,0),"") | D14: =IFERROR(VLOOKUP(B14,'пр.взв'!$D$6:$M$20,4,0),"") | E14: =IFERROR(VLOOKUP(B14,'пр.взв'!$D$6:$M$20,6,0),"") | F14: =IFERROR(VLOOKUP(B14,'пр.взв'!$D$6:$M$20,7,0),"") | G14: =IFERROR(VLOOKUP(B14,'пр.взв'!$D$6:$Q$19,8,0),"") | H14: =IFERROR(VLOOKUP(B14,'пр.взв'!$D$6:$M$20,10,0),"")
A15: 9-12 | B15: ='пр.хода'!AE23 | C15: =IFERROR(VLOOKUP(B15,'пр.взв'!$D$6:$M$20,3,0),"") | D15: =IFERROR(VLOOKUP(B15,'пр.взв'!$D$6:$M$20,4,0),"") | E15: =IFERROR(VLOOKUP(B15,'пр.взв'!$D$6:$M$20,6,0),"") | F15: =IFERROR(VLOOKUP(B15,'пр.взв'!$D$6:$M$20,7,0),"") | G15: =IFERROR(VLOOKUP(B15,'пр.взв'!$D$6:$Q$19,8,0),"") | H15: =IFERROR(VLOOKUP(B15,'пр.взв'!$D$6:$M$20,10,0),"")
A16: 9-12 | B16: ='пр.хода'!AE24 | C16: =IFERROR(VLOOKUP(B16,'пр.взв'!$D$6:$M$20,3,0),"") | D16: =IFERROR(VLOOKUP(B16,'пр.взв'!$D$6:$M$20,4,0),"") | E16: =IFERROR(VLOOKUP(B16,'пр.взв'!$D$6:$M$20,6,0),"") | F16: =IFERROR(VLOOKUP(B16,'пр.взв'!$D$6:$M$20,7,0),"") | G16: =IFERROR(VLOOKUP(B16,'пр.взв'!$D$6:$Q$19,8,0),"") | H16: =IFERROR(VLOOKUP(B16,'пр.взв'!$D$6:$M$20,10,0),"")
A17: 9-12 | B17: ='пр.хода'!AE25 | C17: =IFERROR(VLOOKUP(B17,'пр.взв'!$D$6:$M$20,3,0),"") | D17: =IFERROR(VLOOKUP(B17,'пр.взв'!$D$6:$M$20,4,0),"") | E17: =IFERROR(VLOOKUP(B17,'пр.взв'!$D$6:$M$20,6,0),"") | F17: =IFERROR(VLOOKUP(B17,'пр.взв'!$D$6:$M$20,7,0),"") | G17: =IFERROR(VLOOKUP(B17,'пр.взв'!$D$6:$Q$19,8,0),"") | H17: =IFERROR(VLOOKUP(B17,'пр.взв'!$D$6:$M$20,10,0),"")
A18: 13-16 | B18: ='пр.хода'!AE26 -> 1 | C18: =IFERROR(VLOOKUP(B18,'пр.взв'!$D$6:$M$20,3,0),"") -> ГАСПАРЯН Анжела Седраковна | D18: =IFERROR(VLOOKUP(B18,'пр.взв'!$D$6:$M$20,4,0),"") -> 07.04.95, МСМК | E18: =IFERROR(VLOOKUP(B18,'пр.взв'!$D$6:$M$20,6,0),"") -> СЗФО | F18: =IFERROR(VLOOKUP(B18,'пр.взв'!$D$6:$M$20,7,0),"") -> Калининградская обл., Калининград, ВС | G18: =IFERROR(VLOOKUP(B18,'пр.взв'!$D$6:$Q$19,8,0),"") -> Калининградская | H18: =IFERROR(VLOOKUP(B18,'пр.взв'!$D$6:$M$20,10,0),"") -> Мкртчян С.Р., Быстров И.С.
A19: 13-16 | B19: ='пр.хода'!AE27 -> 10 | C19: =IFERROR(VLOOKUP(B19,'пр.взв'!$D$6:$M$20,3,0),"") | D19: =IFERROR(VLOOKUP(B19,'пр.взв'!$D$6:$M$20,4,0),"") | E19: =IFERROR(VLOOKUP(B19,'пр.взв'!$D$6:$M$20,6,0),"") | F19: =IFERROR(VLOOKUP(B19,'пр.взв'!$D$6:$M$20,7,0),"") | G19: =IFERROR(VLOOKUP(B19,'пр.взв'!$D$6:$Q$19,8,0),"") | H19: =IFERROR(VLOOKUP(B19,'пр.взв'!$D$6:$M$20,10,0),"")
A20: 13-16 | B20: ='пр.хода'!AE28 -> 11 | C20: =IFERROR(VLOOKUP(B20,'пр.взв'!$D$6:$M$20,3,0),"") | D20: =IFERROR(VLOOKUP(B20,'пр.взв'!$D$6:$M$20,4,0),"") | E20: =IFERROR(VLOOKUP(B20,'пр.взв'!$D$6:$M$20,6,0),"") | F20: =IFERROR(VLOOKUP(B20,'пр.взв'!$D$6:$M$20,7,0),"") | G20: =IFERROR(VLOOKUP(B20,'пр.взв'!$D$6:$Q$19,8,0),"") | H20: =IFERROR(VLOOKUP(B20,'пр.взв'!$D$6:$M$20,10,0),"")
A21: 13-16 | B21: ='пр.хода'!AE29 -> 12 | C21: =IFERROR(VLOOKUP(B21,'пр.взв'!$D$6:$M$20,3,0),"") | D21: =IFERROR(VLOOKUP(B21,'пр.взв'!$D$6:$M$20,4,0),"") | E21: =IFERROR(VLOOKUP(B21,'пр.взв'!$D$6:$M$20,6,0),"") | F21: =IFERROR(VLOOKUP(B21,'пр.взв'!$D$6:$M$20,7,0),"") | G21: =IFERROR(VLOOKUP(B21,'пр.взв'!$D$6:$Q$19,8,0),"") | H21: =IFERROR(VLOOKUP(B21,'пр.взв'!$D$6:$M$20,10,0),"")
A24: ='пр.хода'!A38 -> Гл. судья, судья ВК | F24: ='пр.хода'!F38 -> Болотский Р.М.
F25: ='пр.хода'!K38 -> Москва
A27: ='пр.хода'!O38 -> Гл. секретарь, судья ВК | F27: ='пр.хода'!Y38 -> Зарипов А.А,
F28: ='пр.хода'!AB38 -> Р. Татарстан

Sheet нагр. лист
A1: ='пр.взв'!C2 -> Чемпионат России по самбо среди женщин (отбор на Чемпионат Мира и Европы) ЕКП № 23747
A2: ='пр.взв'!A3
A3: НАГРАДНОЙ ЛИСТ МУЖЧИНЫ
D4: ='пр.взв'!G4 -> В.к. 80+ кг
A6: I м | B6: =IFERROR(VLOOKUP(I6,'пр.взв'!$D$6:$M$20,3,0),"") | H6: =IFERROR(VLOOKUP(I6,'пр.взв'!$D$6:$M$20,4,0),"") | I6: ='Ит.пр'!B6
B8: =IFERROR(VLOOKUP(I6,'пр.взв'!$D$6:$M$20,6,0),"") | D8: =IFERROR(VLOOKUP(I6,'пр.взв'!$D$6:$M$20,7,0),"")
A11: II м | B11: =IFERROR(VLOOKUP(I11,'пр.взв'!$D$6:$M$20,3,0),"") | H11: =IFERROR(VLOOKUP(I11,'пр.взв'!$D$6:$M$20,4,0),"") | I11: ='пр.хода'!L20
B13: =IFERROR(VLOOKUP(I11,'пр.взв'!$D$6:$M$20,6,0),"") | D13: =IFERROR(VLOOKUP(I11,'пр.взв'!$D$6:$M$20,7,0),"")
A16: III м | B16: =IFERROR(VLOOKUP(I16,'пр.взв'!$D$6:$M$20,3,0),"") | H16: =IFERROR(VLOOKUP(I16,'пр.взв'!$D$6:$M$20,4,0),"") | I16: ='Ит.пр'!B8
B18: =IFERROR(VLOOKUP(I16,'пр.взв'!$D$6:$M$20,6,0),"") | D18: =IFERROR(VLOOKUP(I16,'пр.взв'!$D$6:$M$20,7,0),"")
A21: III м | B21: =IFERROR(VLOOKUP(I21,'пр.взв'!$D$6:$M$20,3,0),"") | H21: =IFERROR(VLOOKUP(I21,'пр.взв'!$D$6:$M$20,4,0),"") | I21: ='Ит.пр'!B9
B23: =IFERROR(VLOOKUP(I21,'пр.взв'!$D$6:$M$20,6,0),"") | D23: =IFERROR(VLOOKUP(I21,'пр.взв'!$D$6:$M$20,7,0),"")
A26: Тренер победителя:
A28: =IFERROR(VLOOKUP(I28,'пр.взв'!$D$6:$M$20,10,0),"") | I28: =I6
A36: Награждение проводят:

Sheet СТАРТОВЫЙ
A1: ='пр.взв (1)'!B2 -> #REF!
A2: ='пр.взв (1)'!A3 -> #REF!
F3: =HYPERLINK('пр.взв (1)'!D4) -> #REF!
A4: А
A5: 1 | B5: =VLOOKUP(A5,'пр.взв (1)'!B5:C22,2,FALSE) -> #REF! | C5: =VLOOKUP(A5,'пр.взв (1)'!B5:F22,3,FALSE) -> #REF! | D5: =VLOOKUP(A5,'пр.взв (1)'!B5:F22,4,FALSE) -> #REF!
A7: 9 | B7: =VLOOKUP(A7,'пр.взв (1)'!B7:C22,2,FALSE) -> #REF! | C7: =VLOOKUP(A7,'пр.взв (1)'!B5:F22,3,FALSE) -> #REF! | D7: =VLOOKUP(A7,'пр.взв (1)'!B1:G22,5,FALSE) -> #REF!
A9: 5 | B9: =VLOOKUP(A9,'пр.взв (1)'!B9:C22,2,FALSE) -> #REF! | C9: =VLOOKUP(A9,'пр.взв (1)'!B5:E22,3,FALSE) -> #REF! | D9: =VLOOKUP(A9,'пр.взв (1)'!B3:G22,5,FALSE) -> #REF!
A11: 13 | B11: =VLOOKUP(A11,'пр.взв (1)'!B5:C22,2,FALSE) -> #REF! | C11: =VLOOKUP(A11,'пр.взв (1)'!B5:E22,3,FALSE) -> #REF! | D11: =VLOOKUP(A11,'пр.взв (1)'!B5:G22,5,FALSE) -> #REF!
A13: 3 | B13: =VLOOKUP(A13,'пр.взв (1)'!B5:C22,2,FALSE) -> #REF! | C13: =VLOOKUP(A13,'пр.взв (1)'!B5:E22,3,FALSE) -> #REF! | D13: =VLOOKUP(A13,'пр.взв (1)'!B7:G22,5,FALSE) -> #REF!
A15: 11 | B15: =VLOOKUP(A15,'пр.взв (1)'!B15:C22,2,FALSE) -> #REF! | C15: =VLOOKUP(A15,'пр.взв (1)'!B5:E22,3,FALSE) -> #REF! | D15: =VLOOKUP(A15,'пр.взв (1)'!B9:G22,5,FALSE) -> #REF!
A17: 7 | B17: =VLOOKUP(A17,'пр.взв (1)'!B9:C22,2,FALSE) -> #REF! | C17: =VLOOKUP(A17,'пр.взв (1)'!B5:E22,3,FALSE) -> #REF! | D17: =VLOOKUP(A17,'пр.взв (1)'!B11:G22,5,FALSE) -> #REF!
A19: 15 | B19: =VLOOKUP(A19,'пр.взв (1)'!B19:C22,2,FALSE) -> #REF! | C19: =VLOOKUP(A19,'пр.взв (1)'!B5:E22,3,FALSE) -> #REF! | D19: =VLOOKUP(A19,'пр.взв (1)'!B13:G22,5,FALSE) -> #REF!
A21: Б
A22: 2 | B22: =VLOOKUP(A22,'пр.взв (1)'!B7:E22,2,FALSE) -> #REF! | C22: =VLOOKUP(A22,'пр.взв (1)'!B7:E22,3,FALSE) -> #REF! | D22: ='пр.взв (1)'!F9 -> #REF!
A24: 10 | B24: =VLOOKUP(A24,'пр.взв (1)'!B7:E22,2,FALSE) -> #REF! | C24: =VLOOKUP(A24,'пр.взв (1)'!B7:E22,3,FALSE) -> #REF! | D24: =VLOOKUP(A24,'пр.взв (1)'!B8:G22,5,FALSE) -> #REF!
A26: 6 | B26: =VLOOKUP(A26,'пр.взв (1)'!B7:E22,2,FALSE) -> #REF! | C26: =VLOOKUP(A26,'пр.взв (1)'!B7:E22,3,FALSE) -> #REF! | D26: =VLOOKUP(A26,'пр.взв (1)'!B2:G22,5,FALSE) -> #REF!
A28: 14 | B28: =VLOOKUP(A28,'пр.взв (1)'!B7:E22,2,FALSE) -> #REF! | C28: =VLOOKUP(A28,'пр.взв (1)'!B7:E22,3,FALSE) -> #REF! | D28: =VLOOKUP(A28,'пр.взв (1)'!B4:G22,5,FALSE) -> #REF!
A30: 4 | B30: =VLOOKUP(A30,'пр.взв (1)'!B7:E22,2,FALSE) -> #REF! | C30: =VLOOKUP(A30,'пр.взв (1)'!B7:E22,3,FALSE) -> #REF! | D30: =VLOOKUP(A30,'пр.взв (1)'!B6:G22,5,FALSE) -> #REF!
A32: 12 | B32: =VLOOKUP(A32,'пр.взв (1)'!B7:E22,2,FALSE) -> #REF! | C32: =VLOOKUP(A32,'пр.взв (1)'!B7:E22,3,FALSE) -> #REF! | D32: =VLOOKUP(A32,'пр.взв (1)'!B8:G22,5,FALSE) -> #REF!
A34: 8 | B34: =VLOOKUP(A34,'пр.взв (1)'!B7:E22,2,FALSE) -> #REF! | C34: =VLOOKUP(A34,'пр.взв (1)'!B7:E22,3,FALSE) -> #REF! | D34: =VLOOKUP(A34,'пр.взв (1)'!B10:G22,5,FALSE) -> #REF!
A36: 16 | B36: =VLOOKUP(A36,'пр.взв (1)'!B7:E22,2,FALSE) -> #REF! | C36: =VLOOKUP(A36,'пр.взв (1)'!B7:E22,3,FALSE) -> #REF! | D36: =VLOOKUP(A36,'пр.взв (1)'!B12:G22,5,FALSE) -> #REF!
D39: А1
D48: Б1
