Workbook
Name субъект: #REF!
Name разряд: #REF!

Sheet пр.взв
A1: select Col1,Col3,Col4,Col5,Col6,Col10,Col12,Col13,Col14,Col15,Col16,Col17 WHERE Col1>1 | C1: ПРОТОКОЛ ВЗВЕШИВАНИЯ | N1: https://docs.google.com/spreadsheets/d/1lAWXbxZUVSbgEB5dr9r3SAb9eFLgY8d5-08pYUVFUlI/edit?usp=share_link | O1: =IF(O2="98+",99,O2) -> 50
C2: =IFERROR(__xludf.DUMMYFUNCTION("IMPORTRANGE(N1,""Реквизиты!A1"")"),"Чемпионат России по самбо среди женщин (отбор на Первенство Мира и Европы) ЕКП № 23747") -> Чемпионат России по самбо среди женщин (отбор на Первенство Мира и Европы) ЕКП № 23747 | O2: 50 | P2: В.к. | Q2: кг
C3: =IFERROR(__xludf.DUMMYFUNCTION("IMPORTRANGE(N1,""Реквизиты!A3"")"),"27.02 - 03.03.2023 г. г. Пермь") -> 27.02 - 03.03.2023 г. г. Пермь | O3: =COUNTA(F6:F996) -> 23 | P3: участников
G4: =P2&" "&O2&" "&Q2 -> В.к. 50 кг
A5: ВК | B5: ВК | C5: № п/п | D5: № п/ж | E5: Ф.И.О. | F5: Ф.И.О. | G5: Дата рожд., разряд | H5: Разряд | I5: Округ, субъект, город, ведомство | K5: Субъект | L5: № карточки | M5: Тренер
A6: 50 | B6: 50 | C6: 29 | D6: 5 | E6: БОРЕЦ Виктория | F6: БОРЕЦ Виктория Ираклиевна | G6: 11.07.03, КМС | H6: КМС | I6: МОС | J6: Москва, Москва , МС | K6: Москва | M6: Норицина ЕС | N6: {=IF(D6:D996="","",(LEFT(F6:F996,FIND(" ",F6:F996)-1)))} -> БОРЕЦ | O6: 47
A7: 50 | B7: 50 | C7: 8 | D7: 14 | E7: РАХМАТУЛЛИНА Алла | F7: РАХМАТУЛЛИНА Алла Вячеславовна | G7: 21.07.95, КМС | H7: КМС | I7: ПФО | J7: Р. Башкортостан, Туймазы, МАУ СШ 1 | K7: Башкортостан | M7: Мухаметдинов Р.Р. | N7: РАХМАТУЛЛИНА | O7: 50
A8: 50 | B8: 50 | C8: 8 | D8: 19 | E8: АБДУЛЛИНА Елена | F8: АБДУЛЛИНА Елена Вячеславовна | G8: 14.07.00, МС | H8: МС | I8: ПФО | J8: Р. Башкортостан, Туймазы, МАУ СШ№1 | K8: Башкортостан | M8: Мухаметдинов Р.Р. | N8: АБДУЛЛИНА | O8: 54
A9: 50 | B9: 50 | C9: 17 | D9: 13 | E9: МОЛЧАНОВА Юлия | F9: МОЛЧАНОВА Юлия Дмитриевна | G9: 21.08.01, МС | H9: МС | I9: ПФО | J9: Нижегородская обл., Выкса, ДЮСШ «Выксунец» | K9: Нижегородская | M9: Егрушов ВИ, Рогов ДС | N9: МОЛЧАНОВА | O9: 59
A10: 50 | B10: 50 | C10: 23 | D10: 10 | E10: ПОЛЫГАЛОВА Ольга | F10: ПОЛЫГАЛОВА Ольга Сергеевна | G10: 28.08.02, КМС | H10: КМС | I10: ПФО | J10: Пермский край, Березники, «МАУ СП «СШОР Березники» | K10: Пермский | M10: Клинов Э.Н. Клинова О.А. | N10: ПОЛЫГАЛОВА | O10: 65
A11: 50 | B11: 50 | C11: 23 | D11: 11 | E11: МОЛЧАНОВА Мария | F11: МОЛЧАНОВА Мария Владимировна | G11: 24.01.88, ЗМС | H11: ЗМС | I11: ПФО | J11: Пермский край, Краснокамск, МБУ СШОР ПО САМБО И ДЗЮДО ГОРОДА КРАСНОКАМСКА | K11: Пермский | M11: Мухаметшин РГ | N11: МОЛЧАНОВА | O11: 80
A12: 50 | B12: 50 | C12: 6 | D12: 18 | E12: АКИФЬЕВА Екатерина | F12: АКИФЬЕВА Екатерина Сергеевна | G12: 03.05.02, 1р | H12: 1р | I12: ПФО | J12: Самарская обл., Самара, КСЕ "Спарта" | K12: Самарская | M12: Глухов Т.В. | N12: АКИФЬЕВА
A13: 50 | B13: 50 | C13: 13 | D13: 20 | E13: ФЕДОРОВА Татьяна | F13: ФЕДОРОВА Татьяна Владимировна | G13: 25.11.01, МС | H13: МС | I13: ПФО | J13: Чувашская Республика - Чувашия, Чебоксары, Профессиональный клуб ,,ЭКРА’’ | K13: Чувашская | M13: Пегасов. С.В, Бондарев АВ | N13: ФЕДОРОВА | O13: 98
A14: 50 | B14: 50 | C14: 13 | D14: 1 | E14: ЕГОРОВА Елизавета | F14: ЕГОРОВА Елизавета Евгеньевна | G14: 15.02.02, МС | H14: МС | I14: ПФО | J14: Чувашская Республика - Чувашия, Чебоксары, ЧУ «ПКС «ЭКРА» | K14: Чувашская | M14: Трофимов Е.В., Пегасов С. В. | N14: ЕГОРОВА | O14: 98+
A15: 50 | B15: 50 | C15: 13 | D15: 3 | E15: ЕМЕЛЮКОВА Софья | F15: ЕМЕЛЮКОВА Софья Константиновна | G15: 09.03.03, МС | H15: МС | I15: ПФО | J15: Чувашская Республика - Чувашия, Чебоксары, ЧУ «ПКС ЭКРА» | K15: Чувашская | M15: Пегасов С.В. | N15: ЕМЕЛЮКОВА | O15: 65
A16: 50 | B16: 50 | C16: 2 | D16: 23 | E16: ДИКАЯ Валентина | F16: ДИКАЯ Валентина Александровна | G16: 22.08.99, МС | H16: МС | I16: СПБ | J16: Санкт-Петербург, Санкт-Петербург, Локомотив ДЮСШ | K16: Санкт-Петербург | M16: Мизяев К. Г., Селяков С.В. | N16: ДИКАЯ | O16: 71
A17: 50 | B17: 50 | C17: 7 | D17: 15 | E17: МИРОНОВА Кристина | F17: МИРОНОВА Кристина Александровна | G17: 30.09.01, КМС | H17: КМС | I17: СФО | J17: Новосибирская обл., Новосибирск, ГАУ НСО СШ «самбо» | K17: Новосибирская | M17: Лепяхов С.В., Орлов А.А. | N17: МИРОНОВА | O17: 71+
A18: 50 | B18: 50 | C18: 7 | D18: 4 | E18: БЛИНОВА Ксения | F18: БЛИНОВА Ксения Сергеевна | G18: 08.09.99, МС | H18: МС | I18: СФО | J18: Новосибирская обл., Новосибирск, НЦВСМ | K18: Новосибирская | M18: Лепяхов С.В., Орлов А.А | N18: БЛИНОВА
A19: 50 | B19: 50 | C19: 18 | D19: 2 | E19: НЕФЁДОВА Екатерина | F19: НЕФЁДОВА Екатерина Дмитриевна | G19: 06.01.99, МС | H19: МС | I19: УФО | J19: Курганская обл., Куртамыш, СШОР №1 | K19: Курганская | M19: Пирогов И.Ю., Пономарев В.И. | N19: НЕФЁДОВА
A20: 50 | B20: 50 | C20: 19 | D20: 6 | E20: ЕВСЕЕВА Екатерина | F20: ЕВСЕЕВА Екатерина Алексеевна | G20: 23.05.01, МС | H20: МС | I20: УФО | J20: Свердловская обл., Екатеринбург, ГАУ СО СШОР ПО САМБО И ДЗЮДО | K20: Свердловская | M20: Коростелев А.Б. ; Пляшкун Н.В. | N20: ЕВСЕЕВА
A21: 50 | B21: 50 | C21: 19 | D21: 8 | E21: КОБЕЛЕВА Оксана | F21: КОБЕЛЕВА Оксана Вячеславовна | G21: 20.09.01, МС | H21: МС | I21: УФО | J21: Свердловская обл., Екатеринбург, ГАУ СО СШОР ПО САМБО И ДЗЮДО | K21: Свердловская | M21: Черникова МИ, Воронов ВВ | N21: КОБЕЛЕВА
A22: 50 | B22: 50 | C22: 19 | D22: 9 | E22: ГИЛЯЗОВА Сабина | F22: ГИЛЯЗОВА Сабина Альбертовна | G22: 30.09.94, МС | H22: МС | I22: УФО | J22: Свердловская обл., Екатеринбург, ГАУ СШОР | K22: Свердловская | M22: Першин И.В, Львов Е.В | N22: ГИЛЯЗОВА
A23: 50 | B23: 50 | C23: 19 | D23: 7 | E23: ДУДИНА Кристина | F23: ДУДИНА Кристина Алексеевна | G23: 10.07.04, МС | H23: МС | I23: УФО | J23: Свердловская обл., Екатеринбург, СК Родина | K23: Свердловская | M23: Федосеев МЕ; Селянина ОВ | N23: ДУДИНА
A24: 50 | B24: 50 | C24: 34 | D24: 16 | E24: СЕРГЕЕВА Алина | F24: СЕРГЕЕВА Алина Фаиговна | G24: 13.04.99, КМС | H24: КМС | I24: УФО | J24: Тюменская обл., Тюмень, Цоп Тюмень дзюдо | K24: Тюменская | M24: Вуколов АВ | N24: СЕРГЕЕВА
A25: 50 | B25: 50 | C25: 32 | D25: 21 | E25: МИХАЛЕВА Елена | F25: МИХАЛЕВА Елена Павловна | G25: 13.06.95, МС | H25: МС | I25: ЦФО | J25: Московская обл., Воскресенск, ГБУ МО СШОР по единоборствам | K25: Московская | M25: Баринова М.В., Тунгия ДМ | N25: МИХАЛЕВА
A26: 50 | B26: 50 | C26: 15 | D26: 12 | E26: ГОРЕЛИКОВА Анна | F26: ГОРЕЛИКОВА Анна Вадимовна | G26: 03.06.92, МСМК | H26: МСМК | I26: ЮФО | J26: Краснодарский край, Крымск, Дюсш1 | K26: Краснодарский | M26: Адамян А.В. | N26: ГОРЕЛИКОВА
A27: 50 | B27: 50 | C27: 15 | D27: 17 | E27: ВАРЛАМОВА Кристина | F27: ВАРЛАМОВА Кристина Евгеньевна | G27: 03.12.02, МС | H27: МС | I27: ЮФО | J27: Краснодарский край, Курганинск, СПОРТИВНАЯ ШКОЛА ОЛИМПИЙСКОГО РЕЗЕРВА им. НЕФЕДОВА Н. И. | K27: Краснодарский | M27: Потапов И.С, Красов В.В | N27: ВАРЛАМОВА
A28: 50 | B28: 50 | C28: 15 | D28: 22 | E28: КАРЕКЯН Кристина | F28: КАРЕКЯН Кристина Хачиковна | G28: 23.01.95, МС | H28: МС | I28: ЮФО | J28: Краснодарский край, Сочи, Дюсш 10 | K28: Краснодарский | M28: Антонян РА | N28: КАРЕКЯН

Sheet пр.хода
A1: ВСЕРОССИЙСКАЯ ФЕДЕРАЦИЯ САМБО
A2: ПРОТОКОЛ ХОДА СОРЕВНОВАНИЙ ЮНИОРЫ
C3: ='пр.взв'!C2 -> Чемпионат России по самбо среди женщин (отбор на Первенство Мира и Европы) ЕКП № 23747
F4: ='пр.взв'!C3 -> 27.02 - 03.03.2023 г. г. Пермь | AG4: =AK4&" "&AL4 -> 23 участников | AH4: ='пр.взв'!G4 -> В.к. 50 кг | AK4: ='пр.взв'!O3 -> 23 | AL4: участников
AA5: =IFERROR(VLOOKUP(O9,'пр.взв'!$B$7:$H$34,2,0),"")
A6: А | F6: А1 | I6: =AQ6 | J6: =IFERROR(VLOOKUP(I6,'пр.взв'!$D$6:$Q$33,2,0),"") | AJ6: Б | AQ6: =IF(I31=""," ",IF(I31=A10,A16,IF(I31=A16,A10,IF(I31=A22,A28,IF(I31=A28,A22,IF(I31=A34,A40,IF(I31=A40,A34,IF(I31=A46,A52,A46))))))))
N8: =IFERROR(VLOOKUP(M8,'пр.взв'!$D$6:$Q$33,2,0),"") | Q8: =S23
Q9: 1 | AM9: 5м | AN9: =IF(Z20=V16,V26,V16) | AQ9: =IF(I31=""," ",IF(E13=I31,E25,IF(E25=I31,E13,IF(E37=I31,E49,E37))))
A10: 1 | B10: =IFERROR(VLOOKUP(1,'пр.взв'!$D$6:$Q$33,2,0),"") -> ЕГОРОВА Елизавета | C10: =IFERROR(VLOOKUP(A10,'пр.взв'!$D$6:$Q$33,5,0),"") -> МС | D10: =IFERROR(VLOOKUP(A10,'пр.взв'!$D$6:$Q$33,8,0),"") -> Чувашская | I10: =AQ9 | J10: =IFERROR(VLOOKUP(I10,'пр.взв'!$D$6:$Q$33,2,0),"") | R10: =IFERROR(VLOOKUP(Q10,'пр.взв'!$D$6:$Q$33,2,0),"") | AG10: =IFERROR(VLOOKUP(AJ10,'пр.взв'!$D$6:$Q$33,2,0),"") -> НЕФЁДОВА Екатерина | AH10: =IFERROR(VLOOKUP(AJ10,'пр.взв'!$D$6:$Q$33,5,0),"") -> МС | AI10: =IFERROR(VLOOKUP(AJ10,'пр.взв'!$D$6:$Q$33,8,0),"") -> Курганская | AJ10: 2 | AP10: =IF(K6=L9,K10,K6)
M12: =AQ12 | N12: =IFERROR(VLOOKUP(M12,'пр.взв'!$D$6:$Q$33,2,0),"") | AA12: =O97 | AM12: 5м | AN12: =IF(Z101=V97,V107,V97) | AQ12: =IF(I31=""," ",IF(I31=G19,G43,G19))
V14: =BG18
AM15: 7м | AN15: =IF(V16=Q10,R21,Q10) | AQ15: =IF(I79=""," ",IF(I79=A58,A64,IF(I79=A64,A58,IF(I79=A70,A76,IF(I79=A76,A70,IF(I79=A82,A88,IF(I79=A88,A82,IF(I79=A94,A100,A94))))))))
A16: 17 | B16: =IFERROR(VLOOKUP(17,'пр.взв'!$D$6:$Q$33,2,0),"") -> ВАРЛАМОВА Кристина | C16: =IFERROR(VLOOKUP(A16,'пр.взв'!$D$6:$Q$33,5,0),"") -> МС | D16: =IFERROR(VLOOKUP(A16,'пр.взв'!$D$6:$Q$33,8,0),"") -> Краснодарский | W16: =IFERROR(VLOOKUP(V16,'пр.взв'!$D$6:$Q$33,2,0),"") | AG16: =IFERROR(VLOOKUP(AJ16:AJ21,'пр.взв'!$D$6:$Q$33,2,0),"") -> АКИФЬЕВА Екатерина | AH16: =IFERROR(VLOOKUP(AJ16,'пр.взв'!$D$6:$Q$33,5,0),"") -> 1р | AI16: =IFERROR(VLOOKUP(AJ16,'пр.взв'!$D$6:$Q$33,8,0),"") -> Самарская | AJ16: 18
I17: =AQ17 | J17: =AQ15 | K17: =IFERROR(VLOOKUP(J17,'пр.взв'!$D$6:$Q$33,2,0),"") | AP17: =IF(K83=L84,K88,K83)
AM18: 7м | AN18: =IF(V97=R91,Q102,R91) | AP18: =IF(K93=L94,K97,K93) | AQ18: =IF(I79=""," ",IF(E61=I79,E73,IF(E73=I79,E61,IF(E85=I79,E97,E85))))
O19: =IFERROR(VLOOKUP(N19,'пр.взв'!$D$6:$Q$33,2,0),"")
S20: =T35
J21: =AQ18 | K21: =IFERROR(VLOOKUP(J21,'пр.взв'!$D$6:$Q$33,2,0),"") | S21: =IFERROR(VLOOKUP(R21,'пр.взв'!$D$6:$Q$33,2,0),"") | AM21: 9м | AN21: =IF(Q10=M8,M12,M8) | AQ21: =IF(I79=""," ",IF(I79=G67,G91,G67))
A22: 9 | B22: =IFERROR(VLOOKUP(A22,'пр.взв'!$D$6:$Q$33,2,0),"") -> ГИЛЯЗОВА Сабина | C22: =IFERROR(VLOOKUP(A22,'пр.взв'!$D$6:$Q$33,5,0),"") -> МС | D22: =IFERROR(VLOOKUP(A22,'пр.взв'!$D$6:$Q$33,8,0),"") -> Свердловская | AG22: =IFERROR(VLOOKUP(AJ22,'пр.взв'!$D$6:$Q$33,2,0),"") -> ПОЛЫГАЛОВА Ольга | AH22: =IFERROR(VLOOKUP(AJ22,'пр.взв'!$D$6:$Q$33,5,0),"") -> КМС | AI22: =IFERROR(VLOOKUP(AJ22,'пр.взв'!$D$6:$Q$33,8,0),"") -> Пермский | AJ22: 10
N23: =AQ21 | O23: =IFERROR(VLOOKUP(N23,'пр.взв'!$D$6:$Q$33,2,0),"")
AM24: 9м | AN24: =IF(R21=N19,N23,N19) | AO24: =IF(AND(OR(E12=I30,E24=I30),E37=G45),E50,IF(AND(OR(E12=I30,E24=I30),E50=G45),E37,IF(E12=G18,E24,E12))) | AP24: =IF(L9=M10,L12,L9) | AQ24: =IF(K55=""," ",IF(K55=I31,I79,I31))
E25: 9 | AF25: 10
U26: =BF29 | V26: =AQ45 | W26: =IFERROR(VLOOKUP(V26,'пр.взв'!$D$6:$Q$33,2,0),"")
AM27: 9м | AN27: =IF(R91=N89,N93,N89) | AQ27: =IF(AB31=""," ",IF(AB31=AJ10,AJ16,IF(AB31=AJ16,AJ10,IF(AB31=AJ22,AJ28,IF(AB31=AJ28,AJ22,IF(AB31=AJ34,AJ40,IF(AB31=AJ40,AJ34,IF(AB31=AJ46,AJ52,AJ46))))))))
A28: 25 | B28: =IFERROR(VLOOKUP(A28,'пр.взв'!$D$6:$Q$33,2,0),"") | C28: =IFERROR(VLOOKUP(A28,'пр.взв'!$D$6:$Q$33,5,0),"") | D28: =IFERROR(VLOOKUP(A28,'пр.взв'!$D$6:$Q$33,8,0),"") | AG28: =IFERROR(VLOOKUP(AJ28:AJ33,'пр.взв'!$D$6:$Q$33,2,0),"") | AH28: =IFERROR(VLOOKUP(AJ28,'пр.взв'!$D$6:$Q$33,5,0),"") | AI28: =IFERROR(VLOOKUP(AJ28,'пр.взв'!$D$6:$Q$33,8,0),"") | AJ28: 26 | AP28: =IF(L18=M22,L24,L18)
AM30: 9м | AN30: =IF(Q102=M100,M104,M100) | AP30: =IF(L84=M88,L89,L84) | AQ30: =IF(AB31=""," ",IF(AB31=AF13,AF25,IF(AF25=AB31,AF13,IF(AF37=AB31,AF49,AF37))))
J31: =IFERROR(VLOOKUP(I31,'пр.взв'!$D$6:$Q$33,2,0),"") | X31: =IFERROR(VLOOKUP(AB31,'пр.взв'!$D$6:$Q$33,2,0),"")
O32: =IFERROR(VLOOKUP(P31,'пр.взв'!$B$7:$H$34,2,0),"")
AM33: 13м | AN33: =IF(M8=I6,I10,I6) | AQ33: =IF(AB31=""," ",IF(AB31=AD19,AD43,AD19))
A34: 5 | B34: =IFERROR(VLOOKUP(A34,'пр.взв'!$D$6:$Q$33,2,0),"") -> БОРЕЦ Виктория | C34: =IFERROR(VLOOKUP(A34,'пр.взв'!$D$6:$Q$33,5,0),"") -> КМС | D34: =IFERROR(VLOOKUP(A34,'пр.взв'!$D$6:$Q$33,8,0),"") -> Москва | P34: 1 место | AG34: =IFERROR(VLOOKUP(AJ34,'пр.взв'!$D$6:$Q$33,2,0),"") -> ЕВСЕЕВА Екатерина | AH34: =IFERROR(VLOOKUP(AJ34,'пр.взв'!$D$6:$Q$33,5,0),"") -> МС | AI34: =IFERROR(VLOOKUP(AJ34,'пр.взв'!$D$6:$Q$33,8,0),"") -> Свердловская | AJ34: 6 | AP34: =IF(L94=M97,L99,L94)
AM36: 13м | AN36: =IF(N19=J17,J21,J17) | AQ36: =IF(AB79=""," ",IF(AB79=AJ58,AJ64,IF(AB79=AJ64,AJ58,IF(AB79=AJ70,AJ76,IF(AB79=AJ76,AJ70,IF(AB79=AJ82,AJ88,IF(AB79=AJ88,AJ82,IF(AB79=AJ94,AJ100,AJ94))))))))
P38: =IFERROR(VLOOKUP(O38,'пр.взв'!$D$6:$Q$34,2,0),"")
AM39: 13м | AN39: =IF(N89=J91,J95,J91) | AQ39: =IF(AB79=""," ",IF(AF61=AB79,AF73,IF(AF73=AB79,AF61,IF(AF85=AB79,AF97,AF85))))
A40: 21 | B40: =IFERROR(VLOOKUP(A40,'пр.взв'!$D$6:$Q$33,2,0),"") -> МИХАЛЕВА Елена | C40: =IFERROR(VLOOKUP(A40,'пр.взв'!$D$6:$Q$33,5,0),"") -> МС | D40: =IFERROR(VLOOKUP(A40,'пр.взв'!$D$6:$Q$33,8,0),"") -> Московская | AG40: =IFERROR(VLOOKUP(AJ40:AJ45,'пр.взв'!$D$6:$Q$33,2,0),"") -> КАРЕКЯН Кристина | AH40: =IFERROR(VLOOKUP(AJ40,'пр.взв'!$D$6:$Q$33,5,0),"") -> МС | AI40: =IFERROR(VLOOKUP(AJ40,'пр.взв'!$D$6:$Q$33,8,0),"") -> Краснодарский | AJ40: 22 | AO40: =IF(AND(OR(E60=I76,E71=I76),E81=G84),E89,IF(AND(OR(E60=I76,E71=I76),E89=G84),E81,IF(E60=G67,E71,E60)))
AM42: 13м | AN42: =IF(M100=I102,I106,I102) | AQ42: =IF(AB79=""," ",IF(AB79=AD67,AD91,AD67))
AM45: 17м | AN45: =IF(AND(I31=G19,E37=G43),E49,IF(AND(I31=G19,E49=G43),E37,IF(G19=E13,E25,E13))) -> 13 | AP45: =IF(M88=N93,M97,M88) | AQ45: =IF(Z55=""," ",IF(Z55=AB31,AB79,AB31))
A46: 13 | B46: =IFERROR(VLOOKUP(A46,'пр.взв'!$D$6:$Q$33,2,0),"") -> МОЛЧАНОВА Юлия | C46: =IFERROR(VLOOKUP(A46,'пр.взв'!$D$6:$Q$33,5,0),"") -> МС | D46: =IFERROR(VLOOKUP(A46,'пр.взв'!$D$6:$Q$33,8,0),"") -> Нижегородская | AG46: =IFERROR(VLOOKUP(AJ46,'пр.взв'!$D$6:$Q$33,2,0),"") -> РАХМАТУЛЛИНА Алла | AH46: =IFERROR(VLOOKUP(AJ46,'пр.взв'!$D$6:$Q$33,5,0),"") -> КМС | AI46: =IFERROR(VLOOKUP(AJ46,'пр.взв'!$D$6:$Q$33,8,0),"") -> Башкортостан | AJ46: 14
O47: =IFERROR(VLOOKUP(U44,'пр.взв'!$B$7:$H$34,2,0),"") | P47: 2 место
AM48: 17м | AN48: =IF(AND(I79=G67,G91=E85),E97,IF(AND(I79=G67,G91=E97),E85,IF(G67=E61,E73,E61))) -> 15 | AP48: =IF(E13=I31,"",IF(AND(E13<>I31,E13=A10),A16,A10)) | AQ48: =IF(AF13=AB31,"",IF(AND(AF13<>AB31,AJ16=AJ10),AJ16,AJ10)) | AR48: =IF(AG13=AC31,"",IF(AND(AG13<>AC31,AK16=AK10),AK16,AK10))
E49: 13 | AF49: 14
O51: =IF(O38=""," ",IF(O38=K55,Z55,K55)) | P51: =IFERROR(VLOOKUP(O51,'пр.взв'!$D$6:$Q$34,2,0),"") | AM51: 17м | AN51: =IF(AND(AB31=AD19,AD43=AF37),AF49,IF(AND(AB31=AD19,AD43=AF49),AF37,IF(AD19=AF13,AF25,AF13))) -> 14 | AP51: =IF(E25=I31,"",IF(AND(E25<>I31,E25=A22),A28,A22)) -> 25 | AQ51: =IF(AF25=AB31,"",IF(AND(AF25<>AB31,AF25=AJ22),AJ28,AJ22)) -> 26 | AR51: =ROW() -> 51
A52: 29 | B52: =IFERROR(VLOOKUP(A52,'пр.взв'!$D$6:$Q$33,2,0),"") | C52: =IFERROR(VLOOKUP(A52,'пр.взв'!$D$6:$Q$33,5,0),"") | D52: =IFERROR(VLOOKUP(A52,'пр.взв'!$D$6:$Q$33,8,0),"") | AG52: =IFERROR(VLOOKUP(AJ52:AJ57,'пр.взв'!$D$6:$Q$33,2,0),"") | AH52: =IFERROR(VLOOKUP(AJ52,'пр.взв'!$D$6:$Q$33,5,0),"") | AI52: =IFERROR(VLOOKUP(AJ52,'пр.взв'!$D$6:$Q$33,8,0),"") | AJ52: 30
AM54: 17м | AN54: =IF(AND(AB79=AD67,AD91=AF85),AF97,IF(AND(AB79=AD67,AD91=AF97),AF85,IF(AD67=AF61,AF73,AF61))) -> 12 | AP54: =IF(E37=I31,"",IF(AND(E37<>I31,E37=A34),A40,A34)) | AQ54: =IF(AF37=AB31,"",IF(AND(AF37<>AB31,AF37=AJ34),AJ40,AJ34)) | AR54: =IF(AG37=AC31,"",IF(AND(AG37<>AC31,AG37=AK34),AK40,AK34))
L55: =IFERROR(VLOOKUP(K55,'пр.взв'!$D$6:$Q$33,2,0),"") | W55: =IFERROR(VLOOKUP(Z55,'пр.взв'!$D$6:$Q$34,2,0),"")
AM57: 21м | AN57: =AP75 -> 25 | AP57: =IF(E49=I31,"",IF(AND(E49<>I31,E49=A46),A52,A46)) -> 29 | AQ57: =IF(AF49=AB31,"",IF(AND(AF49<>AB31,AF49=AJ46),AJ52,AJ46)) -> 30 | AR57: =IF(AG49=AC31,"",IF(AND(AG49<>AC31,AG49=AK46),AK52,AK46))
A58: 3 | B58: =IFERROR(VLOOKUP(A58,'пр.взв'!$D$6:$Q$33,2,0),"") -> ЕМЕЛЮКОВА Софья | C58: =IFERROR(VLOOKUP(A58,'пр.взв'!$D$6:$Q$33,5,0),"") -> МС | D58: =IFERROR(VLOOKUP(A58,'пр.взв'!$D$6:$Q$33,8,0),"") -> Чувашская | P58: 3 место | AG58: =IFERROR(VLOOKUP(AJ58,'пр.взв'!$D$6:$Q$33,2,0),"") -> БЛИНОВА Ксения | AH58: =IFERROR(VLOOKUP(AJ58,'пр.взв'!$D$6:$Q$33,5,0),"") -> МС | AI58: =IFERROR(VLOOKUP(AJ58,'пр.взв'!$D$6:$Q$33,8,0),"") -> Новосибирская | AJ58: 4
AM60: 13м | AN60: =AQ75 -> 26 | AP60: =IF(I79=E61,"",IF(E61=A58,A64,A58)) | AQ60: =IF(AF61=AB79,"",IF(AND(AF61<>AB79,AJ64=AF61),AJ58,AJ64)) | AR60: =IF(AG61=AC79,"",IF(AND(AG61<>AC79,AK64=AG61),AK58,AK64))
O62: =Z20 | P62: =IFERROR(VLOOKUP(O62,'пр.взв'!$D$6:$Q$34,2,0),"")
AM63: 13м | AN63: =AP84 -> 27 | AP63: =IF(I79=E73,"",IF(E73=A70,A76,A70)) -> 27 | AQ63: =IF(AF73=AB$79,"",IF(AND(AF73<>AB$79,AF73=AJ70),AJ76,AJ70)) -> 28 | AR63: =IF(AG73=AC$79,"",IF(AND(AG73<>AC$79,AG73=AK70),AK76,AK70))
A64: 19 | B64: =IFERROR(VLOOKUP(A64,'пр.взв'!$D$6:$Q$33,2,0),"") -> АБДУЛЛИНА Елена | C64: =IFERROR(VLOOKUP(A64,'пр.взв'!$D$6:$Q$33,5,0),"") -> МС | D64: =IFERROR(VLOOKUP(A64,'пр.взв'!$D$6:$Q$33,8,0),"") -> Башкортостан | AG64: =IFERROR(VLOOKUP(AJ64:AJ69,'пр.взв'!$D$6:$Q$33,2,0),"") -> ФЕДОРОВА Татьяна | AH64: =IFERROR(VLOOKUP(AJ64,'пр.взв'!$D$6:$Q$33,5,0),"") -> МС | AI64: =IFERROR(VLOOKUP(AJ64,'пр.взв'!$D$6:$Q$33,8,0),"") -> Чувашская | AJ64: 20
AM66: 13м | AN66: =AQ84 -> 28 | AP66: =IF(I79=E85,"",IF(E85=A82,A88,A82)) | AQ66: =IF(AF85=AB$79,"",IF(AND(AF85<>AB$79,AF85=AJ82),AJ88,AJ82)) -> 24 | AR66: =IF(AG85=AC$79,"",IF(AND(AG85<>AC$79,AG85=AK82),AK88,AK82))
P69: 3 место | AM69: 13м | AN69: =AP78 | AP69: =IF(I79=E97,"",IF(E97=A94,A100,A94)) -> 31 | AQ69: =IF(AF97=AB$79,"",IF(AND(AF97<>AB$79,AF97=AJ94),AJ100,AJ94)) -> 32
A70: 11 | B70: =IFERROR(VLOOKUP(A70,'пр.взв'!$D$6:$Q$33,2,0),"") -> МОЛЧАНОВА Мария | C70: =IFERROR(VLOOKUP(A70,'пр.взв'!$D$6:$Q$33,5,0),"") -> ЗМС | D70: =IFERROR(VLOOKUP(A70,'пр.взв'!$D$6:$Q$33,8,0),"") -> Пермский | AG70: =IFERROR(VLOOKUP(AJ70,'пр.взв'!$D$6:$Q$33,2,0),"") -> ГОРЕЛИКОВА Анна | AH70: =IFERROR(VLOOKUP(AJ70,'пр.взв'!$D$6:$Q$33,5,0),"") -> МСМК | AI70: =IFERROR(VLOOKUP(AJ70,'пр.взв'!$D$6:$Q$33,8,0),"") -> Краснодарский | AJ70: 12 | AO70: =IF(AND(OR(AF60=AA76,AF71=AA76),AF81=AC84),AF89,IF(AND(OR(AF60=AA76,AF71=AA76),AF89=AC84),AF81,IF(AF60=AC67,AF71,AF60)))
AM72: 13м | AN72: =AQ78 | AP72: 21-32м
E73: 11 | O73: =Z101 | P73: =IFERROR(VLOOKUP(O73,'пр.взв'!$D$6:$Q$34,2,0),"") | AF73: 12
AM75: 13м | AN75: =AP87 | AP75: =IF(AP48="",AP51,AP48) -> 25 | AQ75: =IF(AQ48="",AQ51,AQ48) -> 26
A76: 27 | B76: =IFERROR(VLOOKUP(A76,'пр.взв'!$D$6:$Q$33,2,0),"") | C76: =IFERROR(VLOOKUP(A76,'пр.взв'!$D$6:$Q$33,5,0),"") | D76: =IFERROR(VLOOKUP(A76,'пр.взв'!$D$6:$Q$33,8,0),"") | AG76: =IFERROR(VLOOKUP(AJ76:AJ81,'пр.взв'!$D$6:$Q$33,2,0),"") | AH76: =IFERROR(VLOOKUP(AJ76,'пр.взв'!$D$6:$Q$33,5,0),"") | AI76: =IFERROR(VLOOKUP(AJ76,'пр.взв'!$D$6:$Q$33,8,0),"") | AJ76: 28
AM78: 21м | AN78: =AQ87 -> 24 | AP78: =IF(OR(AP48="",AP51=""),AP54,AP51) | AQ78: =IF(OR(AQ48="",AQ51=""),AQ54,AQ51)
J79: =IFERROR(VLOOKUP(I79,'пр.взв'!$D$6:$Q$33,2,0),"") | X79: =IFERROR(VLOOKUP(AB79,'пр.взв'!$D$6:$Q$34,2,0),"")
AM81: 13м | AN81: =AP81 -> 29 | AP81: =IF(OR(AP48="",AP51="",AP54=""),AP57,AP54) -> 29 | AQ81: =IF(OR(AQ48="",AQ51="",AQ54=""),AQ57,AQ54) -> 30
A82: 7 | B82: =IFERROR(VLOOKUP(A82,'пр.взв'!$D$6:$Q$33,2,0),"") -> ДУДИНА Кристина | C82: =IFERROR(VLOOKUP(A82,'пр.взв'!$D$6:$Q$33,5,0),"") -> МС | D82: =IFERROR(VLOOKUP(A82,'пр.взв'!$D$6:$Q$33,8,0),"") -> Свердловская | AG82: =IFERROR(VLOOKUP(AJ82,'пр.взв'!$D$6:$Q$33,2,0),"") -> КОБЕЛЕВА Оксана | AH82: =IFERROR(VLOOKUP(AJ82,'пр.взв'!$D$6:$Q$33,5,0),"") -> МС | AI82: =IFERROR(VLOOKUP(AJ82,'пр.взв'!$D$6:$Q$33,8,0),"") -> Свердловская | AJ82: 8
AM84: 13м | AN84: =AQ81 -> 30 | AP84: =IF(AP60="",AP63,AP60) -> 27 | AQ84: =IF(AQ60="",AQ63,AQ60) -> 28
AF85: 8
J86: =AS91
AM87: 13м | AN87: =AP90 -> 31 | AP87: =IF(OR(AP60="",AP63=""),AP66,AP63) | AQ87: =IF(OR(AQ60="",AQ63=""),AQ66,AQ63) -> 24
A88: 23 | B88: =IFERROR(VLOOKUP(A88,'пр.взв'!$D$6:$Q$33,2,0),"") -> ДИКАЯ Валентина | C88: =IFERROR(VLOOKUP(A88,'пр.взв'!$D$6:$Q$33,5,0),"") -> МС | D88: =IFERROR(VLOOKUP(A88,'пр.взв'!$D$6:$Q$33,8,0),"") -> Санкт-Петербург | AG88: =IFERROR(VLOOKUP(AJ88:AJ93,'пр.взв'!$D$6:$Q$33,2,0),"") | AH88: =IFERROR(VLOOKUP(AJ88,'пр.взв'!$D$6:$Q$33,5,0),"") | AI88: =IFERROR(VLOOKUP(AJ88,'пр.взв'!$D$6:$Q$33,8,0),"") | AJ88: 24
O89: =IFERROR(VLOOKUP(N89,'пр.взв'!$D$6:$Q$33,2,0),"")
S90: =T105 | AM90: 13м | AN90: =AQ90 -> 32 | AP90: =IF(OR(AP60="",AP63="",AP66=""),AP69,AP66) -> 31 | AQ90: =IF(OR(AQ60="",AQ63="",AQ66=""),AQ69,AQ66) -> 32
J91: =AQ27 | K91: =IFERROR(VLOOKUP(J91,'пр.взв'!$D$6:$Q$33,2,0),"") | S91: =IFERROR(VLOOKUP(R91,'пр.взв'!$D$6:$Q$33,2,0),"")
N93: =AQ33 | O93: =IFERROR(VLOOKUP(N93,'пр.взв'!$D$6:$Q$33,2,0),"") | AM93: 13м | AN93: =AQ99
A94: 15 | B94: =IFERROR(VLOOKUP(A94,'пр.взв'!$D$6:$Q$33,2,0),"") -> МИРОНОВА Кристина | C94: =IFERROR(VLOOKUP(A94,'пр.взв'!$D$6:$Q$33,5,0),"") -> КМС | D94: =IFERROR(VLOOKUP(A94,'пр.взв'!$D$6:$Q$33,8,0),"") -> Новосибирская | AG94: =IFERROR(VLOOKUP(AJ94,'пр.взв'!$D$6:$Q$33,2,0),"") -> СЕРГЕЕВА Алина | AH94: =IFERROR(VLOOKUP(AJ94,'пр.взв'!$D$6:$Q$33,5,0),"") -> КМС | AI94: =IFERROR(VLOOKUP(AJ94,'пр.взв'!$D$6:$Q$33,8,0),"") -> Тюменская | AJ94: 16
J95: =AQ30 | K95: =IFERROR(VLOOKUP(J95,'пр.взв'!$D$6:$Q$33,2,0),"") | V95: =BG99
AM96: 13м | AN96: =AP108
E97: 15 | W97: =IFERROR(VLOOKUP(V97,'пр.взв'!$D$6:$Q$34,2,0),"") | AF97: 16
I98: =AQ102
A100: 31 | B100: =IFERROR(VLOOKUP(A100,'пр.взв'!$D$6:$Q$33,2,0),"") | C100: =IFERROR(VLOOKUP(A100,'пр.взв'!$D$6:$Q$33,5,0),"") | D100: =IFERROR(VLOOKUP(A100,'пр.взв'!$D$6:$Q$33,8,0),"") | N100: =IFERROR(VLOOKUP(M100,'пр.взв'!$D$6:$Q$33,2,0),"") | AG100: =IFERROR(VLOOKUP(AJ100:AJ105,'пр.взв'!$D$6:$Q$34,2,0),"") | AH100: =IFERROR(VLOOKUP(AJ100,'пр.взв'!$D$6:$Q$34,5,0),"") | AI100: =IFERROR(VLOOKUP(AJ100,'пр.взв'!$D$6:$Q$34,8,0),"") | AJ100: 32
I102: =AQ36 | J102: =IFERROR(VLOOKUP(I102,'пр.взв'!$D$6:$Q$33,2,0),"") | R102: =IFERROR(VLOOKUP(Q102,'пр.взв'!$D$6:$Q$34,2,0),"")
N104: =IFERROR(VLOOKUP(M104,'пр.взв'!$D$6:$Q$34,2,0),"")
I106: =AQ39 | J106: =IFERROR(VLOOKUP(I106,'пр.взв'!$D$6:$Q$34,2,0),"")
A107: Гл.судья, судья ВК | V107: =AQ24 | W107: =IFERROR(VLOOKUP(V107,'пр.взв'!$D$6:$Q$33,2,0),"") | AG107: Гл.секретарь, судья ВК
A111: =IFERROR(__xludf.DUMMYFUNCTION("IMPORTRANGE('пр.взв'!N1,""Реквизиты!C6"")"),"Болотский Р.М.") -> Болотский Р.М. | C111: =IFERROR(__xludf.DUMMYFUNCTION("IMPORTRANGE('пр.взв'!N1,""Реквизиты!C7"")"),"Москва") -> Москва | AG111: =IFERROR(__xludf.DUMMYFUNCTION("IMPORTRANGE('пр.взв'!N1,""Реквизиты!C10"")"),"Зарипов А.А,") -> Зарипов А.А, | AH111: =IFERROR(__xludf.DUMMYFUNCTION("IMPORTRANGE('пр.взв'!N1,""Реквизиты!C11"")"),"Р. Татарстан") -> Р. Татарстан

Sheet круги
B1: ВСТРЕЧИ ПО КРУГАМ | L1: ВСТРЕЧИ ПО КРУГАМ
B2: 4 | C2: КОВЕР | E2: ='пр.взв'!D4 | L2: =B2 -> 4 | M2: КОВЕР | O2: =E2
B3: A | C3: (Круг) | D3: 1/16 | G3: ='пр.взв'!G4 -> В.к. 50 кг | L3: Б | M3: (Круг) | N3: 1/16 | Q3: =G3 -> В.к. 50 кг
A4: № встр | B4: № п/ж | C4: Ф.И.О. | D4: Д. р., разряд | E4: Вед., регион | G4: Оценки | H4: Очки | I4: Рез-т | J4: Время | K4: № встр | L4: № п/ж | M4: Ф.И.О. | N4: Д. р., разряд | O4: Вед., регион | Q4: Оценки | R4: Очки | S4: Рез-т | T4: Время
A6: 1 | B6: 1 | C6: =IFERROR(VLOOKUP(B6,'пр.взв'!$D$6:$Q$33,2,0),"") -> ЕГОРОВА Елизавета | D6: =IFERROR(VLOOKUP(B6,'пр.взв'!$D$6:$Q$33,5,0),"") -> МС | E6: =IFERROR(VLOOKUP(B6,'пр.взв'!$D$6:$Q$33,6,0),"") -> ПФО | F6: =IFERROR(VLOOKUP(B6,'пр.взв'!$D$6:$Q$33,8,0),"") -> Чувашская | K6: 9 | L6: 2 | M6: =IFERROR(VLOOKUP(L6,'пр.взв'!$D$6:$Q$33,2,0),"") -> НЕФЁДОВА Екатерина | N6: =IFERROR(VLOOKUP(L6,'пр.взв'!$D$6:$Q$33,5,0),"") -> МС | O6: =IFERROR(VLOOKUP(L6,'пр.взв'!$D$6:$Q$33,6,0),"") -> УФО | P6: =IFERROR(VLOOKUP(L6,'пр.взв'!$D$6:$Q$33,8,0),"") -> Курганская
B8: 17 | C8: =IFERROR(VLOOKUP(B8,'пр.взв'!$D$6:$Q$33,2,0),"") -> ВАРЛАМОВА Кристина | D8: =IFERROR(VLOOKUP(B8,'пр.взв'!$D$6:$Q$33,5,0),"") -> МС | E8: =IFERROR(VLOOKUP(B8,'пр.взв'!$D$6:$Q$33,6,0),"") -> ЮФО | F8: =IFERROR(VLOOKUP(B8,'пр.взв'!$D$6:$Q$33,8,0),"") -> Краснодарский | L8: 18 | M8: =IFERROR(VLOOKUP(L8,'пр.взв'!$D$6:$Q$33,2,0),"") -> АКИФЬЕВА Екатерина | N8: =IFERROR(VLOOKUP(L8,'пр.взв'!$D$6:$Q$33,5,0),"") -> 1р | O8: =IFERROR(VLOOKUP(L8,'пр.взв'!$D$6:$Q$33,6,0),"") -> ПФО | P8: =IFERROR(VLOOKUP(L8,'пр.взв'!$D$6:$Q$33,8,0),"") -> Самарская
A10: 2 | B10: 9 | C10: =IFERROR(VLOOKUP(B10,'пр.взв'!$D$6:$Q$33,2,0),"") -> ГИЛЯЗОВА Сабина | D10: =IFERROR(VLOOKUP(B10,'пр.взв'!$D$6:$Q$33,5,0),"") -> МС | E10: =IFERROR(VLOOKUP(B10,'пр.взв'!$D$6:$Q$33,6,0),"") -> УФО | F10: =IFERROR(VLOOKUP(B10,'пр.взв'!$D$6:$Q$33,8,0),"") -> Свердловская | K10: 10 | L10: 10 | M10: =IFERROR(VLOOKUP(L10,'пр.взв'!$D$6:$Q$33,2,0),"") -> ПОЛЫГАЛОВА Ольга | N10: =IFERROR(VLOOKUP(L10,'пр.взв'!$D$6:$Q$33,5,0),"") -> КМС | O10: =IFERROR(VLOOKUP(L10,'пр.взв'!$D$6:$Q$33,6,0),"") -> ПФО | P10: =IFERROR(VLOOKUP(L10,'пр.взв'!$D$6:$Q$33,8,0),"") -> Пермский
B12: 25 | C12: =IFERROR(VLOOKUP(B12,'пр.взв'!$D$6:$Q$33,2,0),"") | D12: =IFERROR(VLOOKUP(B12,'пр.взв'!$D$6:$Q$33,5,0),"") | E12: =IFERROR(VLOOKUP(B12,'пр.взв'!$D$6:$Q$33,6,0),"") | F12: =IFERROR(VLOOKUP(B12,'пр.взв'!$D$6:$Q$33,8,0),"") | L12: 26 | M12: =IFERROR(VLOOKUP(L12,'пр.взв'!$D$6:$Q$33,2,0),"") | N12: =IFERROR(VLOOKUP(L12,'пр.взв'!$D$6:$Q$33,5,0),"") | O12: =IFERROR(VLOOKUP(L12,'пр.взв'!$D$6:$Q$33,6,0),"") | P12: =IFERROR(VLOOKUP(L12,'пр.взв'!$D$6:$Q$33,8,0),"")
A14: 3 | B14: 5 | C14: =IFERROR(VLOOKUP(B14,'пр.взв'!$D$6:$Q$33,2,0),"") -> БОРЕЦ Виктория | D14: =IFERROR(VLOOKUP(B14,'пр.взв'!$D$6:$Q$33,5,0),"") -> КМС | E14: =IFERROR(VLOOKUP(B14,'пр.взв'!$D$6:$Q$33,6,0),"") -> МОС | F14: =IFERROR(VLOOKUP(B14,'пр.взв'!$D$6:$Q$33,8,0),"") -> Москва | K14: 11 | L14: 6 | M14: =IFERROR(VLOOKUP(L14,'пр.взв'!$D$6:$Q$33,2,0),"") -> ЕВСЕЕВА Екатерина | N14: =IFERROR(VLOOKUP(L14,'пр.взв'!$D$6:$Q$33,5,0),"") -> МС | O14: =IFERROR(VLOOKUP(L14,'пр.взв'!$D$6:$Q$33,6,0),"") -> УФО | P14: =IFERROR(VLOOKUP(L14,'пр.взв'!$D$6:$Q$33,8,0),"") -> Свердловская
B16: 21 | C16: =IFERROR(VLOOKUP(B16,'пр.взв'!$D$6:$Q$33,2,0),"") -> МИХАЛЕВА Елена | D16: =IFERROR(VLOOKUP(B16,'пр.взв'!$D$6:$Q$33,5,0),"") -> МС | E16: =IFERROR(VLOOKUP(B16,'пр.взв'!$D$6:$Q$33,6,0),"") -> ЦФО | F16: =IFERROR(VLOOKUP(B16,'пр.взв'!$D$6:$Q$33,8,0),"") -> Московская | L16: 22 | M16: =IFERROR(VLOOKUP(L16,'пр.взв'!$D$6:$Q$33,2,0),"") -> КАРЕКЯН Кристина | N16: =IFERROR(VLOOKUP(L16,'пр.взв'!$D$6:$Q$33,5,0),"") -> МС | O16: =IFERROR(VLOOKUP(L16,'пр.взв'!$D$6:$Q$33,6,0),"") -> ЮФО | P16: =IFERROR(VLOOKUP(L16,'пр.взв'!$D$6:$Q$33,8,0),"") -> Краснодарский
A18: 4 | B18: 13 | C18: =IFERROR(VLOOKUP(B18,'пр.взв'!$D$6:$Q$33,2,0),"") -> МОЛЧАНОВА Юлия | D18: =IFERROR(VLOOKUP(B18,'пр.взв'!$D$6:$Q$33,5,0),"") -> МС | E18: =IFERROR(VLOOKUP(B18,'пр.взв'!$D$6:$Q$33,6,0),"") -> ПФО | F18: =IFERROR(VLOOKUP(B18,'пр.взв'!$D$6:$Q$33,8,0),"") -> Нижегородская | K18: 12 | L18: 14 | M18: =IFERROR(VLOOKUP(L18,'пр.взв'!$D$6:$Q$33,2,0),"") -> РАХМАТУЛЛИНА Алла | N18: =IFERROR(VLOOKUP(L18,'пр.взв'!$D$6:$Q$33,5,0),"") -> КМС | O18: =IFERROR(VLOOKUP(L18,'пр.взв'!$D$6:$Q$33,6,0),"") -> ПФО | P18: =IFERROR(VLOOKUP(L18,'пр.взв'!$D$6:$Q$33,8,0),"") -> Башкортостан
B20: 29 | C20: =IFERROR(VLOOKUP(B20,'пр.взв'!$D$6:$Q$33,2,0),"") | D20: =IFERROR(VLOOKUP(B20,'пр.взв'!$D$6:$Q$33,5,0),"") | E20: =IFERROR(VLOOKUP(B20,'пр.взв'!$D$6:$Q$33,6,0),"") | F20: =IFERROR(VLOOKUP(B20,'пр.взв'!$D$6:$Q$33,8,0),"") | L20: 30 | M20: =IFERROR(VLOOKUP(L20,'пр.взв'!$D$6:$Q$33,2,0),"") | N20: =IFERROR(VLOOKUP(L20,'пр.взв'!$D$6:$Q$33,5,0),"") | O20: =IFERROR(VLOOKUP(L20,'пр.взв'!$D$6:$Q$33,6,0),"") | P20: =IFERROR(VLOOKUP(L20,'пр.взв'!$D$6:$Q$33,8,0),"")
A22: 5 | B22: 3 | C22: =IFERROR(VLOOKUP(B22,'пр.взв'!$D$6:$Q$33,2,0),"") -> ЕМЕЛЮКОВА Софья | D22: =IFERROR(VLOOKUP(B22,'пр.взв'!$D$6:$Q$33,5,0),"") -> МС | E22: =IFERROR(VLOOKUP(B22,'пр.взв'!$D$6:$Q$33,6,0),"") -> ПФО | F22: =IFERROR(VLOOKUP(B22,'пр.взв'!$D$6:$Q$33,8,0),"") -> Чувашская | K22: 13 | L22: 4 | M22: =IFERROR(VLOOKUP(L22,'пр.взв'!$D$6:$Q$33,2,0),"") -> БЛИНОВА Ксения | N22: =IFERROR(VLOOKUP(L22,'пр.взв'!$D$6:$Q$33,5,0),"") -> МС | O22: =IFERROR(VLOOKUP(L22,'пр.взв'!$D$6:$Q$33,6,0),"") -> СФО | P22: =IFERROR(VLOOKUP(L22,'пр.взв'!$D$6:$Q$33,8,0),"") -> Новосибирская
B24: 19 | C24: =IFERROR(VLOOKUP(B24,'пр.взв'!$D$6:$Q$33,2,0),"") -> АБДУЛЛИНА Елена | D24: =IFERROR(VLOOKUP(B24,'пр.взв'!$D$6:$Q$33,5,0),"") -> МС | E24: =IFERROR(VLOOKUP(B24,'пр.взв'!$D$6:$Q$33,6,0),"") -> ПФО | F24: =IFERROR(VLOOKUP(B24,'пр.взв'!$D$6:$Q$33,8,0),"") -> Башкортостан | L24: 20 | M24: =IFERROR(VLOOKUP(L24,'пр.взв'!$D$6:$Q$33,2,0),"") -> ФЕДОРОВА Татьяна | N24: =IFERROR(VLOOKUP(L24,'пр.взв'!$D$6:$Q$33,5,0),"") -> МС | O24: =IFERROR(VLOOKUP(L24,'пр.взв'!$D$6:$Q$33,6,0),"") -> ПФО | P24: =IFERROR(VLOOKUP(L24,'пр.взв'!$D$6:$Q$33,8,0),"") -> Чувашская
A26: 6 | B26: 11 | C26: =IFERROR(VLOOKUP(B26,'пр.взв'!$D$6:$Q$33,2,0),"") -> МОЛЧАНОВА Мария | D26: =IFERROR(VLOOKUP(B26,'пр.взв'!$D$6:$Q$33,5,0),"") -> ЗМС | E26: =IFERROR(VLOOKUP(B26,'пр.взв'!$D$6:$Q$33,6,0),"") -> ПФО | F26: =IFERROR(VLOOKUP(B26,'пр.взв'!$D$6:$Q$33,8,0),"") -> Пермский | K26: 14 | L26: 12 | M26: =IFERROR(VLOOKUP(L26,'пр.взв'!$D$6:$Q$33,2,0),"") -> ГОРЕЛИКОВА Анна | N26: =IFERROR(VLOOKUP(L26,'пр.взв'!$D$6:$Q$33,5,0),"") -> МСМК | O26: =IFERROR(VLOOKUP(L26,'пр.взв'!$D$6:$Q$33,6,0),"") -> ЮФО | P26: =IFERROR(VLOOKUP(L26,'пр.взв'!$D$6:$Q$33,8,0),"") -> Краснодарский
B28: 27 | C28: =IFERROR(VLOOKUP(B28,'пр.взв'!$D$6:$Q$33,2,0),"") | D28: =IFERROR(VLOOKUP(B28,'пр.взв'!$D$6:$Q$33,5,0),"") | E28: =IFERROR(VLOOKUP(B28,'пр.взв'!$D$6:$Q$33,6,0),"") | F28: =IFERROR(VLOOKUP(B28,'пр.взв'!$D$6:$Q$33,8,0),"") | L28: 28 | M28: =IFERROR(VLOOKUP(L28,'пр.взв'!$D$6:$Q$33,2,0),"") | N28: =IFERROR(VLOOKUP(L28,'пр.взв'!$D$6:$Q$33,5,0),"") | O28: =IFERROR(VLOOKUP(L28,'пр.взв'!$D$6:$Q$33,6,0),"") | P28: =IFERROR(VLOOKUP(L28,'пр.взв'!$D$6:$Q$33,8,0),"")
A30: 7 | B30: 7 | C30: =IFERROR(VLOOKUP(B30,'пр.взв'!$D$6:$Q$33,2,0),"") -> ДУДИНА Кристина | D30: =IFERROR(VLOOKUP(B30,'пр.взв'!$D$6:$Q$33,5,0),"") -> МС | E30: =IFERROR(VLOOKUP(B30,'пр.взв'!$D$6:$Q$33,6,0),"") -> УФО | F30: =IFERROR(VLOOKUP(B30,'пр.взв'!$D$6:$Q$33,8,0),"") -> Свердловская | K30: 15 | L30: 8 | M30: =IFERROR(VLOOKUP(L30,'пр.взв'!$D$6:$Q$33,2,0),"") -> КОБЕЛЕВА Оксана | N30: =IFERROR(VLOOKUP(L30,'пр.взв'!$D$6:$Q$33,5,0),"") -> МС | O30: =IFERROR(VLOOKUP(L30,'пр.взв'!$D$6:$Q$33,6,0),"") -> УФО | P30: =IFERROR(VLOOKUP(L30,'пр.взв'!$D$6:$Q$33,8,0),"") -> Свердловская
B32: 23 | C32: =IFERROR(VLOOKUP(B32,'пр.взв'!$D$6:$Q$33,2,0),"") -> ДИКАЯ Валентина | D32: =IFERROR(VLOOKUP(B32,'пр.взв'!$D$6:$Q$33,5,0),"") -> МС | E32: =IFERROR(VLOOKUP(B32,'пр.взв'!$D$6:$Q$33,6,0),"") -> СПБ | F32: =IFERROR(VLOOKUP(B32,'пр.взв'!$D$6:$Q$33,8,0),"") -> Санкт-Петербург | L32: 24 | M32: =IFERROR(VLOOKUP(L32,'пр.взв'!$D$6:$Q$33,2,0),"") | N32: =IFERROR(VLOOKUP(L32,'пр.взв'!$D$6:$Q$33,5,0),"") | O32: =IFERROR(VLOOKUP(L32,'пр.взв'!$D$6:$Q$33,6,0),"") | P32: =IFERROR(VLOOKUP(L32,'пр.взв'!$D$6:$Q$33,8,0),"")
A34: 8 | B34: 15 | C34: =IFERROR(VLOOKUP(B34,'пр.взв'!$D$6:$Q$33,2,0),"") -> МИРОНОВА Кристина | D34: =IFERROR(VLOOKUP(B34,'пр.взв'!$D$6:$Q$33,5,0),"") -> КМС | E34: =IFERROR(VLOOKUP(B34,'пр.взв'!$D$6:$Q$33,6,0),"") -> СФО | F34: =IFERROR(VLOOKUP(B34,'пр.взв'!$D$6:$Q$33,8,0),"") -> Новосибирская | K34: 16 | L34: 16 | M34: =IFERROR(VLOOKUP(L34,'пр.взв'!$D$6:$Q$33,2,0),"") -> СЕРГЕЕВА Алина | N34: =IFERROR(VLOOKUP(L34,'пр.взв'!$D$6:$Q$33,5,0),"") -> КМС | O34: =IFERROR(VLOOKUP(L34,'пр.взв'!$D$6:$Q$33,6,0),"") -> УФО | P34: =IFERROR(VLOOKUP(L34,'пр.взв'!$D$6:$Q$33,8,0),"") -> Тюменская
B36: 31 | C36: =IFERROR(VLOOKUP(B36,'пр.взв'!$D$6:$Q$33,2,0),"") | D36: =IFERROR(VLOOKUP(B36,'пр.взв'!$D$6:$Q$33,5,0),"") | E36: =IFERROR(VLOOKUP(B36,'пр.взв'!$D$6:$Q$33,6,0),"") | F36: =IFERROR(VLOOKUP(B36,'пр.взв'!$D$6:$Q$33,8,0),"") | L36: 32 | M36: =IFERROR(VLOOKUP(L36,'пр.взв'!$D$6:$Q$34,2,0),"") | N36: =IFERROR(VLOOKUP(L36,'пр.взв'!$D$6:$Q$34,5,0),"") | O36: =IFERROR(VLOOKUP(L36,'пр.взв'!$D$6:$Q$34,6,0),"") | P36: =IFERROR(VLOOKUP(L36,'пр.взв'!$D$6:$Q$34,8,0),"")
B38: =B2 -> 4 | C38: КОВЕР | L38: =L2 -> 4 | M38: КОВЕР
B39: A | C39: (Круг) | D39: 1/8 | G39: =G3 -> В.к. 50 кг | L39: Б | M39: (Круг) | N39: 1/8 | Q39: =G39 -> В.к. 50 кг
A40: № встр | B40: № п/ж | C40: Ф.И.О. | D40: Д. р., разряд | E40: Вед., регион | G40: Оценки | H40: Очки | I40: Рез-т | J40: Время | K40: № встр | L40: № п/ж | M40: Ф.И.О. | N40: Д. р., разряд | O40: Вед., регион | Q40: Оценки | R40: Очки | S40: Рез-т | T40: Время
A42: 1 | B42: ='пр.хода'!E13 | C42: =IFERROR(VLOOKUP(B42,'пр.взв'!$D$6:$Q$33,2,0),"") | D42: =IFERROR(VLOOKUP(B42,'пр.взв'!$D$6:$Q$33,5,0),"") | E42: =IFERROR(VLOOKUP(B42,'пр.взв'!$D$6:$Q$33,6,0),"") | F42: =IFERROR(VLOOKUP(B42,'пр.взв'!$D$6:$Q$33,8,0),"") | K42: 5 | L42: ='пр.хода'!AF13 | M42: =IFERROR(VLOOKUP(L42,'пр.взв'!$D$6:$Q$33,2,0),"") | N42: =IFERROR(VLOOKUP(L42,'пр.взв'!$D$6:$Q$33,5,0),"") | O42: =IFERROR(VLOOKUP(L42,'пр.взв'!$D$6:$Q$33,6,0),"") | P42: =IFERROR(VLOOKUP(L42,'пр.взв'!$D$6:$Q$33,8,0),"")
B44: ='пр.хода'!E25 -> 9 | C44: =IFERROR(VLOOKUP(B44,'пр.взв'!$D$6:$Q$33,2,0),"") -> ГИЛЯЗОВА Сабина | D44: =IFERROR(VLOOKUP(B44,'пр.взв'!$D$6:$Q$33,5,0),"") -> МС | E44: =IFERROR(VLOOKUP(B44,'пр.взв'!$D$6:$Q$33,6,0),"") -> УФО | F44: =IFERROR(VLOOKUP(B44,'пр.взв'!$D$6:$Q$33,8,0),"") -> Свердловская | L44: ='пр.хода'!AF25 -> 10 | M44: =IFERROR(VLOOKUP(L44,'пр.взв'!$D$6:$Q$33,2,0),"") -> ПОЛЫГАЛОВА Ольга | N44: =IFERROR(VLOOKUP(L44,'пр.взв'!$D$6:$Q$33,5,0),"") -> КМС | O44: =IFERROR(VLOOKUP(L44,'пр.взв'!$D$6:$Q$33,6,0),"") -> ПФО | P44: =IFERROR(VLOOKUP(L44,'пр.взв'!$D$6:$Q$33,8,0),"") -> Пермский
A46: 2 | B46: ='пр.хода'!E37 | C46: =IFERROR(VLOOKUP(B46,'пр.взв'!$D$6:$Q$33,2,0),"") | D46: =IFERROR(VLOOKUP(B46,'пр.взв'!$D$6:$Q$33,5,0),"") | E46: =IFERROR(VLOOKUP(B46,'пр.взв'!$D$6:$Q$33,6,0),"") | F46: =IFERROR(VLOOKUP(B46,'пр.взв'!$D$6:$Q$33,8,0),"") | K46: 6 | L46: ='пр.хода'!AF37 | M46: =IFERROR(VLOOKUP(L46,'пр.взв'!$D$6:$Q$33,2,0),"") | N46: =IFERROR(VLOOKUP(L46,'пр.взв'!$D$6:$Q$33,5,0),"") | O46: =IFERROR(VLOOKUP(L46,'пр.взв'!$D$6:$Q$33,6,0),"") | P46: =IFERROR(VLOOKUP(L46,'пр.взв'!$D$6:$Q$33,8,0),"")
B48: ='пр.хода'!E49 -> 13 | C48: =IFERROR(VLOOKUP(B48,'пр.взв'!$D$6:$Q$33,2,0),"") -> МОЛЧАНОВА Юлия | D48: =IFERROR(VLOOKUP(B48,'пр.взв'!$D$6:$Q$33,5,0),"") -> МС | E48: =IFERROR(VLOOKUP(B48,'пр.взв'!$D$6:$Q$33,6,0),"") -> ПФО | F48: =IFERROR(VLOOKUP(B48,'пр.взв'!$D$6:$Q$33,8,0),"") -> Нижегородская | L48: ='пр.хода'!AF49 -> 14 | M48: =IFERROR(VLOOKUP(L48,'пр.взв'!$D$6:$Q$33,2,0),"") -> РАХМАТУЛЛИНА Алла | N48: =IFERROR(VLOOKUP(L48,'пр.взв'!$D$6:$Q$33,5,0),"") -> КМС | O48: =IFERROR(VLOOKUP(L48,'пр.взв'!$D$6:$Q$33,6,0),"") -> ПФО | P48: =IFERROR(VLOOKUP(L48,'пр.взв'!$D$6:$Q$33,8,0),"") -> Башкортостан
A50: 3 | B50: ='пр.хода'!E61 | C50: =IFERROR(VLOOKUP(B50,'пр.взв'!$D$6:$Q$33,2,0),"") | D50: =IFERROR(VLOOKUP(B50,'пр.взв'!$D$6:$Q$33,5,0),"") | E50: =IFERROR(VLOOKUP(B50,'пр.взв'!$D$6:$Q$33,6,0),"") | F50: =IFERROR(VLOOKUP(B50,'пр.взв'!$D$6:$Q$33,8,0),"") | K50: 7 | L50: ='пр.хода'!AF61 | M50: =IFERROR(VLOOKUP(L50,'пр.взв'!$D$6:$Q$33,2,0),"") | N50: =IFERROR(VLOOKUP(L50,'пр.взв'!$D$6:$Q$33,5,0),"") | O50: =IFERROR(VLOOKUP(L50,'пр.взв'!$D$6:$Q$33,6,0),"") | P50: =IFERROR(VLOOKUP(L50,'пр.взв'!$D$6:$Q$33,8,0),"")
B52: ='пр.хода'!E73 -> 11 | C52: =IFERROR(VLOOKUP(B52,'пр.взв'!$D$6:$Q$33,2,0),"") -> МОЛЧАНОВА Мария | D52: =IFERROR(VLOOKUP(B52,'пр.взв'!$D$6:$Q$33,5,0),"") -> ЗМС | E52: =IFERROR(VLOOKUP(B52,'пр.взв'!$D$6:$Q$33,6,0),"") -> ПФО | F52: =IFERROR(VLOOKUP(B52,'пр.взв'!$D$6:$Q$33,8,0),"") -> Пермский | L52: ='пр.хода'!AF73 -> 12 | M52: =IFERROR(VLOOKUP(L52,'пр.взв'!$D$6:$Q$33,2,0),"") -> ГОРЕЛИКОВА Анна | N52: =IFERROR(VLOOKUP(L52,'пр.взв'!$D$6:$Q$33,5,0),"") -> МСМК | O52: =IFERROR(VLOOKUP(L52,'пр.взв'!$D$6:$Q$33,6,0),"") -> ЮФО | P52: =IFERROR(VLOOKUP(L52,'пр.взв'!$D$6:$Q$33,8,0),"") -> Краснодарский
A54: 4 | B54: ='пр.хода'!E85 | C54: =IFERROR(VLOOKUP(B54,'пр.взв'!$D$6:$Q$33,2,0),"") | D54: =IFERROR(VLOOKUP(B54,'пр.взв'!$D$6:$Q$33,5,0),"") | E54: =IFERROR(VLOOKUP(B54,'пр.взв'!$D$6:$Q$33,6,0),"") | F54: =IFERROR(VLOOKUP(B54,'пр.взв'!$D$6:$Q$33,8,0),"") | K54: 8 | L54: ='пр.хода'!AF85 -> 8 | M54: =IFERROR(VLOOKUP(L54,'пр.взв'!$D$6:$Q$33,2,0),"") -> КОБЕЛЕВА Оксана | N54: =IFERROR(VLOOKUP(L54,'пр.взв'!$D$6:$Q$33,5,0),"") -> МС | O54: =IFERROR(VLOOKUP(L54,'пр.взв'!$D$6:$Q$33,6,0),"") -> УФО | P54: =IFERROR(VLOOKUP(L54,'пр.взв'!$D$6:$Q$33,8,0),"") -> Свердловская
B56: ='пр.хода'!E97 -> 15 | C56: =IFERROR(VLOOKUP(B56,'пр.взв'!$D$6:$Q$33,2,0),"") -> МИРОНОВА Кристина | D56: =IFERROR(VLOOKUP(B56,'пр.взв'!$D$6:$Q$33,5,0),"") -> КМС | E56: =IFERROR(VLOOKUP(B56,'пр.взв'!$D$6:$Q$33,6,0),"") -> СФО | F56: =IFERROR(VLOOKUP(B56,'пр.взв'!$D$6:$Q$33,8,0),"") -> Новосибирская | L56: ='пр.хода'!AF97 -> 16 | M56: =IFERROR(VLOOKUP(L56,'пр.взв'!$D$6:$Q$34,2,0),"") -> СЕРГЕЕВА Алина | N56: =IFERROR(VLOOKUP(L56,'пр.взв'!$D$6:$Q$34,5,0),"") -> КМС | O56: =IFERROR(VLOOKUP(L56,'пр.взв'!$D$6:$Q$34,6,0),"") -> УФО | P56: =IFERROR(VLOOKUP(L56,'пр.взв'!$D$6:$Q$34,8,0),"") -> Тюменская
B58: =B38 -> 4 | C58: КОВЕР | L58: =L38 -> 4 | M58: КОВЕР
B59: A | C59: (Круг) | D59: 1/4 | G59: =G39 -> В.к. 50 кг | L59: B | M59: (Круг) | N59: 1/4 | Q59: =G59 -> В.к. 50 кг
A60: № встр | B60: № п/ж | C60: Ф.И.О. | D60: Д. р., разряд | E60: Вед., регион | G60: Оценки | H60: Очки | I60: Рез-т | J60: Время | K60: № встр | L60: № п/ж | M60: Ф.И.О. | N60: Д. р., разряд | O60: Вед., регион | Q60: Оценки | R60: Очки | S60: Рез-т | T60: Время
A62: 1 | B62: ='пр.хода'!G19 | C62: =IFERROR(VLOOKUP(B62,'пр.взв'!$D$6:$Q$33,2,0),"") | D62: =IFERROR(VLOOKUP(B62,'пр.взв'!$D$6:$Q$33,5,0),"") | E62: =IFERROR(VLOOKUP(B62,'пр.взв'!$D$6:$Q$33,6,0),"") | F62: =IFERROR(VLOOKUP(B62,'пр.взв'!$D$6:$Q$33,8,0),"") | K62: 3 | L62: ='пр.хода'!AD19 | M62: =IFERROR(VLOOKUP(L62,'пр.взв'!$D$6:$Q$33,2,0),"") | N62: =IFERROR(VLOOKUP(L62,'пр.взв'!$D$6:$Q$33,5,0),"") | O62: =IFERROR(VLOOKUP(L62,'пр.взв'!$D$6:$Q$33,6,0),"") | P62: =IFERROR(VLOOKUP(L62,'пр.взв'!$D$6:$Q$33,8,0),"")
B64: ='пр.хода'!G43 | C64: =IFERROR(VLOOKUP(B64,'пр.взв'!$D$6:$Q$33,2,0),"") | D64: =IFERROR(VLOOKUP(B64,'пр.взв'!$D$6:$Q$33,5,0),"") | E64: =IFERROR(VLOOKUP(B64,'пр.взв'!$D$6:$Q$33,6,0),"") | F64: =IFERROR(VLOOKUP(B64,'пр.взв'!$D$6:$Q$33,8,0),"") | L64: ='пр.хода'!AD43 | M64: =IFERROR(VLOOKUP(L64,'пр.взв'!$D$6:$Q$33,2,0),"") | N64: =IFERROR(VLOOKUP(L64,'пр.взв'!$D$6:$Q$33,5,0),"") | O64: =IFERROR(VLOOKUP(L64,'пр.взв'!$D$6:$Q$33,6,0),"") | P64: =IFERROR(VLOOKUP(L64,'пр.взв'!$D$6:$Q$33,8,0),"")
A66: 2 | B66: ='пр.хода'!G67 | C66: =IFERROR(VLOOKUP(B66,'пр.взв'!$D$6:$Q$33,2,0),"") | D66: =IFERROR(VLOOKUP(B66,'пр.взв'!$D$6:$Q$33,5,0),"") | E66: =IFERROR(VLOOKUP(B66,'пр.взв'!$D$6:$Q$33,6,0),"") | F66: =IFERROR(VLOOKUP(B66,'пр.взв'!$D$6:$Q$33,8,0),"") | K66: 4 | L66: ='пр.хода'!AD67 | M66: =IFERROR(VLOOKUP(L66,'пр.взв'!$D$6:$Q$33,2,0),"") | N66: =IFERROR(VLOOKUP(L66,'пр.взв'!$D$6:$Q$33,5,0),"") | O66: =IFERROR(VLOOKUP(L66,'пр.взв'!$D$6:$Q$33,6,0),"") | P66: =IFERROR(VLOOKUP(L66,'пр.взв'!$D$6:$Q$33,8,0),"")
B68: ='пр.хода'!G91 | C68: =IFERROR(VLOOKUP(B68,'пр.взв'!$D$6:$Q$33,2,0),"") | D68: =IFERROR(VLOOKUP(B68,'пр.взв'!$D$6:$Q$33,5,0),"") | E68: =IFERROR(VLOOKUP(B68,'пр.взв'!$D$6:$Q$33,6,0),"") | F68: =IFERROR(VLOOKUP(B68,'пр.взв'!$D$6:$Q$33,8,0),"") | L68: ='пр.хода'!AD91 | M68: =IFERROR(VLOOKUP(L68,'пр.взв'!$D$6:$Q$34,2,0),"") | N68: =IFERROR(VLOOKUP(L68,'пр.взв'!$D$6:$Q$34,5,0),"") | O68: =IFERROR(VLOOKUP(L68,'пр.взв'!$D$6:$Q$34,6,0),"") | P68: =IFERROR(VLOOKUP(L68,'пр.взв'!$D$6:$Q$34,8,0),"")
B70: =B58 -> 4 | C70: КОВЕР | L70: =L58 -> 4 | M70: КОВЕР
B71: A | C71: Полуфинал | G71: =G59 -> В.к. 50 кг | L71: Б | M71: Полуфинал | Q71: =G71 -> В.к. 50 кг
A72: № встр | B72: № п/ж | C72: Ф.И.О. | D72: Д. р., разряд | E72: Вед., регион | G72: Оценки | H72: Очки | I72: Рез-т | J72: Время | K72: № встр | L72: № п/ж | M72: Ф.И.О. | N72: Д. р., разряд | O72: Вед., регион | Q72: Оценки | R72: Очки | S72: Рез-т | T72: Время
A74: 1 | B74: ='пр.хода'!I31 | C74: =IFERROR(VLOOKUP(B74,'пр.взв'!$D$6:$Q$33,2,0),"") | D74: =IFERROR(VLOOKUP(B74,'пр.взв'!$D$6:$Q$33,5,0),"") | E74: =IFERROR(VLOOKUP(B74,'пр.взв'!$D$6:$Q$33,6,0),"") | F74: =IFERROR(VLOOKUP(B74,'пр.взв'!$D$6:$Q$33,8,0),"") | K74: 2 | L74: ='пр.хода'!AB31 | M74: =IFERROR(VLOOKUP(L74,'пр.взв'!$D$6:$Q$33,2,0),"") | N74: =IFERROR(VLOOKUP(L74,'пр.взв'!$D$6:$Q$33,5,0),"") | O74: =IFERROR(VLOOKUP(L74,'пр.взв'!$D$6:$Q$33,6,0),"") | P74: =IFERROR(VLOOKUP(L74,'пр.взв'!$D$6:$Q$33,8,0),"")
B76: ='пр.хода'!I79 | C76: =IFERROR(VLOOKUP(B76,'пр.взв'!$D$6:$Q$33,2,0),"") | D76: =IFERROR(VLOOKUP(B76,'пр.взв'!$D$6:$Q$33,5,0),"") | E76: =IFERROR(VLOOKUP(B76,'пр.взв'!$D$6:$Q$33,6,0),"") | F76: =IFERROR(VLOOKUP(B76,'пр.взв'!$D$6:$Q$33,8,0),"") | L76: ='пр.хода'!AB79 | M76: =IFERROR(VLOOKUP(L76,'пр.взв'!$D$6:$Q$34,2,0),"") | N76: =IFERROR(VLOOKUP(L76,'пр.взв'!$D$6:$Q$34,5,0),"") | O76: =IFERROR(VLOOKUP(L76,'пр.взв'!$D$6:$Q$34,6,0),"") | P76: =IFERROR(VLOOKUP(L76,'пр.взв'!$D$6:$Q$34,8,0),"")
B78: =B70 -> 4 | C78: КОВЕР | L78: =L70 -> 4 | M78: КОВЕР
A79: (Утешительные встречи) 1 круг | K79: (Утешительные встречи) 1 круг
B80: A | G80: =G71 -> В.к. 50 кг | L80: Б | Q80: =G80 -> В.к. 50 кг
A81: № встр | B81: № п/ж | C81: Ф.И.О. | D81: Д. р., разряд | E81: Вед., регион | G81: Оценки | H81: Очки | I81: Рез-т | J81: Время | K81: № встр | L81: № п/ж | M81: Ф.И.О. | N81: Д. р., разряд | O81: Вед., регион | Q81: Оценки | R81: Очки | S81: Рез-т | T81: Время
A83: 1 | B83: ='пр.хода'!I6 | C83: =IFERROR(VLOOKUP(B83,'пр.взв'!$D$6:$Q$33,2,0),"") | D83: =IFERROR(VLOOKUP(B83,'пр.взв'!$D$6:$Q$33,5,0),"") | E83: =IFERROR(VLOOKUP(B83,'пр.взв'!$D$6:$Q$33,6,0),"") | F83: =IFERROR(VLOOKUP(B83,'пр.взв'!$D$6:$Q$33,8,0),"") | K83: 3 | L83: ='пр.хода'!J91 | M83: =IFERROR(VLOOKUP(L83,'пр.взв'!$D$6:$Q$33,2,0),"") | N83: =IFERROR(VLOOKUP(L83,'пр.взв'!$D$6:$Q$33,5,0),"") | O83: =IFERROR(VLOOKUP(L83,'пр.взв'!$D$6:$Q$33,6,0),"") | P83: =IFERROR(VLOOKUP(L83,'пр.взв'!$D$6:$Q$33,8,0),"")
B85: ='пр.хода'!I10 | C85: =IFERROR(VLOOKUP(B85,'пр.взв'!$D$6:$Q$33,2,0),"") | D85: =IFERROR(VLOOKUP(B85,'пр.взв'!$D$6:$Q$33,5,0),"") | E85: =IFERROR(VLOOKUP(B85,'пр.взв'!$D$6:$Q$33,6,0),"") | F85: =IFERROR(VLOOKUP(B85,'пр.взв'!$D$6:$Q$33,8,0),"") | L85: ='пр.хода'!J95 | M85: =IFERROR(VLOOKUP(L85,'пр.взв'!$D$6:$Q$33,2,0),"") | N85: =IFERROR(VLOOKUP(L85,'пр.взв'!$D$6:$Q$33,5,0),"") | O85: =IFERROR(VLOOKUP(L85,'пр.взв'!$D$6:$Q$33,6,0),"") | P85: =IFERROR(VLOOKUP(L85,'пр.взв'!$D$6:$Q$33,8,0),"")
A87: 2 | B87: ='пр.хода'!J17 | C87: =IFERROR(VLOOKUP(B87,'пр.взв'!$D$6:$Q$33,2,0),"") | D87: =IFERROR(VLOOKUP(B87,'пр.взв'!$D$6:$Q$33,5,0),"") | E87: =IFERROR(VLOOKUP(B87,'пр.взв'!$D$6:$Q$33,6,0),"") | F87: =IFERROR(VLOOKUP(B87,'пр.взв'!$D$6:$Q$33,8,0),"") | K87: 4 | L87: ='пр.хода'!I102 | M87: =IFERROR(VLOOKUP(L87,'пр.взв'!$D$6:$Q$33,2,0),"") | N87: =IFERROR(VLOOKUP(L87,'пр.взв'!$D$6:$Q$33,5,0),"") | O87: =IFERROR(VLOOKUP(L87,'пр.взв'!$D$6:$Q$33,6,0),"") | P87: =IFERROR(VLOOKUP(L87,'пр.взв'!$D$6:$Q$33,8,0),"")
B89: ='пр.хода'!J21 | C89: =IFERROR(VLOOKUP(B89,'пр.взв'!$D$6:$Q$33,2,0),"") | D89: =IFERROR(VLOOKUP(B89,'пр.взв'!$D$6:$Q$33,5,0),"") | E89: =IFERROR(VLOOKUP(B89,'пр.взв'!$D$6:$Q$33,6,0),"") | F89: =IFERROR(VLOOKUP(B89,'пр.взв'!$D$6:$Q$33,8,0),"") | L89: ='пр.хода'!I106 | M89: =IFERROR(VLOOKUP(L89,'пр.взв'!$D$6:$Q$34,2,0),"") | N89: =IFERROR(VLOOKUP(L89,'пр.взв'!$D$6:$Q$34,5,0),"") | O89: =IFERROR(VLOOKUP(L89,'пр.взв'!$D$6:$Q$34,6,0),"") | P89: =IFERROR(VLOOKUP(L89,'пр.взв'!$D$6:$Q$34,8,0),"")
B91: =B78 -> 4 | C91: КОВЕР | L91: =L78 -> 4 | M91: КОВЕР
A92: (Утешительные встречи) 2 круг | K92: (Утешительные встречи) 2 круг
B93: A | G93: =G80 -> В.к. 50 кг | L93: Б | Q93: =Q80 -> В.к. 50 кг
A94: № встр | B94: № п/ж | C94: Ф.И.О. | D94: Д. р., разряд | E94: Вед., регион | G94: Оценки | H94: Очки | I94: Рез-т | J94: Время | K94: № встр | L94: № п/ж | M94: Ф.И.О. | N94: Д. р., разряд | O94: Вед., регион | Q94: Оценки | R94: Очки | S94: Рез-т | T94: Время
A96: 5 | B96: ='пр.хода'!M8 | C96: =IFERROR(VLOOKUP(B96,'пр.взв'!$D$6:$Q$33,2,0),"") | D96: =IFERROR(VLOOKUP(B96,'пр.взв'!$D$6:$Q$33,5,0),"") | E96: =IFERROR(VLOOKUP(B96,'пр.взв'!$D$6:$Q$33,6,0),"") | F96: =IFERROR(VLOOKUP(B96,'пр.взв'!$D$6:$Q$33,8,0),"") | K96: 7 | L96: ='пр.хода'!N89 | M96: =IFERROR(VLOOKUP(L96,'пр.взв'!$D$6:$Q$33,2,0),"") | N96: =IFERROR(VLOOKUP(L96,'пр.взв'!$D$6:$Q$33,5,0),"") | O96: =IFERROR(VLOOKUP(L96,'пр.взв'!$D$6:$Q$33,6,0),"") | P96: =IFERROR(VLOOKUP(L96,'пр.взв'!$D$6:$Q$33,8,0),"")
B98: ='пр.хода'!M12 | C98: =IFERROR(VLOOKUP(B98,'пр.взв'!$D$6:$Q$33,2,0),"") | D98: =IFERROR(VLOOKUP(B98,'пр.взв'!$D$6:$Q$33,5,0),"") | E98: =IFERROR(VLOOKUP(B98,'пр.взв'!$D$6:$Q$33,6,0),"") | F98: =IFERROR(VLOOKUP(B98,'пр.взв'!$D$6:$Q$33,8,0),"") | L98: ='пр.хода'!N93 | M98: =IFERROR(VLOOKUP(L98,'пр.взв'!$D$6:$Q$33,2,0),"") | N98: =IFERROR(VLOOKUP(L98,'пр.взв'!$D$6:$Q$33,5,0),"") | O98: =IFERROR(VLOOKUP(L98,'пр.взв'!$D$6:$Q$33,6,0),"") | P98: =IFERROR(VLOOKUP(L98,'пр.взв'!$D$6:$Q$33,8,0),"")
A100: 6 | B100: ='пр.хода'!N19 | C100: =IFERROR(VLOOKUP(B100,'пр.взв'!$D$6:$Q$33,2,0),"") | D100: =IFERROR(VLOOKUP(B100,'пр.взв'!$D$6:$Q$33,5,0),"") | E100: =IFERROR(VLOOKUP(B100,'пр.взв'!$D$6:$Q$33,6,0),"") | F100: =IFERROR(VLOOKUP(B100,'пр.взв'!$D$6:$Q$33,8,0),"") | K100: 8 | L100: ='пр.хода'!M100 | M100: =IFERROR(VLOOKUP(L100,'пр.взв'!$D$6:$Q$33,2,0),"") | N100: =IFERROR(VLOOKUP(L100,'пр.взв'!$D$6:$Q$33,5,0),"") | O100: =IFERROR(VLOOKUP(L100,'пр.взв'!$D$6:$Q$33,6,0),"") | P100: =IFERROR(VLOOKUP(L100,'пр.взв'!$D$6:$Q$33,8,0),"")
B102: ='пр.хода'!N23 | C102: =IFERROR(VLOOKUP(B102,'пр.взв'!$D$6:$Q$33,2,0),"") | D102: =IFERROR(VLOOKUP(B102,'пр.взв'!$D$6:$Q$33,5,0),"") | E102: =IFERROR(VLOOKUP(B102,'пр.взв'!$D$6:$Q$33,6,0),"") | F102: =IFERROR(VLOOKUP(B102,'пр.взв'!$D$6:$Q$33,8,0),"") | L102: ='пр.хода'!M104 | M102: =IFERROR(VLOOKUP(L102,'пр.взв'!$D$6:$Q$34,2,0),"") | N102: =IFERROR(VLOOKUP(L102,'пр.взв'!$D$6:$Q$34,5,0),"") | O102: =IFERROR(VLOOKUP(L102,'пр.взв'!$D$6:$Q$34,6,0),"") | P102: =IFERROR(VLOOKUP(L102,'пр.взв'!$D$6:$Q$34,8,0),"")
B104: =B91 -> 4 | C104: КОВЕР | L104: =L91 -> 4 | M104: КОВЕР
A105: (Утешительные встречи) 3 круг | K105: (Утешительные встречи) 3 круг
B106: A | G106: =G93 -> В.к. 50 кг | L106: Б | Q106: =Q93 -> В.к. 50 кг
A107: № встр | B107: № п/ж | C107: Ф.И.О. | D107: Д. р., разряд | E107: Вед., регион | G107: Оценки | H107: Очки | I107: Рез-т | J107: Время | K107: № встр | L107: № п/ж | M107: Ф.И.О. | N107: Д. р., разряд | O107: Вед., регион | Q107: Оценки | R107: Очки | S107: Рез-т | T107: Время
A109: 9 | B109: ='пр.хода'!Q10 | C109: =IFERROR(VLOOKUP(B109,'пр.взв'!$D$6:$Q$33,2,0),"") | D109: =IFERROR(VLOOKUP(B109,'пр.взв'!$D$6:$Q$33,5,0),"") | E109: =IFERROR(VLOOKUP(B109,'пр.взв'!$D$6:$Q$33,6,0),"") | F109: =IFERROR(VLOOKUP(B109,'пр.взв'!$D$6:$Q$33,8,0),"") | K109: 10 | L109: ='пр.хода'!R91 | M109: =IFERROR(VLOOKUP(L109,'пр.взв'!$D$6:$Q$33,2,0),"") | N109: =IFERROR(VLOOKUP(L109,'пр.взв'!$D$6:$Q$33,5,0),"") | O109: =IFERROR(VLOOKUP(L109,'пр.взв'!$D$6:$Q$33,6,0),"") | P109: =IFERROR(VLOOKUP(L109,'пр.взв'!$D$6:$Q$33,8,0),"")
B111: ='пр.хода'!R21 | C111: =IFERROR(VLOOKUP(B111,'пр.взв'!$D$6:$Q$33,2,0),"") | D111: =IFERROR(VLOOKUP(B111,'пр.взв'!$D$6:$Q$33,5,0),"") | E111: =IFERROR(VLOOKUP(B111,'пр.взв'!$D$6:$Q$33,6,0),"") | F111: =IFERROR(VLOOKUP(B111,'пр.взв'!$D$6:$Q$33,8,0),"") | L111: ='пр.хода'!Q102 | M111: =IFERROR(VLOOKUP(L111,'пр.взв'!$D$6:$Q$34,2,0),"") | N111: =IFERROR(VLOOKUP(L111,'пр.взв'!$D$6:$Q$34,5,0),"") | O111: =IFERROR(VLOOKUP(L111,'пр.взв'!$D$6:$Q$34,6,0),"") | P111: =IFERROR(VLOOKUP(L111,'пр.взв'!$D$6:$Q$34,8,0),"")

Sheet Табло
B1: ВСТРЕЧИ ПО КРУГАМ | M1: ВСТРЕЧИ ПО КРУГАМ
B2: 3 | C2: КОВЕР | E2: ='пр.взв'!H4 | M2: =B2 -> 3 | N2: КОВЕР | P2: =F2
B3: A | C3: (Круг) | D3: 1/16 | F3: 1/16 | G3: ='пр.взв'!G4 -> В.к. 50 кг | M3: Б | N3: (Круг) | O3: 1/16 | P3: 1/16 | R3: =G3 -> В.к. 50 кг
A4: № встр | B4: № п/ж | C4: Ф.И.О. | D4: Д. р., разряд | E4: Округ., субъект | G4: Оценки | H4: Очки | I4: Рез-т | J4: Время | L4: № встр | M4: № п/ж | N4: Ф.И.О. | O4: Д. р., разряд | P4: Вед., регион | R4: Оценки | S4: Очки | T4: Рез-т | U4: Время
A41: 1 | B41: 1 | C41: =IFERROR(VLOOKUP(B41,'пр.взв'!$D$6:$Q$30,2,0),"") -> ЕГОРОВА Елизавета | D41: =IFERROR(VLOOKUP(B41,'пр.взв'!$D$6:$Q$30,5,0),"") -> МС | E41: =IFERROR(VLOOKUP(B41,'пр.взв'!$D$6:$Q$30,6,0),"") -> ПФО | F41: =IFERROR(VLOOKUP(B41,'пр.взв'!$D$6:$Q$30,8,0),"") -> Чувашская | L41: 9 | M41: 2 | N41: =IFERROR(VLOOKUP(M41,'пр.взв'!$D$6:$Q$30,2,0),"") -> НЕФЁДОВА Екатерина | O41: =IFERROR(VLOOKUP(M41,'пр.взв'!$D$6:$Q$30,5,0),"") -> МС | P41: =IFERROR(VLOOKUP(M41,'пр.взв'!$D$6:$Q$30,6,0),"") -> УФО | Q41: =IFERROR(VLOOKUP(M41,'пр.взв'!$D$6:$Q$30,8,0),"") -> Курганская
B42: 17 | C42: =IFERROR(VLOOKUP(B42,'пр.взв'!$D$6:$Q$30,2,0),"") -> ВАРЛАМОВА Кристина | D42: =IFERROR(VLOOKUP(B42,'пр.взв'!$D$6:$Q$30,5,0),"") -> МС | E42: =IFERROR(VLOOKUP(B42,'пр.взв'!$D$6:$Q$30,6,0),"") -> ЮФО | F42: =IFERROR(VLOOKUP(B42,'пр.взв'!$D$6:$Q$30,8,0),"") -> Краснодарский | M42: 18 | N42: =IFERROR(VLOOKUP(M42,'пр.взв'!$D$6:$Q$30,2,0),"") -> АКИФЬЕВА Екатерина | O42: =IFERROR(VLOOKUP(M42,'пр.взв'!$D$6:$Q$30,5,0),"") -> 1р | P42: =IFERROR(VLOOKUP(M42,'пр.взв'!$D$6:$Q$30,6,0),"") -> ПФО | Q42: =IFERROR(VLOOKUP(M42,'пр.взв'!$D$6:$Q$30,8,0),"") -> Самарская
A43: 2 | B43: 9 | C43: =IFERROR(VLOOKUP(B43,'пр.взв'!$D$6:$Q$30,2,0),"") -> ГИЛЯЗОВА Сабина | D43: =IFERROR(VLOOKUP(B43,'пр.взв'!$D$6:$Q$30,5,0),"") -> МС | E43: =IFERROR(VLOOKUP(B43,'пр.взв'!$D$6:$Q$30,6,0),"") -> УФО | F43: =IFERROR(VLOOKUP(B43,'пр.взв'!$D$6:$Q$30,8,0),"") -> Свердловская | L43: 10 | M43: 10 | N43: =IFERROR(VLOOKUP(M43,'пр.взв'!$D$6:$Q$30,2,0),"") -> ПОЛЫГАЛОВА Ольга | O43: =IFERROR(VLOOKUP(M43,'пр.взв'!$D$6:$Q$30,5,0),"") -> КМС | P43: =IFERROR(VLOOKUP(M43,'пр.взв'!$D$6:$Q$30,6,0),"") -> ПФО | Q43: =IFERROR(VLOOKUP(M43,'пр.взв'!$D$6:$Q$30,8,0),"") -> Пермский
B44: 25 | C44: =IFERROR(VLOOKUP(B44,'пр.взв'!$D$6:$Q$30,2,0),"") | D44: =IFERROR(VLOOKUP(B44,'пр.взв'!$D$6:$Q$30,5,0),"") | E44: =IFERROR(VLOOKUP(B44,'пр.взв'!$D$6:$Q$30,6,0),"") | F44: =IFERROR(VLOOKUP(B44,'пр.взв'!$D$6:$Q$30,8,0),"") | M44: 26 | N44: =IFERROR(VLOOKUP(M44,'пр.взв'!$D$6:$Q$30,2,0),"") | O44: =IFERROR(VLOOKUP(M44,'пр.взв'!$D$6:$Q$30,5,0),"") | P44: =IFERROR(VLOOKUP(M44,'пр.взв'!$D$6:$Q$30,6,0),"") | Q44: =IFERROR(VLOOKUP(M44,'пр.взв'!$D$6:$Q$30,8,0),"")
A45: 3 | B45: 5 | C45: =IFERROR(VLOOKUP(B45,'пр.взв'!$D$6:$Q$30,2,0),"") -> БОРЕЦ Виктория | D45: =IFERROR(VLOOKUP(B45,'пр.взв'!$D$6:$Q$30,5,0),"") -> КМС | E45: =IFERROR(VLOOKUP(B45,'пр.взв'!$D$6:$Q$30,6,0),"") -> МОС | F45: =IFERROR(VLOOKUP(B45,'пр.взв'!$D$6:$Q$30,8,0),"") -> Москва | L45: 11 | M45: 6 | N45: =IFERROR(VLOOKUP(M45,'пр.взв'!$D$6:$Q$30,2,0),"") -> ЕВСЕЕВА Екатерина | O45: =IFERROR(VLOOKUP(M45,'пр.взв'!$D$6:$Q$30,5,0),"") -> МС | P45: =IFERROR(VLOOKUP(M45,'пр.взв'!$D$6:$Q$30,6,0),"") -> УФО | Q45: =IFERROR(VLOOKUP(M45,'пр.взв'!$D$6:$Q$30,8,0),"") -> Свердловская
B46: 21 | C46: =IFERROR(VLOOKUP(B46,'пр.взв'!$D$6:$Q$30,2,0),"") -> МИХАЛЕВА Елена | D46: =IFERROR(VLOOKUP(B46,'пр.взв'!$D$6:$Q$30,5,0),"") -> МС | E46: =IFERROR(VLOOKUP(B46,'пр.взв'!$D$6:$Q$30,6,0),"") -> ЦФО | F46: =IFERROR(VLOOKUP(B46,'пр.взв'!$D$6:$Q$30,8,0),"") -> Московская | M46: 22 | N46: =IFERROR(VLOOKUP(M46,'пр.взв'!$D$6:$Q$30,2,0),"") -> КАРЕКЯН Кристина | O46: =IFERROR(VLOOKUP(M46,'пр.взв'!$D$6:$Q$30,5,0),"") -> МС | P46: =IFERROR(VLOOKUP(M46,'пр.взв'!$D$6:$Q$30,6,0),"") -> ЮФО | Q46: =IFERROR(VLOOKUP(M46,'пр.взв'!$D$6:$Q$30,8,0),"") -> Краснодарский
A47: 4 | B47: 13 | C47: =IFERROR(VLOOKUP(B47,'пр.взв'!$D$6:$Q$30,2,0),"") -> МОЛЧАНОВА Юлия | D47: =IFERROR(VLOOKUP(B47,'пр.взв'!$D$6:$Q$30,5,0),"") -> МС | E47: =IFERROR(VLOOKUP(B47,'пр.взв'!$D$6:$Q$30,6,0),"") -> ПФО | F47: =IFERROR(VLOOKUP(B47,'пр.взв'!$D$6:$Q$30,8,0),"") -> Нижегородская | L47: 12 | M47: 14 | N47: =IFERROR(VLOOKUP(M47,'пр.взв'!$D$6:$Q$30,2,0),"") -> РАХМАТУЛЛИНА Алла | O47: =IFERROR(VLOOKUP(M47,'пр.взв'!$D$6:$Q$30,5,0),"") -> КМС | P47: =IFERROR(VLOOKUP(M47,'пр.взв'!$D$6:$Q$30,6,0),"") -> ПФО | Q47: =IFERROR(VLOOKUP(M47,'пр.взв'!$D$6:$Q$30,8,0),"") -> Башкортостан
B48: 29 | C48: =IFERROR(VLOOKUP(B48,'пр.взв'!$D$6:$Q$30,2,0),"") | D48: =IFERROR(VLOOKUP(B48,'пр.взв'!$D$6:$Q$30,5,0),"") | E48: =IFERROR(VLOOKUP(B48,'пр.взв'!$D$6:$Q$30,6,0),"") | F48: =IFERROR(VLOOKUP(B48,'пр.взв'!$D$6:$Q$30,8,0),"") | M48: 30 | N48: =IFERROR(VLOOKUP(M48,'пр.взв'!$D$6:$Q$30,2,0),"") | O48: =IFERROR(VLOOKUP(M48,'пр.взв'!$D$6:$Q$30,5,0),"") | P48: =IFERROR(VLOOKUP(M48,'пр.взв'!$D$6:$Q$30,6,0),"") | Q48: =IFERROR(VLOOKUP(M48,'пр.взв'!$D$6:$Q$30,8,0),"")
A49: 5 | B49: 3 | C49: =IFERROR(VLOOKUP(B49,'пр.взв'!$D$6:$Q$30,2,0),"") -> ЕМЕЛЮКОВА Софья | D49: =IFERROR(VLOOKUP(B49,'пр.взв'!$D$6:$Q$30,5,0),"") -> МС | E49: =IFERROR(VLOOKUP(B49,'пр.взв'!$D$6:$Q$30,6,0),"") -> ПФО | F49: =IFERROR(VLOOKUP(B49,'пр.взв'!$D$6:$Q$30,8,0),"") -> Чувашская | L49: 13 | M49: 4 | N49: =IFERROR(VLOOKUP(M49,'пр.взв'!$D$6:$Q$30,2,0),"") -> БЛИНОВА Ксения | O49: =IFERROR(VLOOKUP(M49,'пр.взв'!$D$6:$Q$30,5,0),"") -> МС | P49: =IFERROR(VLOOKUP(M49,'пр.взв'!$D$6:$Q$30,6,0),"") -> СФО | Q49: =IFERROR(VLOOKUP(M49,'пр.взв'!$D$6:$Q$30,8,0),"") -> Новосибирская
B50: 19 | C50: =IFERROR(VLOOKUP(B50,'пр.взв'!$D$6:$Q$30,2,0),"") -> АБДУЛЛИНА Елена | D50: =IFERROR(VLOOKUP(B50,'пр.взв'!$D$6:$Q$30,5,0),"") -> МС | E50: =IFERROR(VLOOKUP(B50,'пр.взв'!$D$6:$Q$30,6,0),"") -> ПФО | F50: =IFERROR(VLOOKUP(B50,'пр.взв'!$D$6:$Q$30,8,0),"") -> Башкортостан | M50: 20 | N50: =IFERROR(VLOOKUP(M50,'пр.взв'!$D$6:$Q$30,2,0),"") -> ФЕДОРОВА Татьяна | O50: =IFERROR(VLOOKUP(M50,'пр.взв'!$D$6:$Q$30,5,0),"") -> МС | P50: =IFERROR(VLOOKUP(M50,'пр.взв'!$D$6:$Q$30,6,0),"") -> ПФО | Q50: =IFERROR(VLOOKUP(M50,'пр.взв'!$D$6:$Q$30,8,0),"") -> Чувашская
A51: 6 | B51: 11 | C51: =IFERROR(VLOOKUP(B51,'пр.взв'!$D$6:$Q$30,2,0),"") -> МОЛЧАНОВА Мария | D51: =IFERROR(VLOOKUP(B51,'пр.взв'!$D$6:$Q$30,5,0),"") -> ЗМС | E51: =IFERROR(VLOOKUP(B51,'пр.взв'!$D$6:$Q$30,6,0),"") -> ПФО | F51: =IFERROR(VLOOKUP(B51,'пр.взв'!$D$6:$Q$30,8,0),"") -> Пермский | L51: 14 | M51: 12 | N51: =IFERROR(VLOOKUP(M51,'пр.взв'!$D$6:$Q$30,2,0),"") -> ГОРЕЛИКОВА Анна | O51: =IFERROR(VLOOKUP(M51,'пр.взв'!$D$6:$Q$30,5,0),"") -> МСМК | P51: =IFERROR(VLOOKUP(M51,'пр.взв'!$D$6:$Q$30,6,0),"") -> ЮФО | Q51: =IFERROR(VLOOKUP(M51,'пр.взв'!$D$6:$Q$30,8,0),"") -> Краснодарский
B52: 27 | C52: =IFERROR(VLOOKUP(B52,'пр.взв'!$D$6:$Q$30,2,0),"") | D52: =IFERROR(VLOOKUP(B52,'пр.взв'!$D$6:$Q$30,5,0),"") | E52: =IFERROR(VLOOKUP(B52,'пр.взв'!$D$6:$Q$30,6,0),"") | F52: =IFERROR(VLOOKUP(B52,'пр.взв'!$D$6:$Q$30,8,0),"") | M52: 28 | N52: =IFERROR(VLOOKUP(M52,'пр.взв'!$D$6:$Q$30,2,0),"") | O52: =IFERROR(VLOOKUP(M52,'пр.взв'!$D$6:$Q$30,5,0),"") | P52: =IFERROR(VLOOKUP(M52,'пр.взв'!$D$6:$Q$30,6,0),"") | Q52: =IFERROR(VLOOKUP(M52,'пр.взв'!$D$6:$Q$30,8,0),"")
A53: 7 | B53: 7 | C53: =IFERROR(VLOOKUP(B53,'пр.взв'!$D$6:$Q$30,2,0),"") -> ДУДИНА Кристина | D53: =IFERROR(VLOOKUP(B53,'пр.взв'!$D$6:$Q$30,5,0),"") -> МС | E53: =IFERROR(VLOOKUP(B53,'пр.взв'!$D$6:$Q$30,6,0),"") -> УФО | F53: =IFERROR(VLOOKUP(B53,'пр.взв'!$D$6:$Q$30,8,0),"") -> Свердловская | L53: 15 | M53: 8 | N53: =IFERROR(VLOOKUP(M53,'пр.взв'!$D$6:$Q$30,2,0),"") -> КОБЕЛЕВА Оксана | O53: =IFERROR(VLOOKUP(M53,'пр.взв'!$D$6:$Q$30,5,0),"") -> МС | P53: =IFERROR(VLOOKUP(M53,'пр.взв'!$D$6:$Q$30,6,0),"") -> УФО | Q53: =IFERROR(VLOOKUP(M53,'пр.взв'!$D$6:$Q$30,8,0),"") -> Свердловская
B54: 23 | C54: =IFERROR(VLOOKUP(B54,'пр.взв'!$D$6:$Q$30,2,0),"") -> ДИКАЯ Валентина | D54: =IFERROR(VLOOKUP(B54,'пр.взв'!$D$6:$Q$30,5,0),"") -> МС | E54: =IFERROR(VLOOKUP(B54,'пр.взв'!$D$6:$Q$30,6,0),"") -> СПБ | F54: =IFERROR(VLOOKUP(B54,'пр.взв'!$D$6:$Q$30,8,0),"") -> Санкт-Петербург | M54: 24 | N54: =IFERROR(VLOOKUP(M54,'пр.взв'!$D$6:$Q$30,2,0),"") | O54: =IFERROR(VLOOKUP(M54,'пр.взв'!$D$6:$Q$30,5,0),"") | P54: =IFERROR(VLOOKUP(M54,'пр.взв'!$D$6:$Q$30,6,0),"") | Q54: =IFERROR(VLOOKUP(M54,'пр.взв'!$D$6:$Q$30,8,0),"")
A55: 8 | B55: 15 | C55: =IFERROR(VLOOKUP(B55,'пр.взв'!$D$6:$Q$30,2,0),"") -> МИРОНОВА Кристина | D55: =IFERROR(VLOOKUP(B55,'пр.взв'!$D$6:$Q$30,5,0),"") -> КМС | E55: =IFERROR(VLOOKUP(B55,'пр.взв'!$D$6:$Q$30,6,0),"") -> СФО | F55: =IFERROR(VLOOKUP(B55,'пр.взв'!$D$6:$Q$30,8,0),"") -> Новосибирская | L55: 16 | M55: 16 | N55: =IFERROR(VLOOKUP(M55,'пр.взв'!$D$6:$Q$30,2,0),"") -> СЕРГЕЕВА Алина | O55: =IFERROR(VLOOKUP(M55,'пр.взв'!$D$6:$Q$30,5,0),"") -> КМС | P55: =IFERROR(VLOOKUP(M55,'пр.взв'!$D$6:$Q$30,6,0),"") -> УФО | Q55: =IFERROR(VLOOKUP(M55,'пр.взв'!$D$6:$Q$30,8,0),"") -> Тюменская
B56: 31 | C56: =IFERROR(VLOOKUP(B56,'пр.взв'!$D$6:$Q$30,2,0),"") | D56: =IFERROR(VLOOKUP(B56,'пр.взв'!$D$6:$Q$30,5,0),"") | E56: =IFERROR(VLOOKUP(B56,'пр.взв'!$D$6:$Q$30,6,0),"") | F56: =IFERROR(VLOOKUP(B56,'пр.взв'!$D$6:$Q$30,8,0),"") | M56: 32 | N56: =IFERROR(VLOOKUP(M56,'пр.взв'!$D$6:$Q$30,2,0),"") | O56: =IFERROR(VLOOKUP(M56,'пр.взв'!$D$6:$Q$30,5,0),"") | P56: =IFERROR(VLOOKUP(M56,'пр.взв'!$D$6:$Q$30,6,0),"") | Q56: =IFERROR(VLOOKUP(M56,'пр.взв'!$D$6:$Q$30,8,0),"")
B57: № п/ж | C57: Подгруппа А | D57: 1/8 | F57: 1/8 | G57: =G3 -> В.к. 50 кг | M57: № п/ж | N57: Подгруппа Б | O57: 1/8 | Q57: 1/8 | R57: =G57 -> В.к. 50 кг
A58: № встр | B58: № п/ж | C58: Ф.И.О. | D58: Д. р., разряд | E58: Округ., субъект | G58: Оценки | H58: Очки | I58: Рез-т | J58: Время | L58: № встр | N58: Ф.И.О. | O58: Д. р., разряд | P58: Округ., субъект | R58: Оценки | S58: Очки | T58: Рез-т | U58: Время
A60: 1 | B60: ='пр.хода'!E13 | C60: =IFERROR(VLOOKUP(B60,'пр.взв'!$D$6:$Q$30,2,0),"") | D60: =IFERROR(VLOOKUP(B60,'пр.взв'!$D$6:$Q$30,5,0),"") | E60: =IFERROR(VLOOKUP(B60,'пр.взв'!$D$6:$Q$30,6,0),"") | F60: =IFERROR(VLOOKUP(B60,'пр.взв'!$D$6:$Q$30,8,0),"") | L60: 5 | M60: ='пр.хода'!AF13 | N60: =IFERROR(VLOOKUP(M60,'пр.взв'!$D$6:$Q$30,2,0),"") | O60: =IFERROR(VLOOKUP(M60,'пр.взв'!$D$6:$Q$30,5,0),"") | P60: =IFERROR(VLOOKUP(M60,'пр.взв'!$D$6:$Q$30,6,0),"") | Q60: =IFERROR(VLOOKUP(M60,'пр.взв'!$D$6:$Q$30,8,0),"")
B61: ='пр.хода'!E25 -> 9 | C61: =IFERROR(VLOOKUP(B61,'пр.взв'!$D$6:$Q$30,2,0),"") -> ГИЛЯЗОВА Сабина | D61: =IFERROR(VLOOKUP(B61,'пр.взв'!$D$6:$Q$30,5,0),"") -> МС | E61: =IFERROR(VLOOKUP(B61,'пр.взв'!$D$6:$Q$30,6,0),"") -> УФО | F61: =IFERROR(VLOOKUP(B61,'пр.взв'!$D$6:$Q$30,8,0),"") -> Свердловская | M61: ='пр.хода'!AF25 -> 10 | N61: =IFERROR(VLOOKUP(M61,'пр.взв'!$D$6:$Q$30,2,0),"") -> ПОЛЫГАЛОВА Ольга | O61: =IFERROR(VLOOKUP(M61,'пр.взв'!$D$6:$Q$30,5,0),"") -> КМС | P61: =IFERROR(VLOOKUP(M61,'пр.взв'!$D$6:$Q$30,6,0),"") -> ПФО | Q61: =IFERROR(VLOOKUP(M61,'пр.взв'!$D$6:$Q$30,8,0),"") -> Пермский
A62: 2 | B62: ='пр.хода'!E37 | C62: =IFERROR(VLOOKUP(B62,'пр.взв'!$D$6:$Q$30,2,0),"") | D62: =IFERROR(VLOOKUP(B62,'пр.взв'!$D$6:$Q$30,5,0),"") | E62: =IFERROR(VLOOKUP(B62,'пр.взв'!$D$6:$Q$30,6,0),"") | F62: =IFERROR(VLOOKUP(B62,'пр.взв'!$D$6:$Q$30,8,0),"") | L62: 6 | M62: ='пр.хода'!AF37 | N62: =IFERROR(VLOOKUP(M62,'пр.взв'!$D$6:$Q$30,2,0),"") | O62: =IFERROR(VLOOKUP(M62,'пр.взв'!$D$6:$Q$30,5,0),"") | P62: =IFERROR(VLOOKUP(M62,'пр.взв'!$D$6:$Q$30,6,0),"") | Q62: =IFERROR(VLOOKUP(M62,'пр.взв'!$D$6:$Q$30,8,0),"")
B63: ='пр.хода'!E49 -> 13 | C63: =IFERROR(VLOOKUP(B63,'пр.взв'!$D$6:$Q$30,2,0),"") -> МОЛЧАНОВА Юлия | D63: =IFERROR(VLOOKUP(B63,'пр.взв'!$D$6:$Q$30,5,0),"") -> МС | E63: =IFERROR(VLOOKUP(B63,'пр.взв'!$D$6:$Q$30,6,0),"") -> ПФО | F63: =IFERROR(VLOOKUP(B63,'пр.взв'!$D$6:$Q$30,8,0),"") -> Нижегородская | M63: ='пр.хода'!AF49 -> 14 | N63: =IFERROR(VLOOKUP(M63,'пр.взв'!$D$6:$Q$30,2,0),"") -> РАХМАТУЛЛИНА Алла | O63: =IFERROR(VLOOKUP(M63,'пр.взв'!$D$6:$Q$30,5,0),"") -> КМС | P63: =IFERROR(VLOOKUP(M63,'пр.взв'!$D$6:$Q$30,6,0),"") -> ПФО | Q63: =IFERROR(VLOOKUP(M63,'пр.взв'!$D$6:$Q$30,8,0),"") -> Башкортостан
A64: 3 | B64: ='пр.хода'!E61 | C64: =IFERROR(VLOOKUP(B64,'пр.взв'!$D$6:$Q$30,2,0),"") | D64: =IFERROR(VLOOKUP(B64,'пр.взв'!$D$6:$Q$30,5,0),"") | E64: =IFERROR(VLOOKUP(B64,'пр.взв'!$D$6:$Q$30,6,0),"") | F64: =IFERROR(VLOOKUP(B64,'пр.взв'!$D$6:$Q$30,8,0),"") | L64: 7 | M64: ='пр.хода'!AF61 | N64: =IFERROR(VLOOKUP(M64,'пр.взв'!$D$6:$Q$30,2,0),"") | O64: =IFERROR(VLOOKUP(M64,'пр.взв'!$D$6:$Q$30,5,0),"") | P64: =IFERROR(VLOOKUP(M64,'пр.взв'!$D$6:$Q$30,6,0),"") | Q64: =IFERROR(VLOOKUP(M64,'пр.взв'!$D$6:$Q$30,8,0),"")
B65: ='пр.хода'!E73 -> 11 | C65: =IFERROR(VLOOKUP(B65,'пр.взв'!$D$6:$Q$30,2,0),"") -> МОЛЧАНОВА Мария | D65: =IFERROR(VLOOKUP(B65,'пр.взв'!$D$6:$Q$30,5,0),"") -> ЗМС | E65: =IFERROR(VLOOKUP(B65,'пр.взв'!$D$6:$Q$30,6,0),"") -> ПФО | F65: =IFERROR(VLOOKUP(B65,'пр.взв'!$D$6:$Q$30,8,0),"") -> Пермский | M65: ='пр.хода'!AF73 -> 12 | N65: =IFERROR(VLOOKUP(M65,'пр.взв'!$D$6:$Q$30,2,0),"") -> ГОРЕЛИКОВА Анна | O65: =IFERROR(VLOOKUP(M65,'пр.взв'!$D$6:$Q$30,5,0),"") -> МСМК | P65: =IFERROR(VLOOKUP(M65,'пр.взв'!$D$6:$Q$30,6,0),"") -> ЮФО | Q65: =IFERROR(VLOOKUP(M65,'пр.взв'!$D$6:$Q$30,8,0),"") -> Краснодарский
A66: 4 | B66: ='пр.хода'!E85 | C66: =IFERROR(VLOOKUP(B66,'пр.взв'!$D$6:$Q$30,2,0),"") | D66: =IFERROR(VLOOKUP(B66,'пр.взв'!$D$6:$Q$30,5,0),"") | E66: =IFERROR(VLOOKUP(B66,'пр.взв'!$D$6:$Q$30,6,0),"") | F66: =IFERROR(VLOOKUP(B66,'пр.взв'!$D$6:$Q$30,8,0),"") | L66: 8 | M66: ='пр.хода'!AF85 -> 8 | N66: =IFERROR(VLOOKUP(M66,'пр.взв'!$D$6:$Q$30,2,0),"") -> КОБЕЛЕВА Оксана | O66: =IFERROR(VLOOKUP(M66,'пр.взв'!$D$6:$Q$30,5,0),"") -> МС | P66: =IFERROR(VLOOKUP(M66,'пр.взв'!$D$6:$Q$30,6,0),"") -> УФО | Q66: =IFERROR(VLOOKUP(M66,'пр.взв'!$D$6:$Q$30,8,0),"") -> Свердловская
B67: ='пр.хода'!E97 -> 15 | C67: =IFERROR(VLOOKUP(B67,'пр.взв'!$D$6:$Q$30,2,0),"") -> МИРОНОВА Кристина | D67: =IFERROR(VLOOKUP(B67,'пр.взв'!$D$6:$Q$30,5,0),"") -> КМС | E67: =IFERROR(VLOOKUP(B67,'пр.взв'!$D$6:$Q$30,6,0),"") -> СФО | F67: =IFERROR(VLOOKUP(B67,'пр.взв'!$D$6:$Q$30,8,0),"") -> Новосибирская | M67: ='пр.хода'!AF97 -> 16 | N67: =IFERROR(VLOOKUP(M67,'пр.взв'!$D$6:$Q$30,2,0),"") -> СЕРГЕЕВА Алина | O67: =IFERROR(VLOOKUP(M67,'пр.взв'!$D$6:$Q$30,5,0),"") -> КМС | P67: =IFERROR(VLOOKUP(M67,'пр.взв'!$D$6:$Q$30,6,0),"") -> УФО | Q67: =IFERROR(VLOOKUP(M67,'пр.взв'!$D$6:$Q$30,8,0),"") -> Тюменская
B68: A | C68: (Круг) | D68: 1/4 | F68: 1/4 | G68: =G57 -> В.к. 50 кг | M68: B | N68: (Круг) | O68: 1/4 | P68: 1/4 | R68: =G68 -> В.к. 50 кг
A69: № встр | B69: № п/ж | C69: Ф.И.О. | D69: Д. р., разряд | E69: Вед., регион | G69: Оценки | H69: Очки | I69: Рез-т | J69: Время | L69: № встр | M69: № п/ж | N69: Ф.И.О. | O69: Д. р., разряд | P69: Вед., регион | R69: Оценки | S69: Очки | T69: Рез-т | U69: Время
A71: 1 | B71: ='пр.хода'!G19 | C71: =IFERROR(VLOOKUP(B71,'пр.взв'!$D$6:$Q$30,2,0),"") | D71: =IFERROR(VLOOKUP(B71,'пр.взв'!$D$6:$Q$30,5,0),"") | E71: =IFERROR(VLOOKUP(B71,'пр.взв'!$D$6:$Q$30,6,0),"") | F71: =IFERROR(VLOOKUP(B71,'пр.взв'!$D$6:$Q$30,8,0),"") | L71: 3 | M71: ='пр.хода'!AD19 | N71: =IFERROR(VLOOKUP(M71,'пр.взв'!$D$6:$Q$30,2,0),"") | O71: =IFERROR(VLOOKUP(M71,'пр.взв'!$D$6:$Q$30,5,0),"") | P71: =IFERROR(VLOOKUP(M71,'пр.взв'!$D$6:$Q$30,6,0),"") | Q71: =IFERROR(VLOOKUP(M71,'пр.взв'!$D$6:$Q$30,8,0),"")
B72: ='пр.хода'!G43 | C72: =IFERROR(VLOOKUP(B72,'пр.взв'!$D$6:$Q$30,2,0),"") | D72: =IFERROR(VLOOKUP(B72,'пр.взв'!$D$6:$Q$30,5,0),"") | E72: =IFERROR(VLOOKUP(B72,'пр.взв'!$D$6:$Q$30,6,0),"") | F72: =IFERROR(VLOOKUP(B72,'пр.взв'!$D$6:$Q$30,8,0),"") | M72: ='пр.хода'!AD43 | N72: =IFERROR(VLOOKUP(M72,'пр.взв'!$D$6:$Q$30,2,0),"") | O72: =IFERROR(VLOOKUP(M72,'пр.взв'!$D$6:$Q$30,5,0),"") | P72: =IFERROR(VLOOKUP(M72,'пр.взв'!$D$6:$Q$30,6,0),"") | Q72: =IFERROR(VLOOKUP(M72,'пр.взв'!$D$6:$Q$30,8,0),"")
A73: 2 | B73: ='пр.хода'!G67 | C73: =IFERROR(VLOOKUP(B73,'пр.взв'!$D$6:$Q$30,2,0),"") | D73: =IFERROR(VLOOKUP(B73,'пр.взв'!$D$6:$Q$30,5,0),"") | E73: =IFERROR(VLOOKUP(B73,'пр.взв'!$D$6:$Q$30,6,0),"") | F73: =IFERROR(VLOOKUP(B73,'пр.взв'!$D$6:$Q$30,8,0),"") | L73: 4 | M73: ='пр.хода'!AD67 | N73: =IFERROR(VLOOKUP(M73,'пр.взв'!$D$6:$Q$30,2,0),"") | O73: =IFERROR(VLOOKUP(M73,'пр.взв'!$D$6:$Q$30,5,0),"") | P73: =IFERROR(VLOOKUP(M73,'пр.взв'!$D$6:$Q$30,6,0),"") | Q73: =IFERROR(VLOOKUP(M73,'пр.взв'!$D$6:$Q$30,8,0),"")
B74: ='пр.хода'!G91 | C74: =IFERROR(VLOOKUP(B74,'пр.взв'!$D$6:$Q$30,2,0),"") | D74: =IFERROR(VLOOKUP(B74,'пр.взв'!$D$6:$Q$30,5,0),"") | E74: =IFERROR(VLOOKUP(B74,'пр.взв'!$D$6:$Q$30,6,0),"") | F74: =IFERROR(VLOOKUP(B74,'пр.взв'!$D$6:$Q$30,8,0),"") | M74: ='пр.хода'!AD91 | N74: =IFERROR(VLOOKUP(M74,'пр.взв'!$D$6:$Q$30,2,0),"") | O74: =IFERROR(VLOOKUP(M74,'пр.взв'!$D$6:$Q$30,5,0),"") | P74: =IFERROR(VLOOKUP(M74,'пр.взв'!$D$6:$Q$30,6,0),"") | Q74: =IFERROR(VLOOKUP(M74,'пр.взв'!$D$6:$Q$30,8,0),"")
B75: A | C75: Полуфинал | G75: =G68 -> В.к. 50 кг | M75: Б | N75: Полуфинал | R75: =G75 -> В.к. 50 кг
A76: № встр | B76: № п/ж | C76: Ф.И.О. | D76: Д. р., разряд | E76: Вед., регион | G76: Оценки | H76: Очки | I76: Рез-т | J76: Время | L76: № встр | M76: № п/ж | N76: Ф.И.О. | O76: Д. р., разряд | P76: Вед., регион | R76: Оценки | S76: Очки | T76: Рез-т | U76: Время
A78: 1 | B78: ='пр.хода'!I31 | C78: =IFERROR(VLOOKUP(B78,'пр.взв'!$D$6:$Q$30,2,0),"") | D78: =IFERROR(VLOOKUP(B78,'пр.взв'!$D$6:$Q$30,5,0),"") | E78: =IFERROR(VLOOKUP(B78,'пр.взв'!$D$6:$Q$30,6,0),"") | F78: =IFERROR(VLOOKUP(B78,'пр.взв'!$D$6:$Q$30,8,0),"") | L78: 2 | M78: ='пр.хода'!AB31 | N78: =IFERROR(VLOOKUP(M78,'пр.взв'!$D$6:$Q$30,2,0),"") | O78: =IFERROR(VLOOKUP(M78,'пр.взв'!$D$6:$Q$30,5,0),"") | P78: =IFERROR(VLOOKUP(M78,'пр.взв'!$D$6:$Q$30,6,0),"") | Q78: =IFERROR(VLOOKUP(M78,'пр.взв'!$D$6:$Q$30,8,0),"")
B79: ='пр.хода'!I79 | C79: =IFERROR(VLOOKUP(B79,'пр.взв'!$D$6:$Q$30,2,0),"") | D79: =IFERROR(VLOOKUP(B79,'пр.взв'!$D$6:$Q$30,5,0),"") | E79: =IFERROR(VLOOKUP(B79,'пр.взв'!$D$6:$Q$30,6,0),"") | F79: =IFERROR(VLOOKUP(B79,'пр.взв'!$D$6:$Q$30,8,0),"") | M79: ='пр.хода'!AB79 | N79: =IFERROR(VLOOKUP(M79,'пр.взв'!$D$6:$Q$30,2,0),"") | O79: =IFERROR(VLOOKUP(M79,'пр.взв'!$D$6:$Q$30,5,0),"") | P79: =IFERROR(VLOOKUP(M79,'пр.взв'!$D$6:$Q$30,6,0),"") | Q79: =IFERROR(VLOOKUP(M79,'пр.взв'!$D$6:$Q$30,8,0),"")
A85: (Утешительные встречи) 12 | L85: (Утешительные встречи) 12
B86: A | G86: =G75 -> В.к. 50 кг | M86: Б | R86: =G86 -> В.к. 50 кг
A87: № встр | B87: № п/ж | C87: Ф.И.О. | D87: Д. р., разряд | E87: Вед., регион | G87: Оценки | H87: Очки | I87: Рез-т | J87: Время | L87: № встр | M87: № п/ж | N87: Ф.И.О. | O87: Д. р., разряд | P87: Вед., регион | R87: Оценки | S87: Очки | T87: Рез-т | U87: Время
A89: 1 | B89: ='пр.хода'!I6 | C89: =IFERROR(VLOOKUP(B89,'пр.взв'!$D$6:$Q$30,2,0),"") | D89: =IFERROR(VLOOKUP(B89,'пр.взв'!$D$6:$Q$30,5,0),"") | E89: =IFERROR(VLOOKUP(B89,'пр.взв'!$D$6:$Q$30,6,0),"") | F89: =IFERROR(VLOOKUP(B89,'пр.взв'!$D$6:$Q$30,8,0),"") | L89: 3 | M89: ='пр.хода'!J91 | N89: =IFERROR(VLOOKUP(M89,'пр.взв'!$D$6:$Q$30,2,0),"") | O89: =IFERROR(VLOOKUP(M89,'пр.взв'!$D$6:$Q$30,5,0),"") | P89: =IFERROR(VLOOKUP(M89,'пр.взв'!$D$6:$Q$30,6,0),"") | Q89: =IFERROR(VLOOKUP(M89,'пр.взв'!$D$6:$Q$30,8,0),"")
B90: ='пр.хода'!I10 | C90: =IFERROR(VLOOKUP(B90,'пр.взв'!$D$6:$Q$30,2,0),"") | D90: =IFERROR(VLOOKUP(B90,'пр.взв'!$D$6:$Q$30,5,0),"") | E90: =IFERROR(VLOOKUP(B90,'пр.взв'!$D$6:$Q$30,6,0),"") | F90: =IFERROR(VLOOKUP(B90,'пр.взв'!$D$6:$Q$30,8,0),"") | M90: ='пр.хода'!J95 | N90: =IFERROR(VLOOKUP(M90,'пр.взв'!$D$6:$Q$30,2,0),"") | O90: =IFERROR(VLOOKUP(M90,'пр.взв'!$D$6:$Q$30,5,0),"") | P90: =IFERROR(VLOOKUP(M90,'пр.взв'!$D$6:$Q$30,6,0),"") | Q90: =IFERROR(VLOOKUP(M90,'пр.взв'!$D$6:$Q$30,8,0),"")
A91: 2 | B91: ='пр.хода'!J17 | C91: =IFERROR(VLOOKUP(B91,'пр.взв'!$D$6:$Q$30,2,0),"") | D91: =IFERROR(VLOOKUP(B91,'пр.взв'!$D$6:$Q$30,5,0),"") | E91: =IFERROR(VLOOKUP(B91,'пр.взв'!$D$6:$Q$30,6,0),"") | F91: =IFERROR(VLOOKUP(B91,'пр.взв'!$D$6:$Q$30,8,0),"") | L91: 4 | M91: ='пр.хода'!I102 | N91: =IFERROR(VLOOKUP(M91,'пр.взв'!$D$6:$Q$30,2,0),"") | O91: =IFERROR(VLOOKUP(M91,'пр.взв'!$D$6:$Q$30,5,0),"") | P91: =IFERROR(VLOOKUP(M91,'пр.взв'!$D$6:$Q$30,6,0),"") | Q91: =IFERROR(VLOOKUP(M91,'пр.взв'!$D$6:$Q$30,8,0),"")
B92: ='пр.хода'!J21 | C92: =IFERROR(VLOOKUP(B92,'пр.взв'!$D$6:$Q$30,2,0),"") | D92: =IFERROR(VLOOKUP(B92,'пр.взв'!$D$6:$Q$30,5,0),"") | E92: =IFERROR(VLOOKUP(B92,'пр.взв'!$D$6:$Q$30,6,0),"") | F92: =IFERROR(VLOOKUP(B92,'пр.взв'!$D$6:$Q$30,8,0),"") | M92: ='пр.хода'!I106 | N92: =IFERROR(VLOOKUP(M92,'пр.взв'!$D$6:$Q$30,2,0),"") | O92: =IFERROR(VLOOKUP(M92,'пр.взв'!$D$6:$Q$30,5,0),"") | P92: =IFERROR(VLOOKUP(M92,'пр.взв'!$D$6:$Q$30,6,0),"") | Q92: =IFERROR(VLOOKUP(M92,'пр.взв'!$D$6:$Q$30,8,0),"")
A93: (Утешительные встречи) 8 | L93: (Утешительные встречи) 8
A94: 5 | B94: ='пр.хода'!M8 | C94: =IFERROR(VLOOKUP(B94,'пр.взв'!$D$6:$Q$30,2,0),"") | D94: =IFERROR(VLOOKUP(B94,'пр.взв'!$D$6:$Q$30,5,0),"") | E94: =IFERROR(VLOOKUP(B94,'пр.взв'!$D$6:$Q$30,6,0),"") | F94: =IFERROR(VLOOKUP(B94,'пр.взв'!$D$6:$Q$30,8,0),"") | L94: 7 | M94: ='пр.хода'!N89 | N94: =IFERROR(VLOOKUP(M94,'пр.взв'!$D$6:$Q$30,2,0),"") | O94: =IFERROR(VLOOKUP(M94,'пр.взв'!$D$6:$Q$30,5,0),"") | P94: =IFERROR(VLOOKUP(M94,'пр.взв'!$D$6:$Q$30,6,0),"") | Q94: =IFERROR(VLOOKUP(M94,'пр.взв'!$D$6:$Q$30,8,0),"")
B95: ='пр.хода'!M12 | C95: =IFERROR(VLOOKUP(B95,'пр.взв'!$D$6:$Q$30,2,0),"") | D95: =IFERROR(VLOOKUP(B95,'пр.взв'!$D$6:$Q$30,5,0),"") | E95: =IFERROR(VLOOKUP(B95,'пр.взв'!$D$6:$Q$30,6,0),"") | F95: =IFERROR(VLOOKUP(B95,'пр.взв'!$D$6:$Q$30,8,0),"") | M95: ='пр.хода'!N93 | N95: =IFERROR(VLOOKUP(M95,'пр.взв'!$D$6:$Q$30,2,0),"") | O95: =IFERROR(VLOOKUP(M95,'пр.взв'!$D$6:$Q$30,5,0),"") | P95: =IFERROR(VLOOKUP(M95,'пр.взв'!$D$6:$Q$30,6,0),"") | Q95: =IFERROR(VLOOKUP(M95,'пр.взв'!$D$6:$Q$30,8,0),"")
A96: 6 | B96: ='пр.хода'!N19 | C96: =IFERROR(VLOOKUP(B96,'пр.взв'!$D$6:$Q$30,2,0),"") | D96: =IFERROR(VLOOKUP(B96,'пр.взв'!$D$6:$Q$30,5,0),"") | E96: =IFERROR(VLOOKUP(B96,'пр.взв'!$D$6:$Q$30,6,0),"") | F96: =IFERROR(VLOOKUP(B96,'пр.взв'!$D$6:$Q$30,8,0),"") | L96: 8 | M96: ='пр.хода'!M100 | N96: =IFERROR(VLOOKUP(M96,'пр.взв'!$D$6:$Q$30,2,0),"") | O96: =IFERROR(VLOOKUP(M96,'пр.взв'!$D$6:$Q$30,5,0),"") | P96: =IFERROR(VLOOKUP(M96,'пр.взв'!$D$6:$Q$30,6,0),"") | Q96: =IFERROR(VLOOKUP(M96,'пр.взв'!$D$6:$Q$30,8,0),"")
B97: ='пр.хода'!N23 | C97: =IFERROR(VLOOKUP(B97,'пр.взв'!$D$6:$Q$30,2,0),"") | D97: =IFERROR(VLOOKUP(B97,'пр.взв'!$D$6:$Q$30,5,0),"") | E97: =IFERROR(VLOOKUP(B97,'пр.взв'!$D$6:$Q$30,6,0),"") | F97: =IFERROR(VLOOKUP(B97,'пр.взв'!$D$6:$Q$30,8,0),"") | M97: ='пр.хода'!M104 | N97: =IFERROR(VLOOKUP(M97,'пр.взв'!$D$6:$Q$30,2,0),"") | O97: =IFERROR(VLOOKUP(M97,'пр.взв'!$D$6:$Q$30,5,0),"") | P97: =IFERROR(VLOOKUP(M97,'пр.взв'!$D$6:$Q$30,6,0),"") | Q97: =IFERROR(VLOOKUP(M97,'пр.взв'!$D$6:$Q$30,8,0),"")
A98: (Утешительные встречи) 6 | L98: (Утешительные встречи) 6
A99: 9 | B99: ='пр.хода'!Q10 | C99: =IFERROR(VLOOKUP(B99,'пр.взв'!$D$6:$Q$30,2,0),"") | D99: =IFERROR(VLOOKUP(B99,'пр.взв'!$D$6:$Q$30,5,0),"") | E99: =IFERROR(VLOOKUP(B99,'пр.взв'!$D$6:$Q$30,6,0),"") | F99: =IFERROR(VLOOKUP(B99,'пр.взв'!$D$6:$Q$30,8,0),"") | L99: 10 | M99: ='пр.хода'!R91 | N99: =IFERROR(VLOOKUP(M99,'пр.взв'!$D$6:$Q$30,2,0),"") | O99: =IFERROR(VLOOKUP(M99,'пр.взв'!$D$6:$Q$30,5,0),"") | P99: =IFERROR(VLOOKUP(M99,'пр.взв'!$D$6:$Q$30,6,0),"") | Q99: =IFERROR(VLOOKUP(M99,'пр.взв'!$D$6:$Q$30,8,0),"")
B100: ='пр.хода'!R21 | C100: =IFERROR(VLOOKUP(B100,'пр.взв'!$D$6:$Q$30,2,0),"") | D100: =IFERROR(VLOOKUP(B100,'пр.взв'!$D$6:$Q$30,5,0),"") | E100: =IFERROR(VLOOKUP(B100,'пр.взв'!$D$6:$Q$30,6,0),"") | F100: =IFERROR(VLOOKUP(B100,'пр.взв'!$D$6:$Q$30,8,0),"") | M100: ='пр.хода'!Q102 | N100: =IFERROR(VLOOKUP(M100,'пр.взв'!$D$6:$Q$30,2,0),"") | O100: =IFERROR(VLOOKUP(M100,'пр.взв'!$D$6:$Q$30,5,0),"") | P100: =IFERROR(VLOOKUP(M100,'пр.взв'!$D$6:$Q$30,6,0),"") | Q100: =IFERROR(VLOOKUP(M100,'пр.взв'!$D$6:$Q$30,8,0),"")
C101: ЗА 3 МЕСТО | N101: ЗА 3 МЕСТО
C102: ВСТРЕЧА 1 | D102: ='пр.взв'!$D$4 | N102: ВСТРЕЧА 1 | O102: ='пр.взв'!$D$4
B103: ='пр.хода'!Q15 | C103: =IFERROR(VLOOKUP(B103,'пр.взв'!$D$6:$Q$30,2,0),"") | D103: =IFERROR(VLOOKUP(B103,'пр.взв'!$D$6:$Q$30,5,0),"") | E103: =IFERROR(VLOOKUP(B103,'пр.взв'!$D$6:$Q$30,6,0),"") | F103: =IFERROR(VLOOKUP(B103,'пр.взв'!$D$6:$Q$30,8,0),"") | M103: ='пр.хода'!Q15 | N103: =IFERROR(VLOOKUP(M103,'пр.взв'!$D$6:$Q$30,2,0),"") | O103: =IFERROR(VLOOKUP(M103,'пр.взв'!$D$6:$Q$30,5,0),"") | P103: =IFERROR(VLOOKUP(M103,'пр.взв'!$D$6:$Q$30,6,0),"") | Q103: =IFERROR(VLOOKUP(M103,'пр.взв'!$D$6:$Q$30,8,0),"")
B104: ='пр.хода'!Q21 | C104: =IFERROR(VLOOKUP(B104,'пр.взв'!$D$6:$Q$30,2,0),"") | D104: =IFERROR(VLOOKUP(B104,'пр.взв'!$D$6:$Q$30,5,0),"") | E104: =IFERROR(VLOOKUP(B104,'пр.взв'!$D$6:$Q$30,6,0),"") | F104: =IFERROR(VLOOKUP(B104,'пр.взв'!$D$6:$Q$30,8,0),"") | M104: ='пр.хода'!Q21 | N104: =IFERROR(VLOOKUP(M104,'пр.взв'!$D$6:$Q$30,2,0),"") | O104: =IFERROR(VLOOKUP(M104,'пр.взв'!$D$6:$Q$30,5,0),"") | P104: =IFERROR(VLOOKUP(M104,'пр.взв'!$D$6:$Q$30,6,0),"") | Q104: =IFERROR(VLOOKUP(M104,'пр.взв'!$D$6:$Q$30,8,0),"")
C105: 3А 3 МЕСТО | N105: 3А 3 МЕСТО
C106: ВСТРЕЧА 2 | D106: ='пр.взв'!$D$4 | N106: ВСТРЕЧА 2 | O106: ='пр.взв'!$D$4
B107: ='пр.хода'!Q64 | C107: =IFERROR(VLOOKUP(B107,'пр.взв'!$D$6:$Q$30,2,0),"") | D107: =IFERROR(VLOOKUP(B107,'пр.взв'!$D$6:$Q$30,5,0),"") | E107: =IFERROR(VLOOKUP(B107,'пр.взв'!$D$6:$Q$30,6,0),"") | F107: =IFERROR(VLOOKUP(B107,'пр.взв'!$D$6:$Q$30,8,0),"") | M107: ='пр.хода'!Q64 | N107: =IFERROR(VLOOKUP(M107,'пр.взв'!$D$6:$Q$30,2,0),"") | O107: =IFERROR(VLOOKUP(M107,'пр.взв'!$D$6:$Q$30,5,0),"") | P107: =IFERROR(VLOOKUP(M107,'пр.взв'!$D$6:$Q$30,6,0),"") | Q107: =IFERROR(VLOOKUP(M107,'пр.взв'!$D$6:$Q$30,8,0),"")
B108: ='пр.хода'!Q69 | C108: =IFERROR(VLOOKUP(B108,'пр.взв'!$D$6:$Q$30,2,0),"") | D108: =IFERROR(VLOOKUP(B108,'пр.взв'!$D$6:$Q$30,5,0),"") | E108: =IFERROR(VLOOKUP(B108,'пр.взв'!$D$6:$Q$30,6,0),"") | F108: =IFERROR(VLOOKUP(B108,'пр.взв'!$D$6:$Q$30,8,0),"") | M108: ='пр.хода'!Q69 | N108: =IFERROR(VLOOKUP(M108,'пр.взв'!$D$6:$Q$30,2,0),"") | O108: =IFERROR(VLOOKUP(M108,'пр.взв'!$D$6:$Q$30,5,0),"") | P108: =IFERROR(VLOOKUP(M108,'пр.взв'!$D$6:$Q$30,6,0),"") | Q108: =IFERROR(VLOOKUP(M108,'пр.взв'!$D$6:$Q$30,8,0),"")
C109: ФИНАЛ | D109: ='пр.взв'!$D$4 | N109: ФИНАЛ | O109: ='пр.взв'!$D$4
B110: ='пр.хода'!M36 | C110: =IFERROR(VLOOKUP(B110,'пр.взв'!$D$6:$Q$30,2,0),"") | D110: =IFERROR(VLOOKUP(B110,'пр.взв'!$D$6:$Q$30,5,0),"") | E110: =IFERROR(VLOOKUP(B110,'пр.взв'!$D$6:$Q$30,6,0),"") | F110: =IFERROR(VLOOKUP(B110,'пр.взв'!$D$6:$Q$30,8,0),"") | M110: ='пр.хода'!M36 | N110: =IFERROR(VLOOKUP(M110,'пр.взв'!$D$6:$Q$30,2,0),"") | O110: =IFERROR(VLOOKUP(M110,'пр.взв'!$D$6:$Q$30,5,0),"") | P110: =IFERROR(VLOOKUP(M110,'пр.взв'!$D$6:$Q$30,6,0),"") | Q110: =IFERROR(VLOOKUP(M110,'пр.взв'!$D$6:$Q$30,8,0),"")
B111: ='пр.хода'!S36 | C111: =IFERROR(VLOOKUP(B111,'пр.взв'!$D$6:$Q$30,2,0),"") | D111: =IFERROR(VLOOKUP(B111,'пр.взв'!$D$6:$Q$30,5,0),"") | E111: =IFERROR(VLOOKUP(B111,'пр.взв'!$D$6:$Q$30,6,0),"") | F111: =IFERROR(VLOOKUP(B111,'пр.взв'!$D$6:$Q$30,8,0),"") | M111: ='пр.хода'!AD36 | N111: =IFERROR(VLOOKUP(M111,'пр.взв'!$D$6:$Q$30,2,0),"") | O111: =IFERROR(VLOOKUP(M111,'пр.взв'!$D$6:$Q$30,5,0),"") | P111: =IFERROR(VLOOKUP(M111,'пр.взв'!$D$6:$Q$30,6,0),"") | Q111: =IFERROR(VLOOKUP(M111,'пр.взв'!$D$6:$Q$30,8,0),"")

Sheet медали
A1: ='пр.взв'!C2 -> Чемпионат России по самбо среди женщин (отбор на Первенство Мира и Европы) ЕКП № 23747
E2: =HYPERLINK('пр.взв'!D4)
C3: За 3-е место
C4: ВСТРЕЧА 1
A5: Цвет | B5: № п/ж | C5: Ф.И.О. | D5: Д. р., разряд | E5: Вед., регион | G5: Оценки | H5: Очки | I5: Рез-т | J5: Время
B7: ='пр.хода'!V16 | C7: =IFERROR(VLOOKUP(B7,'пр.взв'!$D$6:$M$34,2,0),"") | D7: =IFERROR(VLOOKUP(B7,'пр.взв'!$D$6:$M$34,5,0),"") | E7: =IFERROR(VLOOKUP(B7,'пр.взв'!$D$6:$M$34,6,0),"") | F7: =IFERROR(VLOOKUP(B7,'пр.взв'!$D$6:$M$34,8,0),"")
B9: ='пр.хода'!V26 | C9: =IFERROR(VLOOKUP(B9,'пр.взв'!$D$6:$M$34,2,0),"") | D9: =IFERROR(VLOOKUP(B9,'пр.взв'!$D$6:$M$34,5,0),"") | E9: =IFERROR(VLOOKUP(B9,'пр.взв'!$D$6:$M$34,6,0),"") | F9: =IFERROR(VLOOKUP(B9,'пр.взв'!$D$6:$M$34,8,0),"")
A11: Руководитель ковра
B12: А
B13: Б
C15: За 3-е место
C16: ВСТРЕЧА 2 | E16: =E2
A17: Цвет | B17: № п/ж | C17: Ф.И.О. | D17: Д. р., разряд | E17: Вед., регион | G17: Оценки | H17: Очки | I17: Рез-т | J17: Время
B19: ='пр.хода'!V97 | C19: =IFERROR(VLOOKUP(B19,'пр.взв'!$D$6:$M$34,2,0),"") | D19: =IFERROR(VLOOKUP(B19,'пр.взв'!$D$6:$M$34,5,0),"") | E19: =IFERROR(VLOOKUP(B19,'пр.взв'!$D$6:$M$34,6,0),"") | F19: =IFERROR(VLOOKUP(B19,'пр.взв'!$D$6:$M$34,8,0),"")
B21: ='пр.хода'!V107 | C21: =IFERROR(VLOOKUP(B21,'пр.взв'!$D$6:$M$34,2,0),"") | D21: =IFERROR(VLOOKUP(B21,'пр.взв'!$D$6:$M$34,5,0),"") | E21: =IFERROR(VLOOKUP(B21,'пр.взв'!$D$6:$M$34,6,0),"") | F21: =IFERROR(VLOOKUP(B21,'пр.взв'!$D$6:$M$34,8,0),"")
A23: Руководитель ковра
B24: А
B25: Б
C29: ФИНАЛ | E29: =HYPERLINK('пр.взв'!D4)
A30: Цвет | B30: № п/ж | C30: Ф.И.О. | D30: Д. р., разряд | E30: Вед., регион | G30: Оценки | H30: Очки | I30: Рез-т | J30: Время
B32: ='пр.хода'!K55 | C32: =IFERROR(VLOOKUP(B32,'пр.взв'!$D$6:$M$34,2,0),"") | D32: =IFERROR(VLOOKUP(B32,'пр.взв'!$D$6:$M$34,5,0),"") | E32: =IFERROR(VLOOKUP(B32,'пр.взв'!$D$6:$M$34,6,0),"") | F32: =IFERROR(VLOOKUP(B32,'пр.взв'!$D$6:$M$34,8,0),"")
B34: ='пр.хода'!Z55 | C34: =IFERROR(VLOOKUP(B34,'пр.взв'!$D$6:$M$34,2,0),"") | D34: =IFERROR(VLOOKUP(B34,'пр.взв'!$D$6:$M$34,5,0),"") | E34: =IFERROR(VLOOKUP(B34,'пр.взв'!$D$6:$M$34,6,0),"") | F34: =IFERROR(VLOOKUP(B34,'пр.взв'!$D$6:$M$34,8,0),"")
A36: Руководитель ковра
B37: А
B38: Б

Sheet Ит.пр
A1: ВСЕРОССИЙСКАЯ ФЕДЕРАЦИЯ САМБО
B2: ИТОГОВЫЙ ПРОТОКОЛ | D2: ='пр.взв'!C2 -> Чемпионат России по самбо среди женщин (отбор на Первенство Мира и Европы) ЕКП № 23747
B3: ='пр.взв'!C3 -> 27.02 - 03.03.2023 г. г. Пермь | H3: ='пр.взв'!G4 -> В.к. 50 кг
A4: МЕСТО | B4: № п/ж | C4: Ф.И.О. | D4: Дата рожд., разряд | E4: Округ, субъект, город, ведомство | G4: № карточки | H4: Тренер
A6: 1 | B6: ='пр.хода'!O38 | C6: =IFERROR(VLOOKUP($B6,'пр.взв'!$D$6:$Q$34,3,0),"") | D6: =IFERROR(VLOOKUP($B6,'пр.взв'!$D$6:$Q$34,4,0),"") | E6: =IFERROR(VLOOKUP($B6,'пр.взв'!$D$6:$M$34,6,0),"") | F6: =IFERROR(VLOOKUP($B6,'пр.взв'!$D$6:$M$34,7,0),"") | G6: =IFERROR(VLOOKUP($B6,'пр.взв'!$D$6:$M$34,8,0),"") | H6: =IFERROR(VLOOKUP($B6,'пр.взв'!$D$6:$M$34,10,0),"")
A7: 2 | B7: ='пр.хода'!O51 | C7: =IFERROR(VLOOKUP($B7,'пр.взв'!$D$6:$Q$34,3,0),"") | D7: =IFERROR(VLOOKUP($B7,'пр.взв'!$D$6:$Q$34,4,0),"") | E7: =IFERROR(VLOOKUP($B7,'пр.взв'!$D$6:$M$34,6,0),"") | F7: =IFERROR(VLOOKUP($B7,'пр.взв'!$D$6:$M$34,7,0),"") | G7: =IFERROR(VLOOKUP($B7,'пр.взв'!$D$6:$M$34,8,0),"") | H7: =IFERROR(VLOOKUP($B7,'пр.взв'!$D$6:$M$34,10,0),"")
A8: 3 | B8: ='пр.хода'!Z20 | C8: =IFERROR(VLOOKUP($B8,'пр.взв'!$D$6:$Q$34,3,0),"") | D8: =IFERROR(VLOOKUP($B8,'пр.взв'!$D$6:$Q$34,4,0),"") | E8: =IFERROR(VLOOKUP($B8,'пр.взв'!$D$6:$M$34,6,0),"") | F8: =IFERROR(VLOOKUP($B8,'пр.взв'!$D$6:$M$34,7,0),"") | G8: =IFERROR(VLOOKUP($B8,'пр.взв'!$D$6:$M$34,8,0),"") | H8: =IFERROR(VLOOKUP($B8,'пр.взв'!$D$6:$M$34,10,0),"")
A9: 3 | B9: ='пр.хода'!Z101 | C9: =IFERROR(VLOOKUP($B9,'пр.взв'!$D$6:$Q$34,3,0),"") | D9: =IFERROR(VLOOKUP($B9,'пр.взв'!$D$6:$Q$34,4,0),"") | E9: =IFERROR(VLOOKUP($B9,'пр.взв'!$D$6:$M$34,6,0),"") | F9: =IFERROR(VLOOKUP($B9,'пр.взв'!$D$6:$M$34,7,0),"") | G9: =IFERROR(VLOOKUP($B9,'пр.взв'!$D$6:$M$34,8,0),"") | H9: =IFERROR(VLOOKUP($B9,'пр.взв'!$D$6:$M$34,10,0),"")
A10: 5 | B10: ='пр.хода'!AN9 | C10: =IFERROR(VLOOKUP($B10,'пр.взв'!$D$6:$Q$34,3,0),"") | D10: =IFERROR(VLOOKUP($B10,'пр.взв'!$D$6:$Q$34,4,0),"") | E10: =IFERROR(VLOOKUP($B10,'пр.взв'!$D$6:$M$34,6,0),"") | F10: =IFERROR(VLOOKUP($B10,'пр.взв'!$D$6:$M$34,7,0),"") | G10: =IFERROR(VLOOKUP($B10,'пр.взв'!$D$6:$M$34,8,0),"") | H10: =IFERROR(VLOOKUP($B10,'пр.взв'!$D$6:$M$34,10,0),"")
A11: 5 | B11: ='пр.хода'!AN12 | C11: =IFERROR(VLOOKUP($B11,'пр.взв'!$D$6:$Q$34,3,0),"") | D11: =IFERROR(VLOOKUP($B11,'пр.взв'!$D$6:$Q$34,4,0),"") | E11: =IFERROR(VLOOKUP($B11,'пр.взв'!$D$6:$M$34,6,0),"") | F11: =IFERROR(VLOOKUP($B11,'пр.взв'!$D$6:$M$34,7,0),"") | G11: =IFERROR(VLOOKUP($B11,'пр.взв'!$D$6:$M$34,8,0),"") | H11: =IFERROR(VLOOKUP($B11,'пр.взв'!$D$6:$M$34,10,0),"")
A12: 7-8 | B12: ='пр.хода'!AN15 | C12: =IFERROR(VLOOKUP($B12,'пр.взв'!$D$6:$Q$34,3,0),"") | D12: =IFERROR(VLOOKUP($B12,'пр.взв'!$D$6:$Q$34,4,0),"") | E12: =IFERROR(VLOOKUP($B12,'пр.взв'!$D$6:$M$34,6,0),"") | F12: =IFERROR(VLOOKUP($B12,'пр.взв'!$D$6:$M$34,7,0),"") | G12: =IFERROR(VLOOKUP($B12,'пр.взв'!$D$6:$M$34,8,0),"") | H12: =IFERROR(VLOOKUP($B12,'пр.взв'!$D$6:$M$34,10,0),"")
A13: 7-8 | B13: ='пр.хода'!AN18 | C13: =IFERROR(VLOOKUP($B13,'пр.взв'!$D$6:$Q$34,3,0),"") | D13: =IFERROR(VLOOKUP($B13,'пр.взв'!$D$6:$Q$34,4,0),"") | E13: =IFERROR(VLOOKUP($B13,'пр.взв'!$D$6:$M$34,6,0),"") | F13: =IFERROR(VLOOKUP($B13,'пр.взв'!$D$6:$M$34,7,0),"") | G13: =IFERROR(VLOOKUP($B13,'пр.взв'!$D$6:$M$34,8,0),"") | H13: =IFERROR(VLOOKUP($B13,'пр.взв'!$D$6:$M$34,10,0),"")
A14: 9-12 | B14: ='пр.хода'!AN21 | C14: =IFERROR(VLOOKUP($B14,'пр.взв'!$D$6:$Q$34,3,0),"") | D14: =IFERROR(VLOOKUP($B14,'пр.взв'!$D$6:$Q$34,4,0),"") | E14: =IFERROR(VLOOKUP($B14,'пр.взв'!$D$6:$M$34,6,0),"") | F14: =IFERROR(VLOOKUP($B14,'пр.взв'!$D$6:$M$34,7,0),"") | G14: =IFERROR(VLOOKUP($B14,'пр.взв'!$D$6:$M$34,8,0),"") | H14: =IFERROR(VLOOKUP($B14,'пр.взв'!$D$6:$M$34,10,0),"")
A15: 9-12 | B15: ='пр.хода'!AN24 | C15: =IFERROR(VLOOKUP($B15,'пр.взв'!$D$6:$Q$34,3,0),"") | D15: =IFERROR(VLOOKUP($B15,'пр.взв'!$D$6:$Q$34,4,0),"") | E15: =IFERROR(VLOOKUP($B15,'пр.взв'!$D$6:$M$34,6,0),"") | F15: =IFERROR(VLOOKUP($B15,'пр.взв'!$D$6:$M$34,7,0),"") | G15: =IFERROR(VLOOKUP($B15,'пр.взв'!$D$6:$M$34,8,0),"") | H15: =IFERROR(VLOOKUP($B15,'пр.взв'!$D$6:$M$34,10,0),"")
A16: 9-12 | B16: ='пр.хода'!AN27 | C16: =IFERROR(VLOOKUP($B16,'пр.взв'!$D$6:$Q$34,3,0),"") | D16: =IFERROR(VLOOKUP($B16,'пр.взв'!$D$6:$Q$34,4,0),"") | E16: =IFERROR(VLOOKUP($B16,'пр.взв'!$D$6:$M$34,6,0),"") | F16: =IFERROR(VLOOKUP($B16,'пр.взв'!$D$6:$M$34,7,0),"") | G16: =IFERROR(VLOOKUP($B16,'пр.взв'!$D$6:$M$34,8,0),"") | H16: =IFERROR(VLOOKUP($B16,'пр.взв'!$D$6:$M$34,10,0),"")
A17: 9-12 | B17: ='пр.хода'!AN30 | C17: =IFERROR(VLOOKUP($B17,'пр.взв'!$D$6:$Q$34,3,0),"") | D17: =IFERROR(VLOOKUP($B17,'пр.взв'!$D$6:$Q$34,4,0),"") | E17: =IFERROR(VLOOKUP($B17,'пр.взв'!$D$6:$M$34,6,0),"") | F17: =IFERROR(VLOOKUP($B17,'пр.взв'!$D$6:$M$34,7,0),"") | G17: =IFERROR(VLOOKUP($B17,'пр.взв'!$D$6:$M$34,8,0),"") | H17: =IFERROR(VLOOKUP($B17,'пр.взв'!$D$6:$M$34,10,0),"")
A18: 13-16 | B18: ='пр.хода'!AN33 | C18: =IFERROR(VLOOKUP($B18,'пр.взв'!$D$6:$Q$34,3,0),"") | D18: =IFERROR(VLOOKUP($B18,'пр.взв'!$D$6:$Q$34,4,0),"") | E18: =IFERROR(VLOOKUP($B18,'пр.взв'!$D$6:$M$34,6,0),"") | F18: =IFERROR(VLOOKUP($B18,'пр.взв'!$D$6:$M$34,7,0),"") | G18: =IFERROR(VLOOKUP($B18,'пр.взв'!$D$6:$M$34,8,0),"") | H18: =IFERROR(VLOOKUP($B18,'пр.взв'!$D$6:$M$34,10,0),"")
A19: 13-16 | B19: ='пр.хода'!AN36 | C19: =IFERROR(VLOOKUP($B19,'пр.взв'!$D$6:$Q$34,3,0),"") | D19: =IFERROR(VLOOKUP($B19,'пр.взв'!$D$6:$Q$34,4,0),"") | E19: =IFERROR(VLOOKUP($B19,'пр.взв'!$D$6:$M$34,6,0),"") | F19: =IFERROR(VLOOKUP($B19,'пр.взв'!$D$6:$M$34,7,0),"") | G19: =IFERROR(VLOOKUP($B19,'пр.взв'!$D$6:$M$34,8,0),"") | H19: =IFERROR(VLOOKUP($B19,'пр.взв'!$D$6:$M$34,10,0),"")
A20: 13-16 | B20: ='пр.хода'!AN39 | C20: =IFERROR(VLOOKUP($B20,'пр.взв'!$D$6:$Q$34,3,0),"") | D20: =IFERROR(VLOOKUP($B20,'пр.взв'!$D$6:$Q$34,4,0),"") | E20: =IFERROR(VLOOKUP($B20,'пр.взв'!$D$6:$M$34,6,0),"") | F20: =IFERROR(VLOOKUP($B20,'пр.взв'!$D$6:$M$34,7,0),"") | G20: =IFERROR(VLOOKUP($B20,'пр.взв'!$D$6:$M$34,8,0),"") | H20: =IFERROR(VLOOKUP($B20,'пр.взв'!$D$6:$M$34,10,0),"")
A21: 13-16 | B21: ='пр.хода'!AN42 | C21: =IFERROR(VLOOKUP($B21,'пр.взв'!$D$6:$Q$34,3,0),"") | D21: =IFERROR(VLOOKUP($B21,'пр.взв'!$D$6:$Q$34,4,0),"") | E21: =IFERROR(VLOOKUP($B21,'пр.взв'!$D$6:$M$34,6,0),"") | F21: =IFERROR(VLOOKUP($B21,'пр.взв'!$D$6:$M$34,7,0),"") | G21: =IFERROR(VLOOKUP($B21,'пр.взв'!$D$6:$M$34,8,0),"") | H21: =IFERROR(VLOOKUP($B21,'пр.взв'!$D$6:$M$34,10,0),"")
A22: 17-20 | B22: ='пр.хода'!AN45 -> 13 | C22: =IFERROR(VLOOKUP($B22,'пр.взв'!$D$6:$Q$34,3,0),"") -> МОЛЧАНОВА Юлия Дмитриевна | D22: =IFERROR(VLOOKUP($B22,'пр.взв'!$D$6:$Q$34,4,0),"") -> 21.08.01, МС | E22: =IFERROR(VLOOKUP($B22,'пр.взв'!$D$6:$M$34,6,0),"") -> ПФО | F22: =IFERROR(VLOOKUP($B22,'пр.взв'!$D$6:$M$34,7,0),"") -> Нижегородская обл., Выкса, ДЮСШ «Выксунец» | G22: =IFERROR(VLOOKUP($B22,'пр.взв'!$D$6:$M$34,8,0),"") -> Нижегородская | H22: =IFERROR(VLOOKUP($B22,'пр.взв'!$D$6:$M$34,10,0),"") -> Егрушов ВИ, Рогов ДС
A23: 17-20 | B23: ='пр.хода'!AN48 -> 15 | C23: =IFERROR(VLOOKUP($B23,'пр.взв'!$D$6:$Q$34,3,0),"") -> МИРОНОВА Кристина Александровна | D23: =IFERROR(VLOOKUP($B23,'пр.взв'!$D$6:$Q$34,4,0),"") -> 30.09.01, КМС | E23: =IFERROR(VLOOKUP($B23,'пр.взв'!$D$6:$M$34,6,0),"") -> СФО | F23: =IFERROR(VLOOKUP($B23,'пр.взв'!$D$6:$M$34,7,0),"") -> Новосибирская обл., Новосибирск, ГАУ НСО СШ «самбо» | G23: =IFERROR(VLOOKUP($B23,'пр.взв'!$D$6:$M$34,8,0),"") -> Новосибирская | H23: =IFERROR(VLOOKUP($B23,'пр.взв'!$D$6:$M$34,10,0),"") -> Лепяхов С.В., Орлов А.А.
A24: 17-20 | B24: ='пр.хода'!AN51 -> 14 | C24: =IFERROR(VLOOKUP($B24,'пр.взв'!$D$6:$Q$34,3,0),"") -> РАХМАТУЛЛИНА Алла Вячеславовна | D24: =IFERROR(VLOOKUP($B24,'пр.взв'!$D$6:$Q$34,4,0),"") -> 21.07.95, КМС | E24: =IFERROR(VLOOKUP($B24,'пр.взв'!$D$6:$M$34,6,0),"") -> ПФО | F24: =IFERROR(VLOOKUP($B24,'пр.взв'!$D$6:$M$34,7,0),"") -> Р. Башкортостан, Туймазы, МАУ СШ 1 | G24: =IFERROR(VLOOKUP($B24,'пр.взв'!$D$6:$M$34,8,0),"") -> Башкортостан | H24: =IFERROR(VLOOKUP($B24,'пр.взв'!$D$6:$M$34,10,0),"") -> Мухаметдинов Р.Р.
A25: 17-20 | B25: ='пр.хода'!AN54 -> 12 | C25: =IFERROR(VLOOKUP($B25,'пр.взв'!$D$6:$Q$34,3,0),"") -> ГОРЕЛИКОВА Анна Вадимовна | D25: =IFERROR(VLOOKUP($B25,'пр.взв'!$D$6:$Q$34,4,0),"") -> 03.06.92, МСМК | E25: =IFERROR(VLOOKUP($B25,'пр.взв'!$D$6:$M$34,6,0),"") -> ЮФО | F25: =IFERROR(VLOOKUP($B25,'пр.взв'!$D$6:$M$34,7,0),"") -> Краснодарский край, Крымск, Дюсш1 | G25: =IFERROR(VLOOKUP($B25,'пр.взв'!$D$6:$M$34,8,0),"") -> Краснодарский | H25: =IFERROR(VLOOKUP($B25,'пр.взв'!$D$6:$M$34,10,0),"") -> Адамян А.В.
A26: 21-32 | B26: ='пр.хода'!AN57 -> 25 | C26: =IFERROR(VLOOKUP($B26,'пр.взв'!$D$6:$Q$34,3,0),"") | D26: =IFERROR(VLOOKUP($B26,'пр.взв'!$D$6:$Q$34,4,0),"") | E26: =IFERROR(VLOOKUP($B26,'пр.взв'!$D$6:$M$34,6,0),"") | F26: =IFERROR(VLOOKUP($B26,'пр.взв'!$D$6:$M$34,7,0),"") | G26: =IFERROR(VLOOKUP($B26,'пр.взв'!$D$6:$M$34,8,0),"") | H26: =IFERROR(VLOOKUP($B26,'пр.взв'!$D$6:$M$34,10,0),"")
A27: 21-32 | B27: ='пр.хода'!AN60 -> 26 | C27: =IFERROR(VLOOKUP($B27,'пр.взв'!$D$6:$Q$34,3,0),"") | D27: =IFERROR(VLOOKUP($B27,'пр.взв'!$D$6:$Q$34,4,0),"") | E27: =IFERROR(VLOOKUP($B27,'пр.взв'!$D$6:$M$34,6,0),"") | F27: =IFERROR(VLOOKUP($B27,'пр.взв'!$D$6:$M$34,7,0),"") | G27: =IFERROR(VLOOKUP($B27,'пр.взв'!$D$6:$M$34,8,0),"") | H27: =IFERROR(VLOOKUP($B27,'пр.взв'!$D$6:$M$34,10,0),"")
A28: 21-32 | B28: ='пр.хода'!AN63 -> 27 | C28: =IFERROR(VLOOKUP($B28,'пр.взв'!$D$6:$Q$34,3,0),"") | D28: =IFERROR(VLOOKUP($B28,'пр.взв'!$D$6:$Q$34,4,0),"") | E28: =IFERROR(VLOOKUP($B28,'пр.взв'!$D$6:$M$34,6,0),"") | F28: =IFERROR(VLOOKUP($B28,'пр.взв'!$D$6:$M$34,7,0),"") | G28: =IFERROR(VLOOKUP($B28,'пр.взв'!$D$6:$M$34,8,0),"") | H28: =IFERROR(VLOOKUP($B28,'пр.взв'!$D$6:$M$34,10,0),"")
A29: 21-32 | B29: ='пр.хода'!AN66 -> 28 | C29: =IFERROR(VLOOKUP($B29,'пр.взв'!$D$6:$Q$34,3,0),"") | D29: =IFERROR(VLOOKUP($B29,'пр.взв'!$D$6:$Q$34,4,0),"") | E29: =IFERROR(VLOOKUP($B29,'пр.взв'!$D$6:$M$34,6,0),"") | F29: =IFERROR(VLOOKUP($B29,'пр.взв'!$D$6:$M$34,7,0),"") | G29: =IFERROR(VLOOKUP($B29,'пр.взв'!$D$6:$M$34,8,0),"") | H29: =IFERROR(VLOOKUP($B29,'пр.взв'!$D$6:$M$34,10,0),"")
A30: 21-32 | B30: ='пр.хода'!AN69 | C30: =IFERROR(VLOOKUP($B30,'пр.взв'!$D$6:$Q$34,3,0),"") | D30: =IFERROR(VLOOKUP($B30,'пр.взв'!$D$6:$Q$34,4,0),"") | E30: =IFERROR(VLOOKUP($B30,'пр.взв'!$D$6:$M$34,6,0),"") | F30: =IFERROR(VLOOKUP($B30,'пр.взв'!$D$6:$M$34,7,0),"") | G30: =IFERROR(VLOOKUP($B30,'пр.взв'!$D$6:$M$34,8,0),"") | H30: =IFERROR(VLOOKUP($B30,'пр.взв'!$D$6:$M$34,10,0),"")
A31: 21-32 | B31: ='пр.хода'!AN72 | C31: =IFERROR(VLOOKUP($B31,'пр.взв'!$D$6:$Q$34,3,0),"") | D31: =IFERROR(VLOOKUP($B31,'пр.взв'!$D$6:$Q$34,4,0),"") | E31: =IFERROR(VLOOKUP($B31,'пр.взв'!$D$6:$M$34,6,0),"") | F31: =IFERROR(VLOOKUP($B31,'пр.взв'!$D$6:$M$34,7,0),"") | G31: =IFERROR(VLOOKUP($B31,'пр.взв'!$D$6:$M$34,8,0),"") | H31: =IFERROR(VLOOKUP($B31,'пр.взв'!$D$6:$M$34,10,0),"")
A32: 21-32 | B32: ='пр.хода'!AN75 | C32: =IFERROR(VLOOKUP($B32,'пр.взв'!$D$6:$Q$34,3,0),"") | D32: =IFERROR(VLOOKUP($B32,'пр.взв'!$D$6:$Q$34,4,0),"") | E32: =IFERROR(VLOOKUP($B32,'пр.взв'!$D$6:$M$34,6,0),"") | F32: =IFERROR(VLOOKUP($B32,'пр.взв'!$D$6:$M$34,7,0),"") | G32: =IFERROR(VLOOKUP($B32,'пр.взв'!$D$6:$M$34,8,0),"") | H32: =IFERROR(VLOOKUP($B32,'пр.взв'!$D$6:$M$34,10,0),"")
A33: 21-32 | B33: ='пр.хода'!AN78 -> 24 | C33: =IFERROR(VLOOKUP($B33,'пр.взв'!$D$6:$Q$34,3,0),"") | D33: =IFERROR(VLOOKUP($B33,'пр.взв'!$D$6:$Q$34,4,0),"") | E33: =IFERROR(VLOOKUP($B33,'пр.взв'!$D$6:$M$34,6,0),"") | F33: =IFERROR(VLOOKUP($B33,'пр.взв'!$D$6:$M$34,7,0),"") | G33: =IFERROR(VLOOKUP($B33,'пр.взв'!$D$6:$M$34,8,0),"") | H33: =IFERROR(VLOOKUP($B33,'пр.взв'!$D$6:$M$34,10,0),"")
A34: 21-32 | B34: ='пр.хода'!AN81 -> 29 | C34: =IFERROR(VLOOKUP($B34,'пр.взв'!$D$6:$Q$34,3,0),"") | D34: =IFERROR(VLOOKUP($B34,'пр.взв'!$D$6:$Q$34,4,0),"") | E34: =IFERROR(VLOOKUP($B34,'пр.взв'!$D$6:$M$34,6,0),"") | F34: =IFERROR(VLOOKUP($B34,'пр.взв'!$D$6:$M$34,7,0),"") | G34: =IFERROR(VLOOKUP($B34,'пр.взв'!$D$6:$M$34,8,0),"") | H34: =IFERROR(VLOOKUP($B34,'пр.взв'!$D$6:$M$34,10,0),"")
A35: 21-32 | B35: ='пр.хода'!AN84 -> 30 | C35: =IFERROR(VLOOKUP($B35,'пр.взв'!$D$6:$Q$34,3,0),"") | D35: =IFERROR(VLOOKUP($B35,'пр.взв'!$D$6:$Q$34,4,0),"") | E35: =IFERROR(VLOOKUP($B35,'пр.взв'!$D$6:$M$34,6,0),"") | F35: =IFERROR(VLOOKUP($B35,'пр.взв'!$D$6:$M$34,7,0),"") | G35: =IFERROR(VLOOKUP($B35,'пр.взв'!$D$6:$M$34,8,0),"") | H35: =IFERROR(VLOOKUP($B35,'пр.взв'!$D$6:$M$34,10,0),"")
A36: 21-32 | B36: ='пр.хода'!AN87 -> 31 | C36: =IFERROR(VLOOKUP($B36,'пр.взв'!$D$6:$Q$34,3,0),"") | D36: =IFERROR(VLOOKUP($B36,'пр.взв'!$D$6:$Q$34,4,0),"") | E36: =IFERROR(VLOOKUP($B36,'пр.взв'!$D$6:$M$34,6,0),"") | F36: =IFERROR(VLOOKUP($B36,'пр.взв'!$D$6:$M$34,7,0),"") | G36: =IFERROR(VLOOKUP($B36,'пр.взв'!$D$6:$M$34,8,0),"") | H36: =IFERROR(VLOOKUP($B36,'пр.взв'!$D$6:$M$34,10,0),"")
A37: 21-32 | B37: ='пр.хода'!AN90 -> 32 | C37: =IFERROR(VLOOKUP($B37,'пр.взв'!$D$6:$Q$34,3,0),"") | D37: =IFERROR(VLOOKUP($B37,'пр.взв'!$D$6:$Q$34,4,0),"") | E37: =IFERROR(VLOOKUP($B37,'пр.взв'!$D$6:$M$34,6,0),"") | F37: =IFERROR(VLOOKUP($B37,'пр.взв'!$D$6:$M$34,7,0),"") | G37: =IFERROR(VLOOKUP($B37,'пр.взв'!$D$6:$M$34,8,0),"") | H37: =IFERROR(VLOOKUP($B37,'пр.взв'!$D$6:$M$34,10,0),"")
A38: ='пр.хода'!A99 | E38: ='пр.хода'!F99 | G38: ='пр.хода'!F100
A39: ='пр.хода'!A107 -> Гл.судья, судья ВК | F39: ='пр.хода'!A111 -> Болотский Р.М. | H39: ='пр.хода'!C111 -> Москва
A40: ='пр.хода'!AG107 -> Гл.секретарь, судья ВК | F40: ='пр.хода'!AG111 -> Зарипов А.А, | H40: ='пр.хода'!AH111 -> Р. Татарстан

Sheet наградной лист
A1: ='пр.взв'!C2 -> Чемпионат России по самбо среди женщин (отбор на Первенство Мира и Европы) ЕКП № 23747
A2: ='пр.взв'!A3
A3: НАГРАДНОЙ ЛИСТ МУЖЧИНЫ
D4: ='пр.взв'!G4 -> В.к. 50 кг
A6: I м | B6: =IFERROR(VLOOKUP(I6,'пр.взв'!$D$6:$M$34,2,0),"") | H6: =IFERROR(VLOOKUP(I6,'пр.взв'!$D$6:$M$34,5,0),"") | I6: ='пр.хода'!O38
B8: =IFERROR(VLOOKUP(I6,'пр.взв'!$D$6:$M$34,6,0),"") | E8: =IFERROR(VLOOKUP(I6,'пр.взв'!$D$6:$M$34,8,0),"")
A11: II м | B11: =IFERROR(VLOOKUP(I11,'пр.взв'!$D$6:$M$34,2,0),"") | H11: =IFERROR(VLOOKUP(I11,'пр.взв'!$D$6:$M$34,5,0),"") | I11: ='пр.хода'!O51
B13: =IFERROR(VLOOKUP(I11,'пр.взв'!$D$6:$M$34,6,0),"") | E13: =IFERROR(VLOOKUP(I11,'пр.взв'!$D$6:$M$34,8,0),"")
A16: III м | B16: =IFERROR(VLOOKUP(I16,'пр.взв'!$D$6:$M$34,2,0),"") | H16: =IFERROR(VLOOKUP(I16,'пр.взв'!$D$6:$M$34,5,0),"") | I16: ='пр.хода'!Z20
B18: =IFERROR(VLOOKUP(I16,'пр.взв'!$D$6:$M$34,6,0),"") | E18: =IFERROR(VLOOKUP(I16,'пр.взв'!$D$6:$M$34,8,0),"")
A21: III м | B21: =IFERROR(VLOOKUP(I21,'пр.взв'!$D$6:$M$34,2,0),"") | H21: =IFERROR(VLOOKUP(I21,'пр.взв'!$D$6:$M$34,5,0),"") | I21: ='пр.хода'!Z101
B23: =IFERROR(VLOOKUP(I21,'пр.взв'!$D$6:$M$34,6,0),"") | E23: =IFERROR(VLOOKUP(I21,'пр.взв'!$D$6:$M$34,8,0),"")
A26: Тренер победителя:
A28: =IFERROR(VLOOKUP(I28,'пр.взв'!$D$6:$M$34,10,0),"") | I28: =I6
A32: Награждение проводят:

Sheet Стартовый
A1: Первенство России по самбо среди юниорок 1998-99 г.р. | H1: Первенство России по самбо среди юниорок 1998-99 г.р.
B3: Подгруппа А | C3: =HYPERLINK('пр.взв'!D4) | I3: Подгруппа Б | J3: =HYPERLINK('пр.взв'!D4)
A5: 1 | B5: =VLOOKUP(A5,'пр.взв'!B5:C34,2,FALSE) -> #N/A | C5: =VLOOKUP(A5,'пр.взв'!B5:G34,3,FALSE) -> #N/A | D5: =VLOOKUP(A5,'пр.взв'!B5:G34,4,FALSE) -> #N/A | H5: 2 | I5: =VLOOKUP(H5,'пр.взв'!B7:C34,2,FALSE) -> #N/A | J5: =VLOOKUP(H5,'пр.взв'!B7:E34,3,FALSE) -> #N/A | K5: =VLOOKUP(H5,'пр.взв'!B7:E34,4,FALSE) -> #N/A
A7: 17 | B7: =VLOOKUP(A7,'пр.взв'!B7:C34,2,FALSE) -> #N/A | C7: =VLOOKUP(A7,'пр.взв'!B5:G34,3,FALSE) -> #N/A | D7: =VLOOKUP(A7,'пр.взв'!B5:G34,4,FALSE) -> #N/A | H7: 18 | I7: =VLOOKUP(H7,'пр.взв'!B9:C34,2,FALSE) -> #N/A | J7: =VLOOKUP(H7,'пр.взв'!B9:E34,3,FALSE) -> #N/A | K7: =VLOOKUP(H7,'пр.взв'!B9:E34,4,FALSE) -> #N/A
A9: 9 | B9: =VLOOKUP(A9,'пр.взв'!B9:C34,2,FALSE) -> #N/A | C9: =VLOOKUP(A9,'пр.взв'!B5:G34,3,FALSE) -> #N/A | D9: =VLOOKUP(A9,'пр.взв'!B5:G34,4,FALSE) -> #N/A | H9: 10 | I9: =VLOOKUP(H9,'пр.взв'!B11:C34,2,FALSE) -> #N/A | J9: =VLOOKUP(H9,'пр.взв'!B11:E34,3,FALSE) -> #N/A | K9: =VLOOKUP(H9,'пр.взв'!B11:E34,4,FALSE) -> #N/A
A11: 25 | B11: =VLOOKUP(A11,'пр.взв'!B11:C34,2,FALSE) -> #N/A | C11: =VLOOKUP(A11,'пр.взв'!B5:G34,3,FALSE) -> #N/A | D11: =VLOOKUP(A11,'пр.взв'!B5:G34,4,FALSE) -> #N/A | H11: 26 | I11: =VLOOKUP(H11,'пр.взв'!B14:C34,2,FALSE) -> #N/A | J11: =VLOOKUP(H11,'пр.взв'!B14:E34,3,FALSE) -> #N/A | K11: =VLOOKUP(H11,'пр.взв'!B14:E34,4,FALSE) -> #N/A
A13: 5 | B13: =VLOOKUP(A13,'пр.взв'!B14:C34,2,FALSE) -> #N/A | C13: =VLOOKUP(A13,'пр.взв'!B5:G34,3,FALSE) -> #N/A | D13: =VLOOKUP(A13,'пр.взв'!B5:G34,4,FALSE) -> #N/A | H13: 6 | I13: =VLOOKUP(H13,'пр.взв'!B16:C36,2,FALSE) -> #N/A | J13: =VLOOKUP(H13,'пр.взв'!B16:E36,3,FALSE) -> #N/A | K13: =VLOOKUP(H13,'пр.взв'!B16:E36,4,FALSE) -> #N/A
A15: 21 | B15: =VLOOKUP(A15,'пр.взв'!B16:C36,2,FALSE) -> #N/A | C15: =VLOOKUP(A15,'пр.взв'!B5:G34,3,FALSE) -> #N/A | D15: =VLOOKUP(A15,'пр.взв'!B5:G34,4,FALSE) -> #N/A | H15: 22 | I15: =VLOOKUP(H15,'пр.взв'!B18:C38,2,FALSE) -> #N/A | J15: =VLOOKUP(H15,'пр.взв'!B18:E38,3,FALSE) -> #N/A | K15: =VLOOKUP(H15,'пр.взв'!B18:E38,4,FALSE) -> #N/A
A17: 13 | B17: =VLOOKUP(A17,'пр.взв'!B18:C38,2,FALSE) -> #N/A | C17: =VLOOKUP(A17,'пр.взв'!B5:G34,3,FALSE) -> #N/A | D17: =VLOOKUP(A17,'пр.взв'!B5:G34,4,FALSE) -> #N/A | H17: 14 | I17: =VLOOKUP(H17,'пр.взв'!B20:C40,2,FALSE) -> #N/A | J17: =VLOOKUP(H17,'пр.взв'!B20:E40,3,FALSE) -> #N/A | K17: =VLOOKUP(H17,'пр.взв'!B20:E40,4,FALSE) -> #N/A
A19: 29 | B19: =VLOOKUP(A19,'пр.взв'!B20:C40,2,FALSE) -> #N/A | C19: =VLOOKUP(A19,'пр.взв'!B5:G34,3,FALSE) -> #N/A | D19: =VLOOKUP(A19,'пр.взв'!B5:G34,4,FALSE) -> #N/A | H19: 30 | I19: =VLOOKUP(H19,'пр.взв'!B22:C42,2,FALSE) -> #N/A | J19: =VLOOKUP(H19,'пр.взв'!B22:E42,3,FALSE) -> #N/A | K19: =VLOOKUP(H19,'пр.взв'!B22:E42,4,FALSE) -> #N/A
A21: 3 | B21: =VLOOKUP(A21,'пр.взв'!B5:C34,2,FALSE) -> #N/A | C21: =VLOOKUP(A21,'пр.взв'!B5:G34,3,FALSE) -> #N/A | D21: =VLOOKUP(A21,'пр.взв'!B5:G34,4,FALSE) -> #N/A | H21: 4 | I21: =VLOOKUP(H21,'пр.взв'!B7:C34,2,FALSE) -> #N/A | J21: =VLOOKUP(H21,'пр.взв'!B7:E34,3,FALSE) -> #N/A | K21: =VLOOKUP(H21,'пр.взв'!B7:E34,4,FALSE) -> #N/A
A23: 19 | B23: =VLOOKUP(A23,'пр.взв'!B23:C44,2,FALSE) -> #N/A | C23: =VLOOKUP(A23,'пр.взв'!B5:G34,3,FALSE) -> #N/A | D23: =VLOOKUP(A23,'пр.взв'!B5:G34,4,FALSE) -> #N/A | H23: 20 | I23: =VLOOKUP(H23,'пр.взв'!B24:C46,2,FALSE) -> #N/A | J23: =VLOOKUP(H23,'пр.взв'!B24:E46,3,FALSE) -> #N/A | K23: =VLOOKUP(H23,'пр.взв'!B24:E46,4,FALSE) -> #N/A
A25: 11 | B25: =VLOOKUP(A25,'пр.взв'!B24:C46,2,FALSE) -> #N/A | C25: =VLOOKUP(A25,'пр.взв'!B5:G34,3,FALSE) -> #N/A | D25: =VLOOKUP(A25,'пр.взв'!B5:G34,4,FALSE) -> #N/A | H25: 12 | I25: =VLOOKUP(H25,'пр.взв'!B26:C48,2,FALSE) -> #N/A | J25: =VLOOKUP(H25,'пр.взв'!B26:E48,3,FALSE) -> #N/A | K25: =VLOOKUP(H25,'пр.взв'!B26:E48,4,FALSE) -> #N/A
A27: 27 | B27: =VLOOKUP(A27,'пр.взв'!B26:C48,2,FALSE) -> #N/A | C27: =VLOOKUP(A27,'пр.взв'!B5:G34,3,FALSE) -> #N/A | D27: =VLOOKUP(A27,'пр.взв'!B5:G34,4,FALSE) -> #N/A | H27: 28 | I27: =VLOOKUP(H27,'пр.взв'!B26:C50,2,FALSE) -> #N/A | J27: =VLOOKUP(H27,'пр.взв'!B26:E50,3,FALSE) -> #N/A | K27: =VLOOKUP(H27,'пр.взв'!B26:E50,4,FALSE) -> #N/A
A29: 7 | B29: =VLOOKUP(A29,'пр.взв'!B5:C34,2,FALSE) -> #N/A | C29: =VLOOKUP(A29,'пр.взв'!B5:G34,3,FALSE) -> #N/A | D29: =VLOOKUP(A29,'пр.взв'!B5:G34,4,FALSE) -> #N/A | H29: 8 | I29: =VLOOKUP(H29,'пр.взв'!B7:C34,2,FALSE) -> #N/A | J29: =VLOOKUP(H29,'пр.взв'!B7:E34,3,FALSE) -> #N/A | K29: =VLOOKUP(H29,'пр.взв'!B7:E34,4,FALSE) -> #N/A
A31: 23 | B31: =VLOOKUP(A31,'пр.взв'!B28:C52,2,FALSE) -> #N/A | C31: =VLOOKUP(A31,'пр.взв'!B5:G34,3,FALSE) -> #N/A | D31: =VLOOKUP(A31,'пр.взв'!B5:G34,4,FALSE) -> #N/A | H31: 24 | I31: =VLOOKUP(H31,'пр.взв'!B30:C54,2,FALSE) -> #N/A | J31: =VLOOKUP(H31,'пр.взв'!B30:E54,3,FALSE) -> #N/A | K31: =VLOOKUP(H31,'пр.взв'!B30:E54,4,FALSE) -> #N/A
A33: 15 | B33: =VLOOKUP(A33,'пр.взв'!B30:C54,2,FALSE) -> #N/A | C33: =VLOOKUP(A33,'пр.взв'!B5:G34,3,FALSE) -> #N/A | D33: =VLOOKUP(A33,'пр.взв'!B5:G34,4,FALSE) -> #N/A | H33: 16 | I33: =VLOOKUP(H33,'пр.взв'!B32:C56,2,FALSE) -> #N/A | J33: =VLOOKUP(H33,'пр.взв'!B32:E56,3,FALSE) -> #N/A | K33: =VLOOKUP(H33,'пр.взв'!B32:E56,4,FALSE) -> #N/A
A35: 31 | B35: =VLOOKUP(A35,'пр.взв'!B32:C56,2,FALSE) -> #N/A | C35: =VLOOKUP(A35,'пр.взв'!B5:G34,3,FALSE) -> #N/A | D35: =VLOOKUP(A35,'пр.взв'!B5:G34,4,FALSE) -> #N/A | H35: 32 | I35: =VLOOKUP(H35,'пр.взв'!B34:C58,2,FALSE) -> #N/A | J35: =VLOOKUP(H35,'пр.взв'!B34:E58,3,FALSE) -> #N/A | K35: =VLOOKUP(H35,'пр.взв'!B34:E58,4,FALSE) -> #N/A
A38: А1 | H38: Б1
