Workbook
Name субъект: #REF!
Name разряд: #REF!

Sheet пр.взв
A1: select Col1,Col3,Col4,Col5,Col6,Col10,Col12,Col13,Col14,Col15,Col16,Col17 WHERE Col1>1 | C1: ПРОТОКОЛ ВЗВЕШИВАНИЯ | N1: https://docs.google.com/spreadsheets/d/1lAWXbxZUVSbgEB5dr9r3SAb9eFLgY8d5-08pYUVFUlI/edit?usp=share_link | O1: =IF(O2="98+",99,O2) -> 50
C2: =IFERROR(__xludf.DUMMYFUNCTION("IMPORTRANGE(N1,""Реквизиты!A1"")"),"Чемпионат России по самбо среди женщин (отбор на Первенство Мира и Европы) ЕКП № 23747") -> Чемпионат России по самбо среди женщин (отбор на Первенство Мира и Европы) ЕКП № 23747 | O2: 50 | P2: В.к. | Q2: кг
C3: =IFERROR(__xludf.DUMMYFUNCTION("IMPORTRANGE(N1,""Реквизиты!A3"")"),"27.02 - 03.03.2023 г. г. Пермь") -> 27.02 - 03.03.2023 г. г. Пермь | O3: =COUNTA(F6:F996) -> 23 | P3: участников
G4: =P2&" "&O2&" "&Q2 -> В.к. 50 кг
A5: ВК | B5: ВК | C5: № п/п | D5: № п/ж | E5: Ф.И.О. | F5: Ф.И.О. | G5: Дата рожд., разряд | H5: Разряд | I5: Округ, субъект, город, ведомство | K5: Субъект | L5: № карточки | M5: Тренер
A6: 50 | B6: 50 | C6: 29 | D6: 5 | E6: БОРЕЦ Виктория | F6: БОРЕЦ Виктория Ираклиевна | G6: 11.07.03, КМС | H6: КМС | I6: МОС | J6: Москва, Москва , МС | K6: Москва | M6: Норицина ЕС | N6: {=IF(D6:D996="","",(LEFT(F6:F996,FIND(" ",F6:F996)-1)))} -> БОРЕЦ | O6: 47
A7: 50 | B7: 50 | C7: 8 | D7: 14 | E7: РАХМАТУЛЛИНА Алла | F7: РАХМАТУЛЛИНА Алла Вячеславовна | G7: 21.07.95, КМС | H7: КМС | I7: ПФО | J7: Р. Башкортостан, Туймазы, МАУ СШ 1 | K7: Башкортостан | M7: Мухаметдинов Р.Р. | N7: РАХМАТУЛЛИНА | O7: 50
A8: 50 | B8: 50 | C8: 8 | D8: 19 | E8: АБДУЛЛИНА Елена | F8: АБДУЛЛИНА Елена Вячеславовна | G8: 14.07.00, МС | H8: МС | I8: ПФО | J8: Р. Башкортостан, Туймазы, МАУ СШ№1 | K8: Башкортостан | M8: Мухаметдинов Р.Р. | N8: АБДУЛЛИНА | O8: 54
A9: 50 | B9: 50 | C9: 17 | D9: 13 | E9: МОЛЧАНОВА Юлия | F9: МОЛЧАНОВА Юлия Дмитриевна | G9: 21.08.01, МС | H9: МС | I9: ПФО | J9: Нижегородская обл., Выкса, ДЮСШ «Выксунец» | K9: Нижегородская | M9: Егрушов ВИ, Рогов ДС | N9: МОЛЧАНОВА | O9: 59
A10: 50 | B10: 50 | C10: 23 | D10: 10 | E10: ПОЛЫГАЛОВА Ольга | F10: ПОЛЫГАЛОВА Ольга Сергеевна | G10: 28.08.02, КМС | H10: КМС | I10: ПФО | J10: Пермский край, Березники, «МАУ СП «СШОР Березники» | K10: Пермский | M10: Клинов Э.Н. Клинова О.А. | N10: ПОЛЫГАЛОВА | O10: 65
A11: 50 | B11: 50 | C11: 23 | D11: 11 | E11: МОЛЧАНОВА Мария | F11: МОЛЧАНОВА Мария Владимировна | G11: 24.01.88, ЗМС | H11: ЗМС | I11: ПФО | J11: Пермский край, Краснокамск, МБУ СШОР ПО САМБО И ДЗЮДО ГОРОДА КРАСНОКАМСКА | K11: Пермский | M11: Мухаметшин РГ | N11: МОЛЧАНОВА | O11: 80
A12: 50 | B12: 50 | C12: 6 | D12: 18 | E12: АКИФЬЕВА Екатерина | F12: АКИФЬЕВА Екатерина Сергеевна | G12: 03.05.02, 1р | H12: 1р | I12: ПФО | J12: Самарская обл., Самара, КСЕ "Спарта" | K12: Самарская | M12: Глухов Т.В. | N12: АКИФЬЕВА
A13: 50 | B13: 50 | C13: 13 | D13: 20 | E13: ФЕДОРОВА Татьяна | F13: ФЕДОРОВА Татьяна Владимировна | G13: 25.11.01, МС | H13: МС | I13: ПФО | J13: Чувашская Республика - Чувашия, Чебоксары, Профессиональный клуб ,,ЭКРА’’ | K13: Чувашская | M13: Пегасов. С.В, Бондарев АВ | N13: ФЕДОРОВА | O13: 98
A14: 50 | B14: 50 | C14: 13 | D14: 1 | E14: ЕГОРОВА Елизавета | F14: ЕГОРОВА Елизавета Евгеньевна | G14: 15.02.02, МС | H14: МС | I14: ПФО | J14: Чувашская Республика - Чувашия, Чебоксары, ЧУ «ПКС «ЭКРА» | K14: Чувашская | M14: Трофимов Е.В., Пегасов С. В. | N14: ЕГОРОВА | O14: 98+
A15: 50 | B15: 50 | C15: 13 | D15: 3 | E15: ЕМЕЛЮКОВА Софья | F15: ЕМЕЛЮКОВА Софья Константиновна | G15: 09.03.03, МС | H15: МС | I15: ПФО | J15: Чувашская Республика - Чувашия, Чебоксары, ЧУ «ПКС ЭКРА» | K15: Чувашская | M15: Пегасов С.В. | N15: ЕМЕЛЮКОВА | O15: 65
A16: 50 | B16: 50 | C16: 2 | D16: 23 | E16: ДИКАЯ Валентина | F16: ДИКАЯ Валентина Александровна | G16: 22.08.99, МС | H16: МС | I16: СПБ | J16: Санкт-Петербург, Санкт-Петербург, Локомотив ДЮСШ | K16: Санкт-Петербург | M16: Мизяев К. Г., Селяков С.В. | N16: ДИКАЯ | O16: 71
A17: 50 | B17: 50 | C17: 7 | D17: 15 | E17: МИРОНОВА Кристина | F17: МИРОНОВА Кристина Александровна | G17: 30.09.01, КМС | H17: КМС | I17: СФО | J17: Новосибирская обл., Новосибирск, ГАУ НСО СШ «самбо» | K17: Новосибирская | M17: Лепяхов С.В., Орлов А.А. | N17: МИРОНОВА | O17: 71+
A18: 50 | B18: 50 | C18: 7 | D18: 4 | E18: БЛИНОВА Ксения | F18: БЛИНОВА Ксения Сергеевна | G18: 08.09.99, МС | H18: МС | I18: СФО | J18: Новосибирская обл., Новосибирск, НЦВСМ | K18: Новосибирская | M18: Лепяхов С.В., Орлов А.А | N18: БЛИНОВА
A19: 50 | B19: 50 | C19: 18 | D19: 2 | E19: НЕФЁДОВА Екатерина | F19: НЕФЁДОВА Екатерина Дмитриевна | G19: 06.01.99, МС | H19: МС | I19: УФО | J19: Курганская обл., Куртамыш, СШОР №1 | K19: Курганская | M19: Пирогов И.Ю., Пономарев В.И. | N19: НЕФЁДОВА
A20: 50 | B20: 50 | C20: 19 | D20: 6 | E20: ЕВСЕЕВА Екатерина | F20: ЕВСЕЕВА Екатерина Алексеевна | G20: 23.05.01, МС | H20: МС | I20: УФО | J20: Свердловская обл., Екатеринбург, ГАУ СО СШОР ПО САМБО И ДЗЮДО | K20: Свердловская | M20: Коростелев А.Б. ; Пляшкун Н.В. | N20: ЕВСЕЕВА
A21: 50 | B21: 50 | C21: 19 | D21: 8 | E21: КОБЕЛЕВА Оксана | F21: КОБЕЛЕВА Оксана Вячеславовна | G21: 20.09.01, МС | H21: МС | I21: УФО | J21: Свердловская обл., Екатеринбург, ГАУ СО СШОР ПО САМБО И ДЗЮДО | K21: Свердловская | M21: Черникова МИ, Воронов ВВ | N21: КОБЕЛЕВА
A22: 50 | B22: 50 | C22: 19 | D22: 9 | E22: ГИЛЯЗОВА Сабина | F22: ГИЛЯЗОВА Сабина Альбертовна | G22: 30.09.94, МС | H22: МС | I22: УФО | J22: Свердловская обл., Екатеринбург, ГАУ СШОР | K22: Свердловская | M22: Першин И.В, Львов Е.В | N22: ГИЛЯЗОВА
A23: 50 | B23: 50 | C23: 19 | D23: 7 | E23: ДУДИНА Кристина | F23: ДУДИНА Кристина Алексеевна | G23: 10.07.04, МС | H23: МС | I23: УФО | J23: Свердловская обл., Екатеринбург, СК Родина | K23: Свердловская | M23: Федосеев МЕ; Селянина ОВ | N23: ДУДИНА
A24: 50 | B24: 50 | C24: 34 | D24: 16 | E24: СЕРГЕЕВА Алина | F24: СЕРГЕЕВА Алина Фаиговна | G24: 13.04.99, КМС | H24: КМС | I24: УФО | J24: Тюменская обл., Тюмень, Цоп Тюмень дзюдо | K24: Тюменская | M24: Вуколов АВ | N24: СЕРГЕЕВА
A25: 50 | B25: 50 | C25: 32 | D25: 21 | E25: МИХАЛЕВА Елена | F25: МИХАЛЕВА Елена Павловна | G25: 13.06.95, МС | H25: МС | I25: ЦФО | J25: Московская обл., Воскресенск, ГБУ МО СШОР по единоборствам | K25: Московская | M25: Баринова М.В., Тунгия ДМ | N25: МИХАЛЕВА
A26: 50 | B26: 50 | C26: 15 | D26: 12 | E26: ГОРЕЛИКОВА Анна | F26: ГОРЕЛИКОВА Анна Вадимовна | G26: 03.06.92, МСМК | H26: МСМК | I26: ЮФО | J26: Краснодарский край, Крымск, Дюсш1 | K26: Краснодарский | M26: Адамян А.В. | N26: ГОРЕЛИКОВА
A27: 50 | B27: 50 | C27: 15 | D27: 17 | E27: ВАРЛАМОВА Кристина | F27: ВАРЛАМОВА Кристина Евгеньевна | G27: 03.12.02, МС | H27: МС | I27: ЮФО | J27: Краснодарский край, Курганинск, СПОРТИВНАЯ ШКОЛА ОЛИМПИЙСКОГО РЕЗЕРВА им. НЕФЕДОВА Н. И. | K27: Краснодарский | M27: Потапов И.С, Красов В.В | N27: ВАРЛАМОВА
A28: 50 | B28: 50 | C28: 15 | D28: 22 | E28: КАРЕКЯН Кристина | F28: КАРЕКЯН Кристина Хачиковна | G28: 23.01.95, МС | H28: МС | I28: ЮФО | J28: Краснодарский край, Сочи, Дюсш 10 | K28: Краснодарский | M28: Антонян РА | N28: КАРЕКЯН

Sheet пр.хода
A1: ВСЕРОССИЙСКАЯ ФЕДЕРАЦИЯ САМБО
A2: ПРОТОКОЛ ХОДА СОРЕВНОВАНИЙ ЮНИОРЫ
C3: ='пр.взв'!C2 -> Чемпионат России по самбо среди женщин (отбор на Первенство Мира и Европы) ЕКП № 23747
F4: ='пр.взв'!C3 -> 27.02 - 03.03.2023 г. г. Пермь | AG4: =AK4&" "&AL4 -> 23 участников | AH4: ='пр.взв'!G4 -> В.к. 50 кг | AK4: ='пр.взв'!O3 -> 23 | AL4: участников
AA5: =IFERROR(VLOOKUP(O9,'пр.взв'!$B$7:$H$34,2,0),"")
A6: А | F6: А1 | I6: =AQ6 | J6: =IFERROR(VLOOKUP(I6,'пр.взв'!$D$6:$Q$33,2,0),"") | AJ6: Б | AQ6: =IF(I31=""," ",IF(I31=A10,A16,IF(I31=A16,A10,IF(I31=A22,A28,IF(I31=A28,A22,IF(I31=A34,A40,IF(I31=A40,A34,IF(I31=A46,A52,A46))))))))
N8: =IFERROR(VLOOKUP(M8,'пр.взв'!$D$6:$Q$33,2,0),"") | Q8: =S23
Q9: 1 | AM9: 5м | AN9: =IF(Z20=V16,V26,V16) | AQ9: =IF(I31=""," ",IF(E13=I31,E25,IF(E25=I31,E13,IF(E37=I31,E49,E37))))
A10: 1 | B10: =IFERROR(VLOOKUP(1,'пр.взв'!$D$6:$Q$33,2,0),"") -> ЕГОРОВА Елизавета | C10: =IFERROR(VLOOKUP(A10,'пр.взв'!$D$6:$Q$33,5,0),"") -> МС | D10: =IFERROR(VLOOKUP(A10,'пр.взв'!$D$6:$Q$33,8,0),"") -> Чувашская | I10: =AQ9 | J10: =IFERROR(VLOOKUP(I10,'пр.взв'!$D$6:$Q$33,2,0),"") | R10: =IFERROR(VLOOKUP(Q10,'пр.взв'!$D$6:$Q$33,2,0),"") | AG10: =IFERROR(VLOOKUP(AJ10,'пр.взв'!$D$6:$Q$33,2,0),"") -> НЕФЁДОВА Екатерина | AH10: =IFERROR(VLOOKUP(AJ10,'пр.взв'!$D$6:$Q$33,5,0),"") -> МС | AI10: =IFERROR(VLOOKUP(AJ10,'пр.взв'!$D$6:$Q$33,8,0),"") -> Курганская | AJ10: 2 | AP10: =IF(K6=L9,K10,K6)
M12: =AQ12 | N12: =IFERROR(VLOOKUP(M12,'пр.взв'!$D$6:$Q$33,2,0),"") | AA12: =O97 | AM12: 5м | AN12: =IF(Z101=V97,V107,V97) | AQ12: =IF(I31=""," ",IF(I31=G19,G43,G19))
V14: =BG18
AM15: 7м | AN15: =IF(V16=Q10,R21,Q10) | AQ15: =IF(I79=""," ",IF(I79=A58,A64,IF(I79=A64,A58,IF(I79=A70,A76,IF(I79=A76,A70,IF(I79=A82,A88,IF(I79=A88,A82,IF(I79=A94,A100,A94))))))))
A16: 17 | B16: =IFERROR(VLOOKUP(17,'пр.взв'!$D$6:$Q$33,2,0),"") -> ВАРЛАМОВА Кристина | C16: =IFERROR(VLOOKUP(A16,'пр.взв'!$D$6:$Q$33,5,0),"") -> МС | D16: =IFERROR(VLOOKUP(A16,'пр.взв'!$D$6:$Q$33,8,0),"") -> Краснодарский | W16: =IFERROR(VLOOKUP(V16,'пр.взв'!$D$6:$Q$33,2,0),"") | AG16: =IFERROR(VLOOKUP(AJ16:AJ21,'пр.взв'!$D$6:$Q$33,2,0),"") -> АКИФЬЕВА Екатерина | AH16: =IFERROR(VLOOKUP(AJ16,'пр.взв'!$D$6:$Q$33,5,0),"") -> 1р | AI16: =IFERROR(VLOOKUP(AJ16,'пр.взв'!$D$6:$Q$33,8,0),"") -> Самарская | AJ16: 18
I17: =AQ17 | J17: =AQ15 | K17: =IFERROR(VLOOKUP(J17,'пр.взв'!$D$6:$Q$33,2,0),"") | AP17: =IF(K83=L84,K88,K83)
AM18: 7м | AN18: =IF(V97=R91,Q102,R91) | AP18: =IF(K93=L94,K97,K93) | AQ18: =IF(I79=""," ",IF(E61=I79,E73,IF(E73=I79,E61,IF(E85=I79,E97,E85))))
O19: =IFERROR(VLOOKUP(N19,'пр.взв'!$D$6:$Q$33,2,0),"")
S20: =T35
J21: =AQ18 | K21: =IFERROR(VLOOKUP(J21,'пр.взв'!$D$6:$Q$33,2,0),"") | S21: =IFERROR(VLOOKUP(R21,'пр.взв'!$D$6:$Q$33,2,0),"") | AM21: 9м | AN21: =IF(Q10=M8,M12,M8) | AQ21: =IF(I79=""," ",IF(I79=G67,G91,G67))
A22: 9 | B22: =IFERROR(VLOOKUP(A22,'пр.взв'!$D$6:$Q$33,2,0),"") -> ГИЛЯЗОВА Сабина | C22: =IFERROR(VLOOKUP(A22,'пр.взв'!$D$6:$Q$33,5,0),"") -> МС | D22: =IFERROR(VLOOKUP(A22,'пр.взв'!$D$6:$Q$33,8,0),"") -> Свердловская | AG22: =IFERROR(VLOOKUP(AJ22,'пр.взв'!$D$6:$Q$33,2,0),"") -> ПОЛЫГАЛОВА Ольга | AH22: =IFERROR(VLOOKUP(AJ22,'пр.взв'!$D$6:$Q$33,5,0),"") -> КМС | AI22: =IFERROR(VLOOKUP(AJ22,'пр.взв'!$D$6:$Q$33,8,0),"") -> Пермский | AJ22: 10
N23: =AQ21 | O23: =IFERROR(VLOOKUP(N23,'пр.взв'!$D$6:$Q$33,2,0),"")
AM24: 9м | AN24: =IF(R21=N19,N23,N19) | AO24: =IF(AND(OR(E12=I30,E24=I30),E37=G45),E50,IF(AND(OR(E12=I30,E24=I30),E50=G45),E37,IF(E12=G18,E24,E12))) | AP24: =IF(L9=M10,L12,L9) | AQ24: =IF(K55=""," ",IF(K55=I31,I79,I31))
E25: 9 | AF25: 10
U26: =BF29 | V26: =AQ45 | W26: =IFERROR(VLOOKUP(V26,'пр.взв'!$D$6:$Q$33,2,0),"")
AM27: 9м | AN27: =IF(R91=N89,N93,N89) | AQ27: =IF(AB31=""," ",IF(AB31=AJ10,AJ16,IF(AB31=AJ16,AJ10,IF(AB31=AJ22,AJ28,IF(AB31=AJ28,AJ22,IF(AB31=AJ34,AJ40,IF(AB31=AJ40,AJ34,IF(AB31=AJ46,AJ52,AJ46))))))))
A28: 25 | B28: =IFERROR(VLOOKUP(A28,'пр.взв'!$D$6:$Q$33,2,0),"") | C28: =IFERROR(VLOOKUP(A28,'пр.взв'!$D$6:$Q$33,5,0),"") | D28: =IFERROR(VLOOKUP(A28,'пр.взв'!$D$6:$Q$33,8,0),"") | AG28: =IFERROR(VLOOKUP(AJ28:AJ33,'пр.взв'!$D$6:$Q$33,2,0),"") | AH28: =IFERROR(VLOOKUP(AJ28,'пр.взв'!$D$6:$Q$33,5,0),"") | AI28: =IFERROR(VLOOKUP(AJ28,'пр.взв'!$D$6:$Q$33,8,0),"") | AJ28: 26 | AP28: =IF(L18=M22,L24,L18)
AM30: 9м | AN30: =IF(Q102=M100,M104,M100) | AP30: =IF(L84=M88,L89,L84) | AQ30: =IF(AB31=""," ",IF(AB31=AF13,AF25,IF(AF25=AB31,AF13,IF(AF37=AB31,AF49,AF37))))
J31: =IFERROR(VLOOKUP(I31,'пр.взв'!$D$6:$Q$33,2,0),"") | X31: =IFERROR(VLOOKUP(AB31,'пр.взв'!$D$6:$Q$33,2,0),"")
O32: =IFERROR(VLOOKUP(P31,'пр.взв'!$B$7:$H$34,2,0),"")
AM33: 13м | AN33: =IF(M8=I6,I10,I6) | AQ33: =IF(AB31=""," ",IF(AB31=AD19,AD43,AD19))
A34: 5 | B34: =IFERROR(VLOOKUP(A34,'пр.взв'!$D$6:$Q$33,2,0),"") -> БОРЕЦ Виктория | C34: =IFERROR(VLOOKUP(A34,'пр.взв'!$D$6:$Q$33,5,0),"") -> КМС | D34: =IFERROR(VLOOKUP(A34,'пр.взв'!$D$6:$Q$33,8,0),"") -> Москва | P34: 1 место | AG34: =IFERROR(VLOOKUP(AJ34,'пр.взв'!$D$6:$Q$33,2,0),"") -> ЕВСЕЕВА Екатерина | AH34: =IFERROR(VLOOKUP(AJ34,'пр.взв'!$D$6:$Q$33,5,0),"") -> МС | AI34: =IFERROR(VLOOKUP(AJ34,'пр.взв'!$D$6:$Q$33,8,0),"") -> Свердловская | AJ34: 6 | AP34: =IF(L94=M97,L99,L94)
AM36: 13м | AN36: =IF(N19=J17,J21,J17) | AQ36: =IF(AB79=""," ",IF(AB79=AJ58,AJ64,IF(AB79=AJ64,AJ58,IF(AB79=AJ70,AJ76,IF(AB79=AJ76,AJ70,IF(AB79=AJ82,AJ88,IF(AB79=AJ88,AJ82,IF(AB79=AJ94,AJ100,AJ94))))))))
P38: =IFERROR(VLOOKUP(O38,'пр.взв'!$D$6:$Q$34,2,0),"")
AM39: 13м | AN39: =IF(N89=J91,J95,J91) | AQ39: =IF(AB79=""," ",IF(AF61=AB79,AF73,IF(AF73=AB79,AF61,IF(AF85=AB79,AF97,AF85))))
A40: 21 | B40: =IFERROR(VLOOKUP(A40,'пр.взв'!$D$6:$Q$33,2,0),"") -> МИХАЛЕВА Елена | C40: =IFERROR(VLOOKUP(A40,'пр.взв'!$D$6:$Q$33,5,0),"") -> МС | D40: =IFERROR(VLOOKUP(A40,'пр.взв'!$D$6:$Q$33,8,0),"") -> Московская | AG40: =IFERROR(VLOOKUP(AJ40:AJ45,'пр.взв'!$D$6:$Q$33,2,0),"") -> КАРЕКЯН Кристина | AH40: =IFERROR(VLOOKUP(AJ40,'пр.взв'!$D$6:$Q$33,5,0),"") -> МС | AI40: =IFERROR(VLOOKUP(AJ40,'пр.взв'!$D$6:$Q$33,8,0),"") -> Краснодарский | AJ40: 22 | AO40: =IF(AND(OR(E60=I76,E71=I76),E81=G84),E89,IF(AND(OR(E60=I76,E71=I76),E89=G84),E81,IF(E60=G67,E71,E60)))
AM42: 13м | AN42: =IF(M100=I102,I106,I102) | AQ42: =IF(AB79=""," ",IF(AB79=AD67,AD91,AD67))
AM45: 17м | AN45: =IF(AND(I31=G19,E37=G43),E49,IF(AND(I31=G19,E49=G43),E37,IF(G19=E13,E25,E13))) -> 13 | AP45: =IF(M88=N93,M97,M88) | AQ45: =IF(Z55=""," ",IF(Z55=AB31,AB79,AB31))
A46: 13 | B46: =IFERROR(VLOOKUP(A46,'пр.взв'!$D$6:$Q$33,2,0),"") -> МОЛЧАНОВА Юлия | C46: =IFERROR(VLOOKUP(A46,'пр.взв'!$D$6:$Q$33,5,0),"") -> МС | D46: =IFERROR(VLOOKUP(A46,'пр.взв'!$D$6:$Q$33,8,0),"") -> Нижегородская | AG46: =IFERROR(VLOOKUP(AJ46,'пр.взв'!$D$6:$Q$33,2,0),"") -> РАХМАТУЛЛИНА Алла | AH46: =IFERROR(VLOOKUP(AJ46,'пр.взв'!$D$6:$Q$33,5,0),"") -> КМС | AI46: =IFERROR(VLOOKUP(AJ46,'пр.взв'!$D$6:$Q$33,8,0),"") -> Башкортостан | AJ46: 14
O47: =IFERROR(VLOOKUP(U44,'пр.взв'!$B$7:$H$34,2,0),"") | P47: 2 место
AM48: 17м | AN48: =IF(AND(I79=G67,G91=E85),E97,IF(AND(I79=G67,G91=E97),E85,IF(G67=E61,E73,E61))) -> 15 | AP48: =IF(E13=I31,"",IF(AND(E13<>I31,E13=A10),A16,A10)) | AQ48: =IF(AF13=AB31,"",IF(AND(AF13<>AB31,AJ16=AJ10),AJ16,AJ10)) | AR48: =IF(AG13=AC31,"",IF(AND(AG13<>AC31,AK16=AK10),AK16,AK10))
E49: 13 | AF49: 14
...

Sheet круги
B1: ВСТРЕЧИ ПО КРУГАМ | L1: ВСТРЕЧИ ПО КРУГАМ
B2: 4 | C2: КОВЕР | E2: ='пр.взв'!D4 | L2: =B2 -> 4 | M2: КОВЕР | O2: =E2
B3: A | C3: (Круг) | D3: 1/16 | G3: ='пр.взв'!G4 -> В.к. 50 кг | L3: Б | M3: (Круг) | N3: 1/16 | Q3: =G3 -> В.к. 50 кг
A4: № встр | B4: № п/ж | C4: Ф.И.О. | D4: Д. р., разряд | E4: Вед., регион | G4: Оценки | H4: Очки | I4: Рез-т | J4: Время | K4: № встр | L4: № п/ж | M4: Ф.И.О. | N4: Д. р., разряд | O4: Вед., регион | Q4: Оценки | R4: Очки | S4: Рез-т | T4: Время
A6: 1 | B6: 1 | C6: =IFERROR(VLOOKUP(B6,'пр.взв'!$D$6:$Q$33,2,0),"") -> ЕГОРОВА Елизавета | D6: =IFERROR(VLOOKUP(B6,'пр.взв'!$D$6:$Q$33,5,0),"") -> МС | E6: =IFERROR(VLOOKUP(B6,'пр.взв'!$D$6:$Q$33,6,0),"") -> ПФО | F6: =IFERROR(VLOOKUP(B6,'пр.взв'!$D$6:$Q$33,8,0),"") -> Чувашская | K6: 9 | L6: 2 | M6: =IFERROR(VLOOKUP(L6,'пр.взв'!$D$6:$Q$33,2,0),"") -> НЕФЁДОВА Екатерина | N6: =IFERROR(VLOOKUP(L6,'пр.взв'!$D$6:$Q$33,5,0),"") -> МС | O6: =IFERROR(VLOOKUP(L6,'пр.взв'!$D$6:$Q$33,6,0),"") -> УФО | P6: =IFERROR(VLOOKUP(L6,'пр.взв'!$D$6:$Q$33,8,0),"") -> Курганская
B8: 17 | C8: =IFERROR(VLOOKUP(B8,'пр.взв'!$D$6:$Q$33,2,0),"") -> ВАРЛАМОВА Кристина | D8: =IFERROR(VLOOKUP(B8,'пр.взв'!$D$6:$Q$33,5,0),"") -> МС | E8: =IFERROR(VLOOKUP(B8,'пр.взв'!$D$6:$Q$33,6,0),"") -> ЮФО | F8: =IFERROR(VLOOKUP(B8,'пр.взв'!$D$6:$Q$33,8,0),"") -> Краснодарский | L8: 18 | M8: =IFERROR(VLOOKUP(L8,'пр.взв'!$D$6:$Q$33,2,0),"") -> АКИФЬЕВА Екатерина | N8: =IFERROR(VLOOKUP(L8,'пр.взв'!$D$6:$Q$33,5,0),"") -> 1р | O8: =IFERROR(VLOOKUP(L8,'пр.взв'!$D$6:$Q$33,6,0),"") -> ПФО | P8: =IFERROR(VLOOKUP(L8,'пр.взв'!$D$6:$Q$33,8,0),"") -> Самарская
A10: 2 | B10: 9 | C10: =IFERROR(VLOOKUP(B10,'пр.взв'!$D$6:$Q$33,2,0),"") -> ГИЛЯЗОВА Сабина | D10: =IFERROR(VLOOKUP(B10,'пр.взв'!$D$6:$Q$33,5,0),"") -> МС | E10: =IFERROR(VLOOKUP(B10,'пр.взв'!$D$6:$Q$33,6,0),"") -> УФО | F10: =IFERROR(VLOOKUP(B10,'пр.взв'!$D$6:$Q$33,8,0),"") -> Свердловская | K10: 10 | L10: 10 | M10: =IFERROR(VLOOKUP(L10,'пр.взв'!$D$6:$Q$33,2,0),"") -> ПОЛЫГАЛОВА Ольга | N10: =IFERROR(VLOOKUP(L10,'пр.взв'!$D$6:$Q$33,5,0),"") -> КМС | O10: =IFERROR(VLOOKUP(L10,'пр.взв'!$D$6:$Q$33,6,0),"") -> ПФО | P10: =IFERROR(VLOOKUP(L10,'пр.взв'!$D$6:$Q$33,8,0),"") -> Пермский
B12: 25 | C12: =IFERROR(VLOOKUP(B12,'пр.взв'!$D$6:$Q$33,2,0),"") | D12: =IFERROR(VLOOKUP(B12,'пр.взв'!$D$6:$Q$33,5,0),"") | E12: =IFERROR(VLOOKUP(B12,'пр.взв'!$D$6:$Q$33,6,0),"") | F12: =IFERROR(VLOOKUP(B12,'пр.взв'!$D$6:$Q$33,8,0),"") | L12: 26 | M12: =IFERROR(VLOOKUP(L12,'пр.взв'!$D$6:$Q$33,2,0),"") | N12: =IFERROR(VLOOKUP(L12,'пр.взв'!$D$6:$Q$33,5,0),"") | O12: =IFERROR(VLOOKUP(L12,'пр.взв'!$D$6:$Q$33,6,0),"") | P12: =IFERROR(VLOOKUP(L12,'пр.взв'!$D$6:$Q$33,8,0),"")
A14: 3 | B14: 5 | C14: =IFERROR(VLOOKUP(B14,'пр.взв'!$D$6:$Q$33,2,0),"") -> БОРЕЦ Виктория | D14: =IFERROR(VLOOKUP(B14,'пр.взв'!$D$6:$Q$33,5,0),"") -> КМС | E14: =IFERROR(VLOOKUP(B14,'пр.взв'!$D$6:$Q$33,6,0),"") -> МОС | F14: =IFERROR(VLOOKUP(B14,'пр.взв'!$D$6:$Q$33,8,0),"") -> Москва | K14: 11 | L14: 6 | M14: =IFERROR(VLOOKUP(L14,'пр.взв'!$D$6:$Q$33,2,0),"") -> ЕВСЕЕВА Екатерина | N14: =IFERROR(VLOOKUP(L14,'пр.взв'!$D$6:$Q$33,5,0),"") -> МС | O14: =IFERROR(VLOOKUP(L14,'пр.взв'!$D$6:$Q$33,6,0),"") -> УФО | P14: =IFERROR(VLOOKUP(L14,'пр.взв'!$D$6:$Q$33,8,0),"") -> Свердловская
B16: 21 | C16: =IFERROR(VLOOKUP(B16,'пр.взв'!$D$6:$Q$33,2,0),"") -> МИХАЛЕВА Елена | D16: =IFERROR(VLOOKUP(B16,'пр.взв'!$D$6:$Q$33,5,0),"") -> МС | E16: =IFERROR(VLOOKUP(B16,'пр.взв'!$D$6:$Q$33,6,0),"") -> ЦФО | F16: =IFERROR(VLOOKUP(B16,'пр.взв'!$D$6:$Q$33,8,0),"") -> Московская | L16: 22 | M16: =IFERROR(VLOOKUP(L16,'пр.взв'!$D$6:$Q$33,2,0),"") -> КАРЕКЯН Кристина | N16: =IFERROR(VLOOKUP(L16,'пр.взв'!$D$6:$Q$33,5,0),"") -> МС | O16: =IFERROR(VLOOKUP(L16,'пр.взв'!$D$6:$Q$33,6,0),"") -> ЮФО | P16: =IFERROR(VLOOKUP(L16,'пр.взв'!$D$6:$Q$33,8,0),"") -> Краснодарский
A18: 4 | B18: 13 | C18: =IFERROR(VLOOKUP(B18,'пр.взв'!$D$6:$Q$33,2,0),"") -> МОЛЧАНОВА Юлия | D18: =IFERROR(VLOOKUP(B18,'пр.взв'!$D$6:$Q$33,5,0),"") -> МС | E18: =IFERROR(VLOOKUP(B18,'пр.взв'!$D$6:$Q$33,6,0),"") -> ПФО | F18: =IFERROR(VLOOKUP(B18,'пр.взв'!$D$6:$Q$33,8,0),"") -> Нижегородская | K18: 12 | L18: 14 | M18: =IFERROR(VLOOKUP(L18,'пр.взв'!$D$6:$Q$33,2,0),"") -> РАХМАТУЛЛИНА Алла | N18: =IFERROR(VLOOKUP(L18,'пр.взв'!$D$6:$Q$33,5,0),"") -> КМС | O18: =IFERROR(VLOOKUP(L18,'пр.взв'!$D$6:$Q$33,6,0),"") -> ПФО | P18: =IFERROR(VLOOKUP(L18,'пр.взв'!$D$6:$Q$33,8,0),"") -> Башкортостан
B20: 29 | C20: =IFERROR(VLOOKUP(B20,'пр.взв'!$D$6:$Q$33,2,0),"") | D20: =IFERROR(VLOOKUP(B20,'пр.взв'!$D$6:$Q$33,5,0),"") | E20: =IFERROR(VLOOKUP(B20,'пр.взв'!$D$6:$Q$33,6,0),"") | F20: =IFERROR(VLOOKUP(B20,'пр.взв'!$D$6:$Q$33,8,0),"") | L20: 30 | M20: =IFERROR(VLOOKUP(L20,'пр.взв'!$D$6:$Q$33,2,0),"") | N20: =IFERROR(VLOOKUP(L20,'пр.взв'!$D$6:$Q$33,5,0),"") | O20: =IFERROR(VLOOKUP(L20,'пр.взв'!$D$6:$Q$33,6,0),"") | P20: =IFERROR(VLOOKUP(L20,'пр.взв'!$D$6:$Q$33,8,0),"")
A22: 5 | B22: 3 | C22: =IFERROR(VLOOKUP(B22,'пр.взв'!$D$6:$Q$33,2,0),"") -> ЕМЕЛЮКОВА Софья | D22: =IFERROR(VLOOKUP(B22,'пр.взв'!$D$6:$Q$33,5,0),"") -> МС | E22: =IFERROR(VLOOKUP(B22,'пр.взв'!$D$6:$Q$33,6,0),"") -> ПФО | F22: =IFERROR(VLOOKUP(B22,'пр.взв'!$D$6:$Q$33,8,0),"") -> Чувашская | K22: 13 | L22: 4 | M22: =IFERROR(VLOOKUP(L22,'пр.взв'!$D$6:$Q$33,2,0),"") -> БЛИНОВА Ксения | N22: =IFERROR(VLOOKUP(L22,'пр.взв'!$D$6:$Q$33,5,0),"") -> МС | O22: =IFERROR(VLOOKUP(L22,'пр.взв'!$D$6:$Q$33,6,0),"") -> СФО | P22: =IFERROR(VLOOKUP(L22,'пр.взв'!$D$6:$Q$33,8,0),"") -> Новосибирская
B24: 19 | C24: =IFERROR(VLOOKUP(B24,'пр.взв'!$D$6:$Q$33,2,0),"") -> АБДУЛЛИНА Елена | D24: =IFERROR(VLOOKUP(B24,'пр.взв'!$D$6:$Q$33,5,0),"") -> МС | E24: =IFERROR(VLOOKUP(B24,'пр.взв'!$D$6:$Q$33,6,0),"") -> ПФО | F24: =IFERROR(VLOOKUP(B24,'пр.взв'!$D$6:$Q$33,8,0),"") -> Башкортостан | L24: 20 | M24: =IFERROR(VLOOKUP(L24,'пр.взв'!$D$6:$Q$33,2,0),"") -> ФЕДОРОВА Татьяна | N24: =IFERROR(VLOOKUP(L24,'пр.взв'!$D$6:$Q$33,5,0),"") -> МС | O24: =IFERROR(VLOOKUP(L24,'пр.взв'!$D$6:$Q$33,6,0),"") -> ПФО | P24: =IFERROR(VLOOKUP(L24,'пр.взв'!$D$6:$Q$33,8,0),"") -> Чувашская
A26: 6 | B26: 11 | C26: =IFERROR(VLOOKUP(B26,'пр.взв'!$D$6:$Q$33,2,0),"") -> МОЛЧАНОВА Мария | D26: =IFERROR(VLOOKUP(B26,'пр.взв'!$D$6:$Q$33,5,0),"") -> ЗМС | E26: =IFERROR(VLOOKUP(B26,'пр.взв'!$D$6:$Q$33,6,0),"") -> ПФО | F26: =IFERROR(VLOOKUP(B26,'пр.взв'!$D$6:$Q$33,8,0),"") -> Пермский | K26: 14 | L26: 12 | M26: =IFERROR(VLOOKUP(L26,'пр.взв'!$D$6:$Q$33,2,0),"") -> ГОРЕЛИКОВА Анна | N26: =IFERROR(VLOOKUP(L26,'пр.взв'!$D$6:$Q$33,5,0),"") -> МСМК | O26: =IFERROR(VLOOKUP(L26,'пр.взв'!$D$6:$Q$33,6,0),"") -> ЮФО | P26: =IFERROR(VLOOKUP(L26,'пр.взв'!$D$6:$Q$33,8,0),"") -> Краснодарский
B28: 27 | C28: =IFERROR(VLOOKUP(B28,'пр.взв'!$D$6:$Q$33,2,0),"") | D28: =IFERROR(VLOOKUP(B28,'пр.взв'!$D$6:$Q$33,5,0),"") | E28: =IFERROR(VLOOKUP(B28,'пр.взв'!$D$6:$Q$33,6,0),"") | F28: =IFERROR(VLOOKUP(B28,'пр.взв'!$D$6:$Q$33,8,0),"") | L28: 28 | M28: =IFERROR(VLOOKUP(L28,'пр.взв'!$D$6:$Q$33,2,0),"") | N28: =IFERROR(VLOOKUP(L28,'пр.взв'!$D$6:$Q$33,5,0),"") | O28: =IFERROR(VLOOKUP(L28,'пр.взв'!$D$6:$Q$33,6,0),"") | P28: =IFERROR(VLOOKUP(L28,'пр.взв'!$D$6:$Q$33,8,0),"")
A30: 7 | B30: 7 | C30: =IFERROR(VLOOKUP(B30,'пр.взв'!$D$6:$Q$33,2,0),"") -> ДУДИНА Кристина | D30: =IFERROR(VLOOKUP(B30,'пр.взв'!$D$6:$Q$33,5,0),"") -> МС | E30: =IFERROR(VLOOKUP(B30,'пр.взв'!$D$6:$Q$33,6,0),"") -> УФО | F30: =IFERROR(VLOOKUP(B30,'пр.взв'!$D$6:$Q$33,8,0),"") -> Свердловская | K30: 15 | L30: 8 | M30: =IFERROR(VLOOKUP(L30,'пр.взв'!$D$6:$Q$33,2,0),"") -> КОБЕЛЕВА Оксана | N30: =IFERROR(VLOOKUP(L30,'пр.взв'!$D$6:$Q$33,5,0),"") -> МС | O30: =IFERROR(VLOOKUP(L30,'пр.взв'!$D$6:$Q$33,6,0),"") -> УФО | P30: =IFERROR(VLOOKUP(L30,'пр.взв'!$D$6:$Q$33,8,0),"") -> Свердловская
B32: 23 | C32: =IFERROR(VLOOKUP(B32,'пр.взв'!$D$6:$Q$33,2,0),"") -> ДИКАЯ Валентина | D32: =IFERROR(VLOOKUP(B32,'пр.взв'!$D$6:$Q$33,5,0),"") -> МС | E32: =IFERROR(VLOOKUP(B32,'пр.взв'!$D$6:$Q$33,6,0),"") -> СПБ | F32: =IFERROR(VLOOKUP(B32,'пр.взв'!$D$6:$Q$33,8,0),"") -> Санкт-Петербург | L32: 24 | M32: =IFERROR(VLOOKUP(L32,'пр.взв'!$D$6:$Q$33,2,0),"") | N32: =IFERROR(VLOOKUP(L32,'пр.взв'!$D$6:$Q$33,5,0),"") | O32: =IFERROR(VLOOKUP(L32,'пр.взв'!$D$6:$Q$33,6,0),"") | P32: =IFERROR(VLOOKUP(L32,'пр.взв'!$D$6:$Q$33,8,0),"")
A34: 8 | B34: 15 | C34: =IFERROR(VLOOKUP(B34,'пр.взв'!$D$6:$Q$33,2,0),"") -> МИРОНОВА Кристина | D34: =IFERROR(VLOOKUP(B34,'пр.взв'!$D$6:$Q$33,5,0),"") -> КМС | E34: =IFERROR(VLOOKUP(B34,'пр.взв'!$D$6:$Q$33,6,0),"") -> СФО | F34: =IFERROR(VLOOKUP(B34,'пр.взв'!$D$6:$Q$33,8,0),"") -> Новосибирская | K34: 16 | L34: 16 | M34: =IFERROR(VLOOKUP(L34,'пр.взв'!$D$6:$Q$33,2,0),"") -> СЕРГЕЕВА Алина | N34: =IFERROR(VLOOKUP(L34,'пр.взв'!$D$6:$Q$33,5,0),"") -> КМС | O34: =IFERROR(VLOOKUP(L34,'пр.взв'!$D$6:$Q$33,6,0),"") -> УФО | P34: =IFERROR(VLOOKUP(L34,'пр.взв'!$D$6:$Q$33,8,0),"") -> Тюменская
B36: 31 | C36: =IFERROR(VLOOKUP(B36,'пр.взв'!$D$6:$Q$33,2,0),"") | D36: =IFERROR(VLOOKUP(B36,'пр.взв'!$D$6:$Q$33,5,0),"") | E36: =IFERROR(VLOOKUP(B36,'пр.взв'!$D$6:$Q$33,6,0),"") | F36: =IFERROR(VLOOKUP(B36,'пр.взв'!$D$6:$Q$33,8,0),"") | L36: 32 | M36: =IFERROR(VLOOKUP(L36,'пр.взв'!$D$6:$Q$34,2,0),"") | N36: =IFERROR(VLOOKUP(L36,'пр.взв'!$D$6:$Q$34,5,0),"") | O36: =IFERROR(VLOOKUP(L36,'пр.взв'!$D$6:$Q$34,6,0),"") | P36: =IFERROR(VLOOKUP(L36,'пр.взв'!$D$6:$Q$34,8,0),"")
B38: =B2 -> 4 | C38: КОВЕР | L38: =L2 -> 4 | M38: КОВЕР
B39: A | C39: (Круг) | D39: 1/8 | G39: =G3 -> В.к. 50 кг | L39: Б | M39: (Круг) | N39: 1/8 | Q39: =G39 -> В.к. 50 кг
A40: № встр | B40: № п/ж | C40: Ф.И.О. | D40: Д. р., разряд | E40: Вед., регион | G40: Оценки | H40: Очки | I40: Рез-т | J40: Время | K40: № встр | L40: № п/ж | M40: Ф.И.О. | N40: Д. р., разряд | O40: Вед., регион | Q40: Оценки | R40: Очки | S40: Рез-т | T40: Время
A42: 1 | B42: ='пр.хода'!E13 | C42: =IFERROR(VLOOKUP(B42,'пр.взв'!$D$6:$Q$33,2,0),"") | D42: =IFERROR(VLOOKUP(B42,'пр.взв'!$D$6:$Q$33,5,0),"") | E42: =IFERROR(VLOOKUP(B42,'пр.взв'!$D$6:$Q$33,6,0),"") | F42: =IFERROR(VLOOKUP(B42,'пр.взв'!$D$6:$Q$33,8,0),"") | K42: 5 | L42: ='пр.хода'!AF13 | M42: =IFERROR(VLOOKUP(L42,'пр.взв'!$D$6:$Q$33,2,0),"") | N42: =IFERROR(VLOOKUP(L42,'пр.взв'!$D$6:$Q$33,5,0),"") | O42: =IFERROR(VLOOKUP(L42,'пр.взв'!$D$6:$Q$33,6,0),"") | P42: =IFERROR(VLOOKUP(L42,'пр.взв'!$D$6:$Q$33,8,0),"")
B44: ='пр.хода'!E25 -> 9 | C44: =IFERROR(VLOOKUP(B44,'пр.взв'!$D$6:$Q$33,2,0),"") -> ГИЛЯЗОВА Сабина | D44: =IFERROR(VLOOKUP(B44,'пр.взв'!$D$6:$Q$33,5,0),"") -> МС | E44: =IFERROR(VLOOKUP(B44,'пр.взв'!$D$6:$Q$33,6,0),"") -> УФО | F44: =IFERROR(VLOOKUP(B44,'пр.взв'!$D$6:$Q$33,8,0),"") -> Свердловская | L44: ='пр.хода'!AF25 -> 10 | M44: =IFERROR(VLOOKUP(L44,'пр.взв'!$D$6:$Q$33,2,0),"") -> ПОЛЫГАЛОВА Ольга | N44: =IFERROR(VLOOKUP(L44,'пр.взв'!$D$6:$Q$33,5,0),"") -> КМС | O44: =IFERROR(VLOOKUP(L44,'пр.взв'!$D$6:$Q$33,6,0),"") -> ПФО | P44: =IFERROR(VLOOKUP(L44,'пр.взв'!$D$6:$Q$33,8,0),"") -> Пермский
A46: 2 | B46: ='пр.хода'!E37 | C46: =IFERROR(VLOOKUP(B46,'пр.взв'!$D$6:$Q$33,2,0),"") | D46: =IFERROR(VLOOKUP(B46,'пр.взв'!$D$6:$Q$33,5,0),"") | E46: =IFERROR(VLOOKUP(B46,'пр.взв'!$D$6:$Q$33,6,0),"") | F46: =IFERROR(VLOOKUP(B46,'пр.взв'!$D$6:$Q$33,8,0),"") | K46: 6 | L46: ='пр.хода'!AF37 | M46: =IFERROR(VLOOKUP(L46,'пр.взв'!$D$6:$Q$33,2,0),"") | N46: =IFERROR(VLOOKUP(L46,'пр.взв'!$D$6:$Q$33,5,0),"") | O46: =IFERROR(VLOOKUP(L46,'пр.взв'!$D$6:$Q$33,6,0),"") | P46: =IFERROR(VLOOKUP(L46,'пр.взв'!$D$6:$Q$33,8,0),"")
B48: ='пр.хода'!E49 -> 13 | C48: =IFERROR(VLOOKUP(B48,'пр.взв'!$D$6:$Q$33,2,0),"") -> МОЛЧАНОВА Юлия | D48: =IFERROR(VLOOKUP(B48,'пр.взв'!$D$6:$Q$33,5,0),"") -> МС | E48: =IFERROR(VLOOKUP(B48,'пр.взв'!$D$6:$Q$33,6,0),"") -> ПФО | F48: =IFERROR(VLOOKUP(B48,'пр.взв'!$D$6:$Q$33,8,0),"") -> Нижегородская | L48: ='пр.хода'!AF49 -> 14 | M48: =IFERROR(VLOOKUP(L48,'пр.взв'!$D$6:$Q$33,2,0),"") -> РАХМАТУЛЛИНА Алла | N48: =IFERROR(VLOOKUP(L48,'пр.взв'!$D$6:$Q$33,5,0),"") -> КМС | O48: =IFERROR(VLOOKUP(L48,'пр.взв'!$D$6:$Q$33,6,0),"") -> ПФО | P48: =IFERROR(VLOOKUP(L48,'пр.взв'!$D$6:$Q$33,8,0),"") -> Башкортостан
A50: 3 | B50: ='пр.хода'!E61 | C50: =IFERROR(VLOOKUP(B50,'пр.взв'!$D$6:$Q$33,2,0),"") | D50: =IFERROR(VLOOKUP(B50,'пр.взв'!$D$6:$Q$33,5,0),"") | E50: =IFERROR(VLOOKUP(B50,'пр.взв'!$D$6:$Q$33,6,0),"") | F50: =IFERROR(VLOOKUP(B50,'пр.взв'!$D$6:$Q$33,8,0),"") | K50: 7 | L50: ='пр.хода'!AF61 | M50: =IFERROR(VLOOKUP(L50,'пр.взв'!$D$6:$Q$33,2,0),"") | N50: =IFERROR(VLOOKUP(L50,'пр.взв'!$D$6:$Q$33,5,0),"") | O50: =IFERROR(VLOOKUP(L50,'пр.взв'!$D$6:$Q$33,6,0),"") | P50: =IFERROR(VLOOKUP(L50,'пр.взв'!$D$6:$Q$33,8,0),"")
B52: ='пр.хода'!E73 -> 11 | C52: =IFERROR(VLOOKUP(B52,'пр.взв'!$D$6:$Q$33,2,0),"") -> МОЛЧАНОВА Мария | D52: =IFERROR(VLOOKUP(B52,'пр.взв'!$D$6:$Q$33,5,0),"") -> ЗМС | E52: =IFERROR(VLOOKUP(B52,'пр.взв'!$D$6:$Q$33,6,0),"") -> ПФО | F52: =IFERROR(VLOOKUP(B52,'пр.взв'!$D$6:$Q$33,8,0),"") -> Пермский | L52: ='пр.хода'!AF73 -> 12 | M52: =IFERROR(VLOOKUP(L52,'пр.взв'!$D$6:$Q$33,2,0),"") -> ГОРЕЛИКОВА Анна | N52: =IFERROR(VLOOKUP(L52,'пр.взв'!$D$6:$Q$33,5,0),"") -> МСМК | O52: =IFERROR(VLOOKUP(L52,'пр.взв'!$D$6:$Q$33,6,0),"") -> ЮФО | P52: =IFERROR(VLOOKUP(L52,'пр.взв'!$D$6:$Q$33,8,0),"") -> Краснодарский
A54: 4 | B54: ='пр.хода'!E85 | C54: =IFERROR(VLOOKUP(B54,'пр.взв'!$D$6:$Q$33,2,0),"") | D54: =IFERROR(VLOOKUP(B54,'пр.взв'!$D$6:$Q$33,5,0),"") | E54: =IFERROR(VLOOKUP(B54,'пр.взв'!$D$6:$Q$33,6,0),"") | F54: =IFERROR(VLOOKUP(B54,'пр.взв'!$D$6:$Q$33,8,0),"") | K54: 8 | L54: ='пр.хода'!AF85 -> 8 | M54: =IFERROR(VLOOKUP(L54,'пр.взв'!$D$6:$Q$33,2,0),"") -> КОБЕЛЕВА Оксана | N54: =IFERROR(VLOOKUP(L54,'пр.взв'!$D$6:$Q$33,5,0),"") -> МС | O54: =IFERROR(VLOOKUP(L54,'пр.взв'!$D$6:$Q$33,6,0),"") -> УФО | P54: =IFERROR(VLOOKUP(L54,'пр.взв'!$D$6:$Q$33,8,0),"") -> Свердловская
B56: ='пр.хода'!E97 -> 15 | C56: =IFERROR(VLOOKUP(B56,'пр.взв'!$D$6:$Q$33,2,0),"") -> МИРОНОВА Кристина | D56: =IFERROR(VLOOKUP(B56,'пр.взв'!$D$6:$Q$33,5,0),"") -> КМС | E56: =IFERROR(VLOOKUP(B56,'пр.взв'!$D$6:$Q$33,6,0),"") -> СФО | F56: =IFERROR(VLOOKUP(B56,'пр.взв'!$D$6:$Q$33,8,0),"") -> Новосибирская | L56: ='пр.хода'!AF97 -> 16 | M56: =IFERROR(VLOOKUP(L56,'пр.взв'!$D$6:$Q$34,2,0),"") -> СЕРГЕЕВА Алина | N56: =IFERROR(VLOOKUP(L56,'пр.взв'!$D$6:$Q$34,5,0),"") -> КМС | O56: =IFERROR(VLOOKUP(L56,'пр.взв'!$D$6:$Q$34,6,0),"") -> УФО | P56: =IFERROR(VLOOKUP(L56,'пр.взв'!$D$6:$Q$34,8,0),"") -> Тюменская
B58: =B38 -> 4 | C58: КОВЕР | L58: =L38 -> 4 | M58: КОВЕР
B59: A | C59: (Круг) | D59: 1/4 | G59: =G39 -> В.к. 50 кг | L59: B | M59: (Круг) | N59: 1/4 | Q59: =G59 -> В.к. 50 кг
A60: № встр | B60: № п/ж | C60: Ф.И.О. | D60: Д. р., разряд | E60: Вед., регион | G60: Оценки | H60: Очки | I60: Рез-т | J60: Время | K60: № встр | L60: № п/ж | M60: Ф.И.О. | N60: Д. р., разряд | O60: Вед., регион | Q60: Оценки | R60: Очки | S60: Рез-т | T60: Время
A62: 1 | B62: ='пр.хода'!G19 | C62: =IFERROR(VLOOKUP(B62,'пр.взв'!$D$6:$Q$33,2,0),"") | D62: =IFERROR(VLOOKUP(B62,'пр.взв'!$D$6:$Q$33,5,0),"") | E62: =IFERROR(VLOOKUP(B62,'пр.взв'!$D$6:$Q$33,6,0),"") | F62: =IFERROR(VLOOKUP(B62,'пр.взв'!$D$6:$Q$33,8,0),"") | K62: 3 | L62: ='пр.хода'!AD19 | M62: =IFERROR(VLOOKUP(L62,'пр.взв'!$D$6:$Q$33,2,0),"") | N62: =IFERROR(VLOOKUP(L62,'пр.взв'!$D$6:$Q$33,5,0),"") | O62: =IFERROR(VLOOKUP(L62,'пр.взв'!$D$6:$Q$33,6,0),"") | P62: =IFERROR(VLOOKUP(L62,'пр.взв'!$D$6:$Q$33,8,0),"")
B64: ='пр.хода'!G43 | C64: =IFERROR(VLOOKUP(B64,'пр.взв'!$D$6:$Q$33,2,0),"") | D64: =IFERROR(VLOOKUP(B64,'пр.взв'!$D$6:$Q$33,5,0),"") | E64: =IFERROR(VLOOKUP(B64,'пр.взв'!$D$6:$Q$33,6,0),"") | F64: =IFERROR(VLOOKUP(B64,'пр.взв'!$D$6:$Q$33,8,0),"") | L64: ='пр.хода'!AD43 | M64: =IFERROR(VLOOKUP(L64,'пр.взв'!$D$6:$Q$33,2,0),"") | N64: =IFERROR(VLOOKUP(L64,'пр.взв'!$D$6:$Q$33,5,0),"") | O64: =IFERROR(VLOOKUP(L64,'пр.взв'!$D$6:$Q$33,6,0),"") | P64: =IFERROR(VLOOKUP(L64,'пр.взв'!$D$6:$Q$33,8,0),"")
A66: 2 | B66: ='пр.хода'!G67 | C66: =IFERROR(VLOOKUP(B66,'пр.взв'!$D$6:$Q$33,2,0),"") | D66: =IFERROR(VLOOKUP(B66,'пр.взв'!$D$6:$Q$33,5,0),"") | E66: =IFERROR(VLOOKUP(B66,'пр.взв'!$D$6:$Q$33,6,0),"") | F66: =IFERROR(VLOOKUP(B66,'пр.взв'!$D$6:$Q$33,8,0),"") | K66: 4 | L66: ='пр.хода'!AD67 | M66: =IFERROR(VLOOKUP(L66,'пр.взв'!$D$6:$Q$33,2,0),"") | N66: =IFERROR(VLOOKUP(L66,'пр.взв'!$D$6:$Q$33,5,0),"") | O66: =IFERROR(VLOOKUP(L66,'пр.взв'!$D$6:$Q$33,6,0),"") | P66: =IFERROR(VLOOKUP(L66,'пр.взв'!$D$6:$Q$33,8,0),"")
B68: ='пр.хода'!G91 | C68: =IFERROR(VLOOKUP(B68,'пр.взв'!$D$6:$Q$33,2,0),"") | D68: =IFERROR(VLOOKUP(B68,'пр.взв'!$D$6:$Q$33,5,0),"") | E68: =IFERROR(VLOOKUP(B68,'пр.взв'!$D$6:$Q$33,6,0),"") | F68: =IFERROR(VLOOKUP(B68,'пр.взв'!$D$6:$Q$33,8,0),"") | L68: ='пр.хода'!AD91 | M68: =IFERROR(VLOOKUP(L68,'пр.взв'!$D$6:$Q$34,2,0),"") | N68: =IFERROR(VLOOKUP(L68,'пр.взв'!$D$6:$Q$34,5,0),"") | O68: =IFERROR(VLOOKUP(L68,'пр.взв'!$D$6:$Q$34,6,0),"") | P68: =IFERROR(VLOOKUP(L68,'пр.взв'!$D$6:$Q$34,8,0),"")
B70: =B58 -> 4 | C70: КОВЕР | L70: =L58 -> 4 | M70: КОВЕР
B71: A | C71: Полуфинал | G71: =G59 -> В.к. 50 кг | L71: Б | M71: Полуфинал | Q71: =G71 -> В.к. 50 кг
...

Sheet Табло
B1: ВСТРЕЧИ ПО КРУГАМ | M1: ВСТРЕЧИ ПО КРУГАМ
B2: 3 | C2: КОВЕР | E2: ='пр.взв'!H4 | M2: =B2 -> 3 | N2: КОВЕР | P2: =F2
B3: A | C3: (Круг) | D3: 1/16 | F3: 1/16 | G3: ='пр.взв'!G4 -> В.к. 50 кг | M3: Б | N3: (Круг) | O3: 1/16 | P3: 1/16 | R3: =G3 -> В.к. 50 кг
A4: № встр | B4: № п/ж | C4: Ф.И.О. | D4: Д. р., разряд | E4: Округ., субъект | G4: Оценки | H4: Очки | I4: Рез-т | J4: Время | L4: № встр | M4: № п/ж | N4: Ф.И.О. | O4: Д. р., разряд | P4: Вед., регион | R4: Оценки | S4: Очки | T4: Рез-т | U4: Время
A41: 1 | B41: 1 | C41: =IFERROR(VLOOKUP(B41,'пр.взв'!$D$6:$Q$30,2,0),"") -> ЕГОРОВА Елизавета | D41: =IFERROR(VLOOKUP(B41,'пр.взв'!$D$6:$Q$30,5,0),"") -> МС | E41: =IFERROR(VLOOKUP(B41,'пр.взв'!$D$6:$Q$30,6,0),"") -> ПФО | F41: =IFERROR(VLOOKUP(B41,'пр.взв'!$D$6:$Q$30,8,0),"") -> Чувашская | L41: 9 | M41: 2 | N41: =IFERROR(VLOOKUP(M41,'пр.взв'!$D$6:$Q$30,2,0),"") -> НЕФЁДОВА Екатерина | O41: =IFERROR(VLOOKUP(M41,'пр.взв'!$D$6:$Q$30,5,0),"") -> МС | P41: =IFERROR(VLOOKUP(M41,'пр.взв'!$D$6:$Q$30,6,0),"") -> УФО | Q41: =IFERROR(VLOOKUP(M41,'пр.взв'!$D$6:$Q$30,8,0),"") -> Курганская
B42: 17 | C42: =IFERROR(VLOOKUP(B42,'пр.взв'!$D$6:$Q$30,2,0),"") -> ВАРЛАМОВА Кристина | D42: =IFERROR(VLOOKUP(B42,'пр.взв'!$D$6:$Q$30,5,0),"") -> МС | E42: =IFERROR(VLOOKUP(B42,'пр.взв'!$D$6:$Q$30,6,0),"") -> ЮФО | F42: =IFERROR(VLOOKUP(B42,'пр.взв'!$D$6:$Q$30,8,0),"") -> Краснодарский | M42: 18 | N42: =IFERROR(VLOOKUP(M42,'пр.взв'!$D$6:$Q$30,2,0),"") -> АКИФЬЕВА Екатерина | O42: =IFERROR(VLOOKUP(M42,'пр.взв'!$D$6:$Q$30,5,0),"") -> 1р | P42: =IFERROR(VLOOKUP(M42,'пр.взв'!$D$6:$Q$30,6,0),"") -> ПФО | Q42: =IFERROR(VLOOKUP(M42,'пр.взв'!$D$6:$Q$30,8,0),"") -> Самарская
A43: 2 | B43: 9 | C43: =IFERROR(VLOOKUP(B43,'пр.взв'!$D$6:$Q$30,2,0),"") -> ГИЛЯЗОВА Сабина | D43: =IFERROR(VLOOKUP(B43,'пр.взв'!$D$6:$Q$30,5,0),"") -> МС | E43: =IFERROR(VLOOKUP(B43,'пр.взв'!$D$6:$Q$30,6,0),"") -> УФО | F43: =IFERROR(VLOOKUP(B43,'пр.взв'!$D$6:$Q$30,8,0),"") -> Свердловская | L43: 10 | M43: 10 | N43: =IFERROR(VLOOKUP(M43,'пр.взв'!$D$6:$Q$30,2,0),"") -> ПОЛЫГАЛОВА Ольга | O43: =IFERROR(VLOOKUP(M43,'пр.взв'!$D$6:$Q$30,5,0),"") -> КМС | P43: =IFERROR(VLOOKUP(M43,'пр.взв'!$D$6:$Q$30,6,0),"") -> ПФО | Q43: =IFERROR(VLOOKUP(M43,'пр.взв'!$D$6:$Q$30,8,0),"") -> Пермский
B44: 25 | C44: =IFERROR(VLOOKUP(B44,'пр.взв'!$D$6:$Q$30,2,0),"") | D44: =IFERROR(VLOOKUP(B44,'пр.взв'!$D$6:$Q$30,5,0),"") | E44: =IFERROR(VLOOKUP(B44,'пр.взв'!$D$6:$Q$30,6,0),"") | F44: =IFERROR(VLOOKUP(B44,'пр.взв'!$D$6:$Q$30,8,0),"") | M44: 26 | N44: =IFERROR(VLOOKUP(M44,'пр.взв'!$D$6:$Q$30,2,0),"") | O44: =IFERROR(VLOOKUP(M44,'пр.взв'!$D$6:$Q$30,5,0),"") | P44: =IFERROR(VLOOKUP(M44,'пр.взв'!$D$6:$Q$30,6,0),"") | Q44: =IFERROR(VLOOKUP(M44,'пр.взв'!$D$6:$Q$30,8,0),"")
A45: 3 | B45: 5 | C45: =IFERROR(VLOOKUP(B45,'пр.взв'!$D$6:$Q$30,2,0),"") -> БОРЕЦ Виктория | D45: =IFERROR(VLOOKUP(B45,'пр.взв'!$D$6:$Q$30,5,0),"") -> КМС | E45: =IFERROR(VLOOKUP(B45,'пр.взв'!$D$6:$Q$30,6,0),"") -> МОС | F45: =IFERROR(VLOOKUP(B45,'пр.взв'!$D$6:$Q$30,8,0),"") -> Москва | L45: 11 | M45: 6 | N45: =IFERROR(VLOOKUP(M45,'пр.взв'!$D$6:$Q$30,2,0),"") -> ЕВСЕЕВА Екатерина | O45: =IFERROR(VLOOKUP(M45,'пр.взв'!$D$6:$Q$30,5,0),"") -> МС | P45: =IFERROR(VLOOKUP(M45,'пр.взв'!$D$6:$Q$30,6,0),"") -> УФО | Q45: =IFERROR(VLOOKUP(M45,'пр.взв'!$D$6:$Q$30,8,0),"") -> Свердловская
B46: 21 | C46: =IFERROR(VLOOKUP(B46,'пр.взв'!$D$6:$Q$30,2,0),"") -> МИХАЛЕВА Елена | D46: =IFERROR(VLOOKUP(B46,'пр.взв'!$D$6:$Q$30,5,0),"") -> МС | E46: =IFERROR(VLOOKUP(B46,'пр.взв'!$D$6:$Q$30,6,0),"") -> ЦФО | F46: =IFERROR(VLOOKUP(B46,'пр.взв'!$D$6:$Q$30,8,0),"") -> Московская | M46: 22 | N46: =IFERROR(VLOOKUP(M46,'пр.взв'!$D$6:$Q$30,2,0),"") -> КАРЕКЯН Кристина | O46: =IFERROR(VLOOKUP(M46,'пр.взв'!$D$6:$Q$30,5,0),"") -> МС | P46: =IFERROR(VLOOKUP(M46,'пр.взв'!$D$6:$Q$30,6,0),"") -> ЮФО | Q46: =IFERROR(VLOOKUP(M46,'пр.взв'!$D$6:$Q$30,8,0),"") -> Краснодарский
A47: 4 | B47: 13 | C47: =IFERROR(VLOOKUP(B47,'пр.взв'!$D$6:$Q$30,2,0),"") -> МОЛЧАНОВА Юлия | D47: =IFERROR(VLOOKUP(B47,'пр.взв'!$D$6:$Q$30,5,0),"") -> МС | E47: =IFERROR(VLOOKUP(B47,'пр.взв'!$D$6:$Q$30,6,0),"") -> ПФО | F47: =IFERROR(VLOOKUP(B47,'пр.взв'!$D$6:$Q$30,8,0),"") -> Нижегородская | L47: 12 | M47: 14 | N47: =IFERROR(VLOOKUP(M47,'пр.взв'!$D$6:$Q$30,2,0),"") -> РАХМАТУЛЛИНА Алла | O47: =IFERROR(VLOOKUP(M47,'пр.взв'!$D$6:$Q$30,5,0),"") -> КМС | P47: =IFERROR(VLOOKUP(M47,'пр.взв'!$D$6:$Q$30,6,0),"") -> ПФО | Q47: =IFERROR(VLOOKUP(M47,'пр.взв'!$D$6:$Q$30,8,0),"") -> Башкортостан
B48: 29 | C48: =IFERROR(VLOOKUP(B48,'пр.взв'!$D$6:$Q$30,2,0),"") | D48: =IFERROR(VLOOKUP(B48,'пр.взв'!$D$6:$Q$30,5,0),"") | E48: =IFERROR(VLOOKUP(B48,'пр.взв'!$D$6:$Q$30,6,0),"") | F48: =IFERROR(VLOOKUP(B48,'пр.взв'!$D$6:$Q$30,8,0),"") | M48: 30 | N48: =IFERROR(VLOOKUP(M48,'пр.взв'!$D$6:$Q$30,2,0),"") | O48: =IFERROR(VLOOKUP(M48,'пр.взв'!$D$6:$Q$30,5,0),"") | P48: =IFERROR(VLOOKUP(M48,'пр.взв'!$D$6:$Q$30,6,0),"") | Q48: =IFERROR(VLOOKUP(M48,'пр.взв'!$D$6:$Q$30,8,0),"")
A49: 5 | B49: 3 | C49: =IFERROR(VLOOKUP(B49,'пр.взв'!$D$6:$Q$30,2,0),"") -> ЕМЕЛЮКОВА Софья | D49: =IFERROR(VLOOKUP(B49,'пр.взв'!$D$6:$Q$30,5,0),"") -> МС | E49: =IFERROR(VLOOKUP(B49,'пр.взв'!$D$6:$Q$30,6,0),"") -> ПФО | F49: =IFERROR(VLOOKUP(B49,'пр.взв'!$D$6:$Q$30,8,0),"") -> Чувашская | L49: 13 | M49: 4 | N49: =IFERROR(VLOOKUP(M49,'пр.взв'!$D$6:$Q$30,2,0),"") -> БЛИНОВА Ксения | O49: =IFERROR(VLOOKUP(M49,'пр.взв'!$D$6:$Q$30,5,0),"") -> МС | P49: =IFERROR(VLOOKUP(M49,'пр.взв'!$D$6:$Q$30,6,0),"") -> СФО | Q49: =IFERROR(VLOOKUP(M49,'пр.взв'!$D$6:$Q$30,8,0),"") -> Новосибирская
B50: 19 | C50: =IFERROR(VLOOKUP(B50,'пр.взв'!$D$6:$Q$30,2,0),"") -> АБДУЛЛИНА Елена | D50: =IFERROR(VLOOKUP(B50,'пр.взв'!$D$6:$Q$30,5,0),"") -> МС | E50: =IFERROR(VLOOKUP(B50,'пр.взв'!$D$6:$Q$30,6,0),"") -> ПФО | F50: =IFERROR(VLOOKUP(B50,'пр.взв'!$D$6:$Q$30,8,0),"") -> Башкортостан | M50: 20 | N50: =IFERROR(VLOOKUP(M50,'пр.взв'!$D$6:$Q$30,2,0),"") -> ФЕДОРОВА Татьяна | O50: =IFERROR(VLOOKUP(M50,'пр.взв'!$D$6:$Q$30,5,0),"") -> МС | P50: =IFERROR(VLOOKUP(M50,'пр.взв'!$D$6:$Q$30,6,0),"") -> ПФО | Q50: =IFERROR(VLOOKUP(M50,'пр.взв'!$D$6:$Q$30,8,0),"") -> Чувашская
A51: 6 | B51: 11 | C51: =IFERROR(VLOOKUP(B51,'пр.взв'!$D$6:$Q$30,2,0),"") -> МОЛЧАНОВА Мария | D51: =IFERROR(VLOOKUP(B51,'пр.взв'!$D$6:$Q$30,5,0),"") -> ЗМС | E51: =IFERROR(VLOOKUP(B51,'пр.взв'!$D$6:$Q$30,6,0),"") -> ПФО | F51: =IFERROR(VLOOKUP(B51,'пр.взв'!$D$6:$Q$30,8,0),"") -> Пермский | L51: 14 | M51: 12 | N51: =IFERROR(VLOOKUP(M51,'пр.взв'!$D$6:$Q$30,2,0),"") -> ГОРЕЛИКОВА Анна | O51: =IFERROR(VLOOKUP(M51,'пр.взв'!$D$6:$Q$30,5,0),"") -> МСМК | P51: =IFERROR(VLOOKUP(M51,'пр.взв'!$D$6:$Q$30,6,0),"") -> ЮФО | Q51: =IFERROR(VLOOKUP(M51,'пр.взв'!$D$6:$Q$30,8,0),"") -> Краснодарский
B52: 27 | C52: =IFERROR(VLOOKUP(B52,'пр.взв'!$D$6:$Q$30,2,0),"") | D52: =IFERROR(VLOOKUP(B52,'пр.взв'!$D$6:$Q$30,5,0),"") | E52: =IFERROR(VLOOKUP(B52,'пр.взв'!$D$6:$Q$30,6,0),"") | F52: =IFERROR(VLOOKUP(B52,'пр.взв'!$D$6:$Q$30,8,0),"") | M52: 28 | N52: =IFERROR(VLOOKUP(M52,'пр.взв'!$D$6:$Q$30,2,0),"") | O52: =IFERROR(VLOOKUP(M52,'пр.взв'!$D$6:$Q$30,5,0),"") | P52: =IFERROR(VLOOKUP(M52,'пр.взв'!$D$6:$Q$30,6,0),"") | Q52: =IFERROR(VLOOKUP(M52,'пр.взв'!$D$6:$Q$30,8,0),"")
A53: 7 | B53: 7 | C53: =IFERROR(VLOOKUP(B53,'пр.взв'!$D$6:$Q$30,2,0),"") -> ДУДИНА Кристина | D53: =IFERROR(VLOOKUP(B53,'пр.взв'!$D$6:$Q$30,5,0),"") -> МС | E53: =IFERROR(VLOOKUP(B53,'пр.взв'!$D$6:$Q$30,6,0),"") -> УФО | F53: =IFERROR(VLOOKUP(B53,'пр.взв'!$D$6:$Q$30,8,0),"") -> Свердловская | L53: 15 | M53: 8 | N53: =IFERROR(VLOOKUP(M53,'пр.взв'!$D$6:$Q$30,2,0),"") -> КОБЕЛЕВА Оксана | O53: =IFERROR(VLOOKUP(M53,'пр.взв'!$D$6:$Q$30,5,0),"") -> МС | P53: =IFERROR(VLOOKUP(M53,'пр.взв'!$D$6:$Q$30,6,0),"") -> УФО | Q53: =IFERROR(VLOOKUP(M53,'пр.взв'!$D$6:$Q$30,8,0),"") -> Свердловская
B54: 23 | C54: =IFERROR(VLOOKUP(B54,'пр.взв'!$D$6:$Q$30,2,0),"") -> ДИКАЯ Валентина | D54: =IFERROR(VLOOKUP(B54,'пр.взв'!$D$6:$Q$30,5,0),"") -> МС | E54: =IFERROR(VLOOKUP(B54,'пр.взв'!$D$6:$Q$30,6,0),"") -> СПБ | F54: =IFERROR(VLOOKUP(B54,'пр.взв'!$D$6:$Q$30,8,0),"") -> Санкт-Петербург | M54: 24 | N54: =IFERROR(VLOOKUP(M54,'пр.взв'!$D$6:$Q$30,2,0),"") | O54: =IFERROR(VLOOKUP(M54,'пр.взв'!$D$6:$Q$30,5,0),"") | P54: =IFERROR(VLOOKUP(M54,'пр.взв'!$D$6:$Q$30,6,0),"") | Q54: =IFERROR(VLOOKUP(M54,'пр.взв'!$D$6:$Q$30,8,0),"")
A55: 8 | B55: 15 | C55: =IFERROR(VLOOKUP(B55,'пр.взв'!$D$6:$Q$30,2,0),"") -> МИРОНОВА Кристина | D55: =IFERROR(VLOOKUP(B55,'пр.взв'!$D$6:$Q$30,5,0),"") -> КМС | E55: =IFERROR(VLOOKUP(B55,'пр.взв'!$D$6:$Q$30,6,0),"") -> СФО | F55: =IFERROR(VLOOKUP(B55,'пр.взв'!$D$6:$Q$30,8,0),"") -> Новосибирская | L55: 16 | M55: 16 | N55: =IFERROR(VLOOKUP(M55,'пр.взв'!$D$6:$Q$30,2,0),"") -> СЕРГЕЕВА Алина | O55: =IFERROR(VLOOKUP(M55,'пр.взв'!$D$6:$Q$30,5,0),"") -> КМС | P55: =IFERROR(VLOOKUP(M55,'пр.взв'!$D$6:$Q$30,6,0),"") -> УФО | Q55: =IFERROR(VLOOKUP(M55,'пр.взв'!$D$6:$Q$30,8,0),"") -> Тюменская
B56: 31 | C56: =IFERROR(VLOOKUP(B56,'пр.взв'!$D$6:$Q$30,2,0),"") | D56: =IFERROR(VLOOKUP(B56,'пр.взв'!$D$6:$Q$30,5,0),"") | E56: =IFERROR(VLOOKUP(B56,'пр.взв'!$D$6:$Q$30,6,0),"") | F56: =IFERROR(VLOOKUP(B56,'пр.взв'!$D$6:$Q$30,8,0),"") | M56: 32 | N56: =IFERROR(VLOOKUP(M56,'пр.взв'!$D$6:$Q$30,2,0),"") | O56: =IFERROR(VLOOKUP(M56,'пр.взв'!$D$6:$Q$30,5,0),"") | P56: =IFERROR(VLOOKUP(M56,'пр.взв'!$D$6:$Q$30,6,0),"") | Q56: =IFERROR(VLOOKUP(M56,'пр.взв'!$D$6:$Q$30,8,0),"")
B57: № п/ж | C57: Подгруппа А | D57: 1/8 | F57: 1/8 | G57: =G3 -> В.к. 50 кг | M57: № п/ж | N57: Подгруппа Б | O57: 1/8 | Q57: 1/8 | R57: =G57 -> В.к. 50 кг
A58: № встр | B58: № п/ж | C58: Ф.И.О. | D58: Д. р., разряд | E58: Округ., субъект | G58: Оценки | H58: Очки | I58: Рез-т | J58: Время | L58: № встр | N58: Ф.И.О. | O58: Д. р., разряд | P58: Округ., субъект | R58: Оценки | S58: Очки | T58: Рез-т | U58: Время
A60: 1 | B60: ='пр.хода'!E13 | C60: =IFERROR(VLOOKUP(B60,'пр.взв'!$D$6:$Q$30,2,0),"") | D60: =IFERROR(VLOOKUP(B60,'пр.взв'!$D$6:$Q$30,5,0),"") | E60: =IFERROR(VLOOKUP(B60,'пр.взв'!$D$6:$Q$30,6,0),"") | F60: =IFERROR(VLOOKUP(B60,'пр.взв'!$D$6:$Q$30,8,0),"") | L60: 5 | M60: ='пр.хода'!AF13 | N60: =IFERROR(VLOOKUP(M60,'пр.взв'!$D$6:$Q$30,2,0),"") | O60: =IFERROR(VLOOKUP(M60,'пр.взв'!$D$6:$Q$30,5,0),"") | P60: =IFERROR(VLOOKUP(M60,'пр.взв'!$D$6:$Q$30,6,0),"") | Q60: =IFERROR(VLOOKUP(M60,'пр.взв'!$D$6:$Q$30,8,0),"")
B61: ='пр.хода'!E25 -> 9 | C61: =IFERROR(VLOOKUP(B61,'пр.взв'!$D$6:$Q$30,2,0),"") -> ГИЛЯЗОВА Сабина | D61: =IFERROR(VLOOKUP(B61,'пр.взв'!$D$6:$Q$30,5,0),"") -> МС | E61: =IFERROR(VLOOKUP(B61,'пр.взв'!$D$6:$Q$30,6,0),"") -> УФО | F61: =IFERROR(VLOOKUP(B61,'пр.взв'!$D$6:$Q$30,8,0),"") -> Свердловская | M61: ='пр.хода'!AF25 -> 10 | N61: =IFERROR(VLOOKUP(M61,'пр.взв'!$D$6:$Q$30,2,0),"") -> ПОЛЫГАЛОВА Ольга | O61: =IFERROR(VLOOKUP(M61,'пр.взв'!$D$6:$Q$30,5,0),"") -> КМС | P61: =IFERROR(VLOOKUP(M61,'пр.взв'!$D$6:$Q$30,6,0),"") -> ПФО | Q61: =IFERROR(VLOOKUP(M61,'пр.взв'!$D$6:$Q$30,8,0),"") -> Пермский
A62: 2 | B62: ='пр.хода'!E37 | C62: =IFERROR(VLOOKUP(B62,'пр.взв'!$D$6:$Q$30,2,0),"") | D62: =IFERROR(VLOOKUP(B62,'пр.взв'!$D$6:$Q$30,5,0),"") | E62: =IFERROR(VLOOKUP(B62,'пр.взв'!$D$6:$Q$30,6,0),"") | F62: =IFERROR(VLOOKUP(B62,'пр.взв'!$D$6:$Q$30,8,0),"") | L62: 6 | M62: ='пр.хода'!AF37 | N62: =IFERROR(VLOOKUP(M62,'пр.взв'!$D$6:$Q$30,2,0),"") | O62: =IFERROR(VLOOKUP(M62,'пр.взв'!$D$6:$Q$30,5,0),"") | P62: =IFERROR(VLOOKUP(M62,'пр.взв'!$D$6:$Q$30,6,0),"") | Q62: =IFERROR(VLOOKUP(M62,'пр.взв'!$D$6:$Q$30,8,0),"")
B63: ='пр.хода'!E49 -> 13 | C63: =IFERROR(VLOOKUP(B63,'пр.взв'!$D$6:$Q$30,2,0),"") -> МОЛЧАНОВА Юлия | D63: =IFERROR(VLOOKUP(B63,'пр.взв'!$D$6:$Q$30,5,0),"") -> МС | E63: =IFERROR(VLOOKUP(B63,'пр.взв'!$D$6:$Q$30,6,0),"") -> ПФО | F63: =IFERROR(VLOOKUP(B63,'пр.взв'!$D$6:$Q$30,8,0),"") -> Нижегородская | M63: ='пр.хода'!AF49 -> 14 | N63: =IFERROR(VLOOKUP(M63,'пр.взв'!$D$6:$Q$30,2,0),"") -> РАХМАТУЛЛИНА Алла | O63: =IFERROR(VLOOKUP(M63,'пр.взв'!$D$6:$Q$30,5,0),"") -> КМС | P63: =IFERROR(VLOOKUP(M63,'пр.взв'!$D$6:$Q$30,6,0),"") -> ПФО | Q63: =IFERROR(VLOOKUP(M63,'пр.взв'!$D$6:$Q$30,8,0),"") -> Башкортостан
A64: 3 | B64: ='пр.хода'!E61 | C64: =IFERROR(VLOOKUP(B64,'пр.взв'!$D$6:$Q$30,2,0),"") | D64: =IFERROR(VLOOKUP(B64,'пр.взв'!$D$6:$Q$30,5,0),"") | E64: =IFERROR(VLOOKUP(B64,'пр.взв'!$D$6:$Q$30,6,0),"") | F64: =IFERROR(VLOOKUP(B64,'пр.взв'!$D$6:$Q$30,8,0),"") | L64: 7 | M64: ='пр.хода'!AF61 | N64: =IFERROR(VLOOKUP(M64,'пр.взв'!$D$6:$Q$30,2,0),"") | O64: =IFERROR(VLOOKUP(M64,'пр.взв'!$D$6:$Q$30,5,0),"") | P64: =IFERROR(VLOOKUP(M64,'пр.взв'!$D$6:$Q$30,6,0),"") | Q64: =IFERROR(VLOOKUP(M64,'пр.взв'!$D$6:$Q$30,8,0),"")
B65: ='пр.хода'!E73 -> 11 | C65: =IFERROR(VLOOKUP(B65,'пр.взв'!$D$6:$Q$30,2,0),"") -> МОЛЧАНОВА Мария | D65: =IFERROR(VLOOKUP(B65,'пр.взв'!$D$6:$Q$30,5,0),"") -> ЗМС | E65: =IFERROR(VLOOKUP(B65,'пр.взв'!$D$6:$Q$30,6,0),"") -> ПФО | F65: =IFERROR(VLOOKUP(B65,'пр.взв'!$D$6:$Q$30,8,0),"") -> Пермский | M65: ='пр.хода'!AF73 -> 12 | N65: =IFERROR(VLOOKUP(M65,'пр.взв'!$D$6:$Q$30,2,0),"") -> ГОРЕЛИКОВА Анна | O65: =IFERROR(VLOOKUP(M65,'пр.взв'!$D$6:$Q$30,5,0),"") -> МСМК | P65: =IFERROR(VLOOKUP(M65,'пр.взв'!$D$6:$Q$30,6,0),"") -> ЮФО | Q65: =IFERROR(VLOOKUP(M65,'пр.взв'!$D$6:$Q$30,8,0),"") -> Краснодарский
A66: 4 | B66: ='пр.хода'!E85 | C66: =IFERROR(VLOOKUP(B66,'пр.взв'!$D$6:$Q$30,2,0),"") | D66: =IFERROR(VLOOKUP(B66,'пр.взв'!$D$6:$Q$30,5,0),"") | E66: =IFERROR(VLOOKUP(B66,'пр.взв'!$D$6:$Q$30,6,0),"") | F66: =IFERROR(VLOOKUP(B66,'пр.взв'!$D$6:$Q$30,8,0),"") | L66: 8 | M66: ='пр.хода'!AF85 -> 8 | N66: =IFERROR(VLOOKUP(M66,'пр.взв'!$D$6:$Q$30,2,0),"") -> КОБЕЛЕВА Оксана | O66: =IFERROR(VLOOKUP(M66,'пр.взв'!$D$6:$Q$30,5,0),"") -> МС | P66: =IFERROR(VLOOKUP(M66,'пр.взв'!$D$6:$Q$30,6,0),"") -> УФО | Q66: =IFERROR(VLOOKUP(M66,'пр.взв'!$D$6:$Q$30,8,0),"") -> Свердловская
B67: ='пр.хода'!E97 -> 15 | C67: =IFERROR(VLOOKUP(B67,'пр.взв'!$D$6:$Q$30,2,0),"") -> МИРОНОВА Кристина | D67: =IFERROR(VLOOKUP(B67,'пр.взв'!$D$6:$Q$30,5,0),"") -> КМС | E67: =IFERROR(VLOOKUP(B67,'пр.взв'!$D$6:$Q$30,6,0),"") -> СФО | F67: =IFERROR(VLOOKUP(B67,'пр.взв'!$D$6:$Q$30,8,0),"") -> Новосибирская | M67: ='пр.хода'!AF97 -> 16 | N67: =IFERROR(VLOOKUP(M67,'пр.взв'!$D$6:$Q$30,2,0),"") -> СЕРГЕЕВА Алина | O67: =IFERROR(VLOOKUP(M67,'пр.взв'!$D$6:$Q$30,5,0),"") -> КМС | P67: =IFERROR(VLOOKUP(M67,'пр.взв'!$D$6:$Q$30,6,0),"") -> УФО | Q67: =IFERROR(VLOOKUP(M67,'пр.взв'!$D$6:$Q$30,8,0),"") -> Тюменская
B68: A | C68: (Круг) | D68: 1/4 | F68: 1/4 | G68: =G57 -> В.к. 50 кг | M68: B | N68: (Круг) | O68: 1/4 | P68: 1/4 | R68: =G68 -> В.к. 50 кг
A69: № встр | B69: № п/ж | C69: Ф.И.О. | D69: Д. р., разряд | E69: Вед., регион | G69: Оценки | H69: Очки | I69: Рез-т | J69: Время | L69: № встр | M69: № п/ж | N69: Ф.И.О. | O69: Д. р., разряд | P69: Вед., регион | R69: Оценки | S69: Очки | T69: Рез-т | U69: Время
A71: 1 | B71: ='пр.хода'!G19 | C71: =IFERROR(VLOOKUP(B71,'пр.взв'!$D$6:$Q$30,2,0),"") | D71: =IFERROR(VLOOKUP(B71,'пр.взв'!$D$6:$Q$30,5,0),"") | E71: =IFERROR(VLOOKUP(B71,'пр.взв'!$D$6:$Q$30,6,0),"") | F71: =IFERROR(VLOOKUP(B71,'пр.взв'!$D$6:$Q$30,8,0),"") | L71: 3 | M71: ='пр.хода'!AD19 | N71: =IFERROR(VLOOKUP(M71,'пр.взв'!$D$6:$Q$30,2,0),"") | O71: =IFERROR(VLOOKUP(M71,'пр.взв'!$D$6:$Q$30,5,0),"") | P71: =IFERROR(VLOOKUP(M71,'пр.взв'!$D$6:$Q$30,6,0),"") | Q71: =IFERROR(VLOOKUP(M71,'пр.взв'!$D$6:$Q$30,8,0),"")
B72: ='пр.хода'!G43 | C72: =IFERROR(VLOOKUP(B72,'пр.взв'!$D$6:$Q$30,2,0),"") | D72: =IFERROR(VLOOKUP(B72,'пр.взв'!$D$6:$Q$30,5,0),"") | E72: =IFERROR(VLOOKUP(B72,'пр.взв'!$D$6:$Q$30,6,0),"") | F72: =IFERROR(VLOOKUP(B72,'пр.взв'!$D$6:$Q$30,8,0),"") | M72: ='пр.хода'!AD43 | N72: =IFERROR(VLOOKUP(M72,'пр.взв'!$D$6:$Q$30,2,0),"") | O72: =IFERROR(VLOOKUP(M72,'пр.взв'!$D$6:$Q$30,5,0),"") | P72: =IFERROR(VLOOKUP(M72,'пр.взв'!$D$6:$Q$30,6,0),"") | Q72: =IFERROR(VLOOKUP(M72,'пр.взв'!$D$6:$Q$30,8,0),"")
A73: 2 | B73: ='пр.хода'!G67 | C73: =IFERROR(VLOOKUP(B73,'пр.взв'!$D$6:$Q$30,2,0),"") | D73: =IFERROR(VLOOKUP(B73,'пр.взв'!$D$6:$Q$30,5,0),"") | E73: =IFERROR(VLOOKUP(B73,'пр.взв'!$D$6:$Q$30,6,0),"") | F73: =IFERROR(VLOOKUP(B73,'пр.взв'!$D$6:$Q$30,8,0),"") | L73: 4 | M73: ='пр.хода'!AD67 | N73: =IFERROR(VLOOKUP(M73,'пр.взв'!$D$6:$Q$30,2,0),"") | O73: =IFERROR(VLOOKUP(M73,'пр.взв'!$D$6:$Q$30,5,0),"") | P73: =IFERROR(VLOOKUP(M73,'пр.взв'!$D$6:$Q$30,6,0),"") | Q73: =IFERROR(VLOOKUP(M73,'пр.взв'!$D$6:$Q$30,8,0),"")
B74: ='пр.хода'!G91 | C74: =IFERROR(VLOOKUP(B74,'пр.взв'!$D$6:$Q$30,2,0),"") | D74: =IFERROR(VLOOKUP(B74,'пр.взв'!$D$6:$Q$30,5,0),"") | E74: =IFERROR(VLOOKUP(B74,'пр.взв'!$D$6:$Q$30,6,0),"") | F74: =IFERROR(VLOOKUP(B74,'пр.взв'!$D$6:$Q$30,8,0),"") | M74: ='пр.хода'!AD91 | N74: =IFERROR(VLOOKUP(M74,'пр.взв'!$D$6:$Q$30,2,0),"") | O74: =IFERROR(VLOOKUP(M74,'пр.взв'!$D$6:$Q$30,5,0),"") | P74: =IFERROR(VLOOKUP(M74,'пр.взв'!$D$6:$Q$30,6,0),"") | Q74: =IFERROR(VLOOKUP(M74,'пр.взв'!$D$6:$Q$30,8,0),"")
B75: A | C75: Полуфинал | G75: =G68 -> В.к. 50 кг | M75: Б | N75: Полуфинал | R75: =G75 -> В.к. 50 кг
A76: № встр | B76: № п/ж | C76: Ф.И.О. | D76: Д. р., разряд | E76: Вед., регион | G76: Оценки | H76: Очки | I76: Рез-т | J76: Время | L76: № встр | M76: № п/ж | N76: Ф.И.О. | O76: Д. р., разряд | P76: Вед., регион | R76: Оценки | S76: Очки | T76: Рез-т | U76: Время
A78: 1 | B78: ='пр.хода'!I31 | C78: =IFERROR(VLOOKUP(B78,'пр.взв'!$D$6:$Q$30,2,0),"") | D78: =IFERROR(VLOOKUP(B78,'пр.взв'!$D$6:$Q$30,5,0),"") | E78: =IFERROR(VLOOKUP(B78,'пр.взв'!$D$6:$Q$30,6,0),"") | F78: =IFERROR(VLOOKUP(B78,'пр.взв'!$D$6:$Q$30,8,0),"") | L78: 2 | M78: ='пр.хода'!AB31 | N78: =IFERROR(VLOOKUP(M78,'пр.взв'!$D$6:$Q$30,2,0),"") | O78: =IFERROR(VLOOKUP(M78,'пр.взв'!$D$6:$Q$30,5,0),"") | P78: =IFERROR(VLOOKUP(M78,'пр.взв'!$D$6:$Q$30,6,0),"") | Q78: =IFERROR(VLOOKUP(M78,'пр.взв'!$D$6:$Q$30,8,0),"")
B79: ='пр.хода'!I79 | C79: =IFERROR(VLOOKUP(B79,'пр.взв'!$D$6:$Q$30,2,0),"") | D79: =IFERROR(VLOOKUP(B79,'пр.взв'!$D$6:$Q$30,5,0),"") | E79: =IFERROR(VLOOKUP(B79,'пр.взв'!$D$6:$Q$30,6,0),"") | F79: =IFERROR(VLOOKUP(B79,'пр.взв'!$D$6:$Q$30,8,0),"") | M79: ='пр.хода'!AB79 | N79: =IFERROR(VLOOKUP(M79,'пр.взв'!$D$6:$Q$30,2,0),"") | O79: =IFERROR(VLOOKUP(M79,'пр.взв'!$D$6:$Q$30,5,0),"") | P79: =IFERROR(VLOOKUP(M79,'пр.взв'!$D$6:$Q$30,6,0),"") | Q79: =IFERROR(VLOOKUP(M79,'пр.взв'!$D$6:$Q$30,8,0),"")
...

Sheet медали
A1: ='пр.взв'!C2 -> Чемпионат России по самбо среди женщин (отбор на Первенство Мира и Европы) ЕКП № 23747
E2: =HYPERLINK('пр.взв'!D4)
C3: За 3-е место
C4: ВСТРЕЧА 1
A5: Цвет | B5: № п/ж | C5: Ф.И.О. | D5: Д. р., разряд | E5: Вед., регион | G5: Оценки | H5: Очки | I5: Рез-т | J5: Время
B7: ='пр.хода'!V16 | C7: =IFERROR(VLOOKUP(B7,'пр.взв'!$D$6:$M$34,2,0),"") | D7: =IFERROR(VLOOKUP(B7,'пр.взв'!$D$6:$M$34,5,0),"") | E7: =IFERROR(VLOOKUP(B7,'пр.взв'!$D$6:$M$34,6,0),"") | F7: =IFERROR(VLOOKUP(B7,'пр.взв'!$D$6:$M$34,8,0),"")
B9: ='пр.хода'!V26 | C9: =IFERROR(VLOOKUP(B9,'пр.взв'!$D$6:$M$34,2,0),"") | D9: =IFERROR(VLOOKUP(B9,'пр.взв'!$D$6:$M$34,5,0),"") | E9: =IFERROR(VLOOKUP(B9,'пр.взв'!$D$6:$M$34,6,0),"") | F9: =IFERROR(VLOOKUP(B9,'пр.взв'!$D$6:$M$34,8,0),"")
A11: Руководитель ковра
B12: А
B13: Б
C15: За 3-е место
C16: ВСТРЕЧА 2 | E16: =E2
A17: Цвет | B17: № п/ж | C17: Ф.И.О. | D17: Д. р., разряд | E17: Вед., регион | G17: Оценки | H17: Очки | I17: Рез-т | J17: Время
B19: ='пр.хода'!V97 | C19: =IFERROR(VLOOKUP(B19,'пр.взв'!$D$6:$M$34,2,0),"") | D19: =IFERROR(VLOOKUP(B19,'пр.взв'!$D$6:$M$34,5,0),"") | E19: =IFERROR(VLOOKUP(B19,'пр.взв'!$D$6:$M$34,6,0),"") | F19: =IFERROR(VLOOKUP(B19,'пр.взв'!$D$6:$M$34,8,0),"")
B21: ='пр.хода'!V107 | C21: =IFERROR(VLOOKUP(B21,'пр.взв'!$D$6:$M$34,2,0),"") | D21: =IFERROR(VLOOKUP(B21,'пр.взв'!$D$6:$M$34,5,0),"") | E21: =IFERROR(VLOOKUP(B21,'пр.взв'!$D$6:$M$34,6,0),"") | F21: =IFERROR(VLOOKUP(B21,'пр.взв'!$D$6:$M$34,8,0),"")
A23: Руководитель ковра
B24: А
B25: Б
C29: ФИНАЛ | E29: =HYPERLINK('пр.взв'!D4)
A30: Цвет | B30: № п/ж | C30: Ф.И.О. | D30: Д. р., разряд | E30: Вед., регион | G30: Оценки | H30: Очки | I30: Рез-т | J30: Время
B32: ='пр.хода'!K55 | C32: =IFERROR(VLOOKUP(B32,'пр.взв'!$D$6:$M$34,2,0),"") | D32: =IFERROR(VLOOKUP(B32,'пр.взв'!$D$6:$M$34,5,0),"") | E32: =IFERROR(VLOOKUP(B32,'пр.взв'!$D$6:$M$34,6,0),"") | F32: =IFERROR(VLOOKUP(B32,'пр.взв'!$D$6:$M$34,8,0),"")
B34: ='пр.хода'!Z55 | C34: =IFERROR(VLOOKUP(B34,'пр.взв'!$D$6:$M$34,2,0),"") | D34: =IFERROR(VLOOKUP(B34,'пр.взв'!$D$6:$M$34,5,0),"") | E34: =IFERROR(VLOOKUP(B34,'пр.взв'!$D$6:$M$34,6,0),"") | F34: =IFERROR(VLOOKUP(B34,'пр.взв'!$D$6:$M$34,8,0),"")
A36: Руководитель ковра
B37: А
B38: Б

Sheet Ит.пр
A1: ВСЕРОССИЙСКАЯ ФЕДЕРАЦИЯ САМБО
B2: ИТОГОВЫЙ ПРОТОКОЛ | D2: ='пр.взв'!C2 -> Чемпионат России по самбо среди женщин (отбор на Первенство Мира и Европы) ЕКП № 23747
B3: ='пр.взв'!C3 -> 27.02 - 03.03.2023 г. г. Пермь | H3: ='пр.взв'!G4 -> В.к. 50 кг
A4: МЕСТО | B4: № п/ж | C4: Ф.И.О. | D4: Дата рожд., разряд | E4: Округ, субъект, город, ведомство | G4: № карточки | H4: Тренер
A6: 1 | B6: ='пр.хода'!O38 | C6: =IFERROR(VLOOKUP($B6,'пр.взв'!$D$6:$Q$34,3,0),"") | D6: =IFERROR(VLOOKUP($B6,'пр.взв'!$D$6:$Q$34,4,0),"") | E6: =IFERROR(VLOOKUP($B6,'пр.взв'!$D$6:$M$34,6,0),"") | F6: =IFERROR(VLOOKUP($B6,'пр.взв'!$D$6:$M$34,7,0),"") | G6: =IFERROR(VLOOKUP($B6,'пр.взв'!$D$6:$M$34,8,0),"") | H6: =IFERROR(VLOOKUP($B6,'пр.взв'!$D$6:$M$34,10,0),"")
A7: 2 | B7: ='пр.хода'!O51 | C7: =IFERROR(VLOOKUP($B7,'пр.взв'!$D$6:$Q$34,3,0),"") | D7: =IFERROR(VLOOKUP($B7,'пр.взв'!$D$6:$Q$34,4,0),"") | E7: =IFERROR(VLOOKUP($B7,'пр.взв'!$D$6:$M$34,6,0),"") | F7: =IFERROR(VLOOKUP($B7,'пр.взв'!$D$6:$M$34,7,0),"") | G7: =IFERROR(VLOOKUP($B7,'пр.взв'!$D$6:$M$34,8,0),"") | H7: =IFERROR(VLOOKUP($B7,'пр.взв'!$D$6:$M$34,10,0),"")
A8: 3 | B8: ='пр.хода'!Z20 | C8: =IFERROR(VLOOKUP($B8,'пр.взв'!$D$6:$Q$34,3,0),"") | D8: =IFERROR(VLOOKUP($B8,'пр.взв'!$D$6:$Q$34,4,0),"") | E8: =IFERROR(VLOOKUP($B8,'пр.взв'!$D$6:$M$34,6,0),"") | F8: =IFERROR(VLOOKUP($B8,'пр.взв'!$D$6:$M$34,7,0),"") | G8: =IFERROR(VLOOKUP($B8,'пр.взв'!$D$6:$M$34,8,0),"") | H8: =IFERROR(VLOOKUP($B8,'пр.взв'!$D$6:$M$34,10,0),"")
A9: 3 | B9: ='пр.хода'!Z101 | C9: =IFERROR(VLOOKUP($B9,'пр.взв'!$D$6:$Q$34,3,0),"") | D9: =IFERROR(VLOOKUP($B9,'пр.взв'!$D$6:$Q$34,4,0),"") | E9: =IFERROR(VLOOKUP($B9,'пр.взв'!$D$6:$M$34,6,0),"") | F9: =IFERROR(VLOOKUP($B9,'пр.взв'!$D$6:$M$34,7,0),"") | G9: =IFERROR(VLOOKUP($B9,'пр.взв'!$D$6:$M$34,8,0),"") | H9: =IFERROR(VLOOKUP($B9,'пр.взв'!$D$6:$M$34,10,0),"")
A10: 5 | B10: ='пр.хода'!AN9 | C10: =IFERROR(VLOOKUP($B10,'пр.взв'!$D$6:$Q$34,3,0),"") | D10: =IFERROR(VLOOKUP($B10,'пр.взв'!$D$6:$Q$34,4,0),"") | E10: =IFERROR(VLOOKUP($B10,'пр.взв'!$D$6:$M$34,6,0),"") | F10: =IFERROR(VLOOKUP($B10,'пр.взв'!$D$6:$M$34,7,0),"") | G10: =IFERROR(VLOOKUP($B10,'пр.взв'!$D$6:$M$34,8,0),"") | H10: =IFERROR(VLOOKUP($B10,'пр.взв'!$D$6:$M$34,10,0),"")
A11: 5 | B11: ='пр.хода'!AN12 | C11: =IFERROR(VLOOKUP($B11,'пр.взв'!$D$6:$Q$34,3,0),"") | D11: =IFERROR(VLOOKUP($B11,'пр.взв'!$D$6:$Q$34,4,0),"") | E11: =IFERROR(VLOOKUP($B11,'пр.взв'!$D$6:$M$34,6,0),"") | F11: =IFERROR(VLOOKUP($B11,'пр.взв'!$D$6:$M$34,7,0),"") | G11: =IFERROR(VLOOKUP($B11,'пр.взв'!$D$6:$M$34,8,0),"") | H11: =IFERROR(VLOOKUP($B11,'пр.взв'!$D$6:$M$34,10,0),"")
A12: 7-8 | B12: ='пр.хода'!AN15 | C12: =IFERROR(VLOOKUP($B12,'пр.взв'!$D$6:$Q$34,3,0),"") | D12: =IFERROR(VLOOKUP($B12,'пр.взв'!$D$6:$Q$34,4,0),"") | E12: =IFERROR(VLOOKUP($B12,'пр.взв'!$D$6:$M$34,6,0),"") | F12: =IFERROR(VLOOKUP($B12,'пр.взв'!$D$6:$M$34,7,0),"") | G12: =IFERROR(VLOOKUP($B12,'пр.взв'!$D$6:$M$34,8,0),"") | H12: =IFERROR(VLOOKUP($B12,'пр.взв'!$D$6:$M$34,10,0),"")
A13: 7-8 | B13: ='пр.хода'!AN18 | C13: =IFERROR(VLOOKUP($B13,'пр.взв'!$D$6:$Q$34,3,0),"") | D13: =IFERROR(VLOOKUP($B13,'пр.взв'!$D$6:$Q$34,4,0),"") | E13: =IFERROR(VLOOKUP($B13,'пр.взв'!$D$6:$M$34,6,0),"") | F13: =IFERROR(VLOOKUP($B13,'пр.взв'!$D$6:$M$34,7,0),"") | G13: =IFERROR(VLOOKUP($B13,'пр.взв'!$D$6:$M$34,8,0),"") | H13: =IFERROR(VLOOKUP($B13,'пр.взв'!$D$6:$M$34,10,0),"")
A14: 9-12 | B14: ='пр.хода'!AN21 | C14: =IFERROR(VLOOKUP($B14,'пр.взв'!$D$6:$Q$34,3,0),"") | D14: =IFERROR(VLOOKUP($B14,'пр.взв'!$D$6:$Q$34,4,0),"") | E14: =IFERROR(VLOOKUP($B14,'пр.взв'!$D$6:$M$34,6,0),"") | F14: =IFERROR(VLOOKUP($B14,'пр.взв'!$D$6:$M$34,7,0),"") | G14: =IFERROR(VLOOKUP($B14,'пр.взв'!$D$6:$M$34,8,0),"") | H14: =IFERROR(VLOOKUP($B14,'пр.взв'!$D$6:$M$34,10,0),"")
A15: 9-12 | B15: ='пр.хода'!AN24 | C15: =IFERROR(VLOOKUP($B15,'пр.взв'!$D$6:$Q$34,3,0),"") | D15: =IFERROR(VLOOKUP($B15,'пр.взв'!$D$6:$Q$34,4,0),"") | E15: =IFERROR(VLOOKUP($B15,'пр.взв'!$D$6:$M$34,6,0),"") | F15: =IFERROR(VLOOKUP($B15,'пр.взв'!$D$6:$M$34,7,0),"") | G15: =IFERROR(VLOOKUP($B15,'пр.взв'!$D$6:$M$34,8,0),"") | H15: =IFERROR(VLOOKUP($B15,'пр.взв'!$D$6:$M$34,10,0),"")
A16: 9-12 | B16: ='пр.хода'!AN27 | C16: =IFERROR(VLOOKUP($B16,'пр.взв'!$D$6:$Q$34,3,0),"") | D16: =IFERROR(VLOOKUP($B16,'пр.взв'!$D$6:$Q$34,4,0),"") | E16: =IFERROR(VLOOKUP($B16,'пр.взв'!$D$6:$M$34,6,0),"") | F16: =IFERROR(VLOOKUP($B16,'пр.взв'!$D$6:$M$34,7,0),"") | G16: =IFERROR(VLOOKUP($B16,'пр.взв'!$D$6:$M$34,8,0),"") | H16: =IFERROR(VLOOKUP($B16,'пр.взв'!$D$6:$M$34,10,0),"")
A17: 9-12 | B17: ='пр.хода'!AN30 | C17: =IFERROR(VLOOKUP($B17,'пр.взв'!$D$6:$Q$34,3,0),"") | D17: =IFERROR(VLOOKUP($B17,'пр.взв'!$D$6:$Q$34,4,0),"") | E17: =IFERROR(VLOOKUP($B17,'пр.взв'!$D$6:$M$34,6,0),"") | F17: =IFERROR(VLOOKUP($B17,'пр.взв'!$D$6:$M$34,7,0),"") | G17: =IFERROR(VLOOKUP($B17,'пр.взв'!$D$6:$M$34,8,0),"") | H17: =IFERROR(VLOOKUP($B17,'пр.взв'!$D$6:$M$34,10,0),"")
A18: 13-16 | B18: ='пр.хода'!AN33 | C18: =IFERROR(VLOOKUP($B18,'пр.взв'!$D$6:$Q$34,3,0),"") | D18: =IFERROR(VLOOKUP($B18,'пр.взв'!$D$6:$Q$34,4,0),"") | E18: =IFERROR(VLOOKUP($B18,'пр.взв'!$D$6:$M$34,6,0),"") | F18: =IFERROR(VLOOKUP($B18,'пр.взв'!$D$6:$M$34,7,0),"") | G18: =IFERROR(VLOOKUP($B18,'пр.взв'!$D$6:$M$34,8,0),"") | H18: =IFERROR(VLOOKUP($B18,'пр.взв'!$D$6:$M$34,10,0),"")
A19: 13-16 | B19: ='пр.хода'!AN36 | C19: =IFERROR(VLOOKUP($B19,'пр.взв'!$D$6:$Q$34,3,0),"") | D19: =IFERROR(VLOOKUP($B19,'пр.взв'!$D$6:$Q$34,4,0),"") | E19: =IFERROR(VLOOKUP($B19,'пр.взв'!$D$6:$M$34,6,0),"") | F19: =IFERROR(VLOOKUP($B19,'пр.взв'!$D$6:$M$34,7,0),"") | G19: =IFERROR(VLOOKUP($B19,'пр.взв'!$D$6:$M$34,8,0),"") | H19: =IFERROR(VLOOKUP($B19,'пр.взв'!$D$6:$M$34,10,0),"")
A20: 13-16 | B20: ='пр.хода'!AN39 | C20: =IFERROR(VLOOKUP($B20,'пр.взв'!$D$6:$Q$34,3,0),"") | D20: =IFERROR(VLOOKUP($B20,'пр.взв'!$D$6:$Q$34,4,0),"") | E20: =IFERROR(VLOOKUP($B20,'пр.взв'!$D$6:$M$34,6,0),"") | F20: =IFERROR(VLOOKUP($B20,'пр.взв'!$D$6:$M$34,7,0),"") | G20: =IFERROR(VLOOKUP($B20,'пр.взв'!$D$6:$M$34,8,0),"") | H20: =IFERROR(VLOOKUP($B20,'пр.взв'!$D$6:$M$34,10,0),"")
A21: 13-16 | B21: ='пр.хода'!AN42 | C21: =IFERROR(VLOOKUP($B21,'пр.взв'!$D$6:$Q$34,3,0),"") | D21: =IFERROR(VLOOKUP($B21,'пр.взв'!$D$6:$Q$34,4,0),"") | E21: =IFERROR(VLOOKUP($B21,'пр.взв'!$D$6:$M$34,6,0),"") | F21: =IFERROR(VLOOKUP($B21,'пр.взв'!$D$6:$M$34,7,0),"") | G21: =IFERROR(VLOOKUP($B21,'пр.взв'!$D$6:$M$34,8,0),"") | H21: =IFERROR(VLOOKUP($B21,'пр.взв'!$D$6:$M$34,10,0),"")
A22: 17-20 | B22: ='пр.хода'!AN45 -> 13 | C22: =IFERROR(VLOOKUP($B22,'пр.взв'!$D$6:$Q$34,3,0),"") -> МОЛЧАНОВА Юлия Дмитриевна | D22: =IFERROR(VLOOKUP($B22,'пр.взв'!$D$6:$Q$34,4,0),"") -> 21.08.01, МС | E22: =IFERROR(VLOOKUP($B22,'пр.взв'!$D$6:$M$34,6,0),"") -> ПФО | F22: =IFERROR(VLOOKUP($B22,'пр.взв'!$D$6:$M$34,7,0),"") -> Нижегородская обл., Выкса, ДЮСШ «Выксунец» | G22: =IFERROR(VLOOKUP($B22,'пр.взв'!$D$6:$M$34,8,0),"") -> Нижегородская | H22: =IFERROR(VLOOKUP($B22,'пр.взв'!$D$6:$M$34,10,0),"") -> Егрушов ВИ, Рогов ДС
A23: 17-20 | B23: ='пр.хода'!AN48 -> 15 | C23: =IFERROR(VLOOKUP($B23,'пр.взв'!$D$6:$Q$34,3,0),"") -> МИРОНОВА Кристина Александровна | D23: =IFERROR(VLOOKUP($B23,'пр.взв'!$D$6:$Q$34,4,0),"") -> 30.09.01, КМС | E23: =IFERROR(VLOOKUP($B23,'пр.взв'!$D$6:$M$34,6,0),"") -> СФО | F23: =IFERROR(VLOOKUP($B23,'пр.взв'!$D$6:$M$34,7,0),"") -> Новосибирская обл., Новосибирск, ГАУ НСО СШ «самбо» | G23: =IFERROR(VLOOKUP($B23,'пр.взв'!$D$6:$M$34,8,0),"") -> Новосибирская | H23: =IFERROR(VLOOKUP($B23,'пр.взв'!$D$6:$M$34,10,0),"") -> Лепяхов С.В., Орлов А.А.
A24: 17-20 | B24: ='пр.хода'!AN51 -> 14 | C24: =IFERROR(VLOOKUP($B24,'пр.взв'!$D$6:$Q$34,3,0),"") -> РАХМАТУЛЛИНА Алла Вячеславовна | D24: =IFERROR(VLOOKUP($B24,'пр.взв'!$D$6:$Q$34,4,0),"") -> 21.07.95, КМС | E24: =IFERROR(VLOOKUP($B24,'пр.взв'!$D$6:$M$34,6,0),"") -> ПФО | F24: =IFERROR(VLOOKUP($B24,'пр.взв'!$D$6:$M$34,7,0),"") -> Р. Башкортостан, Туймазы, МАУ СШ 1 | G24: =IFERROR(VLOOKUP($B24,'пр.взв'!$D$6:$M$34,8,0),"") -> Башкортостан | H24: =IFERROR(VLOOKUP($B24,'пр.взв'!$D$6:$M$34,10,0),"") -> Мухаметдинов Р.Р.
