Workbook
Name разряд: #REF!
Name субъект: #REF!

Sheet пр.взв
A1: select Col1,Col3,Col4,Col5,Col6,Col10,Col12,Col13,Col14,Col15,Col16,Col17 WHERE Col1>1 | C1: ПРОТОКОЛ ВЗВЕШИВАНИЯ | N1: https://docs.google.com/spreadsheets/d/11MlfNHE9chBth-cekZDrxtVONQxoJjPYlN4uZUVSGBY/edit#gid=739413123 | O1: =IF(O2="98+",99,O2) -> 99
C2: =IFERROR(__xludf.DUMMYFUNCTION("IMPORTRANGE(N1,""Реквизиты!A1"")"),"Первенство России по самбо (боевое) юниоры 18-20 лет (отбор на Первенство Мира и Европы) ЕКП № 23752") -> Первенство России по самбо (боевое) юниоры 18-20 лет (отбор на Первенство Мира и Европы) ЕКП № 23752 | O2: 98+ | P2: В.к. | Q2: кг
C3: =IFERROR(__xludf.DUMMYFUNCTION("IMPORTRANGE(N1,""Реквизиты!A3"")"),"13.02 - 17.02.2022 г. г. В-Пышма") -> 13.02 - 17.02.2022 г. г. В-Пышма | O3: =COUNTA(F6:F86) -> 11 | P3: участников
G4: =P2&" "&O2&" "&Q2 -> В.к. 98+ кг
A5: ВК | B5: ВК | C5: № п/п | D5: № п/ж | E5: Ф.И.О. | F5: Ф.И.О. | G5: Дата рожд., разряд | H5: Разряд | I5: Округ, субъект, город, ведомство | K5: Субъект | L5: № карточки | M5: Тренер
A6: 98+ | B6: 99 | C6: 32 | D6: 6 | E6: РАДЖАБОВ Арсен | F6: РАДЖАБОВ Арсен Робертович | G6: 05.05.04, КМС | H6: КМС | I6: МОС | J6: г. Москва, Москва, Самбо-70 | K6: Москва | M6: Елесин Николай Анатольевич | N6: {=IF(D6:D86="","",(LEFT(F6:F86,FIND(" ",F6:F86)-1)))} -> РАДЖАБОВ | O6: 53
A7: 98+ | B7: 99 | C7: 9 | D7: 4 | E7: СЫВОРОТКИН Иван | F7: СЫВОРОТКИН Иван Павлович | G7: 10.08.04, КМС | H7: КМС | I7: ПФО | J7: Нижегородская обл., Кстово, МБУ ДО ДЮСШ "Спартак" | K7: Нижегородская | M7: Волков ДС, Мартьянов ВА | N7: СЫВОРОТКИН | O7: 64
A8: 98+ | B8: 99 | C8: 26 | D8: 2 | E8: СОЛТАЕВ Тимерлан | F8: СОЛТАЕВ Тимерлан Мурадович | G8: 25.08.03, КМС | H8: КМС | I8: СКФО | J8: Р.Дагестан, Махачкала, МС | K8: Р.Дагестан | M8: Сапуллаев А Магрмедов МА | N8: СОЛТАЕВ | O8: 71
A9: 98+ | B9: 99 | C9: 26 | D9: 7 | E9: ГАМЗАТОВ Гамзат | F9: ГАМЗАТОВ Гамзат Абдулзагидович | G9: 29.01.03, КМС | H9: КМС | I9: СКФО | J9: Респ. Дагестан, Махачкала, СШОР | K9: Р.Дагестан | M9: Омаров Гаджи Асадович | N9: ГАМЗАТОВ | O9: 79
A10: 98+ | B10: 99 | C10: 26 | D10: 1 | E10: МАГОМЕДОВ Закарига | F10: МАГОМЕДОВ Закарига Русланович | G10: 03.11.04, 1p | H10: 3p | I10: СКФО | J10: Респ. Дагестан, Махачкала, СШОР | K10: Р.Дагестан | M10: Раджабов Р. | N10: МАГОМЕДОВ | O10: 88
A11: 98+ | B11: 99 | C11: 12 | D11: 9 | E11: СОКОЛОВ Иван | F11: СОКОЛОВ Иван Дмитриевич | G11: 24.08.04, КМС | H11: КМС | I11: СПБ | J11: Санкт-Петербург, Санкт-Петербург, МО | K11: Санкт-Петербург | M11: Талдиев А.А. | N11: СОКОЛОВ | O11: 98
A12: 98+ | B12: 99 | C12: 25 | D12: 3 | E12: ЕФИМОВ Олег | F12: ЕФИМОВ Олег Витальевич | G12: 15.06.04, 1р | H12: 1р | I12: УФО | J12: Челябинская обл., Челябинск, ДЮСШ 11 | K12: Челябинская | M12: Педько М.А | N12: ЕФИМОВ | O12: 98+
A13: 98+ | B13: 99 | C13: 27 | D13: 5 | E13: СОЛДАТЕНКОВ Савелий | F13: СОЛДАТЕНКОВ Савелий Дмитриевич | G13: 08.07.04, КМС | H13: КМС | I13: ЦФО | J13: Московская обл., Королёв, МБУ СШОР По Единоборстам | K13: Московская | M13: Малов М. В Авагян А. М | N13: СОЛДАТЕНКОВ | O13: 65
A14: 98+ | B14: 99 | C14: 27 | D14: 11 | E14: ДЖАРИАШВИЛИ Нодар | F14: ДЖАРИАШВИЛИ Нодар Георгиевич | G14: 22.11.05, КМС | H14: КМС | I14: ЦФО | J14: Московская, люберцы , МО | K14: Московская | M14: Лецко А.В., Забугин А.В | N14: ДЖАРИАШВИЛИ | O14: 71
A15: 98+ | B15: 99 | C15: 27 | D15: 10 | E15: ДРЯМОВ Павел | F15: ДРЯМОВ Павел Игоревич | G15: 01.05.03, КМС | H15: КМС | I15: ЦФО | J15: Московская, Серпухов, ПР | K15: Московская | M15: Касатов П.М., Касатов М.М | N15: ДРЯМОВ
A16: 98+ | B16: 99 | C16: 30 | D16: 8 | E16: ТХАКАХОВ Ратмир | F16: ТХАКАХОВ Ратмир Хусенович | G16: 11.02.03, КМС | H16: КМС | I16: ЮФО | J16: Респ. Адыгея, Майкоп, МО | K16: Р.Адыгея | M16: Хапай А Ю | N16: ТХАКАХОВ

Sheet пр.хода
A1: ВСЕРОССИЙСКАЯ ФЕДЕРАЦИЯ САМБО
A2: ПРОТОКОЛ ХОДА СОРЕВНОВАНИЙ (БОЕВОЕ САМБО)
B3: =пр.взв!C2 -> Первенство России по самбо (боевое) юниоры 18-20 лет (отбор на Первенство Мира и Европы) ЕКП № 23752
A4: =пр.взв!A3 -> 0 | B4: =пр.взв!C3 -> 13.02 - 17.02.2022 г. г. В-Пышма
M5: =пр.взв!G4 -> В.к. 98+ кг | R5: =AE5&" "&AF5 -> 11 участников | AE5: =пр.взв!O3 -> 11 | AF5: участников
A6: А | AC6: Б
A7: 1 | B7: =IFERROR(VLOOKUP(A7,пр.взв!$D$6:$Q$20,2,0),"") -> МАГОМЕДОВ Закарига | C7: =IFERROR(VLOOKUP(A7,пр.взв!$D$6:$Q$20,5,0),"") -> 3p | E7: =IFERROR(VLOOKUP(A7,пр.взв!$D$6:$Q$20,8,0),"") -> Р.Дагестан | M7: 1 место | Y7: =IFERROR(VLOOKUP(AC7,пр.взв!$D$6:$Q$20,2,0),"") -> СОЛТАЕВ Тимерлан | Z7: =IFERROR(VLOOKUP(AC7,пр.взв!$D$6:$Q$20,5,0),"") -> КМС | AB7: =IFERROR(VLOOKUP(AC7,пр.взв!$D$6:$Q$20,8,0),"") -> Р.Дагестан | AC7: 2 | AE7: =IF(K10="","", IF(K10=A7,A9,IF(K10=A9,A7,IF(K10=A11,A13,A11)))) | AF7: =IF(T10="","",IF(T10=AC7,AC9,IF(T10=AC9,AC7,IF(T10=AC11,AC13,IF(T10=AC13,AC11))))) | AG7: =IF(AND(AC7=T10,AC11=X12),AC13,IF(AND(AC7=T10,AC13=X12),AC11,IF(AND(AC9=T10,AC11=X12),AC13,IF(AND(AC9=T10,AC13=X12),AC11,IF(AC7=X8,AC9,AC7))))) -> 2
M8: =IFERROR(VLOOKUP(L8,пр.взв!$D$6:$Q$20,2,0),"") | AE8: =IF(K10="","",IF(K10=F8,F12,F8)) | AF8: =IF(T10="","",IF(T10=X8,X12,X8)) | AG8: =IF(AND(AC8=T11,AC12=X13),AC14,IF(AND(AC8=T11,AC14=X13),AC12,IF(AND(AC10=T11,AC12=X13),AC14,IF(AND(AC10=T11,AC14=X13),AC12,IF(AC8=X9,AC10,AC8))))) -> 0
A9: 9 | B9: =IFERROR(VLOOKUP(A9,пр.взв!$D$6:$Q$20,2,0),"") -> СОКОЛОВ Иван | C9: =IFERROR(VLOOKUP(A9,пр.взв!$D$6:$Q$20,5,0),"") -> КМС | E9: =IFERROR(VLOOKUP(A9,пр.взв!$D$6:$Q$20,8,0),"") -> Санкт-Петербург | Y9: =IFERROR(VLOOKUP(AC9,пр.взв!$D$6:$Q$20,2,0),"") -> ДРЯМОВ Павел | Z9: =IFERROR(VLOOKUP(AC9,пр.взв!$D$6:$Q$20,5,0),"") -> КМС | AB9: =IFERROR(VLOOKUP(AC9,пр.взв!$D$6:$Q$20,8,0),"") -> Московская | AC9: 10 | AG9: =IF(AND(AC9=T12,AC13=X14),AC15,IF(AND(AC9=T12,AC15=X14),AC13,IF(AND(AC11=T12,AC13=X14),AC15,IF(AND(AC11=T12,AC15=X14),AC13,IF(AC9=X10,AC11,AC9))))) -> 10
I10: =IFERROR(VLOOKUP(H10,пр.взв!$D$6:$Q$20,2,0),"") | T10: =IFERROR(VLOOKUP(V10,пр.взв!$D$6:$Q$20,2,0),"") | AG10: =IF(AND(AC10=T13,AC14=X15),AC16,IF(AND(AC10=T13,AC16=X15),AC14,IF(AND(AC12=T13,AC14=X15),AC16,IF(AND(AC12=T13,AC16=X15),AC14,IF(AC10=X11,AC12,AC10))))) -> 0
A11: 5 | B11: =IFERROR(VLOOKUP(A11,пр.взв!$D$6:$Q$20,2,0),"") -> СОЛДАТЕНКОВ Савелий | C11: =IFERROR(VLOOKUP(A11,пр.взв!$D$6:$Q$20,5,0),"") -> КМС | E11: =IFERROR(VLOOKUP(A11,пр.взв!$D$6:$Q$20,8,0),"") -> Московская | Y11: =IFERROR(VLOOKUP(AC11,пр.взв!$D$6:$Q$20,2,0),"") -> РАДЖАБОВ Арсен | Z11: =IFERROR(VLOOKUP(AC11,пр.взв!$D$6:$Q$20,5,0),"") -> КМС | AB11: =IFERROR(VLOOKUP(AC11,пр.взв!$D$6:$Q$20,8,0),"") -> Москва | AC11: 6 | AE11: =IF(M14="","",IF(M14=K10,K18,K10)) | AF11: =IF(R14="","",IF(R14=T10,T18,T10)) | AG11: =IF(AND(AC11=T14,AC15=X16),AC17,IF(AND(AC11=T14,AC17=X16),AC15,IF(AND(AC13=T14,AC15=X16),AC17,IF(AND(AC13=T14,AC17=X16),AC15,IF(AC11=X12,AC13,AC11))))) -> 14
F12: 5 | O12: ФИНАЛ | X12: 6 | AG12: =IF(AND(AC12=T15,AC16=X17),AC18,IF(AND(AC12=T15,AC18=X17),AC16,IF(AND(AC14=T15,AC16=X17),AC18,IF(AND(AC14=T15,AC18=X17),AC16,IF(AC12=X13,AC14,AC12))))) -> 0
A13: 13 | B13: =IFERROR(VLOOKUP(A13,пр.взв!$D$6:$Q$20,2,0),"") | C13: =IFERROR(VLOOKUP(A13,пр.взв!$D$6:$Q$20,5,0),"") | E13: =IFERROR(VLOOKUP(A13,пр.взв!$D$6:$Q$20,8,0),"") | Y13: =IFERROR(VLOOKUP(AC13,пр.взв!$D$6:$Q$20,2,0),"") | Z13: =IFERROR(VLOOKUP(AC13,пр.взв!$D$6:$Q$20,5,0),"") | AB13: =IFERROR(VLOOKUP(AC13,пр.взв!$D$6:$Q$20,8,0),"") | AC13: 14 | AG13: =IF(AND(AC13=T16,AC17=X18),AC19,IF(AND(AC13=T16,AC19=X18),AC17,IF(AND(AC15=T16,AC17=X18),AC19,IF(AND(AC15=T16,AC19=X18),AC17,IF(AC13=X14,AC15,AC13))))) -> 14
K14: =IFERROR(VLOOKUP(J14,пр.взв!$D$6:$Q$20,2,0),"") | P14: =IFERROR(VLOOKUP(T14,пр.взв!$D$6:$Q$20,2,0),"") | AG14: =IF(AND(AC14=T17,AC18=X19),AC20,IF(AND(AC14=T17,AC20=X19),AC18,IF(AND(AC16=T17,AC18=X19),AC20,IF(AND(AC16=T17,AC20=X19),AC18,IF(AC14=X15,AC16,AC14))))) -> 0
A15: 3 | B15: =IFERROR(VLOOKUP(A15,пр.взв!$D$6:$Q$20,2,0),"") -> ЕФИМОВ Олег | C15: =IFERROR(VLOOKUP(A15,пр.взв!$D$6:$Q$20,5,0),"") -> 1р | E15: =IFERROR(VLOOKUP(A15,пр.взв!$D$6:$Q$20,8,0),"") -> Челябинская | Y15: =IFERROR(VLOOKUP(AC15,пр.взв!$D$6:$Q$20,2,0),"") -> СЫВОРОТКИН Иван | Z15: =IFERROR(VLOOKUP(AC15,пр.взв!$D$6:$Q$20,5,0),"") -> КМС | AB15: =IFERROR(VLOOKUP(AC15,пр.взв!$D$6:$Q$20,8,0),"") -> Нижегородская | AC15: 4 | AE15: =IF(K18="","",IF(K18=A15,A17,IF(K18=A17,A15,IF(K18=A19,A21,A19)))) | AF15: =IF(T18="","",IF(T18=AC15,AC17,IF(T18=AC17,AC15,IF(T18=AC19,AC21,IF(T18=AC21,AC19))))) | AG15: =IF(AND(AC15=T18,AC19=X20),AC21,IF(AND(AC15=T18,AC21=X20),AC19,IF(AND(AC17=T18,AC19=X20),AC21,IF(AND(AC17=T18,AC21=X20),AC19,IF(AC15=X16,AC17,AC15))))) -> 12
X16: 4 | AE16: =IF(K18="","",IF(K18=F16,F20,F16)) | AF16: =IF(T18="","",IF(T18=X16,X20,X16)) | AG16: =IF(AND(AC16=T19,AC20=X21),AC22,IF(AND(AC16=T19,AC22=X21),AC20,IF(AND(AC18=T19,AC20=X21),AC22,IF(AND(AC18=T19,AC22=X21),AC20,IF(AC16=X17,AC18,AC16))))) -> 0
A17: 11 | B17: =IFERROR(VLOOKUP(A17,пр.взв!$D$6:$Q$20,2,0),"") -> ДЖАРИАШВИЛИ Нодар | C17: =IFERROR(VLOOKUP(A17,пр.взв!$D$6:$Q$20,5,0),"") -> КМС | E17: =IFERROR(VLOOKUP(A17,пр.взв!$D$6:$Q$20,8,0),"") -> Московская | Y17: =IFERROR(VLOOKUP(AC17,пр.взв!$D$6:$Q$20,2,0),"") | Z17: =IFERROR(VLOOKUP(AC17,пр.взв!$D$6:$Q$20,5,0),"") | AB17: =IFERROR(VLOOKUP(AC17,пр.взв!$D$6:$Q$20,8,0),"") | AC17: 12 | AG17: =IF(AND(AC17=T20,AC21=X22),AC23,IF(AND(AC17=T20,AC23=X22),AC21,IF(AND(AC19=T20,AC21=X22),AC23,IF(AND(AC19=T20,AC23=X22),AC21,IF(AC17=X18,AC19,AC17))))) -> 12
I18: =IFERROR(VLOOKUP(H18,пр.взв!$D$6:$Q$20,2,0),"") | T18: =IFERROR(VLOOKUP(V18,пр.взв!$D$6:$Q$20,2,0),"") | AE18: =IF(K32="","",IF(K32=F28,F34,F28)) | AF18: 5М | AG18: =IF(H10=""," ",IF(H10=F8,F12,F8))
A19: 7 | B19: =IFERROR(VLOOKUP(A19,пр.взв!$D$6:$Q$20,2,0),"") -> ГАМЗАТОВ Гамзат | C19: =IFERROR(VLOOKUP(A19,пр.взв!$D$6:$Q$20,5,0),"") -> КМС | E19: =IFERROR(VLOOKUP(A19,пр.взв!$D$6:$Q$20,8,0),"") -> Р.Дагестан | M19: 2 место | Y19: =IFERROR(VLOOKUP(AC19,пр.взв!$D$6:$Q$20,2,0),"") -> ТХАКАХОВ Ратмир | Z19: =IFERROR(VLOOKUP(AC19,пр.взв!$D$6:$Q$20,5,0),"") -> КМС | AB19: =IFERROR(VLOOKUP(AC19,пр.взв!$D$6:$Q$20,8,0),"") -> Р.Адыгея | AC19: 8 | AE19: =IF(AA32="","",IF(AA32=V28,V34,V28)) | AF19: 5М | AG19: =IF(H18=""," ",IF(H18=F16,F20,F16))
F20: 7 | L20: =IF(L8="","",IF(L8=J14,T14,J14)) | M20: =IFERROR(VLOOKUP(L20,пр.взв!$D$6:$Q$20,2,0),"") | X20: 8 | AE20: =IF(F28="","",IF(F28=C26,C32,C26)) | AF20: 5М | AG20: =IF(V10=""," ",IF(X8=V10,X12,X8))
A21: 15 | B21: =IFERROR(VLOOKUP(A21,пр.взв!$D$6:$Q$20,2,0),"") | C21: =IFERROR(VLOOKUP(A21,пр.взв!$D$6:$Q$20,5,0),"") | E21: =IFERROR(VLOOKUP(A21,пр.взв!$D$6:$Q$20,8,0),"") | Y21: =IFERROR(VLOOKUP(AC21,пр.взв!$D$6:$Q$20,2,0),"") | Z21: =IFERROR(VLOOKUP(AC21,пр.взв!$D$6:$Q$20,5,0),"") | AB21: =IFERROR(VLOOKUP(AC21,пр.взв!$D$6:$Q$20,8,0),"") | AC21: 16 | AE21: =IF(V28="","",IF(V28=S26,S32,S26)) | AF21: 5М | AG21: =IF(V18=""," ",IF(X16=V18,X20,X16))
AE22: =IF(C26="","",IF(C26=A25,A27,A25)) | AF22: 44174 | AG22: =IF(F8=""," ",IF(F8=A7,A9,A7))
AE23: =IF(C32="","",IF(C32=A31,A33,A31)) | AF23: 44174 | AG23: =IF(F12=""," ",IF(F12=A11,A13,A11)) -> 13
AE24: =IF(S26="","",IF(S26=N25,N27,N25)) -> 0 | AF24: 44174 | AG24: =IF(F16=""," ",IF(F16=A15,A17,A15))
G25: 3 место | T25: 3 место | AE25: =IF(S32="","",IF(S32=N31,N33,N31)) | AF25: 44174 | AG25: =IF(F16=""," ",IF(F16=A15,A17,A15))
F26: =AF32 | G26: =IFERROR(VLOOKUP(F26,пр.взв!$D$6:$Q$21,2,0),"") | S26: =AF33 | T26: =IFERROR(VLOOKUP(S26,пр.взв!$D$6:$Q$21,2,0),"") | AE26: =IF(AND(OR(A7=H10,A9=H10),A11=F12),A13,IF(AND(OR(A7=H10,A9=H10),A13=F12),A11,IF(A7=F8,A9,A7))) -> 1 | AF26: 44174 | AG26: =IF(F20=""," ",IF(F20=A19,A21,A19)) -> 15
AE27: =IF(AND(AC7=T10,AC11=X12),AC13,IF(AND(AC7=T10,AC13=X12),AC11,IF(AND(AC9=T10,AC11=X12),AC13,IF(AND(AC9=T10,AC13=X12),AC11,IF(AC7=X8,AC9,AC7))))) -> 2 | AF27: 13-16 | AG27: =IF(X8=""," ",IF(X8=AC7,AC9,AC7))
AE28: =IF(AND(OR(A15=K18,A17=K18),A19=F20),A21,IF(AND(OR(A15=K18,A17=K18),A21=F20),A19,IF(A15=F16,A17,A15))) -> 3 | AF28: 13-16 | AG28: =IF(X12=""," ",IF(X12=AC11,AC13,AC11)) -> 14
A29: Гл. судья, судья ВК | K29: =IFERROR(__xludf.DUMMYFUNCTION("IMPORTRANGE('пр.взв'!N1,""Реквизиты!C6"")"),"Редин Д.А.") -> Редин Д.А. | Q29: =IFERROR(__xludf.DUMMYFUNCTION("IMPORTRANGE('пр.взв'!N1,""Реквизиты!C7"")"),"Хабаровский кр.") -> Хабаровский кр. | AE29: =IF(AND(AC15=T18,AC19=X20),AC21,IF(AND(AC15=T18,AC21=X20),AC19,IF(AND(AC17=T18,AC19=X20),AC21,IF(AND(AC17=T18,AC21=X20),AC19,IF(AC15=X16,AC17,AC15))))) -> 12 | AF29: 13-16 | AG29: =IF(X16=""," ",IF(X16=AC15,AC17,AC15)) -> 12
AG30: =IF(X17=""," ",IF(X17=AC16,AC18,AC16))
A31: Гл. секретарь, судья ВК | K31: =IFERROR(__xludf.DUMMYFUNCTION("IMPORTRANGE('пр.взв'!N1,""Реквизиты!C10"")"),"Мордовин С.Н.") -> Мордовин С.Н. | Q31: =IFERROR(__xludf.DUMMYFUNCTION("IMPORTRANGE('пр.взв'!N1,""Реквизиты!C11"")"),"Р.Алтай") -> Р.Алтай | AE31: =IF(AND(AC15=T18,AC19=X20),AC21,IF(AND(AC15=T18,AC21=X20),AC19,IF(AND(AC17=T18,AC19=X20),AC21,IF(AND(AC17=T18,AC21=X20),AC19,IF(AC15=X16,AC17,AC15))))) -> 12 | AF31: 13-16 | AG31: =IF(X20=""," ",IF(X20=AC19,AC21,AC19)) -> 16
AE32: 3м | AF32: =IF(J14=""," ",IF(H10=J14,H18,H10)) | AG32: =IF(X19=""," ",IF(X19=AC18,AC20,AC18))
AF33: =IF(T14=""," ",IF(V10=T14,V18,V10))
AG34: =IF(X21=""," ",IF(X21=AC20,AC22,AC20))
AG35: =IF(X22=""," ",IF(X22=AC21,AC23,AC21))
AG36: =IF(X17=""," ",IF(X17=AC16,AC18,AC16))
AG37: =IF(X18=""," ",IF(X18=AC17,AC19,AC17))
AG38: =IF(X19=""," ",IF(X19=AC18,AC20,AC18))

Sheet круги
B1: ВСТРЕЧИ ПО КРУГАМ | L1: ВСТРЕЧИ ПО КРУГАМ
B2: =пр.взв!D4 -> 0 | L2: =B2 -> 0
B3: 0 | C3: КОВЕР | L3: =B3 -> 0 | M3: КОВЕР
B4: A | C4: (Круг) | D4: 1/8 | F4: =пр.взв!G4 -> В.к. 98+ кг | L4: Б | M4: (Круг) | N4: 1/8 | P4: =F4 -> В.к. 98+ кг
A5: № встр | B5: № п/ж | C5: Ф.И.О. | D5: Д. р., разряд | E5: Вед., регион | G5: Оценки | H5: Очки | I5: Рез-т | J5: Время | K5: № встр | L5: № п/ж | M5: Ф.И.О. | N5: Д. р., разряд | O5: Вед., регион | Q5: Оценки | R5: Очки | S5: Рез-т | T5: Время
A6: 1 | B6: 1 | C6: =IFERROR(VLOOKUP(B6,пр.взв!$D$6:$Q$20,2,0),"") -> МАГОМЕДОВ Закарига | D6: =IFERROR(VLOOKUP(B6,пр.взв!$D$6:$Q$20,5,0),"") -> 3p | E6: =IFERROR(VLOOKUP(B6,пр.взв!$D$6:$Q$20,6,0),"") -> СКФО | F6: =IFERROR(VLOOKUP(B6,пр.взв!$D$6:$Q$20,8,0),"") -> Р.Дагестан | K6: 5 | L6: 2 | M6: =IFERROR(VLOOKUP(L6,пр.взв!$D$6:$Q$20,2,0),"") -> СОЛТАЕВ Тимерлан | N6: =IFERROR(VLOOKUP(L6,пр.взв!$D$6:$Q$20,5,0),"") -> КМС | O6: =IFERROR(VLOOKUP(L6,пр.взв!$D$6:$Q$20,6,0),"") -> СКФО | P6: =IFERROR(VLOOKUP(L6,пр.взв!$D$6:$Q$20,8,0),"") -> Р.Дагестан
B7: 9 | C7: =IFERROR(VLOOKUP(B7,пр.взв!$D$6:$Q$20,2,0),"") -> СОКОЛОВ Иван | D7: =IFERROR(VLOOKUP(B7,пр.взв!$D$6:$Q$20,5,0),"") -> КМС | E7: =IFERROR(VLOOKUP(B7,пр.взв!$D$6:$Q$20,6,0),"") -> СПБ | F7: =IFERROR(VLOOKUP(B7,пр.взв!$D$6:$Q$20,8,0),"") -> Санкт-Петербург | L7: 10 | M7: =IFERROR(VLOOKUP(L7,пр.взв!$D$6:$Q$20,2,0),"") -> ДРЯМОВ Павел | N7: =IFERROR(VLOOKUP(L7,пр.взв!$D$6:$Q$20,5,0),"") -> КМС | O7: =IFERROR(VLOOKUP(L7,пр.взв!$D$6:$Q$20,6,0),"") -> ЦФО | P7: =IFERROR(VLOOKUP(L7,пр.взв!$D$6:$Q$20,8,0),"") -> Московская
A8: 2 | B8: 5 | C8: =IFERROR(VLOOKUP(B8,пр.взв!$D$6:$Q$20,2,0),"") -> СОЛДАТЕНКОВ Савелий | D8: =IFERROR(VLOOKUP(B8,пр.взв!$D$6:$Q$20,5,0),"") -> КМС | E8: =IFERROR(VLOOKUP(B8,пр.взв!$D$6:$Q$20,6,0),"") -> ЦФО | F8: =IFERROR(VLOOKUP(B8,пр.взв!$D$6:$Q$20,8,0),"") -> Московская | K8: 6 | L8: 6 | M8: =IFERROR(VLOOKUP(L8,пр.взв!$D$6:$Q$20,2,0),"") -> РАДЖАБОВ Арсен | N8: =IFERROR(VLOOKUP(L8,пр.взв!$D$6:$Q$20,5,0),"") -> КМС | O8: =IFERROR(VLOOKUP(L8,пр.взв!$D$6:$Q$20,6,0),"") -> МОС | P8: =IFERROR(VLOOKUP(L8,пр.взв!$D$6:$Q$20,8,0),"") -> Москва
B9: 13 | C9: =IFERROR(VLOOKUP(B9,пр.взв!$D$6:$Q$20,2,0),"") | D9: =IFERROR(VLOOKUP(B9,пр.взв!$D$6:$Q$20,5,0),"") | E9: =IFERROR(VLOOKUP(B9,пр.взв!$D$6:$Q$20,6,0),"") | F9: =IFERROR(VLOOKUP(B9,пр.взв!$D$6:$Q$20,8,0),"") | L9: 14 | M9: =IFERROR(VLOOKUP(L9,пр.взв!$D$6:$Q$20,2,0),"") | N9: =IFERROR(VLOOKUP(L9,пр.взв!$D$6:$Q$20,5,0),"") | O9: =IFERROR(VLOOKUP(L9,пр.взв!$D$6:$Q$20,6,0),"") | P9: =IFERROR(VLOOKUP(L9,пр.взв!$D$6:$Q$20,8,0),"")
A10: 3 | B10: 3 | C10: =IFERROR(VLOOKUP(B10,пр.взв!$D$6:$Q$20,2,0),"") -> ЕФИМОВ Олег | D10: =IFERROR(VLOOKUP(B10,пр.взв!$D$6:$Q$20,5,0),"") -> 1р | E10: =IFERROR(VLOOKUP(B10,пр.взв!$D$6:$Q$20,6,0),"") -> УФО | F10: =IFERROR(VLOOKUP(B10,пр.взв!$D$6:$Q$20,8,0),"") -> Челябинская | K10: 7 | L10: 4 | M10: =IFERROR(VLOOKUP(L10,пр.взв!$D$6:$Q$20,2,0),"") -> СЫВОРОТКИН Иван | N10: =IFERROR(VLOOKUP(L10,пр.взв!$D$6:$Q$20,5,0),"") -> КМС | O10: =IFERROR(VLOOKUP(L10,пр.взв!$D$6:$Q$20,6,0),"") -> ПФО | P10: =IFERROR(VLOOKUP(L10,пр.взв!$D$6:$Q$20,8,0),"") -> Нижегородская
B11: 11 | C11: =IFERROR(VLOOKUP(B11,пр.взв!$D$6:$Q$20,2,0),"") -> ДЖАРИАШВИЛИ Нодар | D11: =IFERROR(VLOOKUP(B11,пр.взв!$D$6:$Q$20,5,0),"") -> КМС | E11: =IFERROR(VLOOKUP(B11,пр.взв!$D$6:$Q$20,6,0),"") -> ЦФО | F11: =IFERROR(VLOOKUP(B11,пр.взв!$D$6:$Q$20,8,0),"") -> Московская | L11: 12 | M11: =IFERROR(VLOOKUP(L11,пр.взв!$D$6:$Q$20,2,0),"") | N11: =IFERROR(VLOOKUP(L11,пр.взв!$D$6:$Q$20,5,0),"") | O11: =IFERROR(VLOOKUP(L11,пр.взв!$D$6:$Q$20,6,0),"") | P11: =IFERROR(VLOOKUP(L11,пр.взв!$D$6:$Q$20,8,0),"")
A12: 4 | B12: 7 | C12: =IFERROR(VLOOKUP(B12,пр.взв!$D$6:$Q$20,2,0),"") -> ГАМЗАТОВ Гамзат | D12: =IFERROR(VLOOKUP(B12,пр.взв!$D$6:$Q$20,5,0),"") -> КМС | E12: =IFERROR(VLOOKUP(B12,пр.взв!$D$6:$Q$20,6,0),"") -> СКФО | F12: =IFERROR(VLOOKUP(B12,пр.взв!$D$6:$Q$20,8,0),"") -> Р.Дагестан | K12: 8 | L12: 8 | M12: =IFERROR(VLOOKUP(L12,пр.взв!$D$6:$Q$20,2,0),"") -> ТХАКАХОВ Ратмир | N12: =IFERROR(VLOOKUP(L12,пр.взв!$D$6:$Q$20,5,0),"") -> КМС | O12: =IFERROR(VLOOKUP(L12,пр.взв!$D$6:$Q$20,6,0),"") -> ЮФО | P12: =IFERROR(VLOOKUP(L12,пр.взв!$D$6:$Q$20,8,0),"") -> Р.Адыгея
B13: 15 | C13: =IFERROR(VLOOKUP(B13,пр.взв!$D$6:$Q$20,2,0),"") | D13: =IFERROR(VLOOKUP(B13,пр.взв!$D$6:$Q$20,5,0),"") | E13: =IFERROR(VLOOKUP(B13,пр.взв!$D$6:$Q$20,6,0),"") | F13: =IFERROR(VLOOKUP(B13,пр.взв!$D$6:$Q$20,8,0),"") | L13: 16 | M13: =IFERROR(VLOOKUP(L13,пр.взв!$D$6:$Q$20,2,0),"") | N13: =IFERROR(VLOOKUP(L13,пр.взв!$D$6:$Q$20,5,0),"") | O13: =IFERROR(VLOOKUP(L13,пр.взв!$D$6:$Q$20,6,0),"") | P13: =IFERROR(VLOOKUP(L13,пр.взв!$D$6:$Q$20,8,0),"")
B14: =B3 -> 0 | C14: КОВЕР | L14: =L3 -> 0 | M14: КОВЕР
B15: A | C15: (Круг) | D15: 1/4 | F15: =F4 -> В.к. 98+ кг | G15: =B2 -> 0 | L15: Б | M15: (Круг) | N15: 1/4 | P15: =P4 -> В.к. 98+ кг | Q15: =L2 -> 0
A16: № встр | B16: № п/ж | C16: Ф.И.О. | D16: Д. р., разряд | E16: Вед., регион | G16: Оценки | H16: Очки | I16: Рез-т | J16: Время | K16: № встр | L16: № п/ж | M16: Ф.И.О. | N16: Д. р., разряд | O16: Вед., регион | Q16: Оценки | R16: Очки | S16: Рез-т | T16: Время
A17: 1 | B17: =пр.хода!F8 -> 0 | C17: =IFERROR(VLOOKUP(B17,пр.взв!$D$6:$Q$20,2,0),"") | D17: =IFERROR(VLOOKUP(B17,пр.взв!$D$6:$Q$20,5,0),"") | E17: =IFERROR(VLOOKUP(B17,пр.взв!$D$6:$Q$20,6,0),"") | F17: =IFERROR(VLOOKUP(B17,пр.взв!$D$6:$Q$20,8,0),"") | K17: 3 | L17: =пр.хода!X8 -> 0 | M17: =IFERROR(VLOOKUP(L17,пр.взв!$D$6:$Q$20,2,0),"") | N17: =IFERROR(VLOOKUP(L17,пр.взв!$D$6:$Q$20,5,0),"") | O17: =IFERROR(VLOOKUP(L17,пр.взв!$D$6:$Q$20,6,0),"") | P17: =IFERROR(VLOOKUP(L17,пр.взв!$D$6:$Q$20,8,0),"")
B18: =пр.хода!F12 -> 5 | C18: =IFERROR(VLOOKUP(B18,пр.взв!$D$6:$Q$20,2,0),"") -> СОЛДАТЕНКОВ Савелий | D18: =IFERROR(VLOOKUP(B18,пр.взв!$D$6:$Q$20,5,0),"") -> КМС | E18: =IFERROR(VLOOKUP(B18,пр.взв!$D$6:$Q$20,6,0),"") -> ЦФО | F18: =IFERROR(VLOOKUP(B18,пр.взв!$D$6:$Q$20,8,0),"") -> Московская | L18: =пр.хода!X12 -> 6 | M18: =IFERROR(VLOOKUP(L18,пр.взв!$D$6:$Q$20,2,0),"") -> РАДЖАБОВ Арсен | N18: =IFERROR(VLOOKUP(L18,пр.взв!$D$6:$Q$20,5,0),"") -> КМС | O18: =IFERROR(VLOOKUP(L18,пр.взв!$D$6:$Q$20,6,0),"") -> МОС | P18: =IFERROR(VLOOKUP(L18,пр.взв!$D$6:$Q$20,8,0),"") -> Москва
A19: 2 | B19: =пр.хода!F16 -> 0 | C19: =IFERROR(VLOOKUP(B19,пр.взв!$D$6:$Q$20,2,0),"") | D19: =IFERROR(VLOOKUP(B19,пр.взв!$D$6:$Q$20,5,0),"") | E19: =IFERROR(VLOOKUP(B19,пр.взв!$D$6:$Q$20,6,0),"") | F19: =IFERROR(VLOOKUP(B19,пр.взв!$D$6:$Q$20,8,0),"") | K19: 4 | L19: =пр.хода!X16 -> 4 | M19: =IFERROR(VLOOKUP(L19,пр.взв!$D$6:$Q$20,2,0),"") -> СЫВОРОТКИН Иван | N19: =IFERROR(VLOOKUP(L19,пр.взв!$D$6:$Q$20,5,0),"") -> КМС | O19: =IFERROR(VLOOKUP(L19,пр.взв!$D$6:$Q$20,6,0),"") -> ПФО | P19: =IFERROR(VLOOKUP(L19,пр.взв!$D$6:$Q$20,8,0),"") -> Нижегородская
B20: =пр.хода!F20 -> 7 | C20: =IFERROR(VLOOKUP(B20,пр.взв!$D$6:$Q$20,2,0),"") -> ГАМЗАТОВ Гамзат | D20: =IFERROR(VLOOKUP(B20,пр.взв!$D$6:$Q$20,5,0),"") -> КМС | E20: =IFERROR(VLOOKUP(B20,пр.взв!$D$6:$Q$20,6,0),"") -> СКФО | F20: =IFERROR(VLOOKUP(B20,пр.взв!$D$6:$Q$20,8,0),"") -> Р.Дагестан | L20: =пр.хода!X20 -> 8 | M20: =IFERROR(VLOOKUP(L20,пр.взв!$D$6:$Q$20,2,0),"") -> ТХАКАХОВ Ратмир | N20: =IFERROR(VLOOKUP(L20,пр.взв!$D$6:$Q$20,5,0),"") -> КМС | O20: =IFERROR(VLOOKUP(L20,пр.взв!$D$6:$Q$20,6,0),"") -> ЮФО | P20: =IFERROR(VLOOKUP(L20,пр.взв!$D$6:$Q$20,8,0),"") -> Р.Адыгея
B21: =B14 -> 0 | C21: КОВЕР | L21: =L14 -> 0 | M21: КОВЕР
B22: A | C22: Полуфинал | F22: =F15 -> В.к. 98+ кг | G22: =G15 -> 0 | L22: Б | M22: Полуфинал | P22: =P15 -> В.к. 98+ кг | Q22: =Q15 -> 0
A23: № встр | B23: № п/ж | C23: Ф.И.О. | D23: Д. р., разряд | E23: Вед., регион | G23: Оценки | H23: Очки | I23: Рез-т | J23: Время | K23: № встр | L23: № п/ж | M23: Ф.И.О. | N23: Д. р., разряд | O23: Вед., регион | Q23: Оценки | R23: Очки | S23: Рез-т | T23: Время
A25: 1 | B25: =пр.хода!H10 -> 0 | C25: =IFERROR(VLOOKUP(B25,пр.взв!$D$6:$Q$20,2,0),"") | D25: =IFERROR(VLOOKUP(B25,пр.взв!$D$6:$Q$20,5,0),"") | E25: =IFERROR(VLOOKUP(B25,пр.взв!$D$6:$Q$20,6,0),"") | F25: =IFERROR(VLOOKUP(B25,пр.взв!$D$6:$Q$20,8,0),"") | K25: 2 | L25: =пр.хода!V10 -> 0 | M25: =IFERROR(VLOOKUP(L25,пр.взв!$D$6:$Q$20,2,0),"") | N25: =IFERROR(VLOOKUP(L25,пр.взв!$D$6:$Q$20,5,0),"") | O25: =IFERROR(VLOOKUP(L25,пр.взв!$D$6:$Q$20,6,0),"") | P25: =IFERROR(VLOOKUP(L25,пр.взв!$D$6:$Q$20,8,0),"")
B26: =пр.хода!H18 -> 0 | C26: =IFERROR(VLOOKUP(B26,пр.взв!$D$6:$Q$20,2,0),"") | D26: =IFERROR(VLOOKUP(B26,пр.взв!$D$6:$Q$20,5,0),"") | E26: =IFERROR(VLOOKUP(B26,пр.взв!$D$6:$Q$20,6,0),"") | F26: =IFERROR(VLOOKUP(B26,пр.взв!$D$6:$Q$20,8,0),"") | L26: =пр.хода!V18 -> 0 | M26: =IFERROR(VLOOKUP(L26,пр.взв!$D$6:$Q$20,2,0),"") | N26: =IFERROR(VLOOKUP(L26,пр.взв!$D$6:$Q$20,5,0),"") | O26: =IFERROR(VLOOKUP(L26,пр.взв!$D$6:$Q$20,6,0),"") | P26: =IFERROR(VLOOKUP(L26,пр.взв!$D$6:$Q$20,8,0),"")
B27: =B21 -> 0 | C27: КОВЕР | L27: =L21 -> 0 | M27: КОВЕР
A28: (Утешительные встречи) 1 круг | K28: (Утешительные встречи) 1 круг
B29: A | F29: =F22 -> В.к. 98+ кг | G29: =G22 -> 0 | L29: Б | P29: =P22 -> В.к. 98+ кг | Q29: =Q22 -> 0
A30: № встр | B30: № п/ж | C30: Ф.И.О. | D30: Д. р., разряд | E30: Вед., регион | G30: Оценки | H30: Очки | I30: Рез-т | J30: Время | K30: № встр | L30: № п/ж | M30: Ф.И.О. | N30: Д. р., разряд | O30: Вед., регион | Q30: Оценки | R30: Очки | S30: Рез-т | T30: Время
A32: 1 | B32: =пр.хода!A25 -> 0 | C32: =IFERROR(VLOOKUP(B32,пр.взв!$D$6:$Q$20,2,0),"") | D32: =IFERROR(VLOOKUP(B32,пр.взв!$D$6:$Q$20,5,0),"") | E32: =IFERROR(VLOOKUP(B32,пр.взв!$D$6:$Q$20,6,0),"") | F32: =IFERROR(VLOOKUP(B32,пр.взв!$D$6:$Q$20,8,0),"") | K32: 3 | L32: =пр.хода!N25 -> 0 | M32: =IFERROR(VLOOKUP(L32,пр.взв!$D$6:$Q$20,2,0),"") | N32: =IFERROR(VLOOKUP(L32,пр.взв!$D$6:$Q$20,5,0),"") | O32: =IFERROR(VLOOKUP(L32,пр.взв!$D$6:$Q$20,6,0),"") | P32: =IFERROR(VLOOKUP(L32,пр.взв!$D$6:$Q$20,8,0),"")
B33: =пр.хода!A27 -> 0 | C33: =IFERROR(VLOOKUP(B33,пр.взв!$D$6:$Q$20,2,0),"") | D33: =IFERROR(VLOOKUP(B33,пр.взв!$D$6:$Q$20,5,0),"") | E33: =IFERROR(VLOOKUP(B33,пр.взв!$D$6:$Q$20,6,0),"") | F33: =IFERROR(VLOOKUP(B33,пр.взв!$D$6:$Q$20,8,0),"") | L33: =пр.хода!N27 -> 0 | M33: =IFERROR(VLOOKUP(L33,пр.взв!$D$6:$Q$20,2,0),"") | N33: =IFERROR(VLOOKUP(L33,пр.взв!$D$6:$Q$20,5,0),"") | O33: =IFERROR(VLOOKUP(L33,пр.взв!$D$6:$Q$20,6,0),"") | P33: =IFERROR(VLOOKUP(L33,пр.взв!$D$6:$Q$20,8,0),"")
A34: 2 | B34: =пр.хода!A31 -> Гл. секретарь, судья ВК | C34: =IFERROR(VLOOKUP(B34,пр.взв!$D$6:$Q$20,2,0),"") | D34: =IFERROR(VLOOKUP(B34,пр.взв!$D$6:$Q$20,5,0),"") | E34: =IFERROR(VLOOKUP(B34,пр.взв!$D$6:$Q$20,6,0),"") | F34: =IFERROR(VLOOKUP(B34,пр.взв!$D$6:$Q$20,8,0),"") | K34: 4 | L34: =пр.хода!N31 -> 0 | M34: =IFERROR(VLOOKUP(L34,пр.взв!$D$6:$Q$20,2,0),"") | N34: =IFERROR(VLOOKUP(L34,пр.взв!$D$6:$Q$20,5,0),"") | O34: =IFERROR(VLOOKUP(L34,пр.взв!$D$6:$Q$20,6,0),"") | P34: =IFERROR(VLOOKUP(L34,пр.взв!$D$6:$Q$20,8,0),"")
B35: =пр.хода!A33 -> 0 | C35: =IFERROR(VLOOKUP(B35,пр.взв!$D$6:$Q$20,2,0),"") | D35: =IFERROR(VLOOKUP(B35,пр.взв!$D$6:$Q$20,5,0),"") | E35: =IFERROR(VLOOKUP(B35,пр.взв!$D$6:$Q$20,6,0),"") | F35: =IFERROR(VLOOKUP(B35,пр.взв!$D$6:$Q$20,8,0),"") | L35: =пр.хода!N33 -> 0 | M35: =IFERROR(VLOOKUP(L35,пр.взв!$D$6:$Q$20,2,0),"") | N35: =IFERROR(VLOOKUP(L35,пр.взв!$D$6:$Q$20,5,0),"") | O35: =IFERROR(VLOOKUP(L35,пр.взв!$D$6:$Q$20,6,0),"") | P35: =IFERROR(VLOOKUP(L35,пр.взв!$D$6:$Q$20,8,0),"")
B36: =B27 -> 0 | C36: КОВЕР | L36: =L27 -> 0 | M36: КОВЕР
A37: (Утешительные встречи) 2 круг | K37: (Утешительные встречи) 2 круг
B38: A | F38: =F29 -> В.к. 98+ кг | G38: =G29 -> 0 | L38: Б | P38: =P29 -> В.к. 98+ кг | Q38: =Q29 -> 0
A39: № встр | B39: № п/ж | C39: Ф.И.О. | D39: Д. р., разряд | E39: Вед., регион | G39: Оценки | H39: Очки | I39: Рез-т | J39: Время | K39: № встр | L39: № п/ж | M39: Ф.И.О. | N39: Д. р., разряд | O39: Вед., регион | Q39: Оценки | R39: Очки | S39: Рез-т | T39: Время
A41: 1 | B41: =пр.хода!F28 -> 0 | C41: =IFERROR(VLOOKUP(B41,пр.взв!$D$6:$Q$20,2,0),"") | D41: =IFERROR(VLOOKUP(B41,пр.взв!$D$6:$Q$20,5,0),"") | E41: =IFERROR(VLOOKUP(B41,пр.взв!$D$6:$Q$20,6,0),"") | F41: =IFERROR(VLOOKUP(B41,пр.взв!$D$6:$Q$20,8,0),"") | K41: 2 | L41: =пр.хода!S26 | M41: =IFERROR(VLOOKUP(L41,пр.взв!$D$6:$Q$20,2,0),"") | N41: =IFERROR(VLOOKUP(L41,пр.взв!$D$6:$Q$20,5,0),"") | O41: =IFERROR(VLOOKUP(L41,пр.взв!$D$6:$Q$20,6,0),"") | P41: =IFERROR(VLOOKUP(L41,пр.взв!$D$6:$Q$20,8,0),"")
B42: =пр.хода!F34 -> 0 | C42: =IFERROR(VLOOKUP(B42,пр.взв!$D$6:$Q$20,2,0),"") | D42: =IFERROR(VLOOKUP(B42,пр.взв!$D$6:$Q$20,5,0),"") | E42: =IFERROR(VLOOKUP(B42,пр.взв!$D$6:$Q$20,6,0),"") | F42: =IFERROR(VLOOKUP(B42,пр.взв!$D$6:$Q$20,8,0),"") | L42: =пр.хода!S32 -> 0 | M42: =IFERROR(VLOOKUP(L42,пр.взв!$D$6:$Q$20,2,0),"") | N42: =IFERROR(VLOOKUP(L42,пр.взв!$D$6:$Q$20,5,0),"") | O42: =IFERROR(VLOOKUP(L42,пр.взв!$D$6:$Q$20,6,0),"") | P42: =IFERROR(VLOOKUP(L42,пр.взв!$D$6:$Q$20,8,0),"")

Sheet Табло
B1: ВСТРЕЧИ ПО КРУГАМ | M1: ВСТРЕЧИ ПО КРУГАМ
B2: 3 | C2: КОВЕР | E2: =пр.взв!I4 -> 0 | M2: =B2 -> 3 | N2: КОВЕР | P2: =G2 -> 0
B3: A | C3: (Круг) | D3: 1/16 | F3: 1/16 | G3: =пр.взв!G4 -> В.к. 98+ кг | M3: Б | N3: (Круг) | O3: 1/16 | P3: 1/16 | R3: =G3 -> В.к. 98+ кг
A4: № встр | B4: № п/ж | C4: Ф.И.О. | D4: Д. р., разряд | E4: Округ., субъект | G4: Оценки | H4: Очки | I4: Рез-т | J4: Время | L4: № встр | M4: № п/ж | N4: Ф.И.О. | O4: Д. р., разряд | P4: Вед., регион | R4: Оценки | S4: Очки | T4: Рез-т | U4: Время
A41: 1 | B41: 1 | C41: =IFERROR(VLOOKUP(B41,пр.взв!$D$6:$Q$32,2,0),"") -> МАГОМЕДОВ Закарига | D41: =IFERROR(VLOOKUP(B41,пр.взв!$D$6:$Q$32,5,0),"") -> 3p | E41: =IFERROR(VLOOKUP(B41,пр.взв!$D$6:$Q$32,6,0),"") -> СКФО | F41: =IFERROR(VLOOKUP(B41,пр.взв!$D$6:$Q$32,8,0),"") -> Р.Дагестан | L41: 9 | M41: 2 | N41: =IFERROR(VLOOKUP(M41,пр.взв!$D$6:$Q$32,2,0),"") -> СОЛТАЕВ Тимерлан | O41: =IFERROR(VLOOKUP(M41,пр.взв!$D$6:$Q$32,5,0),"") -> КМС | P41: =IFERROR(VLOOKUP(M41,пр.взв!$D$6:$Q$32,6,0),"") -> СКФО | Q41: =IFERROR(VLOOKUP(M41,пр.взв!$D$6:$Q$32,8,0),"") -> Р.Дагестан
B42: 17 | C42: =IFERROR(VLOOKUP(B42,пр.взв!$D$6:$Q$32,2,0),"") | D42: =IFERROR(VLOOKUP(B42,пр.взв!$D$6:$Q$32,5,0),"") | E42: =IFERROR(VLOOKUP(B42,пр.взв!$D$6:$Q$32,6,0),"") | F42: =IFERROR(VLOOKUP(B42,пр.взв!$D$6:$Q$32,8,0),"") | M42: 18 | N42: =IFERROR(VLOOKUP(M42,пр.взв!$D$6:$Q$32,2,0),"") | O42: =IFERROR(VLOOKUP(M42,пр.взв!$D$6:$Q$32,5,0),"") | P42: =IFERROR(VLOOKUP(M42,пр.взв!$D$6:$Q$32,6,0),"") | Q42: =IFERROR(VLOOKUP(M42,пр.взв!$D$6:$Q$32,8,0),"")
A43: 2 | B43: 9 | C43: =IFERROR(VLOOKUP(B43,пр.взв!$D$6:$Q$32,2,0),"") -> СОКОЛОВ Иван | D43: =IFERROR(VLOOKUP(B43,пр.взв!$D$6:$Q$32,5,0),"") -> КМС | E43: =IFERROR(VLOOKUP(B43,пр.взв!$D$6:$Q$32,6,0),"") -> СПБ | F43: =IFERROR(VLOOKUP(B43,пр.взв!$D$6:$Q$32,8,0),"") -> Санкт-Петербург | L43: 10 | M43: 10 | N43: =IFERROR(VLOOKUP(M43,пр.взв!$D$6:$Q$32,2,0),"") -> ДРЯМОВ Павел | O43: =IFERROR(VLOOKUP(M43,пр.взв!$D$6:$Q$32,5,0),"") -> КМС | P43: =IFERROR(VLOOKUP(M43,пр.взв!$D$6:$Q$32,6,0),"") -> ЦФО | Q43: =IFERROR(VLOOKUP(M43,пр.взв!$D$6:$Q$32,8,0),"") -> Московская
B44: 25 | C44: =IFERROR(VLOOKUP(B44,пр.взв!$D$6:$Q$32,2,0),"") | D44: =IFERROR(VLOOKUP(B44,пр.взв!$D$6:$Q$32,5,0),"") | E44: =IFERROR(VLOOKUP(B44,пр.взв!$D$6:$Q$32,6,0),"") | F44: =IFERROR(VLOOKUP(B44,пр.взв!$D$6:$Q$32,8,0),"") | M44: 26 | N44: =IFERROR(VLOOKUP(M44,пр.взв!$D$6:$Q$32,2,0),"") | O44: =IFERROR(VLOOKUP(M44,пр.взв!$D$6:$Q$32,5,0),"") | P44: =IFERROR(VLOOKUP(M44,пр.взв!$D$6:$Q$32,6,0),"") | Q44: =IFERROR(VLOOKUP(M44,пр.взв!$D$6:$Q$32,8,0),"")
A45: 3 | B45: 5 | C45: =IFERROR(VLOOKUP(B45,пр.взв!$D$6:$Q$32,2,0),"") -> СОЛДАТЕНКОВ Савелий | D45: =IFERROR(VLOOKUP(B45,пр.взв!$D$6:$Q$32,5,0),"") -> КМС | E45: =IFERROR(VLOOKUP(B45,пр.взв!$D$6:$Q$32,6,0),"") -> ЦФО | F45: =IFERROR(VLOOKUP(B45,пр.взв!$D$6:$Q$32,8,0),"") -> Московская | L45: 11 | M45: 6 | N45: =IFERROR(VLOOKUP(M45,пр.взв!$D$6:$Q$32,2,0),"") -> РАДЖАБОВ Арсен | O45: =IFERROR(VLOOKUP(M45,пр.взв!$D$6:$Q$32,5,0),"") -> КМС | P45: =IFERROR(VLOOKUP(M45,пр.взв!$D$6:$Q$32,6,0),"") -> МОС | Q45: =IFERROR(VLOOKUP(M45,пр.взв!$D$6:$Q$32,8,0),"") -> Москва
B46: 21 | C46: =IFERROR(VLOOKUP(B46,пр.взв!$D$6:$Q$32,2,0),"") | D46: =IFERROR(VLOOKUP(B46,пр.взв!$D$6:$Q$32,5,0),"") | E46: =IFERROR(VLOOKUP(B46,пр.взв!$D$6:$Q$32,6,0),"") | F46: =IFERROR(VLOOKUP(B46,пр.взв!$D$6:$Q$32,8,0),"") | M46: 22 | N46: =IFERROR(VLOOKUP(M46,пр.взв!$D$6:$Q$32,2,0),"") | O46: =IFERROR(VLOOKUP(M46,пр.взв!$D$6:$Q$32,5,0),"") | P46: =IFERROR(VLOOKUP(M46,пр.взв!$D$6:$Q$32,6,0),"") | Q46: =IFERROR(VLOOKUP(M46,пр.взв!$D$6:$Q$32,8,0),"")
A47: 4 | B47: 13 | C47: =IFERROR(VLOOKUP(B47,пр.взв!$D$6:$Q$32,2,0),"") | D47: =IFERROR(VLOOKUP(B47,пр.взв!$D$6:$Q$32,5,0),"") | E47: =IFERROR(VLOOKUP(B47,пр.взв!$D$6:$Q$32,6,0),"") | F47: =IFERROR(VLOOKUP(B47,пр.взв!$D$6:$Q$32,8,0),"") | L47: 12 | M47: 14 | N47: =IFERROR(VLOOKUP(M47,пр.взв!$D$6:$Q$32,2,0),"") | O47: =IFERROR(VLOOKUP(M47,пр.взв!$D$6:$Q$32,5,0),"") | P47: =IFERROR(VLOOKUP(M47,пр.взв!$D$6:$Q$32,6,0),"") | Q47: =IFERROR(VLOOKUP(M47,пр.взв!$D$6:$Q$32,8,0),"")
B48: 29 | C48: =IFERROR(VLOOKUP(B48,пр.взв!$D$6:$Q$32,2,0),"") | D48: =IFERROR(VLOOKUP(B48,пр.взв!$D$6:$Q$32,5,0),"") | E48: =IFERROR(VLOOKUP(B48,пр.взв!$D$6:$Q$32,6,0),"") | F48: =IFERROR(VLOOKUP(B48,пр.взв!$D$6:$Q$32,8,0),"") | M48: 30 | N48: =IFERROR(VLOOKUP(M48,пр.взв!$D$6:$Q$32,2,0),"") | O48: =IFERROR(VLOOKUP(M48,пр.взв!$D$6:$Q$32,5,0),"") | P48: =IFERROR(VLOOKUP(M48,пр.взв!$D$6:$Q$32,6,0),"") | Q48: =IFERROR(VLOOKUP(M48,пр.взв!$D$6:$Q$32,8,0),"")
A49: 5 | B49: 3 | C49: =IFERROR(VLOOKUP(B49,пр.взв!$D$6:$Q$32,2,0),"") -> ЕФИМОВ Олег | D49: =IFERROR(VLOOKUP(B49,пр.взв!$D$6:$Q$32,5,0),"") -> 1р | E49: =IFERROR(VLOOKUP(B49,пр.взв!$D$6:$Q$32,6,0),"") -> УФО | F49: =IFERROR(VLOOKUP(B49,пр.взв!$D$6:$Q$32,8,0),"") -> Челябинская | L49: 13 | M49: 4 | N49: =IFERROR(VLOOKUP(M49,пр.взв!$D$6:$Q$32,2,0),"") -> СЫВОРОТКИН Иван | O49: =IFERROR(VLOOKUP(M49,пр.взв!$D$6:$Q$32,5,0),"") -> КМС | P49: =IFERROR(VLOOKUP(M49,пр.взв!$D$6:$Q$32,6,0),"") -> ПФО | Q49: =IFERROR(VLOOKUP(M49,пр.взв!$D$6:$Q$32,8,0),"") -> Нижегородская
B50: 19 | C50: =IFERROR(VLOOKUP(B50,пр.взв!$D$6:$Q$32,2,0),"") | D50: =IFERROR(VLOOKUP(B50,пр.взв!$D$6:$Q$32,5,0),"") | E50: =IFERROR(VLOOKUP(B50,пр.взв!$D$6:$Q$32,6,0),"") | F50: =IFERROR(VLOOKUP(B50,пр.взв!$D$6:$Q$32,8,0),"") | M50: 20 | N50: =IFERROR(VLOOKUP(M50,пр.взв!$D$6:$Q$32,2,0),"") | O50: =IFERROR(VLOOKUP(M50,пр.взв!$D$6:$Q$32,5,0),"") | P50: =IFERROR(VLOOKUP(M50,пр.взв!$D$6:$Q$32,6,0),"") | Q50: =IFERROR(VLOOKUP(M50,пр.взв!$D$6:$Q$32,8,0),"")
A51: 6 | B51: 11 | C51: =IFERROR(VLOOKUP(B51,пр.взв!$D$6:$Q$32,2,0),"") -> ДЖАРИАШВИЛИ Нодар | D51: =IFERROR(VLOOKUP(B51,пр.взв!$D$6:$Q$32,5,0),"") -> КМС | E51: =IFERROR(VLOOKUP(B51,пр.взв!$D$6:$Q$32,6,0),"") -> ЦФО | F51: =IFERROR(VLOOKUP(B51,пр.взв!$D$6:$Q$32,8,0),"") -> Московская | L51: 14 | M51: 12 | N51: =IFERROR(VLOOKUP(M51,пр.взв!$D$6:$Q$32,2,0),"") | O51: =IFERROR(VLOOKUP(M51,пр.взв!$D$6:$Q$32,5,0),"") | P51: =IFERROR(VLOOKUP(M51,пр.взв!$D$6:$Q$32,6,0),"") | Q51: =IFERROR(VLOOKUP(M51,пр.взв!$D$6:$Q$32,8,0),"")
B52: 27 | C52: =IFERROR(VLOOKUP(B52,пр.взв!$D$6:$Q$32,2,0),"") | D52: =IFERROR(VLOOKUP(B52,пр.взв!$D$6:$Q$32,5,0),"") | E52: =IFERROR(VLOOKUP(B52,пр.взв!$D$6:$Q$32,6,0),"") | F52: =IFERROR(VLOOKUP(B52,пр.взв!$D$6:$Q$32,8,0),"") | M52: 28 | N52: =IFERROR(VLOOKUP(M52,пр.взв!$D$6:$Q$32,2,0),"") | O52: =IFERROR(VLOOKUP(M52,пр.взв!$D$6:$Q$32,5,0),"") | P52: =IFERROR(VLOOKUP(M52,пр.взв!$D$6:$Q$32,6,0),"") | Q52: =IFERROR(VLOOKUP(M52,пр.взв!$D$6:$Q$32,8,0),"")
A53: 7 | B53: 7 | C53: =IFERROR(VLOOKUP(B53,пр.взв!$D$6:$Q$32,2,0),"") -> ГАМЗАТОВ Гамзат | D53: =IFERROR(VLOOKUP(B53,пр.взв!$D$6:$Q$32,5,0),"") -> КМС | E53: =IFERROR(VLOOKUP(B53,пр.взв!$D$6:$Q$32,6,0),"") -> СКФО | F53: =IFERROR(VLOOKUP(B53,пр.взв!$D$6:$Q$32,8,0),"") -> Р.Дагестан | L53: 15 | M53: 8 | N53: =IFERROR(VLOOKUP(M53,пр.взв!$D$6:$Q$32,2,0),"") -> ТХАКАХОВ Ратмир | O53: =IFERROR(VLOOKUP(M53,пр.взв!$D$6:$Q$32,5,0),"") -> КМС | P53: =IFERROR(VLOOKUP(M53,пр.взв!$D$6:$Q$32,6,0),"") -> ЮФО | Q53: =IFERROR(VLOOKUP(M53,пр.взв!$D$6:$Q$32,8,0),"") -> Р.Адыгея
B54: 23 | C54: =IFERROR(VLOOKUP(B54,пр.взв!$D$6:$Q$32,2,0),"") | D54: =IFERROR(VLOOKUP(B54,пр.взв!$D$6:$Q$32,5,0),"") | E54: =IFERROR(VLOOKUP(B54,пр.взв!$D$6:$Q$32,6,0),"") | F54: =IFERROR(VLOOKUP(B54,пр.взв!$D$6:$Q$32,8,0),"") | M54: 24 | N54: =IFERROR(VLOOKUP(M54,пр.взв!$D$6:$Q$32,2,0),"") | O54: =IFERROR(VLOOKUP(M54,пр.взв!$D$6:$Q$32,5,0),"") | P54: =IFERROR(VLOOKUP(M54,пр.взв!$D$6:$Q$32,6,0),"") | Q54: =IFERROR(VLOOKUP(M54,пр.взв!$D$6:$Q$32,8,0),"")
A55: 8 | B55: 15 | C55: =IFERROR(VLOOKUP(B55,пр.взв!$D$6:$Q$32,2,0),"") | D55: =IFERROR(VLOOKUP(B55,пр.взв!$D$6:$Q$32,5,0),"") | E55: =IFERROR(VLOOKUP(B55,пр.взв!$D$6:$Q$32,6,0),"") | F55: =IFERROR(VLOOKUP(B55,пр.взв!$D$6:$Q$32,8,0),"") | L55: 16 | M55: 16 | N55: =IFERROR(VLOOKUP(M55,пр.взв!$D$6:$Q$32,2,0),"") | O55: =IFERROR(VLOOKUP(M55,пр.взв!$D$6:$Q$32,5,0),"") | P55: =IFERROR(VLOOKUP(M55,пр.взв!$D$6:$Q$32,6,0),"") | Q55: =IFERROR(VLOOKUP(M55,пр.взв!$D$6:$Q$32,8,0),"")
B56: 31 | C56: =IFERROR(VLOOKUP(B56,пр.взв!$D$6:$Q$32,2,0),"") | D56: =IFERROR(VLOOKUP(B56,пр.взв!$D$6:$Q$32,5,0),"") | E56: =IFERROR(VLOOKUP(B56,пр.взв!$D$6:$Q$32,6,0),"") | F56: =IFERROR(VLOOKUP(B56,пр.взв!$D$6:$Q$32,8,0),"") | M56: 32 | N56: =IFERROR(VLOOKUP(M56,пр.взв!$D$6:$Q$32,2,0),"") | O56: =IFERROR(VLOOKUP(M56,пр.взв!$D$6:$Q$32,5,0),"") | P56: =IFERROR(VLOOKUP(M56,пр.взв!$D$6:$Q$32,6,0),"") | Q56: =IFERROR(VLOOKUP(M56,пр.взв!$D$6:$Q$32,8,0),"")
B57: № п/ж | C57: Подгруппа А | D57: 1/8 | F57: 1/8 | G57: =G3 -> В.к. 98+ кг | M57: № п/ж | N57: Подгруппа Б | O57: 1/8 | Q57: 1/8 | R57: =G57 -> В.к. 98+ кг
A58: № встр | B58: № п/ж | C58: Ф.И.О. | D58: Д. р., разряд | E58: Округ., субъект | G58: Оценки | H58: Очки | I58: Рез-т | J58: Время | L58: № встр | N58: Ф.И.О. | O58: Д. р., разряд | P58: Округ., субъект | R58: Оценки | S58: Очки | T58: Рез-т | U58: Время
A60: 1 | B60: 1 | C60: =IFERROR(VLOOKUP(B60,пр.взв!$D$6:$Q$32,2,0),"") -> МАГОМЕДОВ Закарига | D60: =IFERROR(VLOOKUP(B60,пр.взв!$D$6:$Q$32,5,0),"") -> 3p | E60: =IFERROR(VLOOKUP(B60,пр.взв!$D$6:$Q$32,6,0),"") -> СКФО | F60: =IFERROR(VLOOKUP(B60,пр.взв!$D$6:$Q$32,8,0),"") -> Р.Дагестан | L60: 5 | M60: 2 | N60: =IFERROR(VLOOKUP(M60,пр.взв!$D$6:$Q$32,2,0),"") -> СОЛТАЕВ Тимерлан | O60: =IFERROR(VLOOKUP(M60,пр.взв!$D$6:$Q$32,5,0),"") -> КМС | P60: =IFERROR(VLOOKUP(M60,пр.взв!$D$6:$Q$32,6,0),"") -> СКФО | Q60: =IFERROR(VLOOKUP(M60,пр.взв!$D$6:$Q$32,8,0),"") -> Р.Дагестан
B61: 9 | C61: =IFERROR(VLOOKUP(B61,пр.взв!$D$6:$Q$32,2,0),"") -> СОКОЛОВ Иван | D61: =IFERROR(VLOOKUP(B61,пр.взв!$D$6:$Q$32,5,0),"") -> КМС | E61: =IFERROR(VLOOKUP(B61,пр.взв!$D$6:$Q$32,6,0),"") -> СПБ | F61: =IFERROR(VLOOKUP(B61,пр.взв!$D$6:$Q$32,8,0),"") -> Санкт-Петербург | M61: 10 | N61: =IFERROR(VLOOKUP(M61,пр.взв!$D$6:$Q$32,2,0),"") -> ДРЯМОВ Павел | O61: =IFERROR(VLOOKUP(M61,пр.взв!$D$6:$Q$32,5,0),"") -> КМС | P61: =IFERROR(VLOOKUP(M61,пр.взв!$D$6:$Q$32,6,0),"") -> ЦФО | Q61: =IFERROR(VLOOKUP(M61,пр.взв!$D$6:$Q$32,8,0),"") -> Московская
A62: 2 | B62: 5 | C62: =IFERROR(VLOOKUP(B62,пр.взв!$D$6:$Q$32,2,0),"") -> СОЛДАТЕНКОВ Савелий | D62: =IFERROR(VLOOKUP(B62,пр.взв!$D$6:$Q$32,5,0),"") -> КМС | E62: =IFERROR(VLOOKUP(B62,пр.взв!$D$6:$Q$32,6,0),"") -> ЦФО | F62: =IFERROR(VLOOKUP(B62,пр.взв!$D$6:$Q$32,8,0),"") -> Московская | L62: 6 | M62: 6 | N62: =IFERROR(VLOOKUP(M62,пр.взв!$D$6:$Q$32,2,0),"") -> РАДЖАБОВ Арсен | O62: =IFERROR(VLOOKUP(M62,пр.взв!$D$6:$Q$32,5,0),"") -> КМС | P62: =IFERROR(VLOOKUP(M62,пр.взв!$D$6:$Q$32,6,0),"") -> МОС | Q62: =IFERROR(VLOOKUP(M62,пр.взв!$D$6:$Q$32,8,0),"") -> Москва
B63: 13 | C63: =IFERROR(VLOOKUP(B63,пр.взв!$D$6:$Q$32,2,0),"") | D63: =IFERROR(VLOOKUP(B63,пр.взв!$D$6:$Q$32,5,0),"") | E63: =IFERROR(VLOOKUP(B63,пр.взв!$D$6:$Q$32,6,0),"") | F63: =IFERROR(VLOOKUP(B63,пр.взв!$D$6:$Q$32,8,0),"") | M63: 14 | N63: =IFERROR(VLOOKUP(M63,пр.взв!$D$6:$Q$32,2,0),"") | O63: =IFERROR(VLOOKUP(M63,пр.взв!$D$6:$Q$32,5,0),"") | P63: =IFERROR(VLOOKUP(M63,пр.взв!$D$6:$Q$32,6,0),"") | Q63: =IFERROR(VLOOKUP(M63,пр.взв!$D$6:$Q$32,8,0),"")
A64: 3 | B64: 3 | C64: =IFERROR(VLOOKUP(B64,пр.взв!$D$6:$Q$32,2,0),"") -> ЕФИМОВ Олег | D64: =IFERROR(VLOOKUP(B64,пр.взв!$D$6:$Q$32,5,0),"") -> 1р | E64: =IFERROR(VLOOKUP(B64,пр.взв!$D$6:$Q$32,6,0),"") -> УФО | F64: =IFERROR(VLOOKUP(B64,пр.взв!$D$6:$Q$32,8,0),"") -> Челябинская | L64: 7 | M64: 4 | N64: =IFERROR(VLOOKUP(M64,пр.взв!$D$6:$Q$32,2,0),"") -> СЫВОРОТКИН Иван | O64: =IFERROR(VLOOKUP(M64,пр.взв!$D$6:$Q$32,5,0),"") -> КМС | P64: =IFERROR(VLOOKUP(M64,пр.взв!$D$6:$Q$32,6,0),"") -> ПФО | Q64: =IFERROR(VLOOKUP(M64,пр.взв!$D$6:$Q$32,8,0),"") -> Нижегородская
B65: 11 | C65: =IFERROR(VLOOKUP(B65,пр.взв!$D$6:$Q$32,2,0),"") -> ДЖАРИАШВИЛИ Нодар | D65: =IFERROR(VLOOKUP(B65,пр.взв!$D$6:$Q$32,5,0),"") -> КМС | E65: =IFERROR(VLOOKUP(B65,пр.взв!$D$6:$Q$32,6,0),"") -> ЦФО | F65: =IFERROR(VLOOKUP(B65,пр.взв!$D$6:$Q$32,8,0),"") -> Московская | M65: 12 | N65: =IFERROR(VLOOKUP(M65,пр.взв!$D$6:$Q$32,2,0),"") | O65: =IFERROR(VLOOKUP(M65,пр.взв!$D$6:$Q$32,5,0),"") | P65: =IFERROR(VLOOKUP(M65,пр.взв!$D$6:$Q$32,6,0),"") | Q65: =IFERROR(VLOOKUP(M65,пр.взв!$D$6:$Q$32,8,0),"")
A66: 4 | B66: 7 | C66: =IFERROR(VLOOKUP(B66,пр.взв!$D$6:$Q$32,2,0),"") -> ГАМЗАТОВ Гамзат | D66: =IFERROR(VLOOKUP(B66,пр.взв!$D$6:$Q$32,5,0),"") -> КМС | E66: =IFERROR(VLOOKUP(B66,пр.взв!$D$6:$Q$32,6,0),"") -> СКФО | F66: =IFERROR(VLOOKUP(B66,пр.взв!$D$6:$Q$32,8,0),"") -> Р.Дагестан | L66: 8 | M66: 8 | N66: =IFERROR(VLOOKUP(M66,пр.взв!$D$6:$Q$32,2,0),"") -> ТХАКАХОВ Ратмир | O66: =IFERROR(VLOOKUP(M66,пр.взв!$D$6:$Q$32,5,0),"") -> КМС | P66: =IFERROR(VLOOKUP(M66,пр.взв!$D$6:$Q$32,6,0),"") -> ЮФО | Q66: =IFERROR(VLOOKUP(M66,пр.взв!$D$6:$Q$32,8,0),"") -> Р.Адыгея
B67: 15 | C67: =IFERROR(VLOOKUP(B67,пр.взв!$D$6:$Q$32,2,0),"") | D67: =IFERROR(VLOOKUP(B67,пр.взв!$D$6:$Q$32,5,0),"") | E67: =IFERROR(VLOOKUP(B67,пр.взв!$D$6:$Q$32,6,0),"") | F67: =IFERROR(VLOOKUP(B67,пр.взв!$D$6:$Q$32,8,0),"") | M67: 16 | N67: =IFERROR(VLOOKUP(M67,пр.взв!$D$6:$Q$32,2,0),"") | O67: =IFERROR(VLOOKUP(M67,пр.взв!$D$6:$Q$32,5,0),"") | P67: =IFERROR(VLOOKUP(M67,пр.взв!$D$6:$Q$32,6,0),"") | Q67: =IFERROR(VLOOKUP(M67,пр.взв!$D$6:$Q$32,8,0),"")
B68: A | C68: (Круг) | D68: 1/4 | F68: 1/4 | G68: =G57 -> В.к. 98+ кг | M68: B | N68: (Круг) | O68: 1/4 | P68: 1/4 | R68: =G68 -> В.к. 98+ кг
A69: № встр | B69: № п/ж | C69: Ф.И.О. | D69: Д. р., разряд | E69: Вед., регион | G69: Оценки | H69: Очки | I69: Рез-т | J69: Время | L69: № встр | M69: № п/ж | N69: Ф.И.О. | O69: Д. р., разряд | P69: Вед., регион | R69: Оценки | S69: Очки | T69: Рез-т | U69: Время
A71: 1 | B71: =пр.хода!F8 -> 0 | C71: =IFERROR(VLOOKUP(B71,пр.взв!$D$6:$Q$32,2,0),"") | D71: =IFERROR(VLOOKUP(B71,пр.взв!$D$6:$Q$32,5,0),"") | E71: =IFERROR(VLOOKUP(B71,пр.взв!$D$6:$Q$32,6,0),"") | F71: =IFERROR(VLOOKUP(B71,пр.взв!$D$6:$Q$32,8,0),"") | L71: 3 | M71: =пр.хода!X8 -> 0 | N71: =IFERROR(VLOOKUP(M71,пр.взв!$D$6:$Q$32,2,0),"") | O71: =IFERROR(VLOOKUP(M71,пр.взв!$D$6:$Q$32,5,0),"") | P71: =IFERROR(VLOOKUP(M71,пр.взв!$D$6:$Q$32,6,0),"") | Q71: =IFERROR(VLOOKUP(M71,пр.взв!$D$6:$Q$32,8,0),"")
B72: =пр.хода!F12 -> 5 | C72: =IFERROR(VLOOKUP(B72,пр.взв!$D$6:$Q$32,2,0),"") -> СОЛДАТЕНКОВ Савелий | D72: =IFERROR(VLOOKUP(B72,пр.взв!$D$6:$Q$32,5,0),"") -> КМС | E72: =IFERROR(VLOOKUP(B72,пр.взв!$D$6:$Q$32,6,0),"") -> ЦФО | F72: =IFERROR(VLOOKUP(B72,пр.взв!$D$6:$Q$32,8,0),"") -> Московская | M72: =пр.хода!X12 -> 6 | N72: =IFERROR(VLOOKUP(M72,пр.взв!$D$6:$Q$32,2,0),"") -> РАДЖАБОВ Арсен | O72: =IFERROR(VLOOKUP(M72,пр.взв!$D$6:$Q$32,5,0),"") -> КМС | P72: =IFERROR(VLOOKUP(M72,пр.взв!$D$6:$Q$32,6,0),"") -> МОС | Q72: =IFERROR(VLOOKUP(M72,пр.взв!$D$6:$Q$32,8,0),"") -> Москва
A73: 2 | B73: =пр.хода!F16 -> 0 | C73: =IFERROR(VLOOKUP(B73,пр.взв!$D$6:$Q$32,2,0),"") | D73: =IFERROR(VLOOKUP(B73,пр.взв!$D$6:$Q$32,5,0),"") | E73: =IFERROR(VLOOKUP(B73,пр.взв!$D$6:$Q$32,6,0),"") | F73: =IFERROR(VLOOKUP(B73,пр.взв!$D$6:$Q$32,8,0),"") | L73: 4 | M73: =пр.хода!X16 -> 4 | N73: =IFERROR(VLOOKUP(M73,пр.взв!$D$6:$Q$32,2,0),"") -> СЫВОРОТКИН Иван | O73: =IFERROR(VLOOKUP(M73,пр.взв!$D$6:$Q$32,5,0),"") -> КМС | P73: =IFERROR(VLOOKUP(M73,пр.взв!$D$6:$Q$32,6,0),"") -> ПФО | Q73: =IFERROR(VLOOKUP(M73,пр.взв!$D$6:$Q$32,8,0),"") -> Нижегородская
B74: =пр.хода!F20 -> 7 | C74: =IFERROR(VLOOKUP(B74,пр.взв!$D$6:$Q$32,2,0),"") -> ГАМЗАТОВ Гамзат | D74: =IFERROR(VLOOKUP(B74,пр.взв!$D$6:$Q$32,5,0),"") -> КМС | E74: =IFERROR(VLOOKUP(B74,пр.взв!$D$6:$Q$32,6,0),"") -> СКФО | F74: =IFERROR(VLOOKUP(B74,пр.взв!$D$6:$Q$32,8,0),"") -> Р.Дагестан | M74: =пр.хода!X20 -> 8 | N74: =IFERROR(VLOOKUP(M74,пр.взв!$D$6:$Q$32,2,0),"") -> ТХАКАХОВ Ратмир | O74: =IFERROR(VLOOKUP(M74,пр.взв!$D$6:$Q$32,5,0),"") -> КМС | P74: =IFERROR(VLOOKUP(M74,пр.взв!$D$6:$Q$32,6,0),"") -> ЮФО | Q74: =IFERROR(VLOOKUP(M74,пр.взв!$D$6:$Q$32,8,0),"") -> Р.Адыгея
B75: A | C75: Полуфинал | G75: =G68 -> В.к. 98+ кг | M75: Б | N75: Полуфинал | R75: =G75 -> В.к. 98+ кг
A76: № встр | B76: № п/ж | C76: Ф.И.О. | D76: Д. р., разряд | E76: Вед., регион | G76: Оценки | H76: Очки | I76: Рез-т | J76: Время | L76: № встр | M76: № п/ж | N76: Ф.И.О. | O76: Д. р., разряд | P76: Вед., регион | R76: Оценки | S76: Очки | T76: Рез-т | U76: Время
A78: 1 | B78: =пр.хода!H10 -> 0 | C78: =IFERROR(VLOOKUP(B78,пр.взв!$D$6:$Q$32,2,0),"") | D78: =IFERROR(VLOOKUP(B78,пр.взв!$D$6:$Q$32,5,0),"") | E78: =IFERROR(VLOOKUP(B78,пр.взв!$D$6:$Q$32,6,0),"") | F78: =IFERROR(VLOOKUP(B78,пр.взв!$D$6:$Q$32,8,0),"") | L78: 2 | M78: =пр.хода!V10 -> 0 | N78: =IFERROR(VLOOKUP(M78,пр.взв!$D$6:$Q$32,2,0),"") | O78: =IFERROR(VLOOKUP(M78,пр.взв!$D$6:$Q$32,5,0),"") | P78: =IFERROR(VLOOKUP(M78,пр.взв!$D$6:$Q$32,6,0),"") | Q78: =IFERROR(VLOOKUP(M78,пр.взв!$D$6:$Q$32,8,0),"")
B79: =пр.хода!H18 -> 0 | C79: =IFERROR(VLOOKUP(B79,пр.взв!$D$6:$Q$32,2,0),"") | D79: =IFERROR(VLOOKUP(B79,пр.взв!$D$6:$Q$32,5,0),"") | E79: =IFERROR(VLOOKUP(B79,пр.взв!$D$6:$Q$32,6,0),"") | F79: =IFERROR(VLOOKUP(B79,пр.взв!$D$6:$Q$32,8,0),"") | M79: =пр.хода!V18 -> 0 | N79: =IFERROR(VLOOKUP(M79,пр.взв!$D$6:$Q$32,2,0),"") | O79: =IFERROR(VLOOKUP(M79,пр.взв!$D$6:$Q$32,5,0),"") | P79: =IFERROR(VLOOKUP(M79,пр.взв!$D$6:$Q$32,6,0),"") | Q79: =IFERROR(VLOOKUP(M79,пр.взв!$D$6:$Q$32,8,0),"")
A85: (Утешительные встречи) 12 | L85: (Утешительные встречи) 12
B86: A | G86: =G75 -> В.к. 98+ кг | M86: Б | R86: =G86 -> В.к. 98+ кг
A87: № встр | B87: № п/ж | C87: Ф.И.О. | D87: Д. р., разряд | E87: Вед., регион | G87: Оценки | H87: Очки | I87: Рез-т | J87: Время | L87: № встр | M87: № п/ж | N87: Ф.И.О. | O87: Д. р., разряд | P87: Вед., регион | R87: Оценки | S87: Очки | T87: Рез-т | U87: Время
A89: 1 | C89: =IFERROR(VLOOKUP(B89,пр.взв!$D$6:$Q$32,2,0),"") | D89: =IFERROR(VLOOKUP(B89,пр.взв!$D$6:$Q$32,5,0),"") | E89: =IFERROR(VLOOKUP(B89,пр.взв!$D$6:$Q$32,6,0),"") | F89: =IFERROR(VLOOKUP(B89,пр.взв!$D$6:$Q$32,8,0),"") | L89: 3 | M89: =пр.хода!J91 -> 0 | N89: =IFERROR(VLOOKUP(M89,пр.взв!$D$6:$Q$32,2,0),"") | O89: =IFERROR(VLOOKUP(M89,пр.взв!$D$6:$Q$32,5,0),"") | P89: =IFERROR(VLOOKUP(M89,пр.взв!$D$6:$Q$32,6,0),"") | Q89: =IFERROR(VLOOKUP(M89,пр.взв!$D$6:$Q$32,8,0),"")
C90: =IFERROR(VLOOKUP(B90,пр.взв!$D$6:$Q$32,2,0),"") | D90: =IFERROR(VLOOKUP(B90,пр.взв!$D$6:$Q$32,5,0),"") | E90: =IFERROR(VLOOKUP(B90,пр.взв!$D$6:$Q$32,6,0),"") | F90: =IFERROR(VLOOKUP(B90,пр.взв!$D$6:$Q$32,8,0),"") | M90: =пр.хода!J95 -> 0 | N90: =IFERROR(VLOOKUP(M90,пр.взв!$D$6:$Q$32,2,0),"") | O90: =IFERROR(VLOOKUP(M90,пр.взв!$D$6:$Q$32,5,0),"") | P90: =IFERROR(VLOOKUP(M90,пр.взв!$D$6:$Q$32,6,0),"") | Q90: =IFERROR(VLOOKUP(M90,пр.взв!$D$6:$Q$32,8,0),"")
A91: 2 | C91: =IFERROR(VLOOKUP(B91,пр.взв!$D$6:$Q$32,2,0),"") | D91: =IFERROR(VLOOKUP(B91,пр.взв!$D$6:$Q$32,5,0),"") | E91: =IFERROR(VLOOKUP(B91,пр.взв!$D$6:$Q$32,6,0),"") | F91: =IFERROR(VLOOKUP(B91,пр.взв!$D$6:$Q$32,8,0),"") | L91: 4 | M91: =пр.хода!I102 -> 0 | N91: =IFERROR(VLOOKUP(M91,пр.взв!$D$6:$Q$32,2,0),"") | O91: =IFERROR(VLOOKUP(M91,пр.взв!$D$6:$Q$32,5,0),"") | P91: =IFERROR(VLOOKUP(M91,пр.взв!$D$6:$Q$32,6,0),"") | Q91: =IFERROR(VLOOKUP(M91,пр.взв!$D$6:$Q$32,8,0),"")
C92: =IFERROR(VLOOKUP(B92,пр.взв!$D$6:$Q$32,2,0),"") | D92: =IFERROR(VLOOKUP(B92,пр.взв!$D$6:$Q$32,5,0),"") | E92: =IFERROR(VLOOKUP(B92,пр.взв!$D$6:$Q$32,6,0),"") | F92: =IFERROR(VLOOKUP(B92,пр.взв!$D$6:$Q$32,8,0),"") | M92: =пр.хода!I106 -> 0 | N92: =IFERROR(VLOOKUP(M92,пр.взв!$D$6:$Q$32,2,0),"") | O92: =IFERROR(VLOOKUP(M92,пр.взв!$D$6:$Q$32,5,0),"") | P92: =IFERROR(VLOOKUP(M92,пр.взв!$D$6:$Q$32,6,0),"") | Q92: =IFERROR(VLOOKUP(M92,пр.взв!$D$6:$Q$32,8,0),"")
A93: (Утешительные встречи) 8 | L93: (Утешительные встречи) 8
A94: 5 | B94: =пр.хода!A25 -> 0 | C94: =IFERROR(VLOOKUP(B94,пр.взв!$D$6:$Q$32,2,0),"") | D94: =IFERROR(VLOOKUP(B94,пр.взв!$D$6:$Q$32,5,0),"") | E94: =IFERROR(VLOOKUP(B94,пр.взв!$D$6:$Q$32,6,0),"") | F94: =IFERROR(VLOOKUP(B94,пр.взв!$D$6:$Q$32,8,0),"") | L94: 7 | M94: =пр.хода!N25 -> 0 | N94: =IFERROR(VLOOKUP(M94,пр.взв!$D$6:$Q$32,2,0),"") | O94: =IFERROR(VLOOKUP(M94,пр.взв!$D$6:$Q$32,5,0),"") | P94: =IFERROR(VLOOKUP(M94,пр.взв!$D$6:$Q$32,6,0),"") | Q94: =IFERROR(VLOOKUP(M94,пр.взв!$D$6:$Q$32,8,0),"")
B95: =пр.хода!A27 -> 0 | C95: =IFERROR(VLOOKUP(B95,пр.взв!$D$6:$Q$32,2,0),"") | D95: =IFERROR(VLOOKUP(B95,пр.взв!$D$6:$Q$32,5,0),"") | E95: =IFERROR(VLOOKUP(B95,пр.взв!$D$6:$Q$32,6,0),"") | F95: =IFERROR(VLOOKUP(B95,пр.взв!$D$6:$Q$32,8,0),"") | M95: =пр.хода!N27 -> 0 | N95: =IFERROR(VLOOKUP(M95,пр.взв!$D$6:$Q$32,2,0),"") | O95: =IFERROR(VLOOKUP(M95,пр.взв!$D$6:$Q$32,5,0),"") | P95: =IFERROR(VLOOKUP(M95,пр.взв!$D$6:$Q$32,6,0),"") | Q95: =IFERROR(VLOOKUP(M95,пр.взв!$D$6:$Q$32,8,0),"")
A96: 6 | B96: =пр.хода!A31 -> Гл. секретарь, судья ВК | C96: =IFERROR(VLOOKUP(B96,пр.взв!$D$6:$Q$32,2,0),"") | D96: =IFERROR(VLOOKUP(B96,пр.взв!$D$6:$Q$32,5,0),"") | E96: =IFERROR(VLOOKUP(B96,пр.взв!$D$6:$Q$32,6,0),"") | F96: =IFERROR(VLOOKUP(B96,пр.взв!$D$6:$Q$32,8,0),"") | L96: 8 | M96: =пр.хода!N31 -> 0 | N96: =IFERROR(VLOOKUP(M96,пр.взв!$D$6:$Q$32,2,0),"") | O96: =IFERROR(VLOOKUP(M96,пр.взв!$D$6:$Q$32,5,0),"") | P96: =IFERROR(VLOOKUP(M96,пр.взв!$D$6:$Q$32,6,0),"") | Q96: =IFERROR(VLOOKUP(M96,пр.взв!$D$6:$Q$32,8,0),"")
B97: =пр.хода!A33 -> 0 | C97: =IFERROR(VLOOKUP(B97,пр.взв!$D$6:$Q$32,2,0),"") | D97: =IFERROR(VLOOKUP(B97,пр.взв!$D$6:$Q$32,5,0),"") | E97: =IFERROR(VLOOKUP(B97,пр.взв!$D$6:$Q$32,6,0),"") | F97: =IFERROR(VLOOKUP(B97,пр.взв!$D$6:$Q$32,8,0),"") | M97: =пр.хода!N33 -> 0 | N97: =IFERROR(VLOOKUP(M97,пр.взв!$D$6:$Q$32,2,0),"") | O97: =IFERROR(VLOOKUP(M97,пр.взв!$D$6:$Q$32,5,0),"") | P97: =IFERROR(VLOOKUP(M97,пр.взв!$D$6:$Q$32,6,0),"") | Q97: =IFERROR(VLOOKUP(M97,пр.взв!$D$6:$Q$32,8,0),"")
A98: (Утешительные встречи) 6 | L98: (Утешительные встречи) 6
A99: 9 | B99: =пр.хода!F28 -> 0 | C99: =IFERROR(VLOOKUP(B99,пр.взв!$D$6:$Q$32,2,0),"") | D99: =IFERROR(VLOOKUP(B99,пр.взв!$D$6:$Q$32,5,0),"") | E99: =IFERROR(VLOOKUP(B99,пр.взв!$D$6:$Q$32,6,0),"") | F99: =IFERROR(VLOOKUP(B99,пр.взв!$D$6:$Q$32,8,0),"") | L99: 10 | M99: =пр.хода!S26 | N99: =IFERROR(VLOOKUP(M99,пр.взв!$D$6:$Q$32,2,0),"") | O99: =IFERROR(VLOOKUP(M99,пр.взв!$D$6:$Q$32,5,0),"") | P99: =IFERROR(VLOOKUP(M99,пр.взв!$D$6:$Q$32,6,0),"") | Q99: =IFERROR(VLOOKUP(M99,пр.взв!$D$6:$Q$32,8,0),"")
B100: =пр.хода!F34 -> 0 | C100: =IFERROR(VLOOKUP(B100,пр.взв!$D$6:$Q$32,2,0),"") | D100: =IFERROR(VLOOKUP(B100,пр.взв!$D$6:$Q$32,5,0),"") | E100: =IFERROR(VLOOKUP(B100,пр.взв!$D$6:$Q$32,6,0),"") | F100: =IFERROR(VLOOKUP(B100,пр.взв!$D$6:$Q$32,8,0),"") | M100: =пр.хода!S32 -> 0 | N100: =IFERROR(VLOOKUP(M100,пр.взв!$D$6:$Q$32,2,0),"") | O100: =IFERROR(VLOOKUP(M100,пр.взв!$D$6:$Q$32,5,0),"") | P100: =IFERROR(VLOOKUP(M100,пр.взв!$D$6:$Q$32,6,0),"") | Q100: =IFERROR(VLOOKUP(M100,пр.взв!$D$6:$Q$32,8,0),"")
C101: ЗА 3 МЕСТО | N101: ЗА 3 МЕСТО
C102: ВСТРЕЧА 1 | D102: =пр.взв!$D$4 -> 0 | N102: ВСТРЕЧА 1 | O102: =пр.взв!$D$4 -> 0
B103: =пр.хода!F28 -> 0 | C103: =IFERROR(VLOOKUP(B103,пр.взв!$B$7:$H$69,2,0),"") | D103: =IFERROR(VLOOKUP(B103,пр.взв!$B$7:$H$69,3,0),"") | E103: =IFERROR(VLOOKUP(B103,пр.взв!$B$7:$H$69,4,0),"") | F103: =IFERROR(VLOOKUP(B103,пр.взв!$B$7:$H$69,5,0),"") | M103: =B103 -> 0 | N103: =IFERROR(VLOOKUP(M103,пр.взв!$B$7:$H$69,2,0),"") | O103: =IFERROR(VLOOKUP(M103,пр.взв!$B$7:$H$69,3,0),"") | P103: =IFERROR(VLOOKUP(M103,пр.взв!$B$7:$H$69,4,0),"") | Q103: =IFERROR(VLOOKUP(M103,пр.взв!$B$7:$H$69,5,0),"")
B104: =пр.хода!F34 -> 0 | C104: =IFERROR(VLOOKUP(B104,пр.взв!$B$7:$H$69,2,0),"") | D104: =IFERROR(VLOOKUP(B104,пр.взв!$B$7:$H$69,3,0),"") | E104: =IFERROR(VLOOKUP(B104,пр.взв!$B$7:$H$69,4,0),"") | F104: =IFERROR(VLOOKUP(B104,пр.взв!$B$7:$H$69,5,0),"") | M104: =B104 -> 0 | N104: =IFERROR(VLOOKUP(M104,пр.взв!$B$7:$H$69,2,0),"") | O104: =IFERROR(VLOOKUP(M104,пр.взв!$B$7:$H$69,3,0),"") | P104: =IFERROR(VLOOKUP(M104,пр.взв!$B$7:$H$69,4,0),"") | Q104: =IFERROR(VLOOKUP(M104,пр.взв!$B$7:$H$69,5,0),"")
C105: 3А 3 МЕСТО | N105: 3А 3 МЕСТО
C106: ВСТРЕЧА 2 | D106: =пр.взв!$D$4 -> 0 | N106: ВСТРЕЧА 2 | O106: =пр.взв!$D$4 -> 0
B107: =пр.хода!V28 -> 0 | C107: =IFERROR(VLOOKUP(B107,пр.взв!$B$7:$H$69,2,0),"") | D107: =IFERROR(VLOOKUP(B107,пр.взв!$B$7:$H$69,3,0),"") | E107: =IFERROR(VLOOKUP(B107,пр.взв!$B$7:$H$69,4,0),"") | F107: =IFERROR(VLOOKUP(B107,пр.взв!$B$7:$H$69,5,0),"") | M107: =B107 -> 0 | N107: =IFERROR(VLOOKUP(M107,пр.взв!$B$7:$H$69,2,0),"") | O107: =IFERROR(VLOOKUP(M107,пр.взв!$B$7:$H$69,3,0),"") | P107: =IFERROR(VLOOKUP(M107,пр.взв!$B$7:$H$69,4,0),"") | Q107: =IFERROR(VLOOKUP(M107,пр.взв!$B$7:$H$69,5,0),"")
B108: =пр.хода!V34 -> 0 | C108: =IFERROR(VLOOKUP(B108,пр.взв!$B$7:$H$69,2,0),"") | D108: =IFERROR(VLOOKUP(B108,пр.взв!$B$7:$H$69,3,0),"") | E108: =IFERROR(VLOOKUP(B108,пр.взв!$B$7:$H$69,4,0),"") | F108: =IFERROR(VLOOKUP(B108,пр.взв!$B$7:$H$69,5,0),"") | M108: =B108 -> 0 | N108: =IFERROR(VLOOKUP(M108,пр.взв!$B$7:$H$69,2,0),"") | O108: =IFERROR(VLOOKUP(M108,пр.взв!$B$7:$H$69,3,0),"") | P108: =IFERROR(VLOOKUP(M108,пр.взв!$B$7:$H$69,4,0),"") | Q108: =IFERROR(VLOOKUP(M108,пр.взв!$B$7:$H$69,5,0),"")
C109: ФИНАЛ | D109: =пр.взв!$D$4 -> 0 | N109: ФИНАЛ | O109: =пр.взв!$D$4 -> 0
B110: =пр.хода!J14 -> 0 | C110: =IFERROR(VLOOKUP(B110,пр.взв!$D$6:$Q$32,2,0),"") | D110: =IFERROR(VLOOKUP(B110,пр.взв!$D$6:$Q$32,5,0),"") | E110: =IFERROR(VLOOKUP(B110,пр.взв!$D$6:$Q$32,6,0),"") | F110: =IFERROR(VLOOKUP(B110,пр.взв!$D$6:$Q$32,8,0),"") | M110: =B110 -> 0 | N110: =IFERROR(VLOOKUP(M110,пр.взв!$D$6:$Q$32,2,0),"") | O110: =IFERROR(VLOOKUP(M110,пр.взв!$D$6:$Q$32,5,0),"") | P110: =IFERROR(VLOOKUP(M110,пр.взв!$D$6:$Q$32,6,0),"") | Q110: =IFERROR(VLOOKUP(M110,пр.взв!$D$6:$Q$32,8,0),"")
B111: =пр.хода!T14 -> 0 | C111: =IFERROR(VLOOKUP(B111,пр.взв!$D$6:$Q$32,2,0),"") | D111: =IFERROR(VLOOKUP(B111,пр.взв!$D$6:$Q$32,5,0),"") | E111: =IFERROR(VLOOKUP(B111,пр.взв!$D$6:$Q$32,6,0),"") | F111: =IFERROR(VLOOKUP(B111,пр.взв!$D$6:$Q$32,8,0),"") | M111: =B111 -> 0 | N111: =IFERROR(VLOOKUP(M111,пр.взв!$D$6:$Q$32,2,0),"") | O111: =IFERROR(VLOOKUP(M111,пр.взв!$D$6:$Q$32,5,0),"") | P111: =IFERROR(VLOOKUP(M111,пр.взв!$D$6:$Q$32,6,0),"") | Q111: =IFERROR(VLOOKUP(M111,пр.взв!$D$6:$Q$32,8,0),"")

Sheet полуфинал
A1: =пр.взв!C2 -> Первенство России по самбо (боевое) юниоры 18-20 лет (отбор на Первенство Мира и Европы) ЕКП № 23752
F2: =(пр.взв!D4) -> 0
C3: ЗА 3 МЕСТО | F3: =пр.взв!G4 -> В.к. 98+ кг
C4: ВСТРЕЧА 1
A5: Цвет | B5: № п/ж | C5: Ф.И.О. | D5: Д. р., разряд | E5: Вед., регион | G5: Оценки | H5: Рез-т | I5: Время
B7: =пр.хода!F28 -> 0 | C7: =IFERROR(VLOOKUP(B7,пр.взв!$D$6:$Q$21,2,0),"") | D7: =IFERROR(VLOOKUP(B7,пр.взв!$D$6:$Q$21,5,0),"") | E7: =IFERROR(VLOOKUP(B7,пр.взв!$D$6:$Q$21,6,0),"") | F7: =IFERROR(VLOOKUP(B7,пр.взв!$D$6:$Q$21,7,0),"")
B8: =пр.хода!F34 -> 0 | C8: =IFERROR(VLOOKUP(B8,пр.взв!$D$6:$Q$21,2,0),"") | D8: =IFERROR(VLOOKUP(B8,пр.взв!$D$6:$Q$21,5,0),"") | E8: =IFERROR(VLOOKUP(B8,пр.взв!$D$6:$Q$21,6,0),"") | F8: =IFERROR(VLOOKUP(B8,пр.взв!$D$6:$Q$21,7,0),"")
A9: Руководитель ковра
B10: А
B11: Б
C13: ЗА 3 МЕСТО | F13: =пр.взв!G4 -> В.к. 98+ кг
C14: ВСТРЕЧА 2 | F14: =(пр.взв!D4) -> 0
A15: Цвет | B15: № п/ж | C15: Ф.И.О. | D15: Д. р., разряд | E15: Вед., регион | G15: Оценки | H15: Рез-т | I15: Время
B17: =пр.хода!V28 -> 0 | C17: =IFERROR(VLOOKUP(B17,пр.взв!$D$6:$Q$19,2,0),"") | D17: =IFERROR(VLOOKUP(B17,пр.взв!$D$6:$Q$13,5,0),"") | E17: =IFERROR(VLOOKUP(B17,пр.взв!$D$6:$Q$13,6,0),"") | F17: =IFERROR(VLOOKUP(B17,пр.взв!$D$6:$Q$13,7,0),"")
B18: =пр.хода!V34 -> 0 | C18: =IFERROR(VLOOKUP(B18,пр.взв!$D$6:$Q$19,2,0),"") | D18: =IFERROR(VLOOKUP(B18,пр.взв!$D$6:$Q$13,5,0),"") | E18: =IFERROR(VLOOKUP(B18,пр.взв!$D$6:$Q$13,6,0),"") | F18: =IFERROR(VLOOKUP(B18,пр.взв!$D$6:$Q$13,7,0),"")
A19: Руководитель ковра
B20: А
B21: Б
C25: ФИНАЛ | F25: =пр.взв!G4 -> В.к. 98+ кг
A26: Цвет | B26: № п/ж | C26: Ф.И.О. | D26: Д. р., разряд | E26: Вед., регион | G26: Оценки | H26: Рез-т | I26: Время
B28: =пр.хода!J14 -> 0 | C28: =IFERROR(VLOOKUP(B28,пр.взв!$D$6:$Q$21,2,0),"") | D28: =IFERROR(VLOOKUP(B28,пр.взв!$D$6:$Q$21,5,0),"") | E28: =IFERROR(VLOOKUP(B28,пр.взв!$D$6:$Q$21,6,0),"") | F28: =IFERROR(VLOOKUP(B28,пр.взв!$D$6:$Q$21,7,0),"")
B29: =пр.хода!T14 -> 0 | C29: =IFERROR(VLOOKUP(B29,пр.взв!$D$6:$Q$21,2,0),"") | D29: =IFERROR(VLOOKUP(B29,пр.взв!$D$6:$Q$21,5,0),"") | E29: =IFERROR(VLOOKUP(B29,пр.взв!$D$6:$Q$21,6,0),"") | F29: =IFERROR(VLOOKUP(B29,пр.взв!$D$6:$Q$21,7,0),"")
A30: Руководитель ковра
B31: А
B32: Б

Sheet Ит.пр
A1: ВСЕРОССИЙСКАЯ ФЕДЕРАЦИЯ САМБО
B2: ИТОГОВЫЙ ПРОТОКОЛ БОЕВОЕ САМБО | D2: =пр.взв!C2 -> Первенство России по самбо (боевое) юниоры 18-20 лет (отбор на Первенство Мира и Европы) ЕКП № 23752
A3: =пр.взв!C3 -> 13.02 - 17.02.2022 г. г. В-Пышма | G3: =пр.взв!G4 -> В.к. 98+ кг
A4: место | B4: № п/ж | C4: Ф.И.О. | D4: Дата рожд., разряд | E4: Округ, субъект, город, ведомство | G4: № карточки | H4: Тренер
A6: 1 | B6: =пр.хода!L8 -> 0 | C6: =IFERROR(VLOOKUP(B6,пр.взв!$D$6:$Q$20,3,0),"") | D6: =IFERROR(VLOOKUP(B6,пр.взв!$D$6:$Q$20,4,0),"") | E6: =IFERROR(VLOOKUP(B6,пр.взв!$D$6:$Q$20,6,0),"") | F6: =IFERROR(VLOOKUP(B6,пр.взв!$D$6:$Q$20,7,0),"") | G6: =IFERROR(VLOOKUP(B6,пр.взв!$D$6:$Q$19,8,0),"") | H6: =IFERROR(VLOOKUP(B6,пр.взв!$D$6:$Q$20,10,0),"")
A7: 2 | B7: =пр.хода!L20 | C7: =IFERROR(VLOOKUP(B7,пр.взв!$D$6:$Q$20,3,0),"") | D7: =IFERROR(VLOOKUP(B7,пр.взв!$D$6:$Q$20,4,0),"") | E7: =IFERROR(VLOOKUP(B7,пр.взв!$D$6:$Q$20,6,0),"") | F7: =IFERROR(VLOOKUP(B7,пр.взв!$D$6:$Q$20,7,0),"") | G7: =IFERROR(VLOOKUP(B7,пр.взв!$D$6:$Q$19,8,0),"") | H7: =IFERROR(VLOOKUP(B7,пр.взв!$D$6:$Q$20,10,0),"")
A8: 3 | B8: =пр.хода!F26 | C8: =IFERROR(VLOOKUP(B8,пр.взв!$D$6:$Q$20,3,0),"") | D8: =IFERROR(VLOOKUP(B8,пр.взв!$D$6:$Q$20,4,0),"") | E8: =IFERROR(VLOOKUP(B8,пр.взв!$D$6:$Q$20,6,0),"") | F8: =IFERROR(VLOOKUP(B8,пр.взв!$D$6:$Q$20,7,0),"") | G8: =IFERROR(VLOOKUP(B8,пр.взв!$D$6:$Q$19,8,0),"") | H8: =IFERROR(VLOOKUP(B8,пр.взв!$D$6:$Q$20,10,0),"")
A9: 3 | B9: =пр.хода!S26 | C9: =IFERROR(VLOOKUP(B9,пр.взв!$D$6:$Q$20,3,0),"") | D9: =IFERROR(VLOOKUP(B9,пр.взв!$D$6:$Q$20,4,0),"") | E9: =IFERROR(VLOOKUP(B9,пр.взв!$D$6:$Q$20,6,0),"") | F9: =IFERROR(VLOOKUP(B9,пр.взв!$D$6:$Q$20,7,0),"") | G9: =IFERROR(VLOOKUP(B9,пр.взв!$D$6:$Q$19,8,0),"") | H9: =IFERROR(VLOOKUP(B9,пр.взв!$D$6:$Q$20,10,0),"")
A10: 44778 | B10: =пр.хода!AG18 | C10: =IFERROR(VLOOKUP(B10,пр.взв!$D$6:$Q$20,3,0),"") | D10: =IFERROR(VLOOKUP(B10,пр.взв!$D$6:$Q$20,4,0),"") | E10: =IFERROR(VLOOKUP(B10,пр.взв!$D$6:$Q$20,6,0),"") | F10: =IFERROR(VLOOKUP(B10,пр.взв!$D$6:$Q$20,7,0),"") | G10: =IFERROR(VLOOKUP(B10,пр.взв!$D$6:$Q$19,8,0),"") | H10: =IFERROR(VLOOKUP(B10,пр.взв!$D$6:$Q$20,10,0),"")
A11: 44778 | B11: =пр.хода!AG19 | C11: =IFERROR(VLOOKUP(B11,пр.взв!$D$6:$Q$20,3,0),"") | D11: =IFERROR(VLOOKUP(B11,пр.взв!$D$6:$Q$20,4,0),"") | E11: =IFERROR(VLOOKUP(B11,пр.взв!$D$6:$Q$20,6,0),"") | F11: =IFERROR(VLOOKUP(B11,пр.взв!$D$6:$Q$20,7,0),"") | G11: =IFERROR(VLOOKUP(B11,пр.взв!$D$6:$Q$19,8,0),"") | H11: =IFERROR(VLOOKUP(B11,пр.взв!$D$6:$Q$20,10,0),"")
A12: 44778 | B12: =пр.хода!AG20 | C12: =IFERROR(VLOOKUP(B12,пр.взв!$D$6:$Q$20,3,0),"") | D12: =IFERROR(VLOOKUP(B12,пр.взв!$D$6:$Q$20,4,0),"") | E12: =IFERROR(VLOOKUP(B12,пр.взв!$D$6:$Q$20,6,0),"") | F12: =IFERROR(VLOOKUP(B12,пр.взв!$D$6:$Q$20,7,0),"") | G12: =IFERROR(VLOOKUP(B12,пр.взв!$D$6:$Q$19,8,0),"") | H12: =IFERROR(VLOOKUP(B12,пр.взв!$D$6:$Q$20,10,0),"")
A13: 44778 | B13: =пр.хода!AG21 | C13: =IFERROR(VLOOKUP(B13,пр.взв!$D$6:$Q$20,3,0),"") | D13: =IFERROR(VLOOKUP(B13,пр.взв!$D$6:$Q$20,4,0),"") | E13: =IFERROR(VLOOKUP(B13,пр.взв!$D$6:$Q$20,6,0),"") | F13: =IFERROR(VLOOKUP(B13,пр.взв!$D$6:$Q$20,7,0),"") | G13: =IFERROR(VLOOKUP(B13,пр.взв!$D$6:$Q$19,8,0),"") | H13: =IFERROR(VLOOKUP(B13,пр.взв!$D$6:$Q$20,10,0),"")
A14: 9-12 | B14: =пр.хода!AG22 | C14: =IFERROR(VLOOKUP(B14,пр.взв!$D$6:$Q$20,3,0),"") | D14: =IFERROR(VLOOKUP(B14,пр.взв!$D$6:$Q$20,4,0),"") | E14: =IFERROR(VLOOKUP(B14,пр.взв!$D$6:$Q$20,6,0),"") | F14: =IFERROR(VLOOKUP(B14,пр.взв!$D$6:$Q$20,7,0),"") | G14: =IFERROR(VLOOKUP(B14,пр.взв!$D$6:$Q$19,8,0),"") | H14: =IFERROR(VLOOKUP(B14,пр.взв!$D$6:$Q$20,10,0),"")
A15: 9-12 | B15: =пр.хода!AG23 -> 13 | C15: =IFERROR(VLOOKUP(B15,пр.взв!$D$6:$Q$20,3,0),"") | D15: =IFERROR(VLOOKUP(B15,пр.взв!$D$6:$Q$20,4,0),"") | E15: =IFERROR(VLOOKUP(B15,пр.взв!$D$6:$Q$20,6,0),"") | F15: =IFERROR(VLOOKUP(B15,пр.взв!$D$6:$Q$20,7,0),"") | G15: =IFERROR(VLOOKUP(B15,пр.взв!$D$6:$Q$19,8,0),"") | H15: =IFERROR(VLOOKUP(B15,пр.взв!$D$6:$Q$20,10,0),"")
A16: 9-12 | B16: =пр.хода!AG24 | C16: =IFERROR(VLOOKUP(B16,пр.взв!$D$6:$Q$20,3,0),"") | D16: =IFERROR(VLOOKUP(B16,пр.взв!$D$6:$Q$20,4,0),"") | E16: =IFERROR(VLOOKUP(B16,пр.взв!$D$6:$Q$20,6,0),"") | F16: =IFERROR(VLOOKUP(B16,пр.взв!$D$6:$Q$20,7,0),"") | G16: =IFERROR(VLOOKUP(B16,пр.взв!$D$6:$Q$19,8,0),"") | H16: =IFERROR(VLOOKUP(B16,пр.взв!$D$6:$Q$20,10,0),"")
A17: 9-12 | B17: =пр.хода!AG25 | C17: =IFERROR(VLOOKUP(B17,пр.взв!$D$6:$Q$20,3,0),"") | D17: =IFERROR(VLOOKUP(B17,пр.взв!$D$6:$Q$20,4,0),"") | E17: =IFERROR(VLOOKUP(B17,пр.взв!$D$6:$Q$20,6,0),"") | F17: =IFERROR(VLOOKUP(B17,пр.взв!$D$6:$Q$20,7,0),"") | G17: =IFERROR(VLOOKUP(B17,пр.взв!$D$6:$Q$19,8,0),"") | H17: =IFERROR(VLOOKUP(B17,пр.взв!$D$6:$Q$20,10,0),"")
A18: 13-16 | B18: =пр.хода!AG26 -> 15 | C18: =IFERROR(VLOOKUP(B18,пр.взв!$D$6:$Q$20,3,0),"") | D18: =IFERROR(VLOOKUP(B18,пр.взв!$D$6:$Q$20,4,0),"") | E18: =IFERROR(VLOOKUP(B18,пр.взв!$D$6:$Q$20,6,0),"") | F18: =IFERROR(VLOOKUP(B18,пр.взв!$D$6:$Q$20,7,0),"") | G18: =IFERROR(VLOOKUP(B18,пр.взв!$D$6:$Q$19,8,0),"") | H18: =IFERROR(VLOOKUP(B18,пр.взв!$D$6:$Q$20,10,0),"")
A19: 13-16 | B19: =пр.хода!AG27 | C19: =IFERROR(VLOOKUP(B19,пр.взв!$D$6:$Q$20,3,0),"") | D19: =IFERROR(VLOOKUP(B19,пр.взв!$D$6:$Q$20,4,0),"") | E19: =IFERROR(VLOOKUP(B19,пр.взв!$D$6:$Q$20,6,0),"") | F19: =IFERROR(VLOOKUP(B19,пр.взв!$D$6:$Q$20,7,0),"") | G19: =IFERROR(VLOOKUP(B19,пр.взв!$D$6:$Q$19,8,0),"") | H19: =IFERROR(VLOOKUP(B19,пр.взв!$D$6:$Q$20,10,0),"")
A20: 13-16 | B20: =пр.хода!AG28 -> 14 | C20: =IFERROR(VLOOKUP(B20,пр.взв!$D$6:$Q$20,3,0),"") | D20: =IFERROR(VLOOKUP(B20,пр.взв!$D$6:$Q$20,4,0),"") | E20: =IFERROR(VLOOKUP(B20,пр.взв!$D$6:$Q$20,6,0),"") | F20: =IFERROR(VLOOKUP(B20,пр.взв!$D$6:$Q$20,7,0),"") | G20: =IFERROR(VLOOKUP(B20,пр.взв!$D$6:$Q$19,8,0),"") | H20: =IFERROR(VLOOKUP(B20,пр.взв!$D$6:$Q$20,10,0),"")
A21: 13-16 | B21: =пр.хода!AG29 -> 12 | C21: =IFERROR(VLOOKUP(B21,пр.взв!$D$6:$Q$20,3,0),"") | D21: =IFERROR(VLOOKUP(B21,пр.взв!$D$6:$Q$20,4,0),"") | E21: =IFERROR(VLOOKUP(B21,пр.взв!$D$6:$Q$20,6,0),"") | F21: =IFERROR(VLOOKUP(B21,пр.взв!$D$6:$Q$20,7,0),"") | G21: =IFERROR(VLOOKUP(B21,пр.взв!$D$6:$Q$19,8,0),"") | H21: =IFERROR(VLOOKUP(B21,пр.взв!$D$6:$Q$20,10,0),"")
A24: =пр.хода!A29 -> Гл. судья, судья ВК | F24: =пр.хода!K29 -> Редин Д.А. | G24: =пр.хода!F38 -> 0 | H24: =пр.хода!Q29 -> Хабаровский кр.
G25: =пр.хода!K38 -> 0
A26: =пр.хода!A29 -> Гл. судья, судья ВК | F26: =пр.хода!K31 -> Мордовин С.Н. | H26: =пр.хода!Q31 -> Р.Алтай
A27: =пр.хода!O38 -> 0 | G27: =пр.хода!Y38 -> 0
G28: =пр.хода!AB38 -> 0

Sheet нагр. лист
A1: =пр.взв!C2 -> Первенство России по самбо (боевое) юниоры 18-20 лет (отбор на Первенство Мира и Европы) ЕКП № 23752
A2: =пр.взв!A3 -> 0
A3: НАГРАДНОЙ ЛИСТ
D4: =пр.взв!G4 -> В.к. 98+ кг
A6: I м | B6: =IFERROR(VLOOKUP(I6,пр.взв!$D$6:$Q$20,3,0),"") | H6: =IFERROR(VLOOKUP(I6,пр.взв!$D$6:$Q$20,4,0),"") | I6: =пр.хода!L8 -> 0
B8: =IFERROR(VLOOKUP(I6,пр.взв!$D$6:$Q$20,6,0),"") | D8: =IFERROR(VLOOKUP(I6,пр.взв!$D$6:$Q$20,7,0),"")
A11: II м | B11: =IFERROR(VLOOKUP(I11,пр.взв!$D$6:$Q$20,3,0),"") | H11: =IFERROR(VLOOKUP(I11,пр.взв!$D$6:$Q$20,4,0),"") | I11: =пр.хода!L20
B13: =IFERROR(VLOOKUP(I11,пр.взв!$D$6:$Q$20,6,0),"") | D13: =IFERROR(VLOOKUP(I11,пр.взв!$D$6:$Q$20,7,0),"")
A16: III м | B16: =IFERROR(VLOOKUP(I16,пр.взв!$D$6:$Q$20,3,0),"") | H16: =IFERROR(VLOOKUP(I16,пр.взв!$D$6:$Q$20,4,0),"") | I16: =пр.хода!AA25 -> 0
B18: =IFERROR(VLOOKUP(I16,пр.взв!$D$6:$Q$20,6,0),"") | D18: =IFERROR(VLOOKUP(I16,пр.взв!$D$6:$Q$20,7,0),"")
A21: III м | B21: =IFERROR(VLOOKUP(I21,пр.взв!$D$6:$Q$20,3,0),"") | H21: =IFERROR(VLOOKUP(I21,пр.взв!$D$6:$Q$20,4,0),"") | I21: =пр.хода!AA32 -> 0
B23: =IFERROR(VLOOKUP(I21,пр.взв!$D$6:$Q$20,6,0),"") | D23: =IFERROR(VLOOKUP(I21,пр.взв!$D$6:$Q$20,7,0),"")
A26: Тренер победителя:
A28: =IFERROR(VLOOKUP(I28,пр.взв!$D$6:$Q$20,10,0),"") | I28: =I6 -> 0
A36: Награждение проводят:

Sheet СТАРТОВЫЙ
A1: =[1]пр!B2 -> #REF!
A2: =[1]пр!A3 -> #REF!
F3: =HYPERLINK([1]пр!D4) -> #REF!
A4: А
A5: 1 | B5: =VLOOKUP(A5,[1]пр!B5:C22,2,FALSE) -> #N/A | C5: =VLOOKUP(A5,[1]пр!B5:F22,3,FALSE) -> #N/A | D5: =VLOOKUP(A5,[1]пр!B5:F22,4,FALSE) -> #N/A
A7: 9 | B7: =VLOOKUP(A7,[1]пр!B7:C22,2,FALSE) -> #N/A | C7: =VLOOKUP(A7,[1]пр!B5:F22,3,FALSE) -> #N/A | D7: =VLOOKUP(A7,[1]пр!B1:G22,5,FALSE) -> #N/A
A9: 5 | B9: =VLOOKUP(A9,[1]пр!B9:C22,2,FALSE) -> #N/A | C9: =VLOOKUP(A9,[1]пр!B5:E22,3,FALSE) -> #N/A | D9: =VLOOKUP(A9,[1]пр!B3:G22,5,FALSE) -> #N/A
A11: 13 | B11: =VLOOKUP(A11,[1]пр!B5:C22,2,FALSE) -> #N/A | C11: =VLOOKUP(A11,[1]пр!B5:E22,3,FALSE) -> #N/A | D11: =VLOOKUP(A11,[1]пр!B5:G22,5,FALSE) -> #N/A
A13: 3 | B13: =VLOOKUP(A13,[1]пр!B5:C22,2,FALSE) -> #N/A | C13: =VLOOKUP(A13,[1]пр!B5:E22,3,FALSE) -> #N/A | D13: =VLOOKUP(A13,[1]пр!B7:G22,5,FALSE) -> #N/A
A15: 11 | B15: =VLOOKUP(A15,[1]пр!B15:C22,2,FALSE) -> #N/A | C15: =VLOOKUP(A15,[1]пр!B5:E22,3,FALSE) -> #N/A | D15: =VLOOKUP(A15,[1]пр!B9:G22,5,FALSE) -> #N/A
A17: 7 | B17: =VLOOKUP(A17,[1]пр!B9:C22,2,FALSE) -> #N/A | C17: =VLOOKUP(A17,[1]пр!B5:E22,3,FALSE) -> #N/A | D17: =VLOOKUP(A17,[1]пр!B11:G22,5,FALSE) -> #N/A
A19: 15 | B19: =VLOOKUP(A19,[1]пр!B19:C22,2,FALSE) -> #N/A | C19: =VLOOKUP(A19,[1]пр!B5:E22,3,FALSE) -> #N/A | D19: =VLOOKUP(A19,[1]пр!B13:G22,5,FALSE) -> #N/A
A21: Б
A22: 2 | B22: =VLOOKUP(A22,[1]пр!B7:E22,2,FALSE) -> #N/A | C22: =VLOOKUP(A22,[1]пр!B7:E22,3,FALSE) -> #N/A | D22: =[1]пр!F9 -> #REF!
A24: 10 | B24: =VLOOKUP(A24,[1]пр!B7:E22,2,FALSE) -> #N/A | C24: =VLOOKUP(A24,[1]пр!B7:E22,3,FALSE) -> #N/A | D24: =VLOOKUP(A24,[1]пр!B8:G22,5,FALSE) -> #N/A
A26: 6 | B26: =VLOOKUP(A26,[1]пр!B7:E22,2,FALSE) -> #N/A | C26: =VLOOKUP(A26,[1]пр!B7:E22,3,FALSE) -> #N/A | D26: =VLOOKUP(A26,[1]пр!B2:G22,5,FALSE) -> #N/A
A28: 14 | B28: =VLOOKUP(A28,[1]пр!B7:E22,2,FALSE) -> #N/A | C28: =VLOOKUP(A28,[1]пр!B7:E22,3,FALSE) -> #N/A | D28: =VLOOKUP(A28,[1]пр!B4:G22,5,FALSE) -> #N/A
A30: 4 | B30: =VLOOKUP(A30,[1]пр!B7:E22,2,FALSE) -> #N/A | C30: =VLOOKUP(A30,[1]пр!B7:E22,3,FALSE) -> #N/A | D30: =VLOOKUP(A30,[1]пр!B6:G22,5,FALSE) -> #N/A
A32: 12 | B32: =VLOOKUP(A32,[1]пр!B7:E22,2,FALSE) -> #N/A | C32: =VLOOKUP(A32,[1]пр!B7:E22,3,FALSE) -> #N/A | D32: =VLOOKUP(A32,[1]пр!B8:G22,5,FALSE) -> #N/A
A34: 8 | B34: =VLOOKUP(A34,[1]пр!B7:E22,2,FALSE) -> #N/A | C34: =VLOOKUP(A34,[1]пр!B7:E22,3,FALSE) -> #N/A | D34: =VLOOKUP(A34,[1]пр!B10:G22,5,FALSE) -> #N/A
A36: 16 | B36: =VLOOKUP(A36,[1]пр!B7:E22,2,FALSE) -> #N/A | C36: =VLOOKUP(A36,[1]пр!B7:E22,3,FALSE) -> #N/A | D36: =VLOOKUP(A36,[1]пр!B12:G22,5,FALSE) -> #N/A
D39: А1
D48: Б1
