Workbook
Name Е4кр: пр.хода!$BT$6:$BT$117
Name Е5кр: пр.хода!$BZ$6:$BZ$117
Name Е6кр: пр.хода!$CF$6:$CF$117
Name ЕстьПустые: пр.хода!$BQ$6:$BQ$117
Name Н4кр: пр.хода!$BU$6:$BU$117
Name Н5кр: пр.хода!$CA$6:$CA$117
Name Н6кр: пр.хода!$CG$6:$CG$117
Name НетПустых: пр.хода!$BS$6:$BS$23
Name разряд: пр.взв!$K$7:$K$70
Name разряд: #REF!
Name субъект: пр.взв!$L$7:$L$70
Name субъект: #REF!

Sheet пр.взв
A1: select Col1,Col3,Col4,Col5,Col6,Col10,Col12,Col13,Col14,Col15,Col16,Col17 WHERE Col1>1 | C1: ПРОТОКОЛ ВЗВЕШИВАНИЯ | N1: https://docs.google.com/spreadsheets/d/1PZBWEDXHEPZXYxRzUFeEH96OiFQnJ7dbRms-DrndW-M/edit#gid=946786355 | O1: =IF(O2="98+",99,O2) -> 71
C2: =IFERROR(__xludf.DUMMYFUNCTION("IMPORTRANGE(N1,""Реквизиты!A1"")"),"Первенство России по самбо юниоры 18-20 лет (отбор на Первенство Мира и Европы) ЕКП № 23752") -> Первенство России по самбо юниоры 18-20 лет (отбор на Первенство Мира и Европы) ЕКП № 23752 | O2: 71 | P2: В.к. | Q2: кг
C3: =IFERROR(__xludf.DUMMYFUNCTION("IMPORTRANGE(N1,""Реквизиты!A3"")"),"13.02 - 17.02.2022 г. г. В-Пышма") -> 13.02 - 17.02.2022 г. г. В-Пышма | P3: участников | AX3: =SUM(AX7:AX12) -> 0
G4: =P2&" "&O2&" "&Q2 -> В.к. 71 кг | Y4: Мандатка
A5: ВК | B5: ВК | C5: № п/п | D5: № п/ж | E5: Ф.И.О. | F5: Ф.И.О. | G5: Дата рожд., разряд | H5: Разряд | I5: Округ, субъект, город, ведомство | K5: Субъект | L5: № карточки | M5: Тренер
A6: 71 | B6: 71 | C6: 23 | D6: 1 | E6: БАГОВ Тимур | F6: БАГОВ Тимур Долетчериевич | G6: 19.08.03, КМС | H6: КМС | I6: ЮФО | J6: Респ. Адыгея, Майкоп, СШ | K6: Р.Адыгея | M6: Гомлешко А.А. Делок А.А. | N6: {=IF(D6:D1602="","",(LEFT(F6:F1602,FIND(" ",F6:F1602)-1)))} -> БАГОВ | O6: 53 | R6: =N8 -> ГОРШКОВ | S6: =N9 -> ЧЕРНИЙ | T6: =N10 -> МАРКОВ | U6: =N11 -> СТАШ | V6: =N12 -> СТОЛБОВ | W6: =N13 -> ГАЙРБЕКОВ | Y6: Субъект, город. | Z6: =Q6 -> 0 | AA6: =R6 -> ГОРШКОВ | AB6: =S6 -> ЧЕРНИЙ | AC6: =T6 -> МАРКОВ | AD6: =U6 -> СТАШ | AE6: =V6 -> СТОЛБОВ | AF6: =W6 -> ГАЙРБЕКОВ
A7: 71 | B7: 71 | C7: 11 | D7: 2 | E7: КОЛОНТАЙ Артём | F7: КОЛОНТАЙ Артём Андреевич | G7: 13.07.05, КМС | H7: КМС | I7: ЦФО | J7: Ярославская обл., Ярославль, МУ СШОР №17 | K7: Ярославская | M7: Сапожников С.В. , Викторов Р.А. | N7: КОЛОНТАЙ | O7: 58 | R7: =SUMIFS($J$7:$J$88,$L$7:$L$88,P7,$K$7:$K$88,R$6) -> 0 | S7: =SUMIFS($J$7:$J$88,$L$7:$L$88,P7,$K$7:$K$88,S$6) -> 0 | T7: =SUMIFS($J$7:$J$88,$L$7:$L$88,P7,$K$7:$K$88,T$6) -> 0 | U7: =SUMIFS($J$7:$J$88,$L$7:$L$88,P7,$K$7:$K$88,U$6) -> 0 | V7: =SUMIFS($J$7:$J$88,$L$7:$L$88,P7,$K$7:$K$88,V$6) -> 0 | W7: =SUMIFS($J$7:$J$88,$L$7:$L$88,P7,$K$7:$K$88,W$6) -> 0 | Y7: =P7 -> 0 | Z7: =IF(Q7=0," ",Q7) | AA7: =IF(R7=0," ",R7) | AB7: =IF(S7=0," ",S7) | AC7: =IF(T7=0," ",T7) | AD7: =IF(U7=0," ",U7) | AE7: =IF(V7=0," ",V7) | AF7: =IF(W7=0," ",W7)
A8: 71 | B8: 71 | C8: 6 | D8: 3 | E8: ГОРШКОВ Фёдор | F8: ГОРШКОВ Фёдор Вадимович | G8: 10.06.04, КМС | H8: КМС | I8: СЗФО | J8: Санкт-Петербург, Санкт-Петербург, МО | K8: Санкт-Петербург | M8: Алимов М.Г., Гасанов А.З. | N8: ГОРШКОВ | O8: 64 | R8: =SUMIFS($J$7:$J$88,$L$7:$L$88,P8,$K$7:$K$88,R$6) -> 0 | S8: =SUMIFS($J$7:$J$88,$L$7:$L$88,P8,$K$7:$K$88,S$6) -> 0 | T8: =SUMIFS($J$7:$J$88,$L$7:$L$88,P8,$K$7:$K$88,T$6) -> 0 | U8: =SUMIFS($J$7:$J$88,$L$7:$L$88,P8,$K$7:$K$88,U$6) -> 0 | V8: =SUMIFS($J$7:$J$88,$L$7:$L$88,P8,$K$7:$K$88,V$6) -> 0 | W8: =SUMIFS($J$7:$J$88,$L$7:$L$88,P8,$K$7:$K$88,W$6) -> 0 | Y8: =P8 -> 0 | Z8: =IF($Y$8=$Y$7," ",IF(Q8=0," ",Q8)) | AA8: =IF($Y$8=$Y$7," ",IF(R8=0," ",R8)) | AB8: =IF($Y$8=$Y$7," ",IF(S8=0," ",S8)) | AC8: =IF($Y$8=$Y$7," ",IF(T8=0," ",T8)) | AD8: =IF(U8=0," ",U8) | AE8: =IF(V8=0," ",V8) | AF8: =IF(W8=0," ",W8)
A9: 71 | B9: 71 | C9: 42 | D9: 4 | E9: ЧЕРНИЙ Михаил | F9: ЧЕРНИЙ Михаил Васильевич | G9: 20.12.03, КМС | H9: КМС | I9: ЮФО | J9: Краснодарский, Курганинск, ВС | K9: Краснодарский | M9: Потапов И. Г. Красов В. В. | N9: ЧЕРНИЙ | O9: 71 | R9: =SUMIFS($J$7:$J$88,$L$7:$L$88,P9,$K$7:$K$88,R$6) -> 0 | S9: =SUMIFS($J$7:$J$88,$L$7:$L$88,P9,$K$7:$K$88,S$6) -> 0 | T9: =SUMIFS($J$7:$J$88,$L$7:$L$88,P9,$K$7:$K$88,T$6) -> 0 | U9: =SUMIFS($J$7:$J$88,$L$7:$L$88,P9,$K$7:$K$88,U$6) -> 0 | V9: =SUMIFS($J$7:$J$88,$L$7:$L$88,P9,$K$7:$K$88,V$6) -> 0 | W9: =SUMIFS($J$7:$J$88,$L$7:$L$88,P9,$K$7:$K$88,W$6) -> 0 | Y9: =P9 -> 0 | Z9: =IF(OR($Y9=$Y7,$Y9=$Y8)," ",IF(Q9=0," ",Q9)) | AA9: =IF(OR($Y9=$Y7,$Y9=$Y8)," ",IF(R9=0," ",R9)) | AB9: =IF(OR($Y9=$Y7,$Y9=$Y8)," ",IF(S9=0," ",S9)) | AC9: =IF(OR($Y9=$Y7,$Y9=$Y8)," ",IF(T9=0," ",T9)) | AD9: =IF(U9=0," ",U9) | AE9: =IF(V9=0," ",V9) | AF9: =IF(W9=0," ",W9)
A10: 71 | B10: 71 | C10: 39 | D10: 5 | E10: МАРКОВ Егор | F10: МАРКОВ Егор Александрович | G10: 13.07.04, КМС | H10: КМС | I10: ЦФО | J10: Московская обл., Реутов, МАУ "спортивная школа" г.Реутов | K10: Московская | M10: Абрамов Александр Геннадьевич, Герасименко Дмитрий Владимирович | N10: МАРКОВ | O10: 79 | R10: =SUMIFS($J$7:$J$88,$L$7:$L$88,P10,$K$7:$K$88,R$6) -> 0 | S10: =SUMIFS($J$7:$J$88,$L$7:$L$88,P10,$K$7:$K$88,S$6) -> 0 | T10: =SUMIFS($J$7:$J$88,$L$7:$L$88,P10,$K$7:$K$88,T$6) -> 0 | U10: =SUMIFS($J$7:$J$88,$L$7:$L$88,P10,$K$7:$K$88,U$6) -> 0 | V10: =SUMIFS($J$7:$J$88,$L$7:$L$88,P10,$K$7:$K$88,V$6) -> 0 | W10: =SUMIFS($J$7:$J$88,$L$7:$L$88,P10,$K$7:$K$88,W$6) -> 0 | Y10: =P10 -> 0 | Z10: =IF(OR($Y10=$Y8,$Y10=$Y9,$Y10=$Y7)," ",IF(Q10=0," ",Q10)) | AA10: =IF(OR($Y10=$Y8,$Y10=$Y9,$Y10=$Y7)," ",IF(R10=0," ",R10)) | AB10: =IF(OR($Y10=$Y8,$Y10=$Y9,$Y10=$Y7)," ",IF(S10=0," ",S10)) | AC10: =IF(OR($Y10=$Y8,$Y10=$Y9,$Y10=$Y7)," ",IF(T10=0," ",T10)) | AD10: =IF(U10=0," ",U10) | AE10: =IF(V10=0," ",V10) | AF10: =IF(W10=0," ",W10)
A11: 71 | B11: 71 | C11: 23 | D11: 6 | E11: СТАШ Тагир | F11: СТАШ Тагир Рустамович | G11: 18.02.04, КМС | H11: КМС | I11: ЮФО | J11: Р.Адыгея, Тахтамукай, МО | K11: Р.Адыгея | M11: Джаримок Р.Н., Джаримок А.Н. | N11: СТАШ | O11: 88 | R11: =SUMIFS($J$7:$J$88,$L$7:$L$88,P11,$K$7:$K$88,R$6) -> 0 | S11: =SUMIFS($J$7:$J$88,$L$7:$L$88,P11,$K$7:$K$88,S$6) -> 0 | T11: =SUMIFS($J$7:$J$88,$L$7:$L$88,P11,$K$7:$K$88,T$6) -> 0 | U11: =SUMIFS($J$7:$J$88,$L$7:$L$88,P11,$K$7:$K$88,U$6) -> 0 | V11: =SUMIFS($J$7:$J$88,$L$7:$L$88,P11,$K$7:$K$88,V$6) -> 0 | W11: =SUMIFS($J$7:$J$88,$L$7:$L$88,P11,$K$7:$K$88,W$6) -> 0 | Y11: =P11 -> 0 | Z11: =IF(OR($Y11=$Y9,$Y11=$Y10,$Y11=$Y8,$Y11=$Y7)," ",IF(Q11=0," ",Q11)) | AA11: =IF(OR($Y11=$Y9,$Y11=$Y10,$Y11=$Y8,$Y11=$Y7)," ",IF(R11=0," ",R11)) | AB11: =IF(OR($Y11=$Y9,$Y11=$Y10,$Y11=$Y8,$Y11=$Y7)," ",IF(S11=0," ",S11)) | AC11: =IF(OR($Y11=$Y9,$Y11=$Y10,$Y11=$Y8,$Y11=$Y7)," ",IF(T11=0," ",T11)) | AD11: =IF(U11=0," ",U11) | AE11: =IF(V11=0," ",V11) | AF11: =IF(W11=0," ",W11)
A12: 71 | B12: 71 | C12: 21 | D12: 7 | E12: СТОЛБОВ Иван | F12: СТОЛБОВ Иван Юрьевич | G12: 05.05.03, КМС | H12: КМС | I12: ПФО | J12: Чувашская Республика - Чувашия, Чебоксары, СК «ЭКРА» | K12: Чувашская | M12: Бондарев А.В. Пегасов С.В. | N12: СТОЛБОВ | O12: 98 | R12: =SUMIFS($J$7:$J$88,$L$7:$L$88,P12,$K$7:$K$88,R$6) -> 0 | S12: =SUMIFS($J$7:$J$88,$L$7:$L$88,P12,$K$7:$K$88,S$6) -> 0 | T12: =SUMIFS($J$7:$J$88,$L$7:$L$88,P12,$K$7:$K$88,T$6) -> 0 | U12: =SUMIFS($J$7:$J$88,$L$7:$L$88,P12,$K$7:$K$88,U$6) -> 0 | V12: =SUMIFS($J$7:$J$88,$L$7:$L$88,P12,$K$7:$K$88,V$6) -> 0 | W12: =SUMIFS($J$7:$J$88,$L$7:$L$88,P12,$K$7:$K$88,W$6) -> 0 | Y12: =P12 -> 0 | Z12: =IF(OR($Y12=$Y10,$Y12=$Y11,$Y12=$Y9,$Y12=$Y8,$Y12=$Y7)," ",IF(Q12=0," ",Q12)) | AA12: =IF(OR($Y12=$Y10,$Y12=$Y11,$Y12=$Y9,$Y12=$Y8,$Y12=$Y7)," ",IF(R12=0," ",R12)) | AB12: =IF(OR($Y12=$Y10,$Y12=$Y11,$Y12=$Y9,$Y12=$Y8,$Y12=$Y7)," ",IF(S12=0," ",S12)) | AC12: =IF(OR($Y12=$Y10,$Y12=$Y11,$Y12=$Y9,$Y12=$Y8,$Y12=$Y7)," ",IF(T12=0," ",T12)) | AD12: =IF(U12=0," ",U12) | AE12: =IF(V12=0," ",V12) | AF12: =IF(W12=0," ",W12)
A13: 71 | B13: 71 | C13: 8 | D13: 8 | E13: ГАЙРБЕКОВ Умар | F13: ГАЙРБЕКОВ Умар Арбиевич | G13: 29.11.04, КМС | H13: КМС | I13: ПФО | J13: Самарская обл., Самара, МБУ го Самара «СШОР-11» им ВВ Ольховского | K13: Самарская | M13: Сулейманов РЖ, Родомакин ЮС. | N13: ГАЙРБЕКОВ | O13: 98+ | R13: =SUMIFS($J$7:$J$88,$L$7:$L$88,P13,$K$7:$K$88,R$6) -> 0 | S13: =SUMIFS($J$7:$J$88,$L$7:$L$88,P13,$K$7:$K$88,S$6) -> 0 | T13: =SUMIFS($J$7:$J$88,$L$7:$L$88,P13,$K$7:$K$88,T$6) -> 0 | U13: =SUMIFS($J$7:$J$88,$L$7:$L$88,P13,$K$7:$K$88,U$6) -> 0 | V13: =SUMIFS($J$7:$J$88,$L$7:$L$88,P13,$K$7:$K$88,V$6) -> 0 | W13: =SUMIFS($J$7:$J$88,$L$7:$L$88,P13,$K$7:$K$88,W$6) -> 0 | Y13: =P13 -> 0 | Z13: =IF(OR($Y13=$Y11,$Y13=$Y12,$Y13=$Y10,$Y13=$Y9,$Y13=$Y8,$Y13=$Y7)," ",IF(Q13=0," ",Q13)) | AA13: =IF(OR($Y13=$Y11,$Y13=$Y12,$Y13=$Y10,$Y13=$Y9,$Y13=$Y8,$Y13=$Y7)," ",IF(R13=0," ",R13)) | AB13: =IF(OR($Y13=$Y11,$Y13=$Y12,$Y13=$Y10,$Y13=$Y9,$Y13=$Y8,$Y13=$Y7)," ",IF(S13=0," ",S13)) | AC13: =IF(OR($Y13=$Y11,$Y13=$Y12,$Y13=$Y10,$Y13=$Y9,$Y13=$Y8,$Y13=$Y7)," ",IF(T13=0," ",T13)) | AD13: =IF(U13=0," ",U13) | AE13: =IF(V13=0," ",V13) | AF13: =IF(W13=0," ",W13)
A14: 71 | B14: 71 | C14: 6 | D14: 9 | E14: ПРОТАСОВ Артем | F14: ПРОТАСОВ Артем Сергеевич | G14: 20.09.04, КМС | H14: КМС | I14: СПБ | J14: г. Санкт-Петербург, г. Санкт-Петербург, КШВСМ | K14: Санкт-Петербург | M14: Елисеев Д.М. | N14: ПРОТАСОВ | R14: =SUMIFS($J$7:$J$88,$L$7:$L$88,P14,$K$7:$K$88,R$6) -> 0 | S14: =SUMIFS($J$7:$J$88,$L$7:$L$88,P14,$K$7:$K$88,S$6) -> 0 | T14: =SUMIFS($J$7:$J$88,$L$7:$L$88,P14,$K$7:$K$88,T$6) -> 0 | U14: =SUMIFS($J$7:$J$88,$L$7:$L$88,P14,$K$7:$K$88,U$6) -> 0 | V14: =SUMIFS($J$7:$J$88,$L$7:$L$88,P14,$K$7:$K$88,V$6) -> 0 | W14: =SUMIFS($J$7:$J$88,$L$7:$L$88,P14,$K$7:$K$88,W$6) -> 0 | Y14: =P14 -> 0 | Z14: =IF(OR($Y14=$Y12,$Y14=$Y13,$Y14=$Y11,$Y14=$Y10,$Y14=$Y9,$Y14=$Y7)," ",IF(Q14=0," ",Q14)) | AA14: =IF(OR($Y14=$Y12,$Y14=$Y13,$Y14=$Y11,$Y14=$Y10,$Y14=$Y9,$Y14=$Y7)," ",IF(R14=0," ",R14)) | AB14: =IF(OR($Y14=$Y12,$Y14=$Y13,$Y14=$Y11,$Y14=$Y10,$Y14=$Y9,$Y14=$Y7)," ",IF(S14=0," ",S14)) | AC14: =IF(OR($Y14=$Y12,$Y14=$Y13,$Y14=$Y11,$Y14=$Y10,$Y14=$Y9,$Y14=$Y7)," ",IF(T14=0," ",T14)) | AD14: =IF(U14=0," ",U14) | AE14: =IF(V14=0," ",V14) | AF14: =IF(W14=0," ",W14)
A15: 71 | B15: 71 | C15: 20 | D15: 10 | E15: ТУКСУМБАЕВ Артём | F15: ТУКСУМБАЕВ Артём Александрович | G15: 12.05.04, КМС | H15: КМС | I15: СФО | J15: Алтайский, Барнаул , МС | K15: Алтайский | M15: Жданов В.В. ; Тюкин С.Г. | N15: ТУКСУМБАЕВ | R15: =SUMIFS($J$7:$J$88,$L$7:$L$88,P15,$K$7:$K$88,R$6) -> 0 | S15: =SUMIFS($J$7:$J$88,$L$7:$L$88,P15,$K$7:$K$88,S$6) -> 0 | T15: =SUMIFS($J$7:$J$88,$L$7:$L$88,P15,$K$7:$K$88,T$6) -> 0 | U15: =SUMIFS($J$7:$J$88,$L$7:$L$88,P15,$K$7:$K$88,U$6) -> 0 | V15: =SUMIFS($J$7:$J$88,$L$7:$L$88,P15,$K$7:$K$88,V$6) -> 0 | W15: =SUMIFS($J$7:$J$88,$L$7:$L$88,P15,$K$7:$K$88,W$6) -> 0 | Y15: =P15 -> 0 | Z15: =IF(OR($Y15=$Y13,$Y15=$Y14,$Y15=$Y12,$Y15=$Y11,$Y15=$Y10,$Y15=$Y8,$Y15=$Y7)," ",IF(Q15=0," ",Q15)) | AA15: =IF(OR($Y15=$Y13,$Y15=$Y14,$Y15=$Y12,$Y15=$Y11,$Y15=$Y10,$Y15=$Y8,$Y15=$Y7)," ",IF(R15=0," ",R15)) | AB15: =IF(OR($Y15=$Y13,$Y15=$Y14,$Y15=$Y12,$Y15=$Y11,$Y15=$Y10,$Y15=$Y8,$Y15=$Y7)," ",IF(S15=0," ",S15)) | AC15: =IF(OR($Y15=$Y13,$Y15=$Y14,$Y15=$Y12,$Y15=$Y11,$Y15=$Y10,$Y15=$Y8,$Y15=$Y7)," ",IF(T15=0," ",T15)) | AD15: =IF(U15=0," ",U15) | AE15: =IF(V15=0," ",V15) | AF15: =IF(W15=0," ",W15)
A16: 71 | B16: 71 | C16: 30 | D16: 11 | E16: НАДЫРОВ Адик | F16: НАДЫРОВ Адик Сабирович | G16: 11.02.04, КМС | H16: КМС | I16: ЦФО | J16: Воронежская, Воронеж , МО | K16: Воронежская | M16: Зимин М.А. Гончаров С.Ю. | N16: НАДЫРОВ | R16: =SUMIFS($J$7:$J$88,$L$7:$L$88,P16,$K$7:$K$88,R$6) -> 0 | S16: =SUMIFS($J$7:$J$88,$L$7:$L$88,P16,$K$7:$K$88,S$6) -> 0 | T16: =SUMIFS($J$7:$J$88,$L$7:$L$88,P16,$K$7:$K$88,T$6) -> 0 | U16: =SUMIFS($J$7:$J$88,$L$7:$L$88,P16,$K$7:$K$88,U$6) -> 0 | V16: =SUMIFS($J$7:$J$88,$L$7:$L$88,P16,$K$7:$K$88,V$6) -> 0 | W16: =SUMIFS($J$7:$J$88,$L$7:$L$88,P16,$K$7:$K$88,W$6) -> 0 | Y16: =P16 -> 0 | Z16: =IF(OR($Y16=$Y14,$Y16=$Y15,$Y16=$Y13,$Y16=$Y12,$Y16=$Y11,$Y16=$Y9,$Y16=$Y8,$Y16=$Y7)," ",IF(Q16=0," ",Q16)) | AA16: =IF(OR($Y16=$Y14,$Y16=$Y15,$Y16=$Y13,$Y16=$Y12,$Y16=$Y11,$Y16=$Y9,$Y16=$Y8,$Y16=$Y7)," ",IF(R16=0," ",R16)) | AB16: =IF(OR($Y16=$Y14,$Y16=$Y15,$Y16=$Y13,$Y16=$Y12,$Y16=$Y11,$Y16=$Y9,$Y16=$Y8,$Y16=$Y7)," ",IF(S16=0," ",S16)) | AC16: =IF(OR($Y16=$Y14,$Y16=$Y15,$Y16=$Y13,$Y16=$Y12,$Y16=$Y11,$Y16=$Y9,$Y16=$Y8,$Y16=$Y7)," ",IF(T16=0," ",T16)) | AD16: =IF(U16=0," ",U16) | AE16: =IF(V16=0," ",V16) | AF16: =IF(W16=0," ",W16)
A17: 71 | B17: 71 | C17: 30 | D17: 12 | E17: СОМСИН Антон | F17: СОМСИН Антон Геннадьевич | G17: 09.05.03, КМС | H17: КМС | I17: ЦФО | J17: Воронежская обл., Воронеж, ВУНЦ ВВС ВВА | K17: Воронежская | M17: Зимин М.А. | N17: СОМСИН | R17: =SUMIFS($J$7:$J$88,$L$7:$L$88,P17,$K$7:$K$88,R$6) -> 0 | S17: =SUMIFS($J$7:$J$88,$L$7:$L$88,P17,$K$7:$K$88,S$6) -> 0 | T17: =SUMIFS($J$7:$J$88,$L$7:$L$88,P17,$K$7:$K$88,T$6) -> 0 | U17: =SUMIFS($J$7:$J$88,$L$7:$L$88,P17,$K$7:$K$88,U$6) -> 0 | V17: =SUMIFS($J$7:$J$88,$L$7:$L$88,P17,$K$7:$K$88,V$6) -> 0 | W17: =SUMIFS($J$7:$J$88,$L$7:$L$88,P17,$K$7:$K$88,W$6) -> 0 | Y17: =P17 -> 0 | Z17: =IF(OR($Y17=$Y15,$Y17=$Y16,$Y17=$Y14,$Y17=$Y13,$Y17=$Y12,$Y17=$Y10,$Y17=$Y9,$Y17=$Y8,$Y17=$Y7)," ",IF(Q17=0," ",Q17)) | AA17: =IF(OR($Y17=$Y15,$Y17=$Y16,$Y17=$Y14,$Y17=$Y13,$Y17=$Y12,$Y17=$Y10,$Y17=$Y9,$Y17=$Y8,$Y17=$Y7)," ",IF(R17=0," ",R17)) | AB17: =IF(OR($Y17=$Y15,$Y17=$Y16,$Y17=$Y14,$Y17=$Y13,$Y17=$Y12,$Y17=$Y10,$Y17=$Y9,$Y17=$Y8,$Y17=$Y7)," ",IF(S17=0," ",S17)) | AC17: =IF(OR($Y17=$Y15,$Y17=$Y16,$Y17=$Y14,$Y17=$Y13,$Y17=$Y12,$Y17=$Y10,$Y17=$Y9,$Y17=$Y8,$Y17=$Y7)," ",IF(T17=0," ",T17)) | AD17: =IF(U17=0," ",U17) | AE17: =IF(V17=0," ",V17) | AF17: =IF(W17=0," ",W17)
A18: 71 | B18: 71 | C18: 20 | D18: 13 | E18: НЕДОИМКИН Максим | F18: НЕДОИМКИН Максим Александрович | G18: 12.08.04, КМС | H18: КМС | I18: СФО | J18: Алтайский, Бийск , МС | K18: Алтайский | M18: Димитриенко И.В., Гуляев А.М. | N18: НЕДОИМКИН | R18: =SUMIFS($J$7:$J$88,$L$7:$L$88,P18,$K$7:$K$88,R$6) -> 0 | S18: =SUMIFS($J$7:$J$88,$L$7:$L$88,P18,$K$7:$K$88,S$6) -> 0 | T18: =SUMIFS($J$7:$J$88,$L$7:$L$88,P18,$K$7:$K$88,T$6) -> 0 | U18: =SUMIFS($J$7:$J$88,$L$7:$L$88,P18,$K$7:$K$88,U$6) -> 0 | V18: =SUMIFS($J$7:$J$88,$L$7:$L$88,P18,$K$7:$K$88,V$6) -> 0 | W18: =SUMIFS($J$7:$J$88,$L$7:$L$88,P18,$K$7:$K$88,W$6) -> 0 | Y18: =P18 -> 0 | Z18: =IF(OR($Y18=$Y16,$Y18=$Y17,$Y18=$Y15,$Y18=$Y14,$Y18=$Y13,$Y18=$Y11,$Y18=$Y10,$Y18=$Y9,$Y18=$Y8,$Y18=$Y7)," ",IF(Q18=0," ",Q18)) | AA18: =IF(OR($Y18=$Y16,$Y18=$Y17,$Y18=$Y15,$Y18=$Y14,$Y18=$Y13,$Y18=$Y11,$Y18=$Y10,$Y18=$Y9,$Y18=$Y8,$Y18=$Y7)," ",IF(R18=0," ",R18)) | AB18: =IF(OR($Y18=$Y16,$Y18=$Y17,$Y18=$Y15,$Y18=$Y14,$Y18=$Y13,$Y18=$Y11,$Y18=$Y10,$Y18=$Y9,$Y18=$Y8,$Y18=$Y7)," ",IF(S18=0," ",S18)) | AC18: =IF(OR($Y18=$Y16,$Y18=$Y17,$Y18=$Y15,$Y18=$Y14,$Y18=$Y13,$Y18=$Y11,$Y18=$Y10,$Y18=$Y9,$Y18=$Y8,$Y18=$Y7)," ",IF(T18=0," ",T18)) | AD18: =IF(U18=0," ",U18) | AE18: =IF(V18=0," ",V18) | AF18: =IF(W18=0," ",W18)
A19: 71 | B19: 71 | C19: 43 | D19: 14 | E19: ШАЛЫГИН Нестор | F19: ШАЛЫГИН Нестор Игоревич | G19: 07.05.05, КМС | H19: КМС | I19: МОС | J19: г. Москва, Москва, Самбо-70 | K19: Москва | M19: Талызин Павел Николаевич, Корниенко Максим Александрович, | N19: ШАЛЫГИН | R19: =SUMIFS($J$7:$J$88,$L$7:$L$88,P19,$K$7:$K$88,R$6) -> 0 | S19: =SUMIFS($J$7:$J$88,$L$7:$L$88,P19,$K$7:$K$88,S$6) -> 0 | T19: =SUMIFS($J$7:$J$88,$L$7:$L$88,P19,$K$7:$K$88,T$6) -> 0 | U19: =SUMIFS($J$7:$J$88,$L$7:$L$88,P19,$K$7:$K$88,U$6) -> 0 | V19: =SUMIFS($J$7:$J$88,$L$7:$L$88,P19,$K$7:$K$88,V$6) -> 0 | W19: =SUMIFS($J$7:$J$88,$L$7:$L$88,P19,$K$7:$K$88,W$6) -> 0 | Y19: =P19 -> 0 | Z19: =IF(Q19=0," ",Q19) | AA19: =IF(R19=0," ",R19) | AB19: =IF(S19=0," ",S19) | AC19: =IF(T19=0," ",T19) | AD19: =IF(U19=0," ",U19) | AE19: =IF(V19=0," ",V19) | AF19: =IF(W19=0," ",W19)
A20: 71 | B20: 71 | C20: 43 | D20: 15 | E20: МУХАМЕДРИЗАЕВ Рустам | F20: МУХАМЕДРИЗАЕВ Рустам Маратович | G20: 11.02.23, МС | H20: МС | I20: МОС | J20: г. Москва, Москва, Самабо-70 | K20: Москва | M20: Гусаров А.А. | N20: МУХАМЕДРИЗАЕВ | R20: =SUMIFS($J$7:$J$88,$L$7:$L$88,P20,$K$7:$K$88,R$6) -> 0 | S20: =SUMIFS($J$7:$J$88,$L$7:$L$88,P20,$K$7:$K$88,S$6) -> 0 | T20: =SUMIFS($J$7:$J$88,$L$7:$L$88,P20,$K$7:$K$88,T$6) -> 0 | U20: =SUMIFS($J$7:$J$88,$L$7:$L$88,P20,$K$7:$K$88,U$6) -> 0 | V20: =SUMIFS($J$7:$J$88,$L$7:$L$88,P20,$K$7:$K$88,V$6) -> 0 | W20: =SUMIFS($J$7:$J$88,$L$7:$L$88,P20,$K$7:$K$88,W$6) -> 0 | Y20: =P20 -> 0 | Z20: =IF(Q20=0," ",Q20) | AA20: =IF(R20=0," ",R20) | AB20: =IF(S20=0," ",S20) | AC20: =IF(T20=0," ",T20) | AD20: =IF(U20=0," ",U20) | AE20: =IF(V20=0," ",V20) | AF20: =IF(W20=0," ",W20)
A21: 71 | B21: 71 | C21: 6 | D21: 16 | E21: ШЕЛКОВНИКОВ Кирилл | F21: ШЕЛКОВНИКОВ Кирилл Александрович | G21: 11.08.05, КМС | H21: КМС | I21: СПБ | J21: г. Санкт-Петербург, Санкт-Петербург, ГБУ СШОР №1 Адмиралтейского района | K21: Санкт-Петербург | M21: Чмыхалов В.В. | N21: ШЕЛКОВНИКОВ | R21: =SUMIFS($J$7:$J$88,$L$7:$L$88,P21,$K$7:$K$88,R$6) -> 0 | S21: =SUMIFS($J$7:$J$88,$L$7:$L$88,P21,$K$7:$K$88,S$6) -> 0 | T21: =SUMIFS($J$7:$J$88,$L$7:$L$88,P21,$K$7:$K$88,T$6) -> 0 | U21: =SUMIFS($J$7:$J$88,$L$7:$L$88,P21,$K$7:$K$88,U$6) -> 0 | V21: =SUMIFS($J$7:$J$88,$L$7:$L$88,P21,$K$7:$K$88,V$6) -> 0 | W21: =SUMIFS($J$7:$J$88,$L$7:$L$88,P21,$K$7:$K$88,W$6) -> 0 | Y21: =P21 -> 0 | Z21: =IF(Q21=0," ",Q21) | AA21: =IF(R21=0," ",R21) | AB21: =IF(S21=0," ",S21) | AC21: =IF(T21=0," ",T21) | AD21: =IF(U21=0," ",U21) | AE21: =IF(V21=0," ",V21) | AF21: =IF(W21=0," ",W21)
A22: 71 | B22: 71 | C22: 17 | D22: 17 | E22: ПЭЛЫПИВ Никита | F22: ПЭЛЫПИВ Никита Николаевич | G22: 23.06.04, КМС | H22: КМС | I22: ПФО | J22: Саратовская, Балашов , ВС | K22: Саратовская | M22: Разваляев С.В. | N22: ПЭЛЫПИВ | R22: =SUMIFS($J$7:$J$88,$L$7:$L$88,P22,$K$7:$K$88,R$6) -> 0 | S22: =SUMIFS($J$7:$J$88,$L$7:$L$88,P22,$K$7:$K$88,S$6) -> 0 | T22: =SUMIFS($J$7:$J$88,$L$7:$L$88,P22,$K$7:$K$88,T$6) -> 0 | U22: =SUMIFS($J$7:$J$88,$L$7:$L$88,P22,$K$7:$K$88,U$6) -> 0 | V22: =SUMIFS($J$7:$J$88,$L$7:$L$88,P22,$K$7:$K$88,V$6) -> 0 | W22: =SUMIFS($J$7:$J$88,$L$7:$L$88,P22,$K$7:$K$88,W$6) -> 0 | Y22: =P22 -> 0 | Z22: =IF(Q22=0," ",Q22) | AA22: =IF(R22=0," ",R22) | AB22: =IF(S22=0," ",S22) | AC22: =IF(T22=0," ",T22) | AD22: =IF(U22=0," ",U22) | AE22: =IF(V22=0," ",V22) | AF22: =IF(W22=0," ",W22)
A23: 71 | B23: 71 | C23: 37 | D23: 18 | E23: КОРОСТИЕНКО Денис | F23: КОРОСТИЕНКО Денис Витальевич | G23: 30.08.05, КМС | H23: КМС | I23: ДВФО | J23: Хабаровский край, Хабаровск, МАУ СШ «Самбо 90» | K23: Хабаровский | M23: Золоторевич А.А. | N23: КОРОСТИЕНКО | R23: =SUMIFS($J$7:$J$88,$L$7:$L$88,P23,$K$7:$K$88,R$6) -> 0 | S23: =SUMIFS($J$7:$J$88,$L$7:$L$88,P23,$K$7:$K$88,S$6) -> 0 | T23: =SUMIFS($J$7:$J$88,$L$7:$L$88,P23,$K$7:$K$88,T$6) -> 0 | U23: =SUMIFS($J$7:$J$88,$L$7:$L$88,P23,$K$7:$K$88,U$6) -> 0 | V23: =SUMIFS($J$7:$J$88,$L$7:$L$88,P23,$K$7:$K$88,V$6) -> 0 | W23: =SUMIFS($J$7:$J$88,$L$7:$L$88,P23,$K$7:$K$88,W$6) -> 0 | Y23: =P23 -> 0 | Z23: =IF(Q23=0," ",Q23) | AA23: =IF(R23=0," ",R23) | AB23: =IF(S23=0," ",S23) | AC23: =IF(T23=0," ",T23) | AD23: =IF(U23=0," ",U23) | AE23: =IF(V23=0," ",V23) | AF23: =IF(W23=0," ",W23)
A24: 71 | B24: 71 | C24: 33 | D24: 19 | E24: ГОЛОВ Глеб | F24: ГОЛОВ Глеб Андреевич | G24: 07.04.04, КМС | H24: КМС | I24: ПФО | J24: Респ. Татарстан, Казань, ГАУ РСШОР «Батыр» | K24: Р.Татарстан | M24: Гусев О.М. ,Ащеулов И.Ю. ,Зарипов А.А. | N24: ГОЛОВ | R24: =SUMIFS($J$7:$J$88,$L$7:$L$88,P24,$K$7:$K$88,R$6) -> 0 | S24: =SUMIFS($J$7:$J$88,$L$7:$L$88,P24,$K$7:$K$88,S$6) -> 0 | T24: =SUMIFS($J$7:$J$88,$L$7:$L$88,P24,$K$7:$K$88,T$6) -> 0 | U24: =SUMIFS($J$7:$J$88,$L$7:$L$88,P24,$K$7:$K$88,U$6) -> 0 | V24: =SUMIFS($J$7:$J$88,$L$7:$L$88,P24,$K$7:$K$88,V$6) -> 0 | W24: =SUMIFS($J$7:$J$88,$L$7:$L$88,P24,$K$7:$K$88,W$6) -> 0 | Y24: =P24 -> 0 | Z24: =IF(Q24=0," ",Q24) | AA24: =IF(R24=0," ",R24) | AB24: =IF(S24=0," ",S24) | AC24: =IF(T24=0," ",T24) | AD24: =IF(U24=0," ",U24) | AE24: =IF(V24=0," ",V24) | AF24: =IF(W24=0," ",W24)
A25: 71 | B25: 71 | C25: 37 | D25: 20 | E25: ТУРАЙКИН Алексей | F25: ТУРАЙКИН Алексей Андреевич | G25: 29.05.03, КМС | H25: КМС | I25: ДВФО | J25: Хабаровский, Хабаровск , МО | K25: Хабаровский | M25: Шилакин Б.В. | N25: ТУРАЙКИН | R25: =SUMIFS($J$7:$J$88,$L$7:$L$88,P25,$K$7:$K$88,R$6) -> 0 | S25: =SUMIFS($J$7:$J$88,$L$7:$L$88,P25,$K$7:$K$88,S$6) -> 0 | T25: =SUMIFS($J$7:$J$88,$L$7:$L$88,P25,$K$7:$K$88,T$6) -> 0 | U25: =SUMIFS($J$7:$J$88,$L$7:$L$88,P25,$K$7:$K$88,U$6) -> 0 | V25: =SUMIFS($J$7:$J$88,$L$7:$L$88,P25,$K$7:$K$88,V$6) -> 0 | W25: =SUMIFS($J$7:$J$88,$L$7:$L$88,P25,$K$7:$K$88,W$6) -> 0 | Y25: =P25 -> 0 | Z25: =IF(Q25=0," ",Q25) | AA25: =IF(R25=0," ",R25) | AB25: =IF(S25=0," ",S25) | AC25: =IF(T25=0," ",T25) | AD25: =IF(U25=0," ",U25) | AE25: =IF(V25=0," ",V25) | AF25: =IF(W25=0," ",W25)
A26: 71 | B26: 71 | C26: 37 | D26: 21 | E26: ЁСИНАГА Кэйта | F26: ЁСИНАГА Кэйта - | G26: 30.06.05, КМС | H26: КМС | I26: ДВФО | J26: Хабаровский, Хабаровск, МО | K26: Хабаровский | M26: Иконников Е.М. | N26: ЁСИНАГА | R26: =SUMIFS($J$7:$J$88,$L$7:$L$88,P26,$K$7:$K$88,R$6) -> 0 | S26: =SUMIFS($J$7:$J$88,$L$7:$L$88,P26,$K$7:$K$88,S$6) -> 0 | T26: =SUMIFS($J$7:$J$88,$L$7:$L$88,P26,$K$7:$K$88,T$6) -> 0 | U26: =SUMIFS($J$7:$J$88,$L$7:$L$88,P26,$K$7:$K$88,U$6) -> 0 | V26: =SUMIFS($J$7:$J$88,$L$7:$L$88,P26,$K$7:$K$88,V$6) -> 0 | W26: =SUMIFS($J$7:$J$88,$L$7:$L$88,P26,$K$7:$K$88,W$6) -> 0 | Y26: =P26 -> 0 | Z26: =IF(Q26=0," ",Q26) | AA26: =IF(R26=0," ",R26) | AB26: =IF(S26=0," ",S26) | AC26: =IF(T26=0," ",T26) | AD26: =IF(U26=0," ",U26) | AE26: =IF(V26=0," ",V26) | AF26: =IF(W26=0," ",W26)
A27: 71 | B27: 71 | C27: 1 | D27: 22 | E27: ТРУБНИКОВ Денис | F27: ТРУБНИКОВ Денис Дмитриевич | G27: 14.05.04, 1р | H27: 1р | I27: УФО | J27: Свердловская обл., Екатеринбург, Уор #1 | K27: Свердловская | M27: Печуров Е. А. Емельянов С. Д. | N27: ТРУБНИКОВ | R27: =SUMIFS($J$7:$J$88,$L$7:$L$88,P27,$K$7:$K$88,R$6) -> 0 | S27: =SUMIFS($J$7:$J$88,$L$7:$L$88,P27,$K$7:$K$88,S$6) -> 0 | T27: =SUMIFS($J$7:$J$88,$L$7:$L$88,P27,$K$7:$K$88,T$6) -> 0 | U27: =SUMIFS($J$7:$J$88,$L$7:$L$88,P27,$K$7:$K$88,U$6) -> 0 | V27: =SUMIFS($J$7:$J$88,$L$7:$L$88,P27,$K$7:$K$88,V$6) -> 0 | W27: =SUMIFS($J$7:$J$88,$L$7:$L$88,P27,$K$7:$K$88,W$6) -> 0 | Y27: =P27 -> 0 | Z27: =IF(Q27=0," ",Q27) | AA27: =IF(R27=0," ",R27) | AB27: =IF(S27=0," ",S27) | AC27: =IF(T27=0," ",T27) | AD27: =IF(U27=0," ",U27) | AE27: =IF(V27=0," ",V27) | AF27: =IF(W27=0," ",W27)
A28: 71 | B28: 71 | C28: 18 | D28: 23 | E28: СКИБА Владислав | F28: СКИБА Владислав Андреевич | G28: 16.09.05, КМС | H28: КМС | I28: СФО | J28: Новосибирская, Новосибирск , МС | K28: Новосибирская | M28: А.А Орлов | N28: СКИБА | R28: =SUMIFS($J$7:$J$88,$L$7:$L$88,P28,$K$7:$K$88,R$6) -> 0 | S28: =SUMIFS($J$7:$J$88,$L$7:$L$88,P28,$K$7:$K$88,S$6) -> 0 | T28: =SUMIFS($J$7:$J$88,$L$7:$L$88,P28,$K$7:$K$88,T$6) -> 0 | U28: =SUMIFS($J$7:$J$88,$L$7:$L$88,P28,$K$7:$K$88,U$6) -> 0 | V28: =SUMIFS($J$7:$J$88,$L$7:$L$88,P28,$K$7:$K$88,V$6) -> 0 | W28: =SUMIFS($J$7:$J$88,$L$7:$L$88,P28,$K$7:$K$88,W$6) -> 0 | Y28: =P28 -> 0 | Z28: =IF(Q28=0," ",Q28) | AA28: =IF(R28=0," ",R28) | AB28: =IF(S28=0," ",S28) | AC28: =IF(T28=0," ",T28) | AD28: =IF(U28=0," ",U28) | AE28: =IF(V28=0," ",V28) | AF28: =IF(W28=0," ",W28)
A29: 71 | B29: 71 | C29: 23 | D29: 24 | E29: ХАКУЙ Амир | F29: ХАКУЙ Амир Рашидович | G29: 08.11.03, КМС | H29: КМС | I29: ЮФО | J29: Респ. Адыгея, г Майкоп, СШ | K29: Р.Адыгея | M29: Гомлешко А. А. Делок А. А | N29: ХАКУЙ | R29: =SUMIFS($J$7:$J$88,$L$7:$L$88,P29,$K$7:$K$88,R$6) -> 0 | S29: =SUMIFS($J$7:$J$88,$L$7:$L$88,P29,$K$7:$K$88,S$6) -> 0 | T29: =SUMIFS($J$7:$J$88,$L$7:$L$88,P29,$K$7:$K$88,T$6) -> 0 | U29: =SUMIFS($J$7:$J$88,$L$7:$L$88,P29,$K$7:$K$88,U$6) -> 0 | V29: =SUMIFS($J$7:$J$88,$L$7:$L$88,P29,$K$7:$K$88,V$6) -> 0 | W29: =SUMIFS($J$7:$J$88,$L$7:$L$88,P29,$K$7:$K$88,W$6) -> 0 | Y29: =P29 -> 0 | Z29: =IF(Q29=0," ",Q29) | AA29: =IF(R29=0," ",R29) | AB29: =IF(S29=0," ",S29) | AC29: =IF(T29=0," ",T29) | AD29: =IF(U29=0," ",U29) | AE29: =IF(V29=0," ",V29) | AF29: =IF(W29=0," ",W29)
A30: 71 | B30: 71 | C30: 33 | D30: 25 | E30: АКСЕНОВ Артем | F30: АКСЕНОВ Артем Александрович | G30: 16.03.04, КМС | H30: КМС | I30: СЗФО | J30: Калининградская, Калининград, МС | K30: Калининградская | M30: Мкртчян С.Р. | N30: АКСЕНОВ | R30: =SUMIFS($J$7:$J$88,$L$7:$L$88,P30,$K$7:$K$88,R$6) -> 0 | S30: =SUMIFS($J$7:$J$88,$L$7:$L$88,P30,$K$7:$K$88,S$6) -> 0 | T30: =SUMIFS($J$7:$J$88,$L$7:$L$88,P30,$K$7:$K$88,T$6) -> 0 | U30: =SUMIFS($J$7:$J$88,$L$7:$L$88,P30,$K$7:$K$88,U$6) -> 0 | V30: =SUMIFS($J$7:$J$88,$L$7:$L$88,P30,$K$7:$K$88,V$6) -> 0 | W30: =SUMIFS($J$7:$J$88,$L$7:$L$88,P30,$K$7:$K$88,W$6) -> 0 | Y30: =P30 -> 0 | Z30: =IF(Q30=0," ",Q30) | AA30: =IF(R30=0," ",R30) | AB30: =IF(S30=0," ",S30) | AC30: =IF(T30=0," ",T30) | AD30: =IF(U30=0," ",U30) | AE30: =IF(V30=0," ",V30) | AF30: =IF(W30=0," ",W30)
A31: 71 | B31: 71 | C31: 35 | D31: 26 | E31: АБИТОВ Алим | F31: АБИТОВ Алим Тимурович | G31: 10.04.04, КМС | H31: КМС | I31: СКФО | J31: КЧР, Черкесск, ВС | K31: КЧР | M31: Кишмахов Мусса Вдадимирович | N31: АБИТОВ | R31: =SUMIFS($J$7:$J$88,$L$7:$L$88,P31,$K$7:$K$88,R$6) -> 0 | S31: =SUMIFS($J$7:$J$88,$L$7:$L$88,P31,$K$7:$K$88,S$6) -> 0 | T31: =SUMIFS($J$7:$J$88,$L$7:$L$88,P31,$K$7:$K$88,T$6) -> 0 | U31: =SUMIFS($J$7:$J$88,$L$7:$L$88,P31,$K$7:$K$88,U$6) -> 0 | V31: =SUMIFS($J$7:$J$88,$L$7:$L$88,P31,$K$7:$K$88,V$6) -> 0 | W31: =SUMIFS($J$7:$J$88,$L$7:$L$88,P31,$K$7:$K$88,W$6) -> 0 | Y31: =P31 -> 0 | Z31: =IF(Q31=0," ",Q31) | AA31: =IF(R31=0," ",R31) | AB31: =IF(S31=0," ",S31) | AC31: =IF(T31=0," ",T31) | AD31: =IF(U31=0," ",U31) | AE31: =IF(V31=0," ",V31) | AF31: =IF(W31=0," ",W31)
A32: 71 | B32: 71 | C32: 43 | D32: 27 | E32: ЧEРНЫЙ Ростислав | F32: ЧEРНЫЙ Ростислав Олегович | G32: 15.03.03, МС | H32: МС | I32: МОС | J32: г. Москва, Москва, ГБОУ ЦСиО "Самбо-70" | K32: Москва | M32: Юхарев С.С. Павлов Д.А. Фунтиков П.В. Герасименко Д.В. | N32: ЧEРНЫЙ | R32: =SUMIFS($J$7:$J$88,$L$7:$L$88,P32,$K$7:$K$88,R$6) -> 0 | S32: =SUMIFS($J$7:$J$88,$L$7:$L$88,P32,$K$7:$K$88,S$6) -> 0 | T32: =SUMIFS($J$7:$J$88,$L$7:$L$88,P32,$K$7:$K$88,T$6) -> 0 | U32: =SUMIFS($J$7:$J$88,$L$7:$L$88,P32,$K$7:$K$88,U$6) -> 0 | V32: =SUMIFS($J$7:$J$88,$L$7:$L$88,P32,$K$7:$K$88,V$6) -> 0 | W32: =SUMIFS($J$7:$J$88,$L$7:$L$88,P32,$K$7:$K$88,W$6) -> 0 | Y32: =P32 -> 0 | Z32: =IF(Q32=0," ",Q32) | AA32: =IF(R32=0," ",R32) | AB32: =IF(S32=0," ",S32) | AC32: =IF(T32=0," ",T32) | AD32: =IF(U32=0," ",U32) | AE32: =IF(V32=0," ",V32) | AF32: =IF(W32=0," ",W32)
A33: 71 | B33: 71 | C33: 47 | D33: 28 | E33: ВАНЮШИН Максим | F33: ВАНЮШИН Максим Юрьевич | G33: 30.11.03, КМС | H33: КМС | I33: ЦФО | J33: Рязанская, Рязань, Д | K33: Рязанская | M33: Серегин СМ | N33: ВАНЮШИН | R33: =SUMIFS($J$7:$J$88,$L$7:$L$88,P33,$K$7:$K$88,R$6) -> 0 | S33: =SUMIFS($J$7:$J$88,$L$7:$L$88,P33,$K$7:$K$88,S$6) -> 0 | T33: =SUMIFS($J$7:$J$88,$L$7:$L$88,P33,$K$7:$K$88,T$6) -> 0 | U33: =SUMIFS($J$7:$J$88,$L$7:$L$88,P33,$K$7:$K$88,U$6) -> 0 | V33: =SUMIFS($J$7:$J$88,$L$7:$L$88,P33,$K$7:$K$88,V$6) -> 0 | W33: =SUMIFS($J$7:$J$88,$L$7:$L$88,P33,$K$7:$K$88,W$6) -> 0 | Y33: =P33 -> 0 | Z33: =IF(Q33=0," ",Q33) | AA33: =IF(R33=0," ",R33) | AB33: =IF(S33=0," ",S33) | AC33: =IF(T33=0," ",T33) | AD33: =IF(U33=0," ",U33) | AE33: =IF(V33=0," ",V33) | AF33: =IF(W33=0," ",W33)
... A38: 71 | B38: 71 | C38: 35 | D38: 33 | E38: НАПИДЖЕВ Рахман | F38: НАПИДЖЕВ Рахман Юрьевич | G38: 20.11.04, КМС | H38: КМС | I38: СКФО | J38: КЧР, Черкесск, ВС | K38: КЧР | M38: Абитов М.М. Охтов А.Д. | N38: НАПИДЖЕВ | R38: =SUMIFS($J$7:$J$88,$L$7:$L$88,P38,$K$7:$K$88,R$6) -> 0 | S38: =SUMIFS($J$7:$J$88,$L$7:$L$88,P38,$K$7:$K$88,S$6) -> 0 | T38: =SUMIFS($J$7:$J$88,$L$7:$L$88,P38,$K$7:$K$88,T$6) -> 0 | U38: =SUMIFS($J$7:$J$88,$L$7:$L$88,P38,$K$7:$K$88,U$6) -> 0 | V38: =SUMIFS($J$7:$J$88,$L$7:$L$88,P38,$K$7:$K$88,V$6) -> 0 | W38: =SUMIFS($J$7:$J$88,$L$7:$L$88,P38,$K$7:$K$88,W$6) -> 0 | Y38: =P38 -> 0 | Z38: =IF(Q38=0," ",Q38) | AA38: =IF(R38=0," ",R38) | AB38: =IF(S38=0," ",S38) | AC38: =IF(T38=0," ",T38) | AD38: =IF(U38=0," ",U38) | AE38: =IF(V38=0," ",V38) | AF38: =IF(W38=0," ",W38)
A39: 71 | B39: 71 | C39: 43 | D39: 34 | E39: НАЗАРОВ Никита | F39: НАЗАРОВ Никита Дмитриевич | G39: 20.08.03, КМС | H39: КМС | I39: МОС | J39: г. Москва, Москва, ГБОУ «ЦСиО «Самбо-70» | K39: Москва | M39: Филимонов Сергей Николаевич, Павлов Денис Александрович | N39: НАЗАРОВ | R39: =SUMIFS($J$7:$J$88,$L$7:$L$88,P39,$K$7:$K$88,R$6) -> 0 | S39: =SUMIFS($J$7:$J$88,$L$7:$L$88,P39,$K$7:$K$88,S$6) -> 0 | T39: =SUMIFS($J$7:$J$88,$L$7:$L$88,P39,$K$7:$K$88,T$6) -> 0 | U39: =SUMIFS($J$7:$J$88,$L$7:$L$88,P39,$K$7:$K$88,U$6) -> 0 | V39: =SUMIFS($J$7:$J$88,$L$7:$L$88,P39,$K$7:$K$88,V$6) -> 0 | W39: =SUMIFS($J$7:$J$88,$L$7:$L$88,P39,$K$7:$K$88,W$6) -> 0 | X39: =SUM(Q7:T38) -> 0 | Y39: =P39 -> 0 | Z39: =IF(Q39=0," ",Q39) | AA39: =IF(R39=0," ",R39) | AB39: =IF(S39=0," ",S39) | AC39: =IF(T39=0," ",T39) | AD39: =IF(U39=0," ",U39) | AE39: =IF(V39=0," ",V39) | AF39: =IF(W39=0," ",W39)
A40: 71 | B40: 71 | C40: 37 | D40: 35 | E40: КОЗЫРСКИЙ Родион | F40: КОЗЫРСКИЙ Родион Эдуардович | G40: 01.06.04, КМС | H40: КМС | I40: ДВФО | J40: Хабаровский, Хабаровск, МО | K40: Хабаровский | M40: Золоторевич Александр Александрович, Шилакин Борис Викторович | N40: КОЗЫРСКИЙ | R40: =SUMIFS($J$7:$J$88,$L$7:$L$88,P40,$K$7:$K$88,R$6) -> 0 | S40: =SUMIFS($J$7:$J$88,$L$7:$L$88,P40,$K$7:$K$88,S$6) -> 0 | T40: =SUMIFS($J$7:$J$88,$L$7:$L$88,P40,$K$7:$K$88,T$6) -> 0 | U40: =SUMIFS($J$7:$J$88,$L$7:$L$88,P40,$K$7:$K$88,U$6) -> 0 | V40: =SUMIFS($J$7:$J$88,$L$7:$L$88,P40,$K$7:$K$88,V$6) -> 0 | W40: =SUMIFS($J$7:$J$88,$L$7:$L$88,P40,$K$7:$K$88,W$6) -> 0 | Y40: =P40 -> 0 | Z40: =IF(Q40=0," ",Q40) | AA40: =IF(R40=0," ",R40) | AB40: =IF(S40=0," ",S40) | AC40: =IF(T40=0," ",T40) | AD40: =IF(U40=0," ",U40) | AE40: =IF(V40=0," ",V40) | AF40: =IF(W40=0," ",W40)
A41: 71 | B41: 71 | C41: 10 | D41: 36 | E41: ВОЛКОВ Александр | F41: ВОЛКОВ Александр Вячеславович | G41: 20.03.04, КМС | H41: КМС | I41: ДВФО | J41: Приморский край, Артём, СШ Мастер | K41: Приморский | M41: Зубков В.Г., Шурхай Ю.А. | N41: ВОЛКОВ | R41: =SUMIFS($J$7:$J$88,$L$7:$L$88,P41,$K$7:$K$88,R$6) -> 0 | S41: =SUMIFS($J$7:$J$88,$L$7:$L$88,P41,$K$7:$K$88,S$6) -> 0 | T41: =SUMIFS($J$7:$J$88,$L$7:$L$88,P41,$K$7:$K$88,T$6) -> 0 | U41: =SUMIFS($J$7:$J$88,$L$7:$L$88,P41,$K$7:$K$88,U$6) -> 0 | V41: =SUMIFS($J$7:$J$88,$L$7:$L$88,P41,$K$7:$K$88,V$6) -> 0 | W41: =SUMIFS($J$7:$J$88,$L$7:$L$88,P41,$K$7:$K$88,W$6) -> 0 | Y41: =P41 -> 0 | Z41: =IF(Q41=0," ",Q41) | AA41: =IF(R41=0," ",R41) | AB41: =IF(S41=0," ",S41) | AC41: =IF(T41=0," ",T41) | AD41: =IF(U41=0," ",U41) | AE41: =IF(V41=0," ",V41) | AF41: =IF(W41=0," ",W41)
A42: 71 | B42: 71 | C42: 43 | D42: 37 | E42: ДУНГЕРОВ Вадим | F42: ДУНГЕРОВ Вадим Дмитриевич | G42: 22.09.04, МС | H42: МС | I42: МОС | J42: г. Москва, Москва, Самбо-70 | K42: Москва | M42: Богомолов В.А Мартынов И.В | N42: ДУНГЕРОВ | R42: =SUMIFS($J$7:$J$88,$L$7:$L$88,P42,$K$7:$K$88,R$6) -> 0 | S42: =SUMIFS($J$7:$J$88,$L$7:$L$88,P42,$K$7:$K$88,S$6) -> 0 | T42: =SUMIFS($J$7:$J$88,$L$7:$L$88,P42,$K$7:$K$88,T$6) -> 0 | U42: =SUMIFS($J$7:$J$88,$L$7:$L$88,P42,$K$7:$K$88,U$6) -> 0 | V42: =SUMIFS($J$7:$J$88,$L$7:$L$88,P42,$K$7:$K$88,V$6) -> 0 | W42: =SUMIFS($J$7:$J$88,$L$7:$L$88,P42,$K$7:$K$88,W$6) -> 0 | Y42: =P42 -> 0 | Z42: =IF(Q42=0," ",Q42) | AA42: =IF(R42=0," ",R42) | AB42: =IF(S42=0," ",S42) | AC42: =IF(T42=0," ",T42) | AD42: =IF(U42=0," ",U42) | AE42: =IF(V42=0," ",V42) | AF42: =IF(W42=0," ",W42)
A43: 71 | B43: 71 | C43: 33 | D43: 38 | E43: ДМИТРИЕВ Владислав | F43: ДМИТРИЕВ Владислав Дмитриевич | G43: 17.10.04, КМС | H43: КМС | I43: СЗФО | J43: Калининградская, Калининград , МО | K43: Калининградская | M43: Дуев М.А;Мкртчян С.Р | N43: ДМИТРИЕВ | R43: =SUMIFS($J$7:$J$88,$L$7:$L$88,P43,$K$7:$K$88,R$6) -> 0 | S43: =SUMIFS($J$7:$J$88,$L$7:$L$88,P43,$K$7:$K$88,S$6) -> 0 | T43: =SUMIFS($J$7:$J$88,$L$7:$L$88,P43,$K$7:$K$88,T$6) -> 0 | U43: =SUMIFS($J$7:$J$88,$L$7:$L$88,P43,$K$7:$K$88,U$6) -> 0 | V43: =SUMIFS($J$7:$J$88,$L$7:$L$88,P43,$K$7:$K$88,V$6) -> 0 | W43: =SUMIFS($J$7:$J$88,$L$7:$L$88,P43,$K$7:$K$88,W$6) -> 0 | Y43: =P43 -> 0 | Z43: =IF(Q43=0," ",Q43) | AA43: =IF(R43=0," ",R43) | AB43: =IF(S43=0," ",S43) | AC43: =IF(T43=0," ",T43) | AD43: =IF(U43=0," ",U43) | AE43: =IF(V43=0," ",V43) | AF43: =IF(W43=0," ",W43)
A44: 71 | B44: 71 | C44: 23 | D44: 39 | E44: НАШ Расул | F44: НАШ Расул Саферович | G44: 05.07.04, КМС | H44: КМС | I44: ЮФО | J44: Р.Адыгея, Тахтамукай , ПР | K44: Р.Адыгея | M44: Джаримок Рустам | N44: НАШ | R44: =SUMIFS($J$7:$J$88,$L$7:$L$88,P44,$K$7:$K$88,R$6) -> 0 | S44: =SUMIFS($J$7:$J$88,$L$7:$L$88,P44,$K$7:$K$88,S$6) -> 0 | T44: =SUMIFS($J$7:$J$88,$L$7:$L$88,P44,$K$7:$K$88,T$6) -> 0 | U44: =SUMIFS($J$7:$J$88,$L$7:$L$88,P44,$K$7:$K$88,U$6) -> 0 | V44: =SUMIFS($J$7:$J$88,$L$7:$L$88,P44,$K$7:$K$88,V$6) -> 0 | W44: =SUMIFS($J$7:$J$88,$L$7:$L$88,P44,$K$7:$K$88,W$6) -> 0 | Y44: =P44 -> 0 | Z44: =IF(Q44=0," ",Q44) | AA44: =IF(R44=0," ",R44) | AB44: =IF(S44=0," ",S44) | AC44: =IF(T44=0," ",T44) | AD44: =IF(U44=0," ",U44) | AE44: =IF(V44=0," ",V44) | AF44: =IF(W44=0," ",W44)
A45: 71 | B45: 71 | C45: 43 | D45: 40 | E45: РУШЕВ Николай | F45: РУШЕВ Николай Владимирович | G45: 09.09.04, КМС | H45: КМС | I45: МОС | J45: г. Москва, Москва, ЦС и О «Самбо-70» | K45: Москва | M45: Гусаров А.А. Клецков Н.В. | N45: РУШЕВ | R45: =SUMIFS($J$7:$J$88,$L$7:$L$88,P45,$K$7:$K$88,R$6) -> 0 | S45: =SUMIFS($J$7:$J$88,$L$7:$L$88,P45,$K$7:$K$88,S$6) -> 0 | T45: =SUMIFS($J$7:$J$88,$L$7:$L$88,P45,$K$7:$K$88,T$6) -> 0 | U45: =SUMIFS($J$7:$J$88,$L$7:$L$88,P45,$K$7:$K$88,U$6) -> 0 | V45: =SUMIFS($J$7:$J$88,$L$7:$L$88,P45,$K$7:$K$88,V$6) -> 0 | W45: =SUMIFS($J$7:$J$88,$L$7:$L$88,P45,$K$7:$K$88,W$6) -> 0 | Y45: =P45 -> 0 | Z45: =IF(Q45=0," ",Q45) | AA45: =IF(R45=0," ",R45) | AB45: =IF(S45=0," ",S45) | AC45: =IF(T45=0," ",T45) | AD45: =IF(U45=0," ",U45) | AE45: =IF(V45=0," ",V45) | AF45: =IF(W45=0," ",W45)
A46: 71 | B46: 71 | C46: 49 | D46: 41 | E46: ВОРОЖЦОВ Егор | F46: ВОРОЖЦОВ Егор | G46: 23.12.04, КМС | H46: КМС | J46: Кировская | K46: Кировская | M46: Варданян А.Ш. | N46: ВОРОЖЦОВ | R46: =SUMIFS($J$7:$J$88,$L$7:$L$88,P46,$K$7:$K$88,R$6) -> 0 | S46: =SUMIFS($J$7:$J$88,$L$7:$L$88,P46,$K$7:$K$88,S$6) -> 0 | T46: =SUMIFS($J$7:$J$88,$L$7:$L$88,P46,$K$7:$K$88,T$6) -> 0 | U46: =SUMIFS($J$7:$J$88,$L$7:$L$88,P46,$K$7:$K$88,U$6) -> 0 | V46: =SUMIFS($J$7:$J$88,$L$7:$L$88,P46,$K$7:$K$88,V$6) -> 0 | W46: =SUMIFS($J$7:$J$88,$L$7:$L$88,P46,$K$7:$K$88,W$6) -> 0 | Y46: =P46 -> 0 | Z46: =IF(Q46=0," ",Q46) | AA46: =IF(R46=0," ",R46) | AB46: =IF(S46=0," ",S46) | AC46: =IF(T46=0," ",T46) | AD46: =IF(U46=0," ",U46) | AE46: =IF(V46=0," ",V46) | AF46: =IF(W46=0," ",W46)
A47: 71 | B47: 71 | C47: 33 | D47: 42 | E47: АБАЕВ Оразеддин | F47: АБАЕВ Оразеддин Шарафетдинович | G47: 04.11.04, КМС | H47: КМС | I47: ПФО | J47: Респ. Татарстан, Казань, Батыр | K47: Р.Татарстан | M47: Зарипов А.А. | N47: АБАЕВ | R47: =SUMIFS($J$7:$J$88,$L$7:$L$88,P47,$K$7:$K$88,R$6) -> 0 | S47: =SUMIFS($J$7:$J$88,$L$7:$L$88,P47,$K$7:$K$88,S$6) -> 0 | T47: =SUMIFS($J$7:$J$88,$L$7:$L$88,P47,$K$7:$K$88,T$6) -> 0 | U47: =SUMIFS($J$7:$J$88,$L$7:$L$88,P47,$K$7:$K$88,U$6) -> 0 | V47: =SUMIFS($J$7:$J$88,$L$7:$L$88,P47,$K$7:$K$88,V$6) -> 0 | W47: =SUMIFS($J$7:$J$88,$L$7:$L$88,P47,$K$7:$K$88,W$6) -> 0 | Y47: =P47 -> 0 | Z47: =IF(Q47=0," ",Q47) | AA47: =IF(R47=0," ",R47) | AB47: =IF(S47=0," ",S47) | AC47: =IF(T47=0," ",T47) | AD47: =IF(U47=0," ",U47) | AE47: =IF(V47=0," ",V47) | AF47: =IF(W47=0," ",W47)
R48: =SUMIFS($J$7:$J$88,$L$7:$L$88,P48,$K$7:$K$88,R$6) -> 0 | S48: =SUMIFS($J$7:$J$88,$L$7:$L$88,P48,$K$7:$K$88,S$6) -> 0 | T48: =SUMIFS($J$7:$J$88,$L$7:$L$88,P48,$K$7:$K$88,T$6) -> 0 | U48: =SUMIFS($J$7:$J$88,$L$7:$L$88,P48,$K$7:$K$88,U$6) -> 0 | V48: =SUMIFS($J$7:$J$88,$L$7:$L$88,P48,$K$7:$K$88,V$6) -> 0 | W48: =SUMIFS($J$7:$J$88,$L$7:$L$88,P48,$K$7:$K$88,W$6) -> 0 | Y48: =P48 -> 0 | Z48: =IF(Q48=0," ",Q48) | AA48: =IF(R48=0," ",R48) | AB48: =IF(S48=0," ",S48) | AC48: =IF(T48=0," ",T48) | AD48: =IF(U48=0," ",U48) | AE48: =IF(V48=0," ",V48) | AF48: =IF(W48=0," ",W48)
R49: =SUMIFS($J$7:$J$88,$L$7:$L$88,P49,$K$7:$K$88,R$6) -> 0 | S49: =SUMIFS($J$7:$J$88,$L$7:$L$88,P49,$K$7:$K$88,S$6) -> 0 | T49: =SUMIFS($J$7:$J$88,$L$7:$L$88,P49,$K$7:$K$88,T$6) -> 0 | U49: =SUMIFS($J$7:$J$88,$L$7:$L$88,P49,$K$7:$K$88,U$6) -> 0 | V49: =SUMIFS($J$7:$J$88,$L$7:$L$88,P49,$K$7:$K$88,V$6) -> 0 | W49: =SUMIFS($J$7:$J$88,$L$7:$L$88,P49,$K$7:$K$88,W$6) -> 0 | Y49: =P49 -> 0 | Z49: =IF(Q49=0," ",Q49) | AA49: =IF(R49=0," ",R49) | AB49: =IF(S49=0," ",S49) | AC49: =IF(T49=0," ",T49) | AD49: =IF(U49=0," ",U49) | AE49: =IF(V49=0," ",V49) | AF49: =IF(W49=0," ",W49)
R50: =SUMIFS($J$7:$J$88,$L$7:$L$88,P50,$K$7:$K$88,R$6) -> 0 | S50: =SUMIFS($J$7:$J$88,$L$7:$L$88,P50,$K$7:$K$88,S$6) -> 0 | T50: =SUMIFS($J$7:$J$88,$L$7:$L$88,P50,$K$7:$K$88,T$6) -> 0 | U50: =SUMIFS($J$7:$J$88,$L$7:$L$88,P50,$K$7:$K$88,U$6) -> 0 | V50: =SUMIFS($J$7:$J$88,$L$7:$L$88,P50,$K$7:$K$88,V$6) -> 0 | W50: =SUMIFS($J$7:$J$88,$L$7:$L$88,P50,$K$7:$K$88,W$6) -> 0 | Y50: =P50 -> 0 | Z50: =IF(Q50=0," ",Q50) | AA50: =IF(R50=0," ",R50) | AB50: =IF(S50=0," ",S50) | AC50: =IF(T50=0," ",T50) | AD50: =IF(U50=0," ",U50) | AE50: =IF(V50=0," ",V50) | AF50: =IF(W50=0," ",W50)
R51: =SUMIFS($J$7:$J$88,$L$7:$L$88,P51,$K$7:$K$88,R$6) -> 0 | S51: =SUMIFS($J$7:$J$88,$L$7:$L$88,P51,$K$7:$K$88,S$6) -> 0 | T51: =SUMIFS($J$7:$J$88,$L$7:$L$88,P51,$K$7:$K$88,T$6) -> 0 | U51: =SUMIFS($J$7:$J$88,$L$7:$L$88,P51,$K$7:$K$88,U$6) -> 0 | V51: =SUMIFS($J$7:$J$88,$L$7:$L$88,P51,$K$7:$K$88,V$6) -> 0 | W51: =SUMIFS($J$7:$J$88,$L$7:$L$88,P51,$K$7:$K$88,W$6) -> 0 | Y51: =P51 -> 0 | Z51: =IF(Q51=0," ",Q51) | AA51: =IF(R51=0," ",R51) | AB51: =IF(S51=0," ",S51) | AC51: =IF(T51=0," ",T51) | AD51: =IF(U51=0," ",U51) | AE51: =IF(V51=0," ",V51) | AF51: =IF(W51=0," ",W51)
R52: =SUMIFS($J$7:$J$88,$L$7:$L$88,P52,$K$7:$K$88,R$6) -> 0 | S52: =SUMIFS($J$7:$J$88,$L$7:$L$88,P52,$K$7:$K$88,S$6) -> 0 | T52: =SUMIFS($J$7:$J$88,$L$7:$L$88,P52,$K$7:$K$88,T$6) -> 0 | U52: =SUMIFS($J$7:$J$88,$L$7:$L$88,P52,$K$7:$K$88,U$6) -> 0 | V52: =SUMIFS($J$7:$J$88,$L$7:$L$88,P52,$K$7:$K$88,V$6) -> 0 | W52: =SUMIFS($J$7:$J$88,$L$7:$L$88,P52,$K$7:$K$88,W$6) -> 0 | Y52: =P52 -> 0 | Z52: =IF(Q52=0," ",Q52) | AA52: =IF(R52=0," ",R52) | AB52: =IF(S52=0," ",S52) | AC52: =IF(T52=0," ",T52) | AD52: =IF(U52=0," ",U52) | AE52: =IF(V52=0," ",V52) | AF52: =IF(W52=0," ",W52)
R53: =SUMIFS($J$7:$J$88,$L$7:$L$88,P53,$K$7:$K$88,R$6) -> 0 | S53: =SUMIFS($J$7:$J$88,$L$7:$L$88,P53,$K$7:$K$88,S$6) -> 0 | T53: =SUMIFS($J$7:$J$88,$L$7:$L$88,P53,$K$7:$K$88,T$6) -> 0 | U53: =SUMIFS($J$7:$J$88,$L$7:$L$88,P53,$K$7:$K$88,U$6) -> 0 | V53: =SUMIFS($J$7:$J$88,$L$7:$L$88,P53,$K$7:$K$88,V$6) -> 0 | W53: =SUMIFS($J$7:$J$88,$L$7:$L$88,P53,$K$7:$K$88,W$6) -> 0 | Y53: =P53 -> 0 | Z53: =IF(Q53=0," ",Q53) | AA53: =IF(R53=0," ",R53) | AB53: =IF(S53=0," ",S53) | AC53: =IF(T53=0," ",T53) | AD53: =IF(U53=0," ",U53) | AE53: =IF(V53=0," ",V53) | AF53: =IF(W53=0," ",W53)
R54: =SUMIFS($J$7:$J$88,$L$7:$L$88,P54,$K$7:$K$88,R$6) -> 0 | S54: =SUMIFS($J$7:$J$88,$L$7:$L$88,P54,$K$7:$K$88,S$6) -> 0 | T54: =SUMIFS($J$7:$J$88,$L$7:$L$88,P54,$K$7:$K$88,T$6) -> 0 | U54: =SUMIFS($J$7:$J$88,$L$7:$L$88,P54,$K$7:$K$88,U$6) -> 0 | V54: =SUMIFS($J$7:$J$88,$L$7:$L$88,P54,$K$7:$K$88,V$6) -> 0 | W54: =SUMIFS($J$7:$J$88,$L$7:$L$88,P54,$K$7:$K$88,W$6) -> 0 | Y54: =P54 -> 0 | Z54: =IF(Q54=0," ",Q54) | AA54: =IF(R54=0," ",R54) | AB54: =IF(S54=0," ",S54) | AC54: =IF(T54=0," ",T54) | AD54: =IF(U54=0," ",U54) | AE54: =IF(V54=0," ",V54) | AF54: =IF(W54=0," ",W54)
R55: =SUMIFS($J$7:$J$88,$L$7:$L$88,P55,$K$7:$K$88,R$6) -> 0 | S55: =SUMIFS($J$7:$J$88,$L$7:$L$88,P55,$K$7:$K$88,S$6) -> 0 | T55: =SUMIFS($J$7:$J$88,$L$7:$L$88,P55,$K$7:$K$88,T$6) -> 0 | U55: =SUMIFS($J$7:$J$88,$L$7:$L$88,P55,$K$7:$K$88,U$6) -> 0 | V55: =SUMIFS($J$7:$J$88,$L$7:$L$88,P55,$K$7:$K$88,V$6) -> 0 | W55: =SUMIFS($J$7:$J$88,$L$7:$L$88,P55,$K$7:$K$88,W$6) -> 0 | Y55: =P55 -> 0 | Z55: =IF(Q55=0," ",Q55) | AA55: =IF(R55=0," ",R55) | AB55: =IF(S55=0," ",S55) | AC55: =IF(T55=0," ",T55) | AD55: =IF(U55=0," ",U55) | AE55: =IF(V55=0," ",V55) | AF55: =IF(W55=0," ",W55)
R56: =SUMIFS($J$7:$J$88,$L$7:$L$88,P56,$K$7:$K$88,R$6) -> 0 | S56: =SUMIFS($J$7:$J$88,$L$7:$L$88,P56,$K$7:$K$88,S$6) -> 0 | T56: =SUMIFS($J$7:$J$88,$L$7:$L$88,P56,$K$7:$K$88,T$6) -> 0 | U56: =SUMIFS($J$7:$J$88,$L$7:$L$88,P56,$K$7:$K$88,U$6) -> 0 | V56: =SUMIFS($J$7:$J$88,$L$7:$L$88,P56,$K$7:$K$88,V$6) -> 0 | W56: =SUMIFS($J$7:$J$88,$L$7:$L$88,P56,$K$7:$K$88,W$6) -> 0 | Y56: =P56 -> 0 | Z56: =IF(Q56=0," ",Q56) | AA56: =IF(R56=0," ",R56) | AB56: =IF(S56=0," ",S56) | AC56: =IF(T56=0," ",T56) | AD56: =IF(U56=0," ",U56) | AE56: =IF(V56=0," ",V56) | AF56: =IF(W56=0," ",W56)
R57: =SUMIFS($J$7:$J$88,$L$7:$L$88,P57,$K$7:$K$88,R$6) -> 0 | S57: =SUMIFS($J$7:$J$88,$L$7:$L$88,P57,$K$7:$K$88,S$6) -> 0 | T57: =SUMIFS($J$7:$J$88,$L$7:$L$88,P57,$K$7:$K$88,T$6) -> 0 | U57: =SUMIFS($J$7:$J$88,$L$7:$L$88,P57,$K$7:$K$88,U$6) -> 0 | V57: =SUMIFS($J$7:$J$88,$L$7:$L$88,P57,$K$7:$K$88,V$6) -> 0 | W57: =SUMIFS($J$7:$J$88,$L$7:$L$88,P57,$K$7:$K$88,W$6) -> 0 | Y57: =P57 -> 0 | Z57: =IF(Q57=0," ",Q57) | AA57: =IF(R57=0," ",R57) | AB57: =IF(S57=0," ",S57) | AC57: =IF(T57=0," ",T57) | AD57: =IF(U57=0," ",U57) | AE57: =IF(V57=0," ",V57) | AF57: =IF(W57=0," ",W57)
R58: =SUMIFS($J$7:$J$88,$L$7:$L$88,P58,$K$7:$K$88,R$6) -> 0 | S58: =SUMIFS($J$7:$J$88,$L$7:$L$88,P58,$K$7:$K$88,S$6) -> 0 | T58: =SUMIFS($J$7:$J$88,$L$7:$L$88,P58,$K$7:$K$88,T$6) -> 0 | U58: =SUMIFS($J$7:$J$88,$L$7:$L$88,P58,$K$7:$K$88,U$6) -> 0 | V58: =SUMIFS($J$7:$J$88,$L$7:$L$88,P58,$K$7:$K$88,V$6) -> 0 | W58: =SUMIFS($J$7:$J$88,$L$7:$L$88,P58,$K$7:$K$88,W$6) -> 0 | Y58: =P58 -> 0 | Z58: =IF(Q58=0," ",Q58) | AA58: =IF(R58=0," ",R58) | AB58: =IF(S58=0," ",S58) | AC58: =IF(T58=0," ",T58) | AD58: =IF(U58=0," ",U58) | AE58: =IF(V58=0," ",V58) | AF58: =IF(W58=0," ",W58)
R59: =SUMIFS($J$7:$J$88,$L$7:$L$88,P59,$K$7:$K$88,R$6) -> 0 | S59: =SUMIFS($J$7:$J$88,$L$7:$L$88,P59,$K$7:$K$88,S$6) -> 0 | T59: =SUMIFS($J$7:$J$88,$L$7:$L$88,P59,$K$7:$K$88,T$6) -> 0 | U59: =SUMIFS($J$7:$J$88,$L$7:$L$88,P59,$K$7:$K$88,U$6) -> 0 | V59: =SUMIFS($J$7:$J$88,$L$7:$L$88,P59,$K$7:$K$88,V$6) -> 0 | W59: =SUMIFS($J$7:$J$88,$L$7:$L$88,P59,$K$7:$K$88,W$6) -> 0 | Y59: =P59 -> 0 | Z59: =IF(Q59=0," ",Q59) | AA59: =IF(R59=0," ",R59) | AB59: =IF(S59=0," ",S59) | AC59: =IF(T59=0," ",T59) | AD59: =IF(U59=0," ",U59) | AE59: =IF(V59=0," ",V59) | AF59: =IF(W59=0," ",W59)
... R70: =SUMIFS($J$7:$J$88,$L$7:$L$88,P70,$K$7:$K$88,R$6) -> 0 | S70: =SUMIFS($J$7:$J$88,$L$7:$L$88,P70,$K$7:$K$88,S$6) -> 0 | T70: =SUMIFS($J$7:$J$88,$L$7:$L$88,P70,$K$7:$K$88,T$6) -> 0 | U70: =SUMIFS($J$7:$J$88,$L$7:$L$88,P70,$K$7:$K$88,U$6) -> 0 | V70: =SUMIFS($J$7:$J$88,$L$7:$L$88,P70,$K$7:$K$88,V$6) -> 0 | W70: =SUMIFS($J$7:$J$88,$L$7:$L$88,P70,$K$7:$K$88,W$6) -> 0 | Y70: =P70 -> 0 | Z70: =IF(Q70=0," ",Q70) | AA70: =IF(R70=0," ",R70) | AB70: =IF(S70=0," ",S70) | AC70: =IF(T70=0," ",T70) | AD70: =IF(U70=0," ",U70) | AE70: =IF(V70=0," ",V70) | AF70: =IF(W70=0," ",W70)

Sheet пр.хода
F1: ВСЕРОССИЙСКАЯ ФЕДЕРАЦИЯ САМБО | AC1: =пр.взв!$D$4 -> 0 | AD1: =пр.взв!G4 -> В.к. 71 кг
F2: ПРОТОКОЛ ХОДА СОРЕВНОВАНИЙ ЮНИОРЫ
B3: =пр.взв!C2 -> Первенство России по самбо юниоры 18-20 лет (отбор на Первенство Мира и Европы) ЕКП № 23752 | AD3: =AH3&" "&AI3 -> 0 участников | AH3: =пр.взв!O3 -> 0 | AI3: участников
A4: Подгруппа А | H4: =пр.взв!C3 -> 13.02 - 17.02.2022 г. г. В-Пышма | AB4: Подгруппа Б
A5: 1 | B5: =IFERROR(VLOOKUP(A5,пр.взв!$D$6:$Q$70,2,0),"") -> БАГОВ Тимур | C5: =IFERROR(VLOOKUP(A5,пр.взв!$D$6:$Q$70,5,0),"") -> КМС | D5: =IFERROR(VLOOKUP(A5,пр.взв!$D$6:$Q$70,8,0),"") -> Р.Адыгея | AB5: =IFERROR(VLOOKUP(AE5,пр.взв!$D$6:$Q$70,2,0),"") -> КОЛОНТАЙ Артём | AC5: =IFERROR(VLOOKUP(AE5,пр.взв!$D$6:$Q$70,5,0),"") -> КМС | AD5: =IFERROR(VLOOKUP(AE5,пр.взв!$D$6:$Q$70,8,0),"") -> Ярославская | AE5: 2 | AH5: =IF(K20=""," ",IF(K20=A5,A7,IF(K20=A7,A5,IF(K20=A9,A11,IF(K20=A11,A9,IF(K20=A13,A15,IF(K20=A15,A13,IF(K20=A17,A19,IF(K20=A19,A17,0))))))))) | AI5: =IF(K20=""," ",IF(K20=A21,A23,IF(K20=A23,A21,IF(K20=A25,A27,IF(K20=A27,A25,IF(K20=A29,A31,IF(K20=A31,A29,IF(K20=A33,A35,IF(K20=A35,A33,0)))))))))
N6: А1 | AG6: =IF(AH5=""," ",IF(AH5=0,AI5,AH5)) | AH6: =IF(K53=""," ",IF(K53=A54,A56,IF(K53=A56,A54,IF(K53=A58,A60,IF(K53=A60,A58,IF(K53=A62,A64,IF(K53=A64,A62,IF(K53=A66,A68,IF(K53=A68,A66,0))))))))) | AI6: =IF(K53=""," ",IF(K53=A38,A40,IF(K53=A40,A38,IF(K53=A42,A44,IF(K53=A44,A42,IF(K53=A46,A48,IF(K53=A48,A46,IF(K53=A50,A52,IF(K53=A52,A50,0)))))))))
A7: 33 | B7: =IFERROR(VLOOKUP(A7,пр.взв!$D$6:$Q$70,2,0),"") -> НАПИДЖЕВ Рахман | C7: =IFERROR(VLOOKUP(A7,пр.взв!$D$6:$Q$70,5,0),"") -> КМС | D7: =IFERROR(VLOOKUP(A7,пр.взв!$D$6:$Q$70,8,0),"") -> КЧР | L7: =AG6 | AB7: =IFERROR(VLOOKUP(AE7,пр.взв!$D$6:$Q$70,2,0),"") -> НАЗАРОВ Никита | AC7: =IFERROR(VLOOKUP(AE7,пр.взв!$D$6:$Q$70,5,0),"") -> КМС | AD7: =IFERROR(VLOOKUP(AE7,пр.взв!$D$6:$Q$70,8,0),"") -> Москва | AE7: 34 | AG7: =IF(K20=""," ",IF(K20=E6,E10,IF(K20=E10,E6,IF(K20=E14,E18,IF(K20=E18,E14,IF(K20=E22,E26,IF(K20=E26,E22,IF(K20=E30,E34,E30)))))))) | AH7: =IF(U20=""," ",IF(U20=AE5,AE7,IF(U20=AE7,AE5,IF(U20=AE9,AE11,IF(U20=AE11,AE9,IF(U20=AE13,AE15,IF(U20=AE15,AE13,IF(U20=AE17,AE19,IF(U20=AE19,AE17,0))))))))) | AI7: =IF(U20=""," ",IF(U20=AE21,AE23,IF(U20=AE23,AE21,IF(U20=AE25,AE27,IF(U20=AE27,AE25,IF(U20=AE29,AE31,IF(U20=AE31,AE29,IF(U20=AE33,AE35,IF(U20=AE35,AE33,0)))))))))
AG8: =IF(K20=""," ",IF(K20=G8,G16,IF(K20=G16,G8,IF(K20=G24,G32,G24)))) | AH8: =IF(U53=""," ",IF(U53=AE54,AE56,IF(U53=AE56,AE54,IF(U53=AE58,AE60,IF(U53=AE60,AE58,IF(U53=AE62,AE64,IF(U53=AE64,AE62,IF(U53=AE66,AE68,IF(U53=AE68,AE66,0))))))))) | AI8: =IF(U53=""," ",IF(U53=AE38,AE40,IF(U53=AE40,AE38,IF(U53=AE42,AE44,IF(U53=AE44,AE42,IF(U53=AE46,AE48,IF(U53=AE48,AE46,IF(U53=AE50,AE52,IF(U53=AE52,AE50,0)))))))))
A9: 17 | B9: =IFERROR(VLOOKUP(A9,пр.взв!$D$6:$Q$70,2,0),"") -> ПЭЛЫПИВ Никита | C9: =IFERROR(VLOOKUP(A9,пр.взв!$D$6:$Q$70,5,0),"") -> КМС | D9: =IFERROR(VLOOKUP(A9,пр.взв!$D$6:$Q$70,8,0),"") -> Саратовская | AB9: =IFERROR(VLOOKUP(AE9,пр.взв!$D$6:$Q$70,2,0),"") -> КОРОСТИЕНКО Денис | AC9: =IFERROR(VLOOKUP(AE9,пр.взв!$D$6:$Q$70,5,0),"") -> КМС | AD9: =IFERROR(VLOOKUP(AE9,пр.взв!$D$6:$Q$70,8,0),"") -> Хабаровский | AE9: 18 | AG9: =IF(K20=""," ",IF(K20=I12,I28,I12)) | AI9: м1 | AK9: м1 | AL9: м1 | AM9: ум
L10: =AG7 | AG10: =IF(AH6=0,AI6,AH6) | AH10: =IF(OR(K$20=A5,K$20=A7)," ",IF(E6=A5,A7,A5)) -> 1 | AI10: =IF(AH10=" ",AH11,AH10) -> 1 | AJ10: =IF(OR(K$20=E6,K$20=E10)," ",IF(G8=E6,E10,E6)) | AK10: =IF(AJ10=" ",AJ11,AJ10) | AL10: =IF(OR(K$20=G8,K$20=G16)," ",IF(I12=G8,G16,G8)) | AM10: =IF(N8=L7,L10,L7)
A11: 49 | B11: =IFERROR(VLOOKUP(A11,пр.взв!$D$6:$Q$70,2,0),"") | C11: =IFERROR(VLOOKUP(A11,пр.взв!$D$6:$Q$70,5,0),"") | D11: =IFERROR(VLOOKUP(A11,пр.взв!$D$6:$Q$70,8,0),"") | N11: =AG8 | AB11: =IFERROR(VLOOKUP(AE11,пр.взв!$D$6:$Q$70,2,0),"") | AC11: =IFERROR(VLOOKUP(AE11,пр.взв!$D$6:$Q$70,5,0),"") | AD11: =IFERROR(VLOOKUP(AE11,пр.взв!$D$6:$Q$70,8,0),"") | AE11: 50 | AG11: =IF(K53=""," ",IF(K53=E39,E43,IF(K53=E43,E39,IF(K53=E47,E51,IF(K53=E51,E47,IF(K53=E55,E59,IF(K53=E59,E55,IF(K53=E63,E67,E63)))))))) | AH11: =IF(OR(K$20=A9,K$20=A11)," ",IF(E10=A9,A11,A9)) -> 17 | AI11: =IF(OR(AH10=" ",AH11=" "),AH12,AH11) -> 17 | AJ11: =IF(OR(K$20=E14,K$20=E18)," ",IF(G16=E14,E18,E14)) | AK11: =IF(OR(AJ10=" ",AJ11=" "),AJ12,AJ11) | AL11: =IF(AND(OR(K20=G8,K20=G16),I28=G24),G32,IF(AND(OR(K20=G8,K20=G16),I28=G32),G24,IF(I12=G8,G16,G8))) -> 0 | AM11: =IF(N57=L56,L59,L56)
AG12: =IF(K53=""," ",IF(K53=G41,G49,IF(K53=G49,G41,IF(K53=G57,G65,G57)))) | AH12: =IF(OR(K$20=A13,K$20=A15)," ",IF(E14=A13,A15,A13)) -> 9 | AI12: =IF(OR(AH10=" ",AH11=" ",AH12=" "),AH13,AH12) -> 9 | AJ12: =IF(OR(K$20=E22,K$20=E26)," ",IF(G24=E22,E26,E22)) | AK12: =IF(OR(AJ10=" ",AJ11=" ",AJ12=" "),AJ13,AJ12) | AM12: =IF(N15=L14,L17,L14)
A13: 9 | B13: =IFERROR(VLOOKUP(A13,пр.взв!$D$6:$Q$70,2,0),"") -> ПРОТАСОВ Артем | C13: =IFERROR(VLOOKUP(A13,пр.взв!$D$6:$Q$70,5,0),"") -> КМС | D13: =IFERROR(VLOOKUP(A13,пр.взв!$D$6:$Q$70,8,0),"") -> Санкт-Петербург | O13: =AG9 | AB13: =IFERROR(VLOOKUP(AE13,пр.взв!$D$6:$Q$70,2,0),"") -> ТУКСУМБАЕВ Артём | AC13: =IFERROR(VLOOKUP(AE13,пр.взв!$D$6:$Q$70,5,0),"") -> КМС | AD13: =IFERROR(VLOOKUP(AE13,пр.взв!$D$6:$Q$70,8,0),"") -> Алтайский | AE13: 10 | AG13: =IF(K53=""," ",IF(K53=I46,I61,I46)) | AH13: =IF(OR(K$20=A17,K$20=A19)," ",IF(E18=A17,A19,A17)) -> 25 | AI13: =IF(OR(AH10=" ",AH11=" ",AH12=" ",AH13=" "),AH14,AH13) -> 25 | AJ13: =IF(OR(K$20=E30,K$20=E34)," ",IF(G32=E30,E34,E30)) | AM13: =IF(N64=L63,L66,L63)
L14: =AG10 | AG14: =IF(S36="","",IF(S36=U20,U53,U20)) | AH14: =IF(OR(K$20=A21,K$20=A23)," ",IF(E22=A21,A23,A21)) -> 5 | AI14: =IF(OR(AH10=" ",AH11=" ",AH12=" ",AH13=" ",AH14=" "),AH15,AH14) -> 5 | AM14: ум
A15: 41 | B15: =IFERROR(VLOOKUP(A15,пр.взв!$D$6:$Q$70,2,0),"") -> ВОРОЖЦОВ Егор | C15: =IFERROR(VLOOKUP(A15,пр.взв!$D$6:$Q$70,5,0),"") -> КМС | D15: =IFERROR(VLOOKUP(A15,пр.взв!$D$6:$Q$70,8,0),"") -> Кировская | AB15: =IFERROR(VLOOKUP(AE15,пр.взв!$D$6:$Q$70,2,0),"") -> АБАЕВ Оразеддин | AC15: =IFERROR(VLOOKUP(AE15,пр.взв!$D$6:$Q$70,5,0),"") -> КМС | AD15: =IFERROR(VLOOKUP(AE15,пр.взв!$D$6:$Q$70,8,0),"") -> Р.Татарстан | AE15: 42 | AG15: =IF(M32="","",IF(M32=M36,S36,M36)) | AH15: =IF(OR(K$20=A25,K$20=A27)," ",IF(E26=A25,A27,A25)) -> 21 | AI15: =IF(OR(AH10=" ",AH11=" ",AH12=" ",AH13=" ",AH14=" ",AH15=" "),AH16,AH15) -> 21 | AM15: =IF(O10=N8,N11,N8)
AH16: =IF(OR(K$20=A29,K$20=A31)," ",IF(E30=A29,A31,A29)) -> 13 | AI16: =IF(OR(AH10=" ",AH11=" ",AH12=" ",AH13=" ",AH14=" ",AH15=" ",AH16=" "),AH17,AH16) -> 13 | AM16: =IF(O59=N57,N60,N57)
A17: 25 | B17: =IFERROR(VLOOKUP(A17,пр.взв!$D$6:$Q$70,2,0),"") -> АКСЕНОВ Артем | C17: =IFERROR(VLOOKUP(A17,пр.взв!$D$6:$Q$70,5,0),"") -> КМС | D17: =IFERROR(VLOOKUP(A17,пр.взв!$D$6:$Q$70,8,0),"") -> Калининградская | L17: =AG11 | AB17: =IFERROR(VLOOKUP(AE17,пр.взв!$D$6:$Q$70,2,0),"") -> АБИТОВ Алим | AC17: =IFERROR(VLOOKUP(AE17,пр.взв!$D$6:$Q$70,5,0),"") -> КМС | AD17: =IFERROR(VLOOKUP(AE17,пр.взв!$D$6:$Q$70,8,0),"") -> КЧР | AE17: 26 | AH17: =IF(OR(K$20=A33,K$20=A35)," ",IF(E34=A33,A35,A33)) -> 29 | AM17: =IF(O17=N15,N18,N15)
N18: =AG12 | AI18: м3 | AK18: м3 | AL18: м3 | AM18: =IF(O66=N64,N67,N64)
A19: 57 | B19: =IFERROR(VLOOKUP(A19,пр.взв!$D$6:$Q$70,2,0),"") | C19: =IFERROR(VLOOKUP(A19,пр.взв!$D$6:$Q$70,5,0),"") | D19: =IFERROR(VLOOKUP(A19,пр.взв!$D$6:$Q$70,8,0),"") | AB19: =IFERROR(VLOOKUP(AE19,пр.взв!$D$6:$Q$70,2,0),"") | AC19: =IFERROR(VLOOKUP(AE19,пр.взв!$D$6:$Q$70,5,0),"") | AD19: =IFERROR(VLOOKUP(AE19,пр.взв!$D$6:$Q$70,8,0),"") | AE19: 58 | AH19: =IF(OR(K$53=A38,K$53=A40)," ",IF(E39=A38,A40,A38)) -> 3 | AI19: =IF(AH19=" ",AH20,AH19) -> 3 | AJ19: =IF(OR(K$53=E39,K$53=E43)," ",IF(G41=E39,E43,E39)) | AK19: =IF(AJ19=" ",AJ20,AJ19) | AM19: ум
O20: =AG13 | AH20: =IF(OR(K$53=A42,K$53=A44)," ",IF(E43=A42,A44,A42)) -> 19 | AI20: =IF(OR(AH18=" ",AH19=" ",AH20=" "),AH21,AH20) -> 19 | AJ20: =IF(OR(K$53=E47,K$53=E51)," ",IF(G49=E47,E51,E47)) | AK20: =IF(OR(AJ18=" ",AJ19=" ",AJ20=" "),AJ21,AJ20) | AL20: =IF(AND(OR(K53=G41,K53=G49),I61=G57),G65,IF(AND(OR(K53=G41,K53=G49),I61=G65),G57,IF(I46=G41,G49,G41))) -> 0 | AM20: =IF(P12=O10,O13,O10)
A21: 5 | B21: =IFERROR(VLOOKUP(A21,пр.взв!$D$6:$Q$70,2,0),"") -> МАРКОВ Егор | C21: =IFERROR(VLOOKUP(A21,пр.взв!$D$6:$Q$70,5,0),"") -> КМС | D21: =IFERROR(VLOOKUP(A21,пр.взв!$D$6:$Q$70,8,0),"") -> Московская | AB21: =IFERROR(VLOOKUP(AE21,пр.взв!$D$6:$Q$70,2,0),"") -> СТАШ Тагир | AC21: =IFERROR(VLOOKUP(AE21,пр.взв!$D$6:$Q$70,5,0),"") -> КМС | AD21: =IFERROR(VLOOKUP(AE21,пр.взв!$D$6:$Q$70,8,0),"") -> Р.Адыгея | AE21: 6 | AH21: =IF(OR(K$53=A46,K$53=A48)," ",IF(E47=A46,A48,A46)) -> 11 | AI21: =IF(OR(AH18=" ",AH19=" ",AH20=" ",AH21=" "),AH22,AH21) -> 11 | AJ21: =IF(OR(K$53=E55,K$53=E59)," ",IF(G57=E55,E59,E55)) | AK21: =IF(OR(AJ18=" ",AJ19=" ",AJ20=" ",AJ21=" "),AJ22,AJ21) | AM21: =IF(P61=O59,O62,O59)
AH22: =IF(OR(K$53=A50,K$53=A52)," ",IF(E51=A50,A52,A50)) -> 27 | AI22: =IF(OR(AH18=" ",AH19=" ",AH20=" ",AH21=" ",AH22=" "),AH23,AH22) -> 27 | AJ22: =IF(OR(K$53=E63,K$53=E67)," ",IF(G65=E63,E67,E63)) | AM22: =IF(P19=O17,O20,O17)
A23: 37 | B23: =IFERROR(VLOOKUP(A23,пр.взв!$D$6:$Q$70,2,0),"") -> ДУНГЕРОВ Вадим | C23: =IFERROR(VLOOKUP(A23,пр.взв!$D$6:$Q$70,5,0),"") -> МС | D23: =IFERROR(VLOOKUP(A23,пр.взв!$D$6:$Q$70,8,0),"") -> Москва | AB23: =IFERROR(VLOOKUP(AE23,пр.взв!$D$6:$Q$70,2,0),"") -> ДМИТРИЕВ Владислав | AC23: =IFERROR(VLOOKUP(AE23,пр.взв!$D$6:$Q$70,5,0),"") -> КМС | AD23: =IFERROR(VLOOKUP(AE23,пр.взв!$D$6:$Q$70,8,0),"") -> Калининградская | AE23: 38 | AH23: =IF(OR(K$53=A54,K$53=A56)," ",IF(E55=A54,A56,A54)) -> 7 | AI23: =IF(OR(AH18=" ",AH19=" ",AH20=" ",AH21=" ",AH22=" ",AH23=" "),AH24,AH23) -> 7 | AM23: =IF(P68=O66,O69,O66)
AH24: =IF(OR(K$53=A58,K$53=A60)," ",IF(E59=A58,A60,A58)) -> 23 | AI24: =IF(OR(AH18=" ",AH19=" ",AH20=" ",AH21=" ",AH22=" ",AH23=" ",AH24=" "),AH25,AH24) -> 23 | AM24: ум
A25: 21 | B25: =IFERROR(VLOOKUP(A25,пр.взв!$D$6:$Q$70,2,0),"") -> ЁСИНАГА Кэйта | C25: =IFERROR(VLOOKUP(A25,пр.взв!$D$6:$Q$70,5,0),"") -> КМС | D25: =IFERROR(VLOOKUP(A25,пр.взв!$D$6:$Q$70,8,0),"") -> Хабаровский | AB25: =IFERROR(VLOOKUP(AE25,пр.взв!$D$6:$Q$70,2,0),"") -> ТРУБНИКОВ Денис | AC25: =IFERROR(VLOOKUP(AE25,пр.взв!$D$6:$Q$70,5,0),"") -> 1р | AD25: =IFERROR(VLOOKUP(AE25,пр.взв!$D$6:$Q$70,8,0),"") -> Свердловская | AE25: 22 | AH25: =IF(OR(K$53=A62,K$53=A64)," ",IF(E63=A62,A64,A62)) -> 15 | AI25: =IF(OR(AH18=" ",AH19=" ",AH20=" ",AH21=" ",AH22=" ",AH23=" ",AH24=" ",AH25=" "),AH26,AH25) -> 15 | AM25: =IF(пр.хода!Q15=пр.хода!P12,пр.хода!P19,пр.хода!P12) -> 0
P26: 3 м | AH26: =IF(OR(K$53=A66,K$53=A68)," ",IF(E67=A66,A68,A66)) -> 31 | AM26: =IF(пр.хода!Q64=пр.хода!P61,пр.хода!P68,пр.хода!P61) -> 0
A27: 53 | B27: =IFERROR(VLOOKUP(A27,пр.взв!$D$6:$Q$70,2,0),"") | C27: =IFERROR(VLOOKUP(A27,пр.взв!$D$6:$Q$70,5,0),"") | D27: =IFERROR(VLOOKUP(A27,пр.взв!$D$6:$Q$70,8,0),"") | N27: =IFERROR(VLOOKUP(R18,пр.взв!$D$6:$Q$70,2,0),"") | AB27: =IFERROR(VLOOKUP(AE27,пр.взв!$D$6:$Q$70,2,0),"") | AC27: =IFERROR(VLOOKUP(AE27,пр.взв!$D$6:$Q$70,5,0),"") | AD27: =IFERROR(VLOOKUP(AE27,пр.взв!$D$6:$Q$70,8,0),"") | AE27: 54 | AI27: м2 | AK27: м2 | AL27: м2 | AM27: ум
AH28: =IF(OR(U$20=AE5,U$20=AE7)," ",IF(AA6=AE5,AE7,AE5)) -> 2 | AI28: =IF(AH28=" ",AH29,AH28) -> 2 | AJ28: =IF(OR(U$20=AA6,U$20=AA10)," ",IF(Y8=AA6,AA10,AA6)) | AK28: =IF(AJ28=" ",AJ29,AJ28) | AM28: =IF(пр.хода!R18=пр.хода!Q15,пр.хода!Q21,пр.хода!Q15) -> 0
A29: 13 | B29: =IFERROR(VLOOKUP(A29,пр.взв!$D$6:$Q$70,2,0),"") -> НЕДОИМКИН Максим | C29: =IFERROR(VLOOKUP(A29,пр.взв!$D$6:$Q$70,5,0),"") -> КМС | D29: =IFERROR(VLOOKUP(A29,пр.взв!$D$6:$Q$70,8,0),"") -> Алтайский | AB29: =IFERROR(VLOOKUP(AE29,пр.взв!$D$6:$Q$70,2,0),"") -> ШАЛЫГИН Нестор | AC29: =IFERROR(VLOOKUP(AE29,пр.взв!$D$6:$Q$70,5,0),"") -> КМС | AD29: =IFERROR(VLOOKUP(AE29,пр.взв!$D$6:$Q$70,8,0),"") -> Москва | AE29: 14 | AH29: =IF(OR(U$20=AE9,U$20=AE11)," ",IF(AA10=AE9,AE11,AE9)) -> 18 | AI29: =IF(OR(AH28=" ",AH29=" "),AH30,AH29) -> 18 | AJ29: =IF(OR(U$20=AA14,U$20=AA18)," ",IF(Y16=AA14,AA18,AA14)) | AK29: =IF(OR(AJ28=" ",AJ29=" "),AJ30,AJ29) | AL29: =IF(AND(OR(U20=Y8,U20=Y16),W28=Y24),Y32,IF(AND(OR(U20=Y8,U20=Y16),W28=Y32),Y24,IF(W12=Y8,Y16,Y8))) -> 0 | AM29: =IF(пр.хода!R67=пр.хода!Q64,пр.хода!Q69,пр.хода!Q64)
AH30: =IF(OR(U$20=AE13,U$20=AE15)," ",IF(AA14=AE13,AE15,AE13)) -> 10 | AI30: =IF(OR(AH28=" ",AH29=" ",AH30=" "),AH31,AH30) -> 10 | AJ30: =IF(OR(U$20=AA22,U$20=AA26)," ",IF(Y24=AA22,AA26,AA22)) | AK30: =IF(OR(AJ28=" ",AJ29=" ",AJ30=" "),AJ31,AJ30)
A31: 45 | B31: =IFERROR(VLOOKUP(A31,пр.взв!$D$6:$Q$70,2,0),"") | C31: =IFERROR(VLOOKUP(A31,пр.взв!$D$6:$Q$70,5,0),"") | D31: =IFERROR(VLOOKUP(A31,пр.взв!$D$6:$Q$70,8,0),"") | P31: 1 м | AB31: =IFERROR(VLOOKUP(AE31,пр.взв!$D$6:$Q$70,2,0),"") | AC31: =IFERROR(VLOOKUP(AE31,пр.взв!$D$6:$Q$70,5,0),"") | AD31: =IFERROR(VLOOKUP(AE31,пр.взв!$D$6:$Q$70,8,0),"") | AE31: 46 | AH31: =IF(OR(U$20=AE17,U$20=AE19)," ",IF(AA18=AE17,AE19,AE17)) -> 26 | AI31: =IF(OR(AH28=" ",AH29=" ",AH30=" ",AH31=" "),AH32,AH31) -> 26 | AJ31: =IF(OR(U$20=AA30,U$20=AA34)," ",IF(Y32=AA30,AA34,AA30))
AH32: =IF(OR(U$20=AE21,U$20=AE23)," ",IF(AA22=AE21,AE23,AE21)) -> 6 | AI32: =IF(OR(AH28=" ",AH29=" ",AH30=" ",AH31=" ",AH32=" "),AH33,AH32) -> 6
A33: 29 | B33: =IFERROR(VLOOKUP(A33,пр.взв!$D$6:$Q$70,2,0),"") -> РАШКИН Никита | C33: =IFERROR(VLOOKUP(A33,пр.взв!$D$6:$Q$70,5,0),"") -> КМС | D33: =IFERROR(VLOOKUP(A33,пр.взв!$D$6:$Q$70,8,0),"") -> Свердловская | N33: =IFERROR(VLOOKUP(M32,пр.взв!$D$6:$Q$70,2,0),"") | AB33: =IFERROR(VLOOKUP(AE33,пр.взв!$D$6:$Q$70,2,0),"") -> ШВЕЦ Павел | AC33: =IFERROR(VLOOKUP(AE33,пр.взв!$D$6:$Q$70,5,0),"") -> КМС | AD33: =IFERROR(VLOOKUP(AE33,пр.взв!$D$6:$Q$70,8,0),"") -> Брянская | AE33: 30 | AH33: =IF(OR(U$20=AE25,U$20=AE27)," ",IF(AA26=AE25,AE27,AE25)) -> 22 | AI33: =IF(OR(AH28=" ",AH29=" ",AH30=" ",AH31=" ",AH32=" ",AH33=" "),AH34,AH33) -> 22
AH34: =IF(OR(U$20=AE29,U$20=AE31)," ",IF(AA30=AE29,AE31,AE29)) -> 14 | AI34: =IF(OR(AH28=" ",AH29=" ",AH30=" ",AH31=" ",AH32=" ",AH33=" ",AH34=" "),AH35,AH34) -> 14
A35: 61 | B35: =IFERROR(VLOOKUP(A35,пр.взв!$D$6:$Q$70,2,0),"") | C35: =IFERROR(VLOOKUP(A35,пр.взв!$D$6:$Q$70,5,0),"") | D35: =IFERROR(VLOOKUP(A35,пр.взв!$D$6:$Q$70,8,0),"") | AB35: =IFERROR(VLOOKUP(AE35,пр.взв!$D$6:$Q$70,2,0),"") | AC35: =IFERROR(VLOOKUP(AE35,пр.взв!$D$6:$Q$70,5,0),"") | AD35: =IFERROR(VLOOKUP(AE35,пр.взв!$D$6:$Q$70,8,0),"") | AE35: 62 | AH35: =IF(OR(U$20=AE33,U$20=AE35)," ",IF(AA34=AE33,AE35,AE33)) -> 30
AI36: м4 | AK36: м4 | AL36: м4
AH37: =IF(OR(U$20=AE32,U$20=AE34)," ",IF(AA33=AE32,AE34,AE32))
A38: 3 | B38: =IFERROR(VLOOKUP(A38,пр.взв!$D$6:$Q$70,2,0),"") -> ГОРШКОВ Фёдор | C38: =IFERROR(VLOOKUP(A38,пр.взв!$D$6:$Q$70,5,0),"") -> КМС | D38: =IFERROR(VLOOKUP(A38,пр.взв!$D$6:$Q$70,8,0),"") -> Санкт-Петербург | AB38: =IFERROR(VLOOKUP(AE38,пр.взв!$D$6:$Q$70,2,0),"") -> ЧЕРНИЙ Михаил | AC38: =IFERROR(VLOOKUP(AE38,пр.взв!$D$6:$Q$70,5,0),"") -> КМС | AD38: =IFERROR(VLOOKUP(AE38,пр.взв!$D$6:$Q$70,8,0),"") -> Краснодарский | AE38: 4 | AH38: =IF(OR(U$53=AE38,U$53=AE40)," ",IF(AA39=AE38,AE40,AE38)) -> 4 | AI38: =IF(AH38=" ",AH39,AH38) -> 4 | AJ38: =IF(OR(U$53=AA39,U$53=AA43)," ",IF(Y41=AA39,AA43,AA39)) | AK38: =IF(AJ38=" ",AJ39,AJ38)
P39: 2 м | AH39: =IF(OR(U$53=AE42,U$53=AE44)," ",IF(AA43=AE42,AE44,AE42)) -> 20 | AI39: =IF(OR(AH38=" ",AH39=" "),AH40,AH39) -> 20 | AJ39: =IF(OR(U$53=AA47,U$53=AA51)," ",IF(Y49=AA47,AA51,AA47)) | AK39: =IF(OR(AJ38=" ",AJ39=" "),AJ40,AJ39) | AL39: =IF(AND(OR(U53=Y41,U53=Y49),W61=Y57),Y65,IF(AND(OR(U53=Y41,U53=Y49),W61=Y65),Y57,IF(W45=Y41,Y49,Y41))) -> 0
A40: 35 | B40: =IFERROR(VLOOKUP(A40,пр.взв!$D$6:$Q$70,2,0),"") -> КОЗЫРСКИЙ Родион | C40: =IFERROR(VLOOKUP(A40,пр.взв!$D$6:$Q$70,5,0),"") -> КМС | D40: =IFERROR(VLOOKUP(A40,пр.взв!$D$6:$Q$70,8,0),"") -> Хабаровский | M40: =AG15 | AB40: =IFERROR(VLOOKUP(AE40,пр.взв!$D$6:$Q$70,2,0),"") -> ВОЛКОВ Александр | AC40: =IFERROR(VLOOKUP(AE40,пр.взв!$D$6:$Q$70,5,0),"") -> КМС | AD40: =IFERROR(VLOOKUP(AE40,пр.взв!$D$6:$Q$70,8,0),"") -> Приморский | AE40: 36 | AH40: =IF(OR(U$53=AE46,U$53=AE48)," ",IF(AA47=AE46,AE48,AE46)) -> 12 | AI40: =IF(OR(AH38=" ",AH39=" ",AH40=" "),AH41,AH40) -> 12 | AJ40: =IF(OR(U$53=AA55,U$53=AA59)," ",IF(Y57=AA55,AA59,AA55)) | AK40: =IF(OR(AJ38=" ",AJ39=" ",AJ40=" "),AJ41,AJ40)
N41: =IFERROR(VLOOKUP(M40,пр.взв!$D$6:$Q$70,2,0),"") | AH41: =IF(OR(U$53=AE50,U$53=AE52)," ",IF(AA51=AE50,AE52,AE50)) -> 28 | AI41: =IF(OR(AH38=" ",AH39=" ",AH40=" ",AH41=" "),AH42,AH41) -> 28 | AJ41: =IF(OR(U$53=AA63,U$53=AA67)," ",IF(Y65=AA63,AA67,AA63))
A42: 19 | B42: =IFERROR(VLOOKUP(A42,пр.взв!$D$6:$Q$70,2,0),"") -> ГОЛОВ Глеб | C42: =IFERROR(VLOOKUP(A42,пр.взв!$D$6:$Q$70,5,0),"") -> КМС | D42: =IFERROR(VLOOKUP(A42,пр.взв!$D$6:$Q$70,8,0),"") -> Р.Татарстан | AB42: =IFERROR(VLOOKUP(AE42,пр.взв!$D$6:$Q$70,2,0),"") -> ТУРАЙКИН Алексей | AC42: =IFERROR(VLOOKUP(AE42,пр.взв!$D$6:$Q$70,5,0),"") -> КМС | AD42: =IFERROR(VLOOKUP(AE42,пр.взв!$D$6:$Q$70,8,0),"") -> Хабаровский | AE42: 20 | AH42: =IF(OR(U$53=AE54,U$53=AE56)," ",IF(AA55=AE54,AE56,AE54)) -> 8 | AI42: =IF(OR(AH38=" ",AH39=" ",AH40=" ",AH41=" ",AH42=" "),AH43,AH42) -> 8
AH43: =IF(OR(U$53=AE58,U$53=AE60)," ",IF(AA59=AE58,AE60,AE58)) -> 24 | AI43: =IF(OR(AH38=" ",AH39=" ",AH40=" ",AH41=" ",AH42=" ",AH43=" "),AH44,AH43) -> 24
A44: 51 | B44: =IFERROR(VLOOKUP(A44,пр.взв!$D$6:$Q$70,2,0),"") | C44: =IFERROR(VLOOKUP(A44,пр.взв!$D$6:$Q$70,5,0),"") | D44: =IFERROR(VLOOKUP(A44,пр.взв!$D$6:$Q$70,8,0),"") | AB44: =IFERROR(VLOOKUP(AE44,пр.взв!$D$6:$Q$70,2,0),"") | AC44: =IFERROR(VLOOKUP(AE44,пр.взв!$D$6:$Q$70,5,0),"") | AD44: =IFERROR(VLOOKUP(AE44,пр.взв!$D$6:$Q$70,8,0),"") | AE44: 52 | AH44: =IF(OR(U$53=AE62,U$53=AE64)," ",IF(AA63=AE62,AE64,AE62)) -> 16 | AI44: =IF(OR(AH38=" ",AH39=" ",AH40=" ",AH41=" ",AH42=" ",AH43=" ",AH44=" "),AH45,AH44) -> 16
AH45: =IF(OR(U$53=AE66,U$53=AE68)," ",IF(AA67=AE66,AE68,AE66)) -> 32
A46: 11 | B46: =IFERROR(VLOOKUP(A46,пр.взв!$D$6:$Q$70,2,0),"") -> НАДЫРОВ Адик | C46: =IFERROR(VLOOKUP(A46,пр.взв!$D$6:$Q$70,5,0),"") -> КМС | D46: =IFERROR(VLOOKUP(A46,пр.взв!$D$6:$Q$70,8,0),"") -> Воронежская | AB46: =IFERROR(VLOOKUP(AE46,пр.взв!$D$6:$Q$70,2,0),"") -> СОМСИН Антон | AC46: =IFERROR(VLOOKUP(AE46,пр.взв!$D$6:$Q$70,5,0),"") -> КМС | AD46: =IFERROR(VLOOKUP(AE46,пр.взв!$D$6:$Q$70,8,0),"") -> Воронежская | AE46: 12
P47: 3 м
A48: 43 | B48: =IFERROR(VLOOKUP(A48,пр.взв!$D$6:$Q$70,2,0),"") | C48: =IFERROR(VLOOKUP(A48,пр.взв!$D$6:$Q$70,5,0),"") | D48: =IFERROR(VLOOKUP(A48,пр.взв!$D$6:$Q$70,8,0),"") | N48: =IFERROR(VLOOKUP(R67,пр.взв!$D$6:$Q$70,2,0),"") | AB48: =IFERROR(VLOOKUP(AE48,пр.взв!$D$6:$Q$70,2,0),"") | AC48: =IFERROR(VLOOKUP(AE48,пр.взв!$D$6:$Q$70,5,0),"") | AD48: =IFERROR(VLOOKUP(AE48,пр.взв!$D$6:$Q$70,8,0),"") | AE48: 44 | AH48: =IF(AH7=0,AI7,AH7)
AH49: =IF(U20=""," ",IF(U20=AA6,AA10,IF(U20=AA10,AA6,IF(U20=AA14,AA18,IF(U20=AA18,AA14,IF(U20=AA22,AA26,IF(U20=AA26,AA22,IF(U20=AA30,AA34,AA30))))))))
A50: 27 | B50: =IFERROR(VLOOKUP(A50,пр.взв!$D$6:$Q$70,2,0),"") -> ЧEРНЫЙ Ростислав | C50: =IFERROR(VLOOKUP(A50,пр.взв!$D$6:$Q$70,5,0),"") -> МС | D50: =IFERROR(VLOOKUP(A50,пр.взв!$D$6:$Q$70,8,0),"") -> Москва | AB50: =IFERROR(VLOOKUP(AE50,пр.взв!$D$6:$Q$70,2,0),"") -> ВАНЮШИН Максим | AC50: =IFERROR(VLOOKUP(AE50,пр.взв!$D$6:$Q$70,5,0),"") -> КМС | AD50: =IFERROR(VLOOKUP(AE50,пр.взв!$D$6:$Q$70,8,0),"") -> Рязанская | AE50: 28 | AH50: =IF(AH8=0,AI8,AH8)
AH51: =IF(U53=""," ",IF(U53=AA39,AA43,IF(U53=AA43,AA39,IF(U53=AA47,AA51,IF(U53=AA51,AA47,IF(U53=AA55,AA59,IF(U53=AA59,AA55,IF(U53=AA63,AA67,AA63))))))))
A52: 59 | B52: =IFERROR(VLOOKUP(A52,пр.взв!$D$6:$Q$70,2,0),"") | C52: =IFERROR(VLOOKUP(A52,пр.взв!$D$6:$Q$70,5,0),"") | D52: =IFERROR(VLOOKUP(A52,пр.взв!$D$6:$Q$70,8,0),"") | AB52: =IFERROR(VLOOKUP(AE52,пр.взв!$D$6:$Q$70,2,0),"") | AC52: =IFERROR(VLOOKUP(AE52,пр.взв!$D$6:$Q$70,5,0),"") | AD52: =IFERROR(VLOOKUP(AE52,пр.взв!$D$6:$Q$70,8,0),"") | AE52: 60 | AH52: =IF(U20=""," ",IF(U20=Y8,Y16,IF(U20=Y16,Y8,IF(U20=Y24,Y32,Y24))))
AH53: =IF(U53=""," ",IF(U53=Y41,Y49,IF(U53=Y49,Y41,IF(U53=Y57,Y65,Y57))))
A54: 7 | B54: =IFERROR(VLOOKUP(A54,пр.взв!$D$6:$Q$70,2,0),"") -> СТОЛБОВ Иван | C54: =IFERROR(VLOOKUP(A54,пр.взв!$D$6:$Q$70,5,0),"") -> КМС | D54: =IFERROR(VLOOKUP(A54,пр.взв!$D$6:$Q$70,8,0),"") -> Чувашская | N54: Б1 | AB54: =IFERROR(VLOOKUP(AE54,пр.взв!$D$6:$Q$70,2,0),"") -> ГАЙРБЕКОВ Умар | AC54: =IFERROR(VLOOKUP(AE54,пр.взв!$D$6:$Q$70,5,0),"") -> КМС | AD54: =IFERROR(VLOOKUP(AE54,пр.взв!$D$6:$Q$70,8,0),"") -> Самарская | AE54: 8 | AH54: =IF(U53=""," ",IF(U53=W45,W61,W45))
AH55: =IF(M36="","",IF(M36=K20,K53,K20))
A56: 39 | B56: =IFERROR(VLOOKUP(A56,пр.взв!$D$6:$Q$70,2,0),"") -> НАШ Расул | C56: =IFERROR(VLOOKUP(A56,пр.взв!$D$6:$Q$70,5,0),"") -> КМС | D56: =IFERROR(VLOOKUP(A56,пр.взв!$D$6:$Q$70,8,0),"") -> Р.Адыгея | L56: =AH48 | AB56: =IFERROR(VLOOKUP(AE56,пр.взв!$D$6:$Q$70,2,0),"") -> РУШЕВ Николай | AC56: =IFERROR(VLOOKUP(AE56,пр.взв!$D$6:$Q$70,5,0),"") -> КМС | AD56: =IFERROR(VLOOKUP(AE56,пр.взв!$D$6:$Q$70,8,0),"") -> Москва | AE56: 40 | AH56: =IF(U20=""," ",IF(U20=W12,W28,W12))
A58: 23 | B58: =IFERROR(VLOOKUP(A58,пр.взв!$D$6:$Q$70,2,0),"") -> СКИБА Владислав | C58: =IFERROR(VLOOKUP(A58,пр.взв!$D$6:$Q$70,5,0),"") -> КМС | D58: =IFERROR(VLOOKUP(A58,пр.взв!$D$6:$Q$70,8,0),"") -> Новосибирская | AB58: =IFERROR(VLOOKUP(AE58,пр.взв!$D$6:$Q$70,2,0),"") -> ХАКУЙ Амир | AC58: =IFERROR(VLOOKUP(AE58,пр.взв!$D$6:$Q$70,5,0),"") -> КМС | AD58: =IFERROR(VLOOKUP(AE58,пр.взв!$D$6:$Q$70,8,0),"") -> Р.Адыгея | AE58: 24
L59: =AH49
A60: 55 | B60: =IFERROR(VLOOKUP(A60,пр.взв!$D$6:$Q$70,2,0),"") | C60: =IFERROR(VLOOKUP(A60,пр.взв!$D$6:$Q$70,5,0),"") | D60: =IFERROR(VLOOKUP(A60,пр.взв!$D$6:$Q$70,8,0),"") | N60: =AH52 | AB60: =IFERROR(VLOOKUP(AE60,пр.взв!$D$6:$Q$70,2,0),"") | AC60: =IFERROR(VLOOKUP(AE60,пр.взв!$D$6:$Q$70,5,0),"") | AD60: =IFERROR(VLOOKUP(AE60,пр.взв!$D$6:$Q$70,8,0),"") | AE60: 56
A62: 15 | B62: =IFERROR(VLOOKUP(A62,пр.взв!$D$6:$Q$70,2,0),"") -> МУХАМЕДРИЗАЕВ Рустам | C62: =IFERROR(VLOOKUP(A62,пр.взв!$D$6:$Q$70,5,0),"") -> МС | D62: =IFERROR(VLOOKUP(A62,пр.взв!$D$6:$Q$70,8,0),"") -> Москва | O62: =AH56 | AB62: =IFERROR(VLOOKUP(AE62,пр.взв!$D$6:$Q$70,2,0),"") -> ШЕЛКОВНИКОВ Кирилл | AC62: =IFERROR(VLOOKUP(AE62,пр.взв!$D$6:$Q$70,5,0),"") -> КМС | AD62: =IFERROR(VLOOKUP(AE62,пр.взв!$D$6:$Q$70,8,0),"") -> Санкт-Петербург | AE62: 16
L63: =AH50
A64: 47 | B64: =IFERROR(VLOOKUP(A64,пр.взв!$D$6:$Q$70,2,0),"") | C64: =IFERROR(VLOOKUP(A64,пр.взв!$D$6:$Q$70,5,0),"") | D64: =IFERROR(VLOOKUP(A64,пр.взв!$D$6:$Q$70,8,0),"") | AB64: =IFERROR(VLOOKUP(AE64,пр.взв!$D$6:$Q$70,2,0),"") | AC64: =IFERROR(VLOOKUP(AE64,пр.взв!$D$6:$Q$70,5,0),"") | AD64: =IFERROR(VLOOKUP(AE64,пр.взв!$D$6:$Q$70,8,0),"") | AE64: 48
A66: 31 | B66: =IFERROR(VLOOKUP(A66,пр.взв!$D$6:$Q$70,2,0),"") -> НУРМАГОМЕДОВ Руслан | C66: =IFERROR(VLOOKUP(A66,пр.взв!$D$6:$Q$70,5,0),"") -> КМС | D66: =IFERROR(VLOOKUP(A66,пр.взв!$D$6:$Q$70,8,0),"") -> Ярославская | L66: =AH51 | AB66: =IFERROR(VLOOKUP(AE66,пр.взв!$D$6:$Q$70,2,0),"") -> МОВСИСЯН Амбарцум | AC66: =IFERROR(VLOOKUP(AE66,пр.взв!$D$6:$Q$70,5,0),"") -> КМС | AD66: =IFERROR(VLOOKUP(AE66,пр.взв!$D$6:$Q$70,8,0),"") -> Калининградская | AE66: 32
N67: =AH53
A68: 63 | B68: =IFERROR(VLOOKUP(A68,пр.взв!$D$6:$Q$70,2,0),"") | C68: =IFERROR(VLOOKUP(A68,пр.взв!$D$6:$Q$70,5,0),"") | D68: =IFERROR(VLOOKUP(A68,пр.взв!$D$6:$Q$70,8,0),"") | AB68: =IFERROR(VLOOKUP(AE68,пр.взв!$D$6:$Q$70,2,0),"") | AC68: =IFERROR(VLOOKUP(AE68,пр.взв!$D$6:$Q$70,5,0),"") | AD68: =IFERROR(VLOOKUP(AE68,пр.взв!$D$6:$Q$70,8,0),"") | AE68: 64
O69: =AH54 | Q69: =AH55
A73: =IFERROR(__xludf.DUMMYFUNCTION("IMPORTRANGE(""https://docs.google.com/spreadsheets/d/1XFGqS9_FSpg5EnxHBAY_QbGhuInRsY0PvHk2PYSXdn4/edit#gid=761916707"",""Реквизиты!$A$5"")"),"Гл.судья, судья ВК") -> Гл.судья, судья ВК | G73: =IFERROR(__xludf.DUMMYFUNCTION("IMPORTRANGE('пр.взв'!N1,""Реквизиты!$C6"")"),"Редин Д.А.") -> Редин Д.А. | J73: =IFERROR(__xludf.DUMMYFUNCTION("IMPORTRANGE('пр.взв'!N1,""Реквизиты!$C7"")"),"Хабаровский кр.") -> Хабаровский кр. | T73: =IFERROR(__xludf.DUMMYFUNCTION("IMPORTRANGE(""https://docs.google.com/spreadsheets/d/1XFGqS9_FSpg5EnxHBAY_QbGhuInRsY0PvHk2PYSXdn4/edit#gid=761916707"",""Реквизиты!$A$9"")"),"Гл.секретарь, судья ВК") -> Гл.секретарь, судья ВК | AB73: =IFERROR(__xludf.DUMMYFUNCTION("IMPORTRANGE(""https://docs.google.com/spreadsheets/d/1XFGqS9_FSpg5EnxHBAY_QbGhuInRsY0PvHk2PYSXdn4/edit#gid=761916707"",""Реквизиты!$C10"")"),"Мордовин С.Н.") -> Мордовин С.Н. | AC73: =IFERROR(__xludf.DUMMYFUNCTION("IMPORTRANGE(""https://docs.google.com/spreadsheets/d/1XFGqS9_FSpg5EnxHBAY_QbGhuInRsY0PvHk2PYSXdn4/edit#gid=761916707"",""Реквизиты!$C11"")"),"Р.Алт, Майма") -> Р.Алт, Майма

Sheet круги
B1: ВСТРЕЧИ ПО КРУГАМ | L1: ВСТРЕЧИ ПО КРУГАМ
B2: =пр.взв!$D$4 -> 0 | L2: =пр.взв!$D$4 -> 0
B3: 0 | C3: КОВЕР | L3: =B3 -> 0 | M3: КОВЕР
B4: A | C4: (Круг) | F4: 1/32 | G4: =пр.взв!G4 -> В.к. 71 кг | L4: Б | M4: (Круг) | P4: 1/32 | Q4: =G4 -> В.к. 71 кг
A5: № встр | B5: № п/ж | C5: Ф.И.О. | D5: Д. р., разряд | E5: Вед., регион | G5: Оценки | H5: Очки | I5: Рез-т | J5: Время | K5: № встр | L5: № п/ж | M5: Ф.И.О. | N5: Д. р., разряд | O5: Вед., регион | Q5: Оценки | R5: Очки | S5: Рез-т | T5: Время
A7: 1 | B7: 1 | C7: =IFERROR(VLOOKUP(B7,пр.взв!$D$6:$Q$70,2,0),"") -> БАГОВ Тимур | D7: =IFERROR(VLOOKUP(B7,пр.взв!$D$6:$Q$70,5,0),"") -> КМС | E7: =IFERROR(VLOOKUP(B7,пр.взв!$D$6:$Q$70,6,0),"") -> ЮФО | F7: =IFERROR(VLOOKUP(B7,пр.взв!$D$6:$Q$70,8,0),"") -> Р.Адыгея | K7: 17 | L7: 2 | M7: =IFERROR(VLOOKUP(L7,пр.взв!$D$6:$Q$70,2,0),"") -> КОЛОНТАЙ Артём | N7: =IFERROR(VLOOKUP(L7,пр.взв!$D$6:$Q$70,5,0),"") -> КМС | O7: =IFERROR(VLOOKUP(L7,пр.взв!$D$6:$Q$70,6,0),"") -> ЦФО | P7: =IFERROR(VLOOKUP(L7,пр.взв!$D$6:$Q$70,8,0),"") -> Ярославская
B8: 33 | C8: =IFERROR(VLOOKUP(B8,пр.взв!$D$6:$Q$70,2,0),"") -> НАПИДЖЕВ Рахман | D8: =IFERROR(VLOOKUP(B8,пр.взв!$D$6:$Q$70,5,0),"") -> КМС | E8: =IFERROR(VLOOKUP(B8,пр.взв!$D$6:$Q$70,6,0),"") -> СКФО | F8: =IFERROR(VLOOKUP(B8,пр.взв!$D$6:$Q$70,8,0),"") -> КЧР | L8: 34 | M8: =IFERROR(VLOOKUP(L8,пр.взв!$D$6:$Q$70,2,0),"") -> НАЗАРОВ Никита | N8: =IFERROR(VLOOKUP(L8,пр.взв!$D$6:$Q$70,5,0),"") -> КМС | O8: =IFERROR(VLOOKUP(L8,пр.взв!$D$6:$Q$70,6,0),"") -> МОС | P8: =IFERROR(VLOOKUP(L8,пр.взв!$D$6:$Q$70,8,0),"") -> Москва
A9: 2 | B9: 17 | C9: =IFERROR(VLOOKUP(B9,пр.взв!$D$6:$Q$70,2,0),"") -> ПЭЛЫПИВ Никита | D9: =IFERROR(VLOOKUP(B9,пр.взв!$D$6:$Q$70,5,0),"") -> КМС | E9: =IFERROR(VLOOKUP(B9,пр.взв!$D$6:$Q$70,6,0),"") -> ПФО | F9: =IFERROR(VLOOKUP(B9,пр.взв!$D$6:$Q$70,8,0),"") -> Саратовская | K9: 18 | L9: 18 | M9: =IFERROR(VLOOKUP(L9,пр.взв!$D$6:$Q$70,2,0),"") -> КОРОСТИЕНКО Денис | N9: =IFERROR(VLOOKUP(L9,пр.взв!$D$6:$Q$70,5,0),"") -> КМС | O9: =IFERROR(VLOOKUP(L9,пр.взв!$D$6:$Q$70,6,0),"") -> ДВФО | P9: =IFERROR(VLOOKUP(L9,пр.взв!$D$6:$Q$70,8,0),"") -> Хабаровский
B10: 49 | C10: =IFERROR(VLOOKUP(B10,пр.взв!$D$6:$Q$70,2,0),"") | D10: =IFERROR(VLOOKUP(B10,пр.взв!$D$6:$Q$70,5,0),"") | E10: =IFERROR(VLOOKUP(B10,пр.взв!$D$6:$Q$70,6,0),"") | F10: =IFERROR(VLOOKUP(B10,пр.взв!$D$6:$Q$70,8,0),"") | L10: 50 | M10: =IFERROR(VLOOKUP(L10,пр.взв!$D$6:$Q$70,2,0),"") | N10: =IFERROR(VLOOKUP(L10,пр.взв!$D$6:$Q$70,5,0),"") | O10: =IFERROR(VLOOKUP(L10,пр.взв!$D$6:$Q$70,6,0),"") | P10: =IFERROR(VLOOKUP(L10,пр.взв!$D$6:$Q$70,8,0),"")
A11: 3 | B11: 9 | C11: =IFERROR(VLOOKUP(B11,пр.взв!$D$6:$Q$70,2,0),"") -> ПРОТАСОВ Артем | D11: =IFERROR(VLOOKUP(B11,пр.взв!$D$6:$Q$70,5,0),"") -> КМС | E11: =IFERROR(VLOOKUP(B11,пр.взв!$D$6:$Q$70,6,0),"") -> СПБ | F11: =IFERROR(VLOOKUP(B11,пр.взв!$D$6:$Q$70,8,0),"") -> Санкт-Петербург | K11: 19 | L11: 10 | M11: =IFERROR(VLOOKUP(L11,пр.взв!$D$6:$Q$70,2,0),"") -> ТУКСУМБАЕВ Артём | N11: =IFERROR(VLOOKUP(L11,пр.взв!$D$6:$Q$70,5,0),"") -> КМС | O11: =IFERROR(VLOOKUP(L11,пр.взв!$D$6:$Q$70,6,0),"") -> СФО | P11: =IFERROR(VLOOKUP(L11,пр.взв!$D$6:$Q$70,8,0),"") -> Алтайский
B12: 41 | C12: =IFERROR(VLOOKUP(B12,пр.взв!$D$6:$Q$70,2,0),"") -> ВОРОЖЦОВ Егор | D12: =IFERROR(VLOOKUP(B12,пр.взв!$D$6:$Q$70,5,0),"") -> КМС | E12: =IFERROR(VLOOKUP(B12,пр.взв!$D$6:$Q$70,6,0),"") -> 0 | F12: =IFERROR(VLOOKUP(B12,пр.взв!$D$6:$Q$70,8,0),"") -> Кировская | L12: 42 | M12: =IFERROR(VLOOKUP(L12,пр.взв!$D$6:$Q$70,2,0),"") -> АБАЕВ Оразеддин | N12: =IFERROR(VLOOKUP(L12,пр.взв!$D$6:$Q$70,5,0),"") -> КМС | O12: =IFERROR(VLOOKUP(L12,пр.взв!$D$6:$Q$70,6,0),"") -> ПФО | P12: =IFERROR(VLOOKUP(L12,пр.взв!$D$6:$Q$70,8,0),"") -> Р.Татарстан
A13: 4 | B13: 25 | C13: =IFERROR(VLOOKUP(B13,пр.взв!$D$6:$Q$70,2,0),"") -> АКСЕНОВ Артем | D13: =IFERROR(VLOOKUP(B13,пр.взв!$D$6:$Q$70,5,0),"") -> КМС | E13: =IFERROR(VLOOKUP(B13,пр.взв!$D$6:$Q$70,6,0),"") -> СЗФО | F13: =IFERROR(VLOOKUP(B13,пр.взв!$D$6:$Q$70,8,0),"") -> Калининградская | K13: 20 | L13: 26 | M13: =IFERROR(VLOOKUP(L13,пр.взв!$D$6:$Q$70,2,0),"") -> АБИТОВ Алим | N13: =IFERROR(VLOOKUP(L13,пр.взв!$D$6:$Q$70,5,0),"") -> КМС | O13: =IFERROR(VLOOKUP(L13,пр.взв!$D$6:$Q$70,6,0),"") -> СКФО | P13: =IFERROR(VLOOKUP(L13,пр.взв!$D$6:$Q$70,8,0),"") -> КЧР
B14: 57 | C14: =IFERROR(VLOOKUP(B14,пр.взв!$D$6:$Q$70,2,0),"") | D14: =IFERROR(VLOOKUP(B14,пр.взв!$D$6:$Q$70,5,0),"") | E14: =IFERROR(VLOOKUP(B14,пр.взв!$D$6:$Q$70,6,0),"") | F14: =IFERROR(VLOOKUP(B14,пр.взв!$D$6:$Q$70,8,0),"") | L14: 58 | M14: =IFERROR(VLOOKUP(L14,пр.взв!$D$6:$Q$70,2,0),"") | N14: =IFERROR(VLOOKUP(L14,пр.взв!$D$6:$Q$70,5,0),"") | O14: =IFERROR(VLOOKUP(L14,пр.взв!$D$6:$Q$70,6,0),"") | P14: =IFERROR(VLOOKUP(L14,пр.взв!$D$6:$Q$70,8,0),"")
A15: 5 | B15: 5 | C15: =IFERROR(VLOOKUP(B15,пр.взв!$D$6:$Q$70,2,0),"") -> МАРКОВ Егор | D15: =IFERROR(VLOOKUP(B15,пр.взв!$D$6:$Q$70,5,0),"") -> КМС | E15: =IFERROR(VLOOKUP(B15,пр.взв!$D$6:$Q$70,6,0),"") -> ЦФО | F15: =IFERROR(VLOOKUP(B15,пр.взв!$D$6:$Q$70,8,0),"") -> Московская | K15: 21 | L15: 6 | M15: =IFERROR(VLOOKUP(L15,пр.взв!$D$6:$Q$70,2,0),"") -> СТАШ Тагир | N15: =IFERROR(VLOOKUP(L15,пр.взв!$D$6:$Q$70,5,0),"") -> КМС | O15: =IFERROR(VLOOKUP(L15,пр.взв!$D$6:$Q$70,6,0),"") -> ЮФО | P15: =IFERROR(VLOOKUP(L15,пр.взв!$D$6:$Q$70,8,0),"") -> Р.Адыгея
B16: 37 | C16: =IFERROR(VLOOKUP(B16,пр.взв!$D$6:$Q$70,2,0),"") -> ДУНГЕРОВ Вадим | D16: =IFERROR(VLOOKUP(B16,пр.взв!$D$6:$Q$70,5,0),"") -> МС | E16: =IFERROR(VLOOKUP(B16,пр.взв!$D$6:$Q$70,6,0),"") -> МОС | F16: =IFERROR(VLOOKUP(B16,пр.взв!$D$6:$Q$70,8,0),"") -> Москва | L16: 38 | M16: =IFERROR(VLOOKUP(L16,пр.взв!$D$6:$Q$70,2,0),"") -> ДМИТРИЕВ Владислав | N16: =IFERROR(VLOOKUP(L16,пр.взв!$D$6:$Q$70,5,0),"") -> КМС | O16: =IFERROR(VLOOKUP(L16,пр.взв!$D$6:$Q$70,6,0),"") -> СЗФО | P16: =IFERROR(VLOOKUP(L16,пр.взв!$D$6:$Q$70,8,0),"") -> Калининградская
A17: 6 | B17: 21 | C17: =IFERROR(VLOOKUP(B17,пр.взв!$D$6:$Q$70,2,0),"") -> ЁСИНАГА Кэйта | D17: =IFERROR(VLOOKUP(B17,пр.взв!$D$6:$Q$70,5,0),"") -> КМС | E17: =IFERROR(VLOOKUP(B17,пр.взв!$D$6:$Q$70,6,0),"") -> ДВФО | F17: =IFERROR(VLOOKUP(B17,пр.взв!$D$6:$Q$70,8,0),"") -> Хабаровский | K17: 22 | L17: 22 | M17: =IFERROR(VLOOKUP(L17,пр.взв!$D$6:$Q$70,2,0),"") -> ТРУБНИКОВ Денис | N17: =IFERROR(VLOOKUP(L17,пр.взв!$D$6:$Q$70,5,0),"") -> 1р | O17: =IFERROR(VLOOKUP(L17,пр.взв!$D$6:$Q$70,6,0),"") -> УФО | P17: =IFERROR(VLOOKUP(L17,пр.взв!$D$6:$Q$70,8,0),"") -> Свердловская
B18: 53 | C18: =IFERROR(VLOOKUP(B18,пр.взв!$D$6:$Q$70,2,0),"") | D18: =IFERROR(VLOOKUP(B18,пр.взв!$D$6:$Q$70,5,0),"") | E18: =IFERROR(VLOOKUP(B18,пр.взв!$D$6:$Q$70,6,0),"") | F18: =IFERROR(VLOOKUP(B18,пр.взв!$D$6:$Q$70,8,0),"") | L18: 54 | M18: =IFERROR(VLOOKUP(L18,пр.взв!$D$6:$Q$70,2,0),"") | N18: =IFERROR(VLOOKUP(L18,пр.взв!$D$6:$Q$70,5,0),"") | O18: =IFERROR(VLOOKUP(L18,пр.взв!$D$6:$Q$70,6,0),"") | P18: =IFERROR(VLOOKUP(L18,пр.взв!$D$6:$Q$70,8,0),"")
A19: 7 | B19: 13 | C19: =IFERROR(VLOOKUP(B19,пр.взв!$D$6:$Q$70,2,0),"") -> НЕДОИМКИН Максим | D19: =IFERROR(VLOOKUP(B19,пр.взв!$D$6:$Q$70,5,0),"") -> КМС | E19: =IFERROR(VLOOKUP(B19,пр.взв!$D$6:$Q$70,6,0),"") -> СФО | F19: =IFERROR(VLOOKUP(B19,пр.взв!$D$6:$Q$70,8,0),"") -> Алтайский | K19: 23 | L19: 14 | M19: =IFERROR(VLOOKUP(L19,пр.взв!$D$6:$Q$70,2,0),"") -> ШАЛЫГИН Нестор | N19: =IFERROR(VLOOKUP(L19,пр.взв!$D$6:$Q$70,5,0),"") -> КМС | O19: =IFERROR(VLOOKUP(L19,пр.взв!$D$6:$Q$70,6,0),"") -> МОС | P19: =IFERROR(VLOOKUP(L19,пр.взв!$D$6:$Q$70,8,0),"") -> Москва
B20: 45 | C20: =IFERROR(VLOOKUP(B20,пр.взв!$D$6:$Q$70,2,0),"") | D20: =IFERROR(VLOOKUP(B20,пр.взв!$D$6:$Q$70,5,0),"") | E20: =IFERROR(VLOOKUP(B20,пр.взв!$D$6:$Q$70,6,0),"") | F20: =IFERROR(VLOOKUP(B20,пр.взв!$D$6:$Q$70,8,0),"") | L20: 46 | M20: =IFERROR(VLOOKUP(L20,пр.взв!$D$6:$Q$70,2,0),"") | N20: =IFERROR(VLOOKUP(L20,пр.взв!$D$6:$Q$70,5,0),"") | O20: =IFERROR(VLOOKUP(L20,пр.взв!$D$6:$Q$70,6,0),"") | P20: =IFERROR(VLOOKUP(L20,пр.взв!$D$6:$Q$70,8,0),"")
A21: 8 | B21: 29 | C21: =IFERROR(VLOOKUP(B21,пр.взв!$D$6:$Q$70,2,0),"") -> РАШКИН Никита | D21: =IFERROR(VLOOKUP(B21,пр.взв!$D$6:$Q$70,5,0),"") -> КМС | E21: =IFERROR(VLOOKUP(B21,пр.взв!$D$6:$Q$70,6,0),"") -> УФО | F21: =IFERROR(VLOOKUP(B21,пр.взв!$D$6:$Q$70,8,0),"") -> Свердловская | K21: 24 | L21: 30 | M21: =IFERROR(VLOOKUP(L21,пр.взв!$D$6:$Q$70,2,0),"") -> ШВЕЦ Павел | N21: =IFERROR(VLOOKUP(L21,пр.взв!$D$6:$Q$70,5,0),"") -> КМС | O21: =IFERROR(VLOOKUP(L21,пр.взв!$D$6:$Q$70,6,0),"") -> ЦФО | P21: =IFERROR(VLOOKUP(L21,пр.взв!$D$6:$Q$70,8,0),"") -> Брянская
B22: 61 | C22: =IFERROR(VLOOKUP(B22,пр.взв!$D$6:$Q$70,2,0),"") | D22: =IFERROR(VLOOKUP(B22,пр.взв!$D$6:$Q$70,5,0),"") | E22: =IFERROR(VLOOKUP(B22,пр.взв!$D$6:$Q$70,6,0),"") | F22: =IFERROR(VLOOKUP(B22,пр.взв!$D$6:$Q$70,8,0),"") | L22: 62 | M22: =IFERROR(VLOOKUP(L22,пр.взв!$D$6:$Q$70,2,0),"") | N22: =IFERROR(VLOOKUP(L22,пр.взв!$D$6:$Q$70,5,0),"") | O22: =IFERROR(VLOOKUP(L22,пр.взв!$D$6:$Q$70,6,0),"") | P22: =IFERROR(VLOOKUP(L22,пр.взв!$D$6:$Q$70,8,0),"")
A23: 9 | B23: 3 | C23: =IFERROR(VLOOKUP(B23,пр.взв!$D$6:$Q$70,2,0),"") -> ГОРШКОВ Фёдор | D23: =IFERROR(VLOOKUP(B23,пр.взв!$D$6:$Q$70,5,0),"") -> КМС | E23: =IFERROR(VLOOKUP(B23,пр.взв!$D$6:$Q$70,6,0),"") -> СЗФО | F23: =IFERROR(VLOOKUP(B23,пр.взв!$D$6:$Q$70,8,0),"") -> Санкт-Петербург | K23: 25 | L23: 4 | M23: =IFERROR(VLOOKUP(L23,пр.взв!$D$6:$Q$70,2,0),"") -> ЧЕРНИЙ Михаил | N23: =IFERROR(VLOOKUP(L23,пр.взв!$D$6:$Q$70,5,0),"") -> КМС | O23: =IFERROR(VLOOKUP(L23,пр.взв!$D$6:$Q$70,6,0),"") -> ЮФО | P23: =IFERROR(VLOOKUP(L23,пр.взв!$D$6:$Q$70,8,0),"") -> Краснодарский
B24: 35 | C24: =IFERROR(VLOOKUP(B24,пр.взв!$D$6:$Q$70,2,0),"") -> КОЗЫРСКИЙ Родион | D24: =IFERROR(VLOOKUP(B24,пр.взв!$D$6:$Q$70,5,0),"") -> КМС | E24: =IFERROR(VLOOKUP(B24,пр.взв!$D$6:$Q$70,6,0),"") -> ДВФО | F24: =IFERROR(VLOOKUP(B24,пр.взв!$D$6:$Q$70,8,0),"") -> Хабаровский | L24: 36 | M24: =IFERROR(VLOOKUP(L24,пр.взв!$D$6:$Q$70,2,0),"") -> ВОЛКОВ Александр | N24: =IFERROR(VLOOKUP(L24,пр.взв!$D$6:$Q$70,5,0),"") -> КМС | O24: =IFERROR(VLOOKUP(L24,пр.взв!$D$6:$Q$70,6,0),"") -> ДВФО | P24: =IFERROR(VLOOKUP(L24,пр.взв!$D$6:$Q$70,8,0),"") -> Приморский
A25: 10 | B25: 19 | C25: =IFERROR(VLOOKUP(B25,пр.взв!$D$6:$Q$70,2,0),"") -> ГОЛОВ Глеб | D25: =IFERROR(VLOOKUP(B25,пр.взв!$D$6:$Q$70,5,0),"") -> КМС | E25: =IFERROR(VLOOKUP(B25,пр.взв!$D$6:$Q$70,6,0),"") -> ПФО | F25: =IFERROR(VLOOKUP(B25,пр.взв!$D$6:$Q$70,8,0),"") -> Р.Татарстан | K25: 26 | L25: 20 | M25: =IFERROR(VLOOKUP(L25,пр.взв!$D$6:$Q$70,2,0),"") -> ТУРАЙКИН Алексей | N25: =IFERROR(VLOOKUP(L25,пр.взв!$D$6:$Q$70,5,0),"") -> КМС | O25: =IFERROR(VLOOKUP(L25,пр.взв!$D$6:$Q$70,6,0),"") -> ДВФО | P25: =IFERROR(VLOOKUP(L25,пр.взв!$D$6:$Q$70,8,0),"") -> Хабаровский
B26: 51 | C26: =IFERROR(VLOOKUP(B26,пр.взв!$D$6:$Q$70,2,0),"") | D26: =IFERROR(VLOOKUP(B26,пр.взв!$D$6:$Q$70,5,0),"") | E26: =IFERROR(VLOOKUP(B26,пр.взв!$D$6:$Q$70,6,0),"") | F26: =IFERROR(VLOOKUP(B26,пр.взв!$D$6:$Q$70,8,0),"") | L26: 52 | M26: =IFERROR(VLOOKUP(L26,пр.взв!$D$6:$Q$70,2,0),"") | N26: =IFERROR(VLOOKUP(L26,пр.взв!$D$6:$Q$70,5,0),"") | O26: =IFERROR(VLOOKUP(L26,пр.взв!$D$6:$Q$70,6,0),"") | P26: =IFERROR(VLOOKUP(L26,пр.взв!$D$6:$Q$70,8,0),"")
A27: 11 | B27: 11 | C27: =IFERROR(VLOOKUP(B27,пр.взв!$D$6:$Q$70,2,0),"") -> НАДЫРОВ Адик | D27: =IFERROR(VLOOKUP(B27,пр.взв!$D$6:$Q$70,5,0),"") -> КМС | E27: =IFERROR(VLOOKUP(B27,пр.взв!$D$6:$Q$70,6,0),"") -> ЦФО | F27: =IFERROR(VLOOKUP(B27,пр.взв!$D$6:$Q$70,8,0),"") -> Воронежская | K27: 27 | L27: 12 | M27: =IFERROR(VLOOKUP(L27,пр.взв!$D$6:$Q$70,2,0),"") -> СОМСИН Антон | N27: =IFERROR(VLOOKUP(L27,пр.взв!$D$6:$Q$70,5,0),"") -> КМС | O27: =IFERROR(VLOOKUP(L27,пр.взв!$D$6:$Q$70,6,0),"") -> ЦФО | P27: =IFERROR(VLOOKUP(L27,пр.взв!$D$6:$Q$70,8,0),"") -> Воронежская
B28: 43 | C28: =IFERROR(VLOOKUP(B28,пр.взв!$D$6:$Q$70,2,0),"") | D28: =IFERROR(VLOOKUP(B28,пр.взв!$D$6:$Q$70,5,0),"") | E28: =IFERROR(VLOOKUP(B28,пр.взв!$D$6:$Q$70,6,0),"") | F28: =IFERROR(VLOOKUP(B28,пр.взв!$D$6:$Q$70,8,0),"") | L28: 44 | M28: =IFERROR(VLOOKUP(L28,пр.взв!$D$6:$Q$70,2,0),"") | N28: =IFERROR(VLOOKUP(L28,пр.взв!$D$6:$Q$70,5,0),"") | O28: =IFERROR(VLOOKUP(L28,пр.взв!$D$6:$Q$70,6,0),"") | P28: =IFERROR(VLOOKUP(L28,пр.взв!$D$6:$Q$70,8,0),"")
A29: 12 | B29: 27 | C29: =IFERROR(VLOOKUP(B29,пр.взв!$D$6:$Q$70,2,0),"") -> ЧEРНЫЙ Ростислав | D29: =IFERROR(VLOOKUP(B29,пр.взв!$D$6:$Q$70,5,0),"") -> МС | E29: =IFERROR(VLOOKUP(B29,пр.взв!$D$6:$Q$70,6,0),"") -> МОС | F29: =IFERROR(VLOOKUP(B29,пр.взв!$D$6:$Q$70,8,0),"") -> Москва | K29: 28 | L29: 28 | M29: =IFERROR(VLOOKUP(L29,пр.взв!$D$6:$Q$70,2,0),"") -> ВАНЮШИН Максим | N29: =IFERROR(VLOOKUP(L29,пр.взв!$D$6:$Q$70,5,0),"") -> КМС | O29: =IFERROR(VLOOKUP(L29,пр.взв!$D$6:$Q$70,6,0),"") -> ЦФО | P29: =IFERROR(VLOOKUP(L29,пр.взв!$D$6:$Q$70,8,0),"") -> Рязанская
B30: 59 | C30: =IFERROR(VLOOKUP(B30,пр.взв!$D$6:$Q$70,2,0),"") | D30: =IFERROR(VLOOKUP(B30,пр.взв!$D$6:$Q$70,5,0),"") | E30: =IFERROR(VLOOKUP(B30,пр.взв!$D$6:$Q$70,6,0),"") | F30: =IFERROR(VLOOKUP(B30,пр.взв!$D$6:$Q$70,8,0),"") | L30: 60 | M30: =IFERROR(VLOOKUP(L30,пр.взв!$D$6:$Q$70,2,0),"") | N30: =IFERROR(VLOOKUP(L30,пр.взв!$D$6:$Q$70,5,0),"") | O30: =IFERROR(VLOOKUP(L30,пр.взв!$D$6:$Q$70,6,0),"") | P30: =IFERROR(VLOOKUP(L30,пр.взв!$D$6:$Q$70,8,0),"")
A31: 13 | B31: 7 | C31: =IFERROR(VLOOKUP(B31,пр.взв!$D$6:$Q$70,2,0),"") -> СТОЛБОВ Иван | D31: =IFERROR(VLOOKUP(B31,пр.взв!$D$6:$Q$70,5,0),"") -> КМС | E31: =IFERROR(VLOOKUP(B31,пр.взв!$D$6:$Q$70,6,0),"") -> ПФО | F31: =IFERROR(VLOOKUP(B31,пр.взв!$D$6:$Q$70,8,0),"") -> Чувашская | K31: 29 | L31: 8 | M31: =IFERROR(VLOOKUP(L31,пр.взв!$D$6:$Q$70,2,0),"") -> ГАЙРБЕКОВ Умар | N31: =IFERROR(VLOOKUP(L31,пр.взв!$D$6:$Q$70,5,0),"") -> КМС | O31: =IFERROR(VLOOKUP(L31,пр.взв!$D$6:$Q$70,6,0),"") -> ПФО | P31: =IFERROR(VLOOKUP(L31,пр.взв!$D$6:$Q$70,8,0),"") -> Самарская
B32: 39 | C32: =IFERROR(VLOOKUP(B32,пр.взв!$D$6:$Q$70,2,0),"") -> НАШ Расул | D32: =IFERROR(VLOOKUP(B32,пр.взв!$D$6:$Q$70,5,0),"") -> КМС | E32: =IFERROR(VLOOKUP(B32,пр.взв!$D$6:$Q$70,6,0),"") -> ЮФО | F32: =IFERROR(VLOOKUP(B32,пр.взв!$D$6:$Q$70,8,0),"") -> Р.Адыгея | L32: 40 | M32: =IFERROR(VLOOKUP(L32,пр.взв!$D$6:$Q$70,2,0),"") -> РУШЕВ Николай | N32: =IFERROR(VLOOKUP(L32,пр.взв!$D$6:$Q$70,5,0),"") -> КМС | O32: =IFERROR(VLOOKUP(L32,пр.взв!$D$6:$Q$70,6,0),"") -> МОС | P32: =IFERROR(VLOOKUP(L32,пр.взв!$D$6:$Q$70,8,0),"") -> Москва
A33: 14 | B33: 23 | C33: =IFERROR(VLOOKUP(B33,пр.взв!$D$6:$Q$70,2,0),"") -> СКИБА Владислав | D33: =IFERROR(VLOOKUP(B33,пр.взв!$D$6:$Q$70,5,0),"") -> КМС | E33: =IFERROR(VLOOKUP(B33,пр.взв!$D$6:$Q$70,6,0),"") -> СФО | F33: =IFERROR(VLOOKUP(B33,пр.взв!$D$6:$Q$70,8,0),"") -> Новосибирская | K33: 30 | L33: 24 | M33: =IFERROR(VLOOKUP(L33,пр.взв!$D$6:$Q$70,2,0),"") -> ХАКУЙ Амир | N33: =IFERROR(VLOOKUP(L33,пр.взв!$D$6:$Q$70,5,0),"") -> КМС | O33: =IFERROR(VLOOKUP(L33,пр.взв!$D$6:$Q$70,6,0),"") -> ЮФО | P33: =IFERROR(VLOOKUP(L33,пр.взв!$D$6:$Q$70,8,0),"") -> Р.Адыгея
B34: 55 | C34: =IFERROR(VLOOKUP(B34,пр.взв!$D$6:$Q$70,2,0),"") | D34: =IFERROR(VLOOKUP(B34,пр.взв!$D$6:$Q$70,5,0),"") | E34: =IFERROR(VLOOKUP(B34,пр.взв!$D$6:$Q$70,6,0),"") | F34: =IFERROR(VLOOKUP(B34,пр.взв!$D$6:$Q$70,8,0),"") | L34: 56 | M34: =IFERROR(VLOOKUP(L34,пр.взв!$D$6:$Q$70,2,0),"") | N34: =IFERROR(VLOOKUP(L34,пр.взв!$D$6:$Q$70,5,0),"") | O34: =IFERROR(VLOOKUP(L34,пр.взв!$D$6:$Q$70,6,0),"") | P34: =IFERROR(VLOOKUP(L34,пр.взв!$D$6:$Q$70,8,0),"")
A35: 15 | B35: 15 | C35: =IFERROR(VLOOKUP(B35,пр.взв!$D$6:$Q$70,2,0),"") -> МУХАМЕДРИЗАЕВ Рустам | D35: =IFERROR(VLOOKUP(B35,пр.взв!$D$6:$Q$70,5,0),"") -> МС | E35: =IFERROR(VLOOKUP(B35,пр.взв!$D$6:$Q$70,6,0),"") -> МОС | F35: =IFERROR(VLOOKUP(B35,пр.взв!$D$6:$Q$70,8,0),"") -> Москва | K35: 31 | L35: 16 | M35: =IFERROR(VLOOKUP(L35,пр.взв!$D$6:$Q$70,2,0),"") -> ШЕЛКОВНИКОВ Кирилл | N35: =IFERROR(VLOOKUP(L35,пр.взв!$D$6:$Q$70,5,0),"") -> КМС | O35: =IFERROR(VLOOKUP(L35,пр.взв!$D$6:$Q$70,6,0),"") -> СПБ | P35: =IFERROR(VLOOKUP(L35,пр.взв!$D$6:$Q$70,8,0),"") -> Санкт-Петербург
B36: 47 | C36: =IFERROR(VLOOKUP(B36,пр.взв!$D$6:$Q$70,2,0),"") | D36: =IFERROR(VLOOKUP(B36,пр.взв!$D$6:$Q$70,5,0),"") | E36: =IFERROR(VLOOKUP(B36,пр.взв!$D$6:$Q$70,6,0),"") | F36: =IFERROR(VLOOKUP(B36,пр.взв!$D$6:$Q$70,8,0),"") | L36: 48 | M36: =IFERROR(VLOOKUP(L36,пр.взв!$D$6:$Q$70,2,0),"") | N36: =IFERROR(VLOOKUP(L36,пр.взв!$D$6:$Q$70,5,0),"") | O36: =IFERROR(VLOOKUP(L36,пр.взв!$D$6:$Q$70,6,0),"") | P36: =IFERROR(VLOOKUP(L36,пр.взв!$D$6:$Q$70,8,0),"")
A37: 16 | B37: 31 | C37: =IFERROR(VLOOKUP(B37,пр.взв!$D$6:$Q$70,2,0),"") -> НУРМАГОМЕДОВ Руслан | D37: =IFERROR(VLOOKUP(B37,пр.взв!$D$6:$Q$70,5,0),"") -> КМС | E37: =IFERROR(VLOOKUP(B37,пр.взв!$D$6:$Q$70,6,0),"") -> ЦФО | F37: =IFERROR(VLOOKUP(B37,пр.взв!$D$6:$Q$70,8,0),"") -> Ярославская | K37: 32 | L37: 32 | M37: =IFERROR(VLOOKUP(L37,пр.взв!$D$6:$Q$70,2,0),"") -> МОВСИСЯН Амбарцум | N37: =IFERROR(VLOOKUP(L37,пр.взв!$D$6:$Q$70,5,0),"") -> КМС | O37: =IFERROR(VLOOKUP(L37,пр.взв!$D$6:$Q$70,6,0),"") -> СЗФО | P37: =IFERROR(VLOOKUP(L37,пр.взв!$D$6:$Q$70,8,0),"") -> Калининградская
B38: 63 | C38: =IFERROR(VLOOKUP(B38,пр.взв!$D$6:$Q$70,2,0),"") | D38: =IFERROR(VLOOKUP(B38,пр.взв!$D$6:$Q$70,5,0),"") | E38: =IFERROR(VLOOKUP(B38,пр.взв!$D$6:$Q$70,6,0),"") | F38: =IFERROR(VLOOKUP(B38,пр.взв!$D$6:$Q$70,8,0),"") | L38: 64 | M38: =IFERROR(VLOOKUP(L38,пр.взв!$D$6:$Q$70,2,0),"") | N38: =IFERROR(VLOOKUP(L38,пр.взв!$D$6:$Q$70,5,0),"") | O38: =IFERROR(VLOOKUP(L38,пр.взв!$D$6:$Q$70,6,0),"") | P38: =IFERROR(VLOOKUP(L38,пр.взв!$D$6:$Q$70,8,0),"")
B39: =B3 -> 0 | C39: КОВЕР | L39: =L3 -> 0 | M39: КОВЕР
B40: A | C40: (Круг) | F40: 1/16 | G40: =G4 -> В.к. 71 кг | L40: Б | M40: (Круг) | P40: 1/16 | Q40: =Q4 -> В.к. 71 кг
A41: № встр | B41: № п/ж | C41: Ф.И.О. | D41: Д. р., разряд | E41: Вед., регион | G41: Оценки | H41: Очки | I41: Результат | J41: Время | K41: № встр | L41: № п/ж | M41: Ф.И.О. | N41: Д. р., разряд | O41: Вед., регион | Q41: Оценки | R41: Очки | S41: Результат | T41: Время
A43: 1 | B43: =пр.хода!E6 -> 0 | C43: =IFERROR(VLOOKUP(B43,пр.взв!$D$6:$Q$70,2,0),"") | D43: =IFERROR(VLOOKUP(B43,пр.взв!$D$6:$Q$70,5,0),"") | E43: =IFERROR(VLOOKUP(B43,пр.взв!$D$6:$Q$70,6,0),"") | F43: =IFERROR(VLOOKUP(B43,пр.взв!$D$6:$Q$70,8,0),"") | K43: 9 | L43: =пр.хода!AA6 -> 0 | M43: =IFERROR(VLOOKUP(L43,пр.взв!$D$6:$Q$70,2,0),"") | N43: =IFERROR(VLOOKUP(L43,пр.взв!$D$6:$Q$70,5,0),"") | O43: =IFERROR(VLOOKUP(L43,пр.взв!$D$6:$Q$70,6,0),"") | P43: =IFERROR(VLOOKUP(L43,пр.взв!$D$6:$Q$70,8,0),"")
B44: =пр.хода!E10 -> 0 | C44: =IFERROR(VLOOKUP(B44,пр.взв!$D$6:$Q$70,2,0),"") | D44: =IFERROR(VLOOKUP(B44,пр.взв!$D$6:$Q$70,5,0),"") | E44: =IFERROR(VLOOKUP(B44,пр.взв!$D$6:$Q$70,6,0),"") | F44: =IFERROR(VLOOKUP(B44,пр.взв!$D$6:$Q$70,8,0),"") | L44: =пр.хода!AA10 -> 0 | M44: =IFERROR(VLOOKUP(L44,пр.взв!$D$6:$Q$70,2,0),"") | N44: =IFERROR(VLOOKUP(L44,пр.взв!$D$6:$Q$70,5,0),"") | O44: =IFERROR(VLOOKUP(L44,пр.взв!$D$6:$Q$70,6,0),"") | P44: =IFERROR(VLOOKUP(L44,пр.взв!$D$6:$Q$70,8,0),"")
A45: 2 | B45: =пр.хода!E14 -> 0 | C45: =IFERROR(VLOOKUP(B45,пр.взв!$D$6:$Q$70,2,0),"") | D45: =IFERROR(VLOOKUP(B45,пр.взв!$D$6:$Q$70,5,0),"") | E45: =IFERROR(VLOOKUP(B45,пр.взв!$D$6:$Q$70,6,0),"") | F45: =IFERROR(VLOOKUP(B45,пр.взв!$D$6:$Q$70,8,0),"") | K45: 10 | L45: =пр.хода!AA14 -> 0 | M45: =IFERROR(VLOOKUP(L45,пр.взв!$D$6:$Q$70,2,0),"") | N45: =IFERROR(VLOOKUP(L45,пр.взв!$D$6:$Q$70,5,0),"") | O45: =IFERROR(VLOOKUP(L45,пр.взв!$D$6:$Q$70,6,0),"") | P45: =IFERROR(VLOOKUP(L45,пр.взв!$D$6:$Q$70,8,0),"")
B46: =пр.хода!E18 -> 0 | C46: =IFERROR(VLOOKUP(B46,пр.взв!$D$6:$Q$70,2,0),"") | D46: =IFERROR(VLOOKUP(B46,пр.взв!$D$6:$Q$70,5,0),"") | E46: =IFERROR(VLOOKUP(B46,пр.взв!$D$6:$Q$70,6,0),"") | F46: =IFERROR(VLOOKUP(B46,пр.взв!$D$6:$Q$70,8,0),"") | L46: =пр.хода!AA18 -> 0 | M46: =IFERROR(VLOOKUP(L46,пр.взв!$D$6:$Q$70,2,0),"") | N46: =IFERROR(VLOOKUP(L46,пр.взв!$D$6:$Q$70,5,0),"") | O46: =IFERROR(VLOOKUP(L46,пр.взв!$D$6:$Q$70,6,0),"") | P46: =IFERROR(VLOOKUP(L46,пр.взв!$D$6:$Q$70,8,0),"")
A47: 3 | B47: =пр.хода!E22 -> 0 | C47: =IFERROR(VLOOKUP(B47,пр.взв!$D$6:$Q$70,2,0),"") | D47: =IFERROR(VLOOKUP(B47,пр.взв!$D$6:$Q$70,5,0),"") | E47: =IFERROR(VLOOKUP(B47,пр.взв!$D$6:$Q$70,6,0),"") | F47: =IFERROR(VLOOKUP(B47,пр.взв!$D$6:$Q$70,8,0),"") | K47: 11 | L47: =пр.хода!AA22 -> 0 | M47: =IFERROR(VLOOKUP(L47,пр.взв!$D$6:$Q$70,2,0),"") | N47: =IFERROR(VLOOKUP(L47,пр.взв!$D$6:$Q$70,5,0),"") | O47: =IFERROR(VLOOKUP(L47,пр.взв!$D$6:$Q$70,6,0),"") | P47: =IFERROR(VLOOKUP(L47,пр.взв!$D$6:$Q$70,8,0),"")
B48: =пр.хода!E26 -> 0 | C48: =IFERROR(VLOOKUP(B48,пр.взв!$D$6:$Q$70,2,0),"") | D48: =IFERROR(VLOOKUP(B48,пр.взв!$D$6:$Q$70,5,0),"") | E48: =IFERROR(VLOOKUP(B48,пр.взв!$D$6:$Q$70,6,0),"") | F48: =IFERROR(VLOOKUP(B48,пр.взв!$D$6:$Q$70,8,0),"") | L48: =пр.хода!AA26 -> 0 | M48: =IFERROR(VLOOKUP(L48,пр.взв!$D$6:$Q$70,2,0),"") | N48: =IFERROR(VLOOKUP(L48,пр.взв!$D$6:$Q$70,5,0),"") | O48: =IFERROR(VLOOKUP(L48,пр.взв!$D$6:$Q$70,6,0),"") | P48: =IFERROR(VLOOKUP(L48,пр.взв!$D$6:$Q$70,8,0),"")
A49: 4 | B49: =пр.хода!E30 -> 0 | C49: =IFERROR(VLOOKUP(B49,пр.взв!$D$6:$Q$70,2,0),"") | D49: =IFERROR(VLOOKUP(B49,пр.взв!$D$6:$Q$70,5,0),"") | E49: =IFERROR(VLOOKUP(B49,пр.взв!$D$6:$Q$70,6,0),"") | F49: =IFERROR(VLOOKUP(B49,пр.взв!$D$6:$Q$70,8,0),"") | K49: 12 | L49: =пр.хода!AA30 -> 0 | M49: =IFERROR(VLOOKUP(L49,пр.взв!$D$6:$Q$70,2,0),"") | N49: =IFERROR(VLOOKUP(L49,пр.взв!$D$6:$Q$70,5,0),"") | O49: =IFERROR(VLOOKUP(L49,пр.взв!$D$6:$Q$70,6,0),"") | P49: =IFERROR(VLOOKUP(L49,пр.взв!$D$6:$Q$70,8,0),"")
B50: =пр.хода!E34 -> 0 | C50: =IFERROR(VLOOKUP(B50,пр.взв!$D$6:$Q$70,2,0),"") | D50: =IFERROR(VLOOKUP(B50,пр.взв!$D$6:$Q$70,5,0),"") | E50: =IFERROR(VLOOKUP(B50,пр.взв!$D$6:$Q$70,6,0),"") | F50: =IFERROR(VLOOKUP(B50,пр.взв!$D$6:$Q$70,8,0),"") | L50: =пр.хода!AA34 -> 0 | M50: =IFERROR(VLOOKUP(L50,пр.взв!$D$6:$Q$70,2,0),"") | N50: =IFERROR(VLOOKUP(L50,пр.взв!$D$6:$Q$70,5,0),"") | O50: =IFERROR(VLOOKUP(L50,пр.взв!$D$6:$Q$70,6,0),"") | P50: =IFERROR(VLOOKUP(L50,пр.взв!$D$6:$Q$70,8,0),"")
A51: 5 | B51: =пр.хода!E39 -> 0 | C51: =IFERROR(VLOOKUP(B51,пр.взв!$D$6:$Q$70,2,0),"") | D51: =IFERROR(VLOOKUP(B51,пр.взв!$D$6:$Q$70,5,0),"") | E51: =IFERROR(VLOOKUP(B51,пр.взв!$D$6:$Q$70,6,0),"") | F51: =IFERROR(VLOOKUP(B51,пр.взв!$D$6:$Q$70,8,0),"") | K51: 13 | L51: =пр.хода!AA39 -> 0 | M51: =IFERROR(VLOOKUP(L51,пр.взв!$D$6:$Q$70,2,0),"") | N51: =IFERROR(VLOOKUP(L51,пр.взв!$D$6:$Q$70,5,0),"") | O51: =IFERROR(VLOOKUP(L51,пр.взв!$D$6:$Q$70,6,0),"") | P51: =IFERROR(VLOOKUP(L51,пр.взв!$D$6:$Q$70,8,0),"")
B52: =пр.хода!E43 -> 0 | C52: =IFERROR(VLOOKUP(B52,пр.взв!$D$6:$Q$70,2,0),"") | D52: =IFERROR(VLOOKUP(B52,пр.взв!$D$6:$Q$70,5,0),"") | E52: =IFERROR(VLOOKUP(B52,пр.взв!$D$6:$Q$70,6,0),"") | F52: =IFERROR(VLOOKUP(B52,пр.взв!$D$6:$Q$70,8,0),"") | L52: =пр.хода!AA43 -> 0 | M52: =IFERROR(VLOOKUP(L52,пр.взв!$D$6:$Q$70,2,0),"") | N52: =IFERROR(VLOOKUP(L52,пр.взв!$D$6:$Q$70,5,0),"") | O52: =IFERROR(VLOOKUP(L52,пр.взв!$D$6:$Q$70,6,0),"") | P52: =IFERROR(VLOOKUP(L52,пр.взв!$D$6:$Q$70,8,0),"")
A53: 6 | B53: =пр.хода!E47 -> 0 | C53: =IFERROR(VLOOKUP(B53,пр.взв!$D$6:$Q$70,2,0),"") | D53: =IFERROR(VLOOKUP(B53,пр.взв!$D$6:$Q$70,5,0),"") | E53: =IFERROR(VLOOKUP(B53,пр.взв!$D$6:$Q$70,6,0),"") | F53: =IFERROR(VLOOKUP(B53,пр.взв!$D$6:$Q$70,8,0),"") | K53: 14 | L53: =пр.хода!AA47 -> 0 | M53: =IFERROR(VLOOKUP(L53,пр.взв!$D$6:$Q$70,2,0),"") | N53: =IFERROR(VLOOKUP(L53,пр.взв!$D$6:$Q$70,5,0),"") | O53: =IFERROR(VLOOKUP(L53,пр.взв!$D$6:$Q$70,6,0),"") | P53: =IFERROR(VLOOKUP(L53,пр.взв!$D$6:$Q$70,8,0),"")
B54: =пр.хода!E51 -> 0 | C54: =IFERROR(VLOOKUP(B54,пр.взв!$D$6:$Q$70,2,0),"") | D54: =IFERROR(VLOOKUP(B54,пр.взв!$D$6:$Q$70,5,0),"") | E54: =IFERROR(VLOOKUP(B54,пр.взв!$D$6:$Q$70,6,0),"") | F54: =IFERROR(VLOOKUP(B54,пр.взв!$D$6:$Q$70,8,0),"") | L54: =пр.хода!AA51 -> 0 | M54: =IFERROR(VLOOKUP(L54,пр.взв!$D$6:$Q$70,2,0),"") | N54: =IFERROR(VLOOKUP(L54,пр.взв!$D$6:$Q$70,5,0),"") | O54: =IFERROR(VLOOKUP(L54,пр.взв!$D$6:$Q$70,6,0),"") | P54: =IFERROR(VLOOKUP(L54,пр.взв!$D$6:$Q$70,8,0),"")
A55: 7 | B55: =пр.хода!E55 -> 0 | C55: =IFERROR(VLOOKUP(B55,пр.взв!$D$6:$Q$70,2,0),"") | D55: =IFERROR(VLOOKUP(B55,пр.взв!$D$6:$Q$70,5,0),"") | E55: =IFERROR(VLOOKUP(B55,пр.взв!$D$6:$Q$70,6,0),"") | F55: =IFERROR(VLOOKUP(B55,пр.взв!$D$6:$Q$70,8,0),"") | K55: 15 | L55: =пр.хода!AA55 -> 0 | M55: =IFERROR(VLOOKUP(L55,пр.взв!$D$6:$Q$70,2,0),"") | N55: =IFERROR(VLOOKUP(L55,пр.взв!$D$6:$Q$70,5,0),"") | O55: =IFERROR(VLOOKUP(L55,пр.взв!$D$6:$Q$70,6,0),"") | P55: =IFERROR(VLOOKUP(L55,пр.взв!$D$6:$Q$70,8,0),"")
B56: =пр.хода!E59 -> 0 | C56: =IFERROR(VLOOKUP(B56,пр.взв!$D$6:$Q$70,2,0),"") | D56: =IFERROR(VLOOKUP(B56,пр.взв!$D$6:$Q$70,5,0),"") | E56: =IFERROR(VLOOKUP(B56,пр.взв!$D$6:$Q$70,6,0),"") | F56: =IFERROR(VLOOKUP(B56,пр.взв!$D$6:$Q$70,8,0),"") | L56: =пр.хода!AA59 -> 0 | M56: =IFERROR(VLOOKUP(L56,пр.взв!$D$6:$Q$70,2,0),"") | N56: =IFERROR(VLOOKUP(L56,пр.взв!$D$6:$Q$70,5,0),"") | O56: =IFERROR(VLOOKUP(L56,пр.взв!$D$6:$Q$70,6,0),"") | P56: =IFERROR(VLOOKUP(L56,пр.взв!$D$6:$Q$70,8,0),"")
A57: 8 | B57: =пр.хода!E63 -> 0 | C57: =IFERROR(VLOOKUP(B57,пр.взв!$D$6:$Q$70,2,0),"") | D57: =IFERROR(VLOOKUP(B57,пр.взв!$D$6:$Q$70,5,0),"") | E57: =IFERROR(VLOOKUP(B57,пр.взв!$D$6:$Q$70,6,0),"") | F57: =IFERROR(VLOOKUP(B57,пр.взв!$D$6:$Q$70,8,0),"") | K57: 16 | L57: =пр.хода!AA63 -> 0 | M57: =IFERROR(VLOOKUP(L57,пр.взв!$D$6:$Q$70,2,0),"") | N57: =IFERROR(VLOOKUP(L57,пр.взв!$D$6:$Q$70,5,0),"") | O57: =IFERROR(VLOOKUP(L57,пр.взв!$D$6:$Q$70,6,0),"") | P57: =IFERROR(VLOOKUP(L57,пр.взв!$D$6:$Q$70,8,0),"")
B58: =пр.хода!E67 -> 0 | C58: =IFERROR(VLOOKUP(B58,пр.взв!$D$6:$Q$70,2,0),"") | D58: =IFERROR(VLOOKUP(B58,пр.взв!$D$6:$Q$70,5,0),"") | E58: =IFERROR(VLOOKUP(B58,пр.взв!$D$6:$Q$70,6,0),"") | F58: =IFERROR(VLOOKUP(B58,пр.взв!$D$6:$Q$70,8,0),"") | L58: =пр.хода!AA67 -> 0 | M58: =IFERROR(VLOOKUP(L58,пр.взв!$D$6:$Q$70,2,0),"") | N58: =IFERROR(VLOOKUP(L58,пр.взв!$D$6:$Q$70,5,0),"") | O58: =IFERROR(VLOOKUP(L58,пр.взв!$D$6:$Q$70,6,0),"") | P58: =IFERROR(VLOOKUP(L58,пр.взв!$D$6:$Q$70,8,0),"")
B59: =B39 -> 0 | C59: КОВЕР | L59: =L39 -> 0 | M59: КОВЕР
B60: A | C60: (Круг) | F60: 1/8 | G60: =G40 -> В.к. 71 кг | L60: Б | M60: (Круг) | P60: 1/8 | Q60: =Q40 -> В.к. 71 кг
A61: № встр | B61: № п/ж | C61: Ф.И.О. | D61: Д. р., разряд | E61: Вед., регион | G61: Оценки | H61: Очки | I61: Результат | J61: Время | K61: № встр | L61: № п/ж | M61: Ф.И.О. | N61: Д. р., разряд | O61: Вед., регион | Q61: Оценки | R61: Очки | S61: Результат | T61: Время
A63: 1 | B63: =пр.хода!G8 -> 0 | C63: =IFERROR(VLOOKUP(B63,пр.взв!$D$6:$Q$70,2,0),"") | D63: =IFERROR(VLOOKUP(B63,пр.взв!$D$6:$Q$70,5,0),"") | E63: =IFERROR(VLOOKUP(B63,пр.взв!$D$6:$Q$70,6,0),"") | F63: =IFERROR(VLOOKUP(B63,пр.взв!$D$6:$Q$70,8,0),"") | K63: 5 | L63: =пр.хода!Y8 -> 0 | M63: =IFERROR(VLOOKUP(L63,пр.взв!$D$6:$Q$70,2,0),"") | N63: =IFERROR(VLOOKUP(L63,пр.взв!$D$6:$Q$70,5,0),"") | O63: =IFERROR(VLOOKUP(L63,пр.взв!$D$6:$Q$70,6,0),"") | P63: =IFERROR(VLOOKUP(L63,пр.взв!$D$6:$Q$70,8,0),"")
B64: =пр.хода!G16 -> 0 | C64: =IFERROR(VLOOKUP(B64,пр.взв!$D$6:$Q$70,2,0),"") | D64: =IFERROR(VLOOKUP(B64,пр.взв!$D$6:$Q$70,5,0),"") | E64: =IFERROR(VLOOKUP(B64,пр.взв!$D$6:$Q$70,6,0),"") | F64: =IFERROR(VLOOKUP(B64,пр.взв!$D$6:$Q$70,8,0),"") | L64: =пр.хода!Y16 -> 0 | M64: =IFERROR(VLOOKUP(L64,пр.взв!$D$6:$Q$70,2,0),"") | N64: =IFERROR(VLOOKUP(L64,пр.взв!$D$6:$Q$70,5,0),"") | O64: =IFERROR(VLOOKUP(L64,пр.взв!$D$6:$Q$70,6,0),"") | P64: =IFERROR(VLOOKUP(L64,пр.взв!$D$6:$Q$70,8,0),"")
A65: 2 | B65: =пр.хода!G24 -> 0 | C65: =IFERROR(VLOOKUP(B65,пр.взв!$D$6:$Q$70,2,0),"") | D65: =IFERROR(VLOOKUP(B65,пр.взв!$D$6:$Q$70,5,0),"") | E65: =IFERROR(VLOOKUP(B65,пр.взв!$D$6:$Q$70,6,0),"") | F65: =IFERROR(VLOOKUP(B65,пр.взв!$D$6:$Q$70,8,0),"") | K65: 6 | L65: =пр.хода!Y24 -> 0 | M65: =IFERROR(VLOOKUP(L65,пр.взв!$D$6:$Q$70,2,0),"") | N65: =IFERROR(VLOOKUP(L65,пр.взв!$D$6:$Q$70,5,0),"") | O65: =IFERROR(VLOOKUP(L65,пр.взв!$D$6:$Q$70,6,0),"") | P65: =IFERROR(VLOOKUP(L65,пр.взв!$D$6:$Q$70,8,0),"")
B66: =пр.хода!G32 -> 0 | C66: =IFERROR(VLOOKUP(B66,пр.взв!$D$6:$Q$70,2,0),"") | D66: =IFERROR(VLOOKUP(B66,пр.взв!$D$6:$Q$70,5,0),"") | E66: =IFERROR(VLOOKUP(B66,пр.взв!$D$6:$Q$70,6,0),"") | F66: =IFERROR(VLOOKUP(B66,пр.взв!$D$6:$Q$70,8,0),"") | L66: =пр.хода!Y32 -> 0 | M66: =IFERROR(VLOOKUP(L66,пр.взв!$D$6:$Q$70,2,0),"") | N66: =IFERROR(VLOOKUP(L66,пр.взв!$D$6:$Q$70,5,0),"") | O66: =IFERROR(VLOOKUP(L66,пр.взв!$D$6:$Q$70,6,0),"") | P66: =IFERROR(VLOOKUP(L66,пр.взв!$D$6:$Q$70,8,0),"")
A67: 3 | B67: =пр.хода!G41 -> 0 | C67: =IFERROR(VLOOKUP(B67,пр.взв!$D$6:$Q$70,2,0),"") | D67: =IFERROR(VLOOKUP(B67,пр.взв!$D$6:$Q$70,5,0),"") | E67: =IFERROR(VLOOKUP(B67,пр.взв!$D$6:$Q$70,6,0),"") | F67: =IFERROR(VLOOKUP(B67,пр.взв!$D$6:$Q$70,8,0),"") | K67: 7 | L67: =пр.хода!Y41 -> 0 | M67: =IFERROR(VLOOKUP(L67,пр.взв!$D$6:$Q$70,2,0),"") | N67: =IFERROR(VLOOKUP(L67,пр.взв!$D$6:$Q$70,5,0),"") | O67: =IFERROR(VLOOKUP(L67,пр.взв!$D$6:$Q$70,6,0),"") | P67: =IFERROR(VLOOKUP(L67,пр.взв!$D$6:$Q$70,8,0),"")
B68: =пр.хода!G49 -> 0 | C68: =IFERROR(VLOOKUP(B68,пр.взв!$D$6:$Q$70,2,0),"") | D68: =IFERROR(VLOOKUP(B68,пр.взв!$D$6:$Q$70,5,0),"") | E68: =IFERROR(VLOOKUP(B68,пр.взв!$D$6:$Q$70,6,0),"") | F68: =IFERROR(VLOOKUP(B68,пр.взв!$D$6:$Q$70,8,0),"") | L68: =пр.хода!Y49 -> 0 | M68: =IFERROR(VLOOKUP(L68,пр.взв!$D$6:$Q$70,2,0),"") | N68: =IFERROR(VLOOKUP(L68,пр.взв!$D$6:$Q$70,5,0),"") | O68: =IFERROR(VLOOKUP(L68,пр.взв!$D$6:$Q$70,6,0),"") | P68: =IFERROR(VLOOKUP(L68,пр.взв!$D$6:$Q$70,8,0),"")
A69: 4 | B69: =пр.хода!G57 -> 0 | C69: =IFERROR(VLOOKUP(B69,пр.взв!$D$6:$Q$70,2,0),"") | D69: =IFERROR(VLOOKUP(B69,пр.взв!$D$6:$Q$70,5,0),"") | E69: =IFERROR(VLOOKUP(B69,пр.взв!$D$6:$Q$70,6,0),"") | F69: =IFERROR(VLOOKUP(B69,пр.взв!$D$6:$Q$70,8,0),"") | K69: 8 | L69: =пр.хода!Y57 -> 0 | M69: =IFERROR(VLOOKUP(L69,пр.взв!$D$6:$Q$70,2,0),"") | N69: =IFERROR(VLOOKUP(L69,пр.взв!$D$6:$Q$70,5,0),"") | O69: =IFERROR(VLOOKUP(L69,пр.взв!$D$6:$Q$70,6,0),"") | P69: =IFERROR(VLOOKUP(L69,пр.взв!$D$6:$Q$70,8,0),"")
B70: =пр.хода!G65 -> 0 | C70: =IFERROR(VLOOKUP(B70,пр.взв!$D$6:$Q$70,2,0),"") | D70: =IFERROR(VLOOKUP(B70,пр.взв!$D$6:$Q$70,5,0),"") | E70: =IFERROR(VLOOKUP(B70,пр.взв!$D$6:$Q$70,6,0),"") | F70: =IFERROR(VLOOKUP(B70,пр.взв!$D$6:$Q$70,8,0),"") | L70: =пр.хода!Y65 -> 0 | M70: =IFERROR(VLOOKUP(L70,пр.взв!$D$6:$Q$70,2,0),"") | N70: =IFERROR(VLOOKUP(L70,пр.взв!$D$6:$Q$70,5,0),"") | O70: =IFERROR(VLOOKUP(L70,пр.взв!$D$6:$Q$70,6,0),"") | P70: =IFERROR(VLOOKUP(L70,пр.взв!$D$6:$Q$70,8,0),"")
B71: =B59 -> 0 | C71: КОВЕР | L71: =L59 -> 0 | M71: КОВЕР
B72: A | C72: (Круг) | F72: 1/4 | G72: =G60 -> В.к. 71 кг | L72: B | M72: (Круг) | P72: 1/4 | Q72: =Q60 -> В.к. 71 кг
A73: № встр | B73: № п/ж | C73: Ф.И.О. | D73: Д. р., разряд | E73: Вед., регион | G73: Оценки | H73: Очки | I73: Результат | J73: Время | K73: № встр | L73: № п/ж | M73: Ф.И.О. | N73: Д. р., разряд | O73: Вед., регион | Q73: Оценки | R73: Очки | S73: Результат | T73: Время
A75: 1 | B75: =пр.хода!I12 -> 0 | C75: =IFERROR(VLOOKUP(B75,пр.взв!$D$6:$Q$70,2,0),"") | D75: =IFERROR(VLOOKUP(B75,пр.взв!$D$6:$Q$70,5,0),"") | E75: =IFERROR(VLOOKUP(B75,пр.взв!$D$6:$Q$70,6,0),"") | F75: =IFERROR(VLOOKUP(B75,пр.взв!$D$6:$Q$70,8,0),"") | K75: 3 | L75: =пр.хода!W12 -> 0 | M75: =IFERROR(VLOOKUP(L75,пр.взв!$D$6:$Q$70,2,0),"") | N75: =IFERROR(VLOOKUP(L75,пр.взв!$D$6:$Q$70,5,0),"") | O75: =IFERROR(VLOOKUP(L75,пр.взв!$D$6:$Q$70,6,0),"") | P75: =IFERROR(VLOOKUP(L75,пр.взв!$D$6:$Q$70,8,0),"")
B76: =пр.хода!I28 -> 0 | C76: =IFERROR(VLOOKUP(B76,пр.взв!$D$6:$Q$70,2,0),"") | D76: =IFERROR(VLOOKUP(B76,пр.взв!$D$6:$Q$70,5,0),"") | E76: =IFERROR(VLOOKUP(B76,пр.взв!$D$6:$Q$70,6,0),"") | F76: =IFERROR(VLOOKUP(B76,пр.взв!$D$6:$Q$70,8,0),"") | L76: =пр.хода!W28 -> 0 | M76: =IFERROR(VLOOKUP(L76,пр.взв!$D$6:$Q$70,2,0),"") | N76: =IFERROR(VLOOKUP(L76,пр.взв!$D$6:$Q$70,5,0),"") | O76: =IFERROR(VLOOKUP(L76,пр.взв!$D$6:$Q$70,6,0),"") | P76: =IFERROR(VLOOKUP(L76,пр.взв!$D$6:$Q$70,8,0),"")
A77: 2 | B77: =пр.хода!I46 -> 0 | C77: =IFERROR(VLOOKUP(B77,пр.взв!$D$6:$Q$70,2,0),"") | D77: =IFERROR(VLOOKUP(B77,пр.взв!$D$6:$Q$70,5,0),"") | E77: =IFERROR(VLOOKUP(B77,пр.взв!$D$6:$Q$70,6,0),"") | F77: =IFERROR(VLOOKUP(B77,пр.взв!$D$6:$Q$70,8,0),"") | K77: 4 | L77: =пр.хода!W45 -> 0 | M77: =IFERROR(VLOOKUP(L77,пр.взв!$D$6:$Q$70,2,0),"") | N77: =IFERROR(VLOOKUP(L77,пр.взв!$D$6:$Q$70,5,0),"") | O77: =IFERROR(VLOOKUP(L77,пр.взв!$D$6:$Q$70,6,0),"") | P77: =IFERROR(VLOOKUP(L77,пр.взв!$D$6:$Q$70,8,0),"")
B78: =пр.хода!I61 -> 0 | C78: =IFERROR(VLOOKUP(B78,пр.взв!$D$6:$Q$70,2,0),"") | D78: =IFERROR(VLOOKUP(B78,пр.взв!$D$6:$Q$70,5,0),"") | E78: =IFERROR(VLOOKUP(B78,пр.взв!$D$6:$Q$70,6,0),"") | F78: =IFERROR(VLOOKUP(B78,пр.взв!$D$6:$Q$70,8,0),"") | L78: =пр.хода!W61 -> 0 | M78: =IFERROR(VLOOKUP(L78,пр.взв!$D$6:$Q$70,2,0),"") | N78: =IFERROR(VLOOKUP(L78,пр.взв!$D$6:$Q$70,5,0),"") | O78: =IFERROR(VLOOKUP(L78,пр.взв!$D$6:$Q$70,6,0),"") | P78: =IFERROR(VLOOKUP(L78,пр.взв!$D$6:$Q$70,8,0),"")
B80: A | C80: Полуфинал | G80: =G72 -> В.к. 71 кг | L80: Б | M80: Полуфинал | Q80: =Q72 -> В.к. 71 кг
A81: № встр | B81: № п/ж | C81: Ф.И.О. | D81: Д. р., разряд | E81: Вед., регион | G81: Оценки | H81: Очки | I81: Результат | J81: Время | K81: № встр | L81: № п/ж | M81: Ф.И.О. | N81: Д. р., разряд | O81: Вед., регион | Q81: Оценки | R81: Очки | S81: Результат | T81: Время
A83: 1 | B83: =пр.хода!K20 -> 0 | C83: =IFERROR(VLOOKUP(B83,пр.взв!$D$6:$Q$70,2,0),"") | D83: =IFERROR(VLOOKUP(B83,пр.взв!$D$6:$Q$70,5,0),"") | E83: =IFERROR(VLOOKUP(B83,пр.взв!$D$6:$Q$70,6,0),"") | F83: =IFERROR(VLOOKUP(B83,пр.взв!$D$6:$Q$70,8,0),"") | K83: 2 | L83: =пр.хода!U20 -> 0 | M83: =IFERROR(VLOOKUP(L83,пр.взв!$D$6:$Q$70,2,0),"") | N83: =IFERROR(VLOOKUP(L83,пр.взв!$D$6:$Q$70,5,0),"") | O83: =IFERROR(VLOOKUP(L83,пр.взв!$D$6:$Q$70,6,0),"") | P83: =IFERROR(VLOOKUP(L83,пр.взв!$D$6:$Q$70,8,0),"")
B84: =пр.хода!K53 -> 0 | C84: =IFERROR(VLOOKUP(B84,пр.взв!$D$6:$Q$70,2,0),"") | D84: =IFERROR(VLOOKUP(B84,пр.взв!$D$6:$Q$70,5,0),"") | E84: =IFERROR(VLOOKUP(B84,пр.взв!$D$6:$Q$70,6,0),"") | F84: =IFERROR(VLOOKUP(B84,пр.взв!$D$6:$Q$70,8,0),"") | L84: =пр.хода!U53 -> 0 | M84: =IFERROR(VLOOKUP(L84,пр.взв!$D$6:$Q$70,2,0),"") | N84: =IFERROR(VLOOKUP(L84,пр.взв!$D$6:$Q$70,5,0),"") | O84: =IFERROR(VLOOKUP(L84,пр.взв!$D$6:$Q$70,6,0),"") | P84: =IFERROR(VLOOKUP(L84,пр.взв!$D$6:$Q$70,8,0),"")
B85: =B71 -> 0 | C85: КОВЕР | L85: =L71 -> 0 | M85: КОВЕР
A86: (Утешительные встречи) | K86: (Утешительные встречи)
B87: A | G87: =G80 -> В.к. 71 кг | L87: Б | Q87: =Q80 -> В.к. 71 кг
A88: № встр | B88: № п/ж | C88: Ф.И.О. | D88: Д. р., разряд | E88: Вед., регион | G88: Оценки | H88: Очки | I88: Результат | J88: Время | K88: № встр | L88: № п/ж | M88: Ф.И.О. | N88: Д. р., разряд | O88: Вед., регион | Q88: Оценки | R88: Очки | S88: Результат | T88: Время
A90: 1 | B90: =пр.хода!L7 | C90: =IFERROR(VLOOKUP(B90,пр.взв!$D$6:$Q$70,2,0),"") | D90: =IFERROR(VLOOKUP(B90,пр.взв!$D$6:$Q$70,5,0),"") | E90: =IFERROR(VLOOKUP(B90,пр.взв!$D$6:$Q$70,6,0),"") | F90: =IFERROR(VLOOKUP(B90,пр.взв!$D$6:$Q$70,8,0),"") | K90: 3 | L90: =пр.хода!L56 | M90: =IFERROR(VLOOKUP(L90,пр.взв!$D$6:$Q$70,2,0),"") | N90: =IFERROR(VLOOKUP(L90,пр.взв!$D$6:$Q$70,5,0),"") | O90: =IFERROR(VLOOKUP(L90,пр.взв!$D$6:$Q$70,6,0),"") | P90: =IFERROR(VLOOKUP(L90,пр.взв!$D$6:$Q$70,8,0),"")
B91: =пр.хода!L10 | C91: =IFERROR(VLOOKUP(B91,пр.взв!$D$6:$Q$70,2,0),"") | D91: =IFERROR(VLOOKUP(B91,пр.взв!$D$6:$Q$70,5,0),"") | E91: =IFERROR(VLOOKUP(B91,пр.взв!$D$6:$Q$70,6,0),"") | F91: =IFERROR(VLOOKUP(B91,пр.взв!$D$6:$Q$70,8,0),"") | L91: =пр.хода!L59 | M91: =IFERROR(VLOOKUP(L91,пр.взв!$D$6:$Q$70,2,0),"") | N91: =IFERROR(VLOOKUP(L91,пр.взв!$D$6:$Q$70,5,0),"") | O91: =IFERROR(VLOOKUP(L91,пр.взв!$D$6:$Q$70,6,0),"") | P91: =IFERROR(VLOOKUP(L91,пр.взв!$D$6:$Q$70,8,0),"")
A92: 2 | B92: =пр.хода!L14 | C92: =IFERROR(VLOOKUP(B92,пр.взв!$D$6:$Q$70,2,0),"") | D92: =IFERROR(VLOOKUP(B92,пр.взв!$D$6:$Q$70,5,0),"") | E92: =IFERROR(VLOOKUP(B92,пр.взв!$D$6:$Q$70,6,0),"") | F92: =IFERROR(VLOOKUP(B92,пр.взв!$D$6:$Q$70,8,0),"") | K92: 4 | L92: =пр.хода!L63 | M92: =IFERROR(VLOOKUP(L92,пр.взв!$D$6:$Q$70,2,0),"") | N92: =IFERROR(VLOOKUP(L92,пр.взв!$D$6:$Q$70,5,0),"") | O92: =IFERROR(VLOOKUP(L92,пр.взв!$D$6:$Q$70,6,0),"") | P92: =IFERROR(VLOOKUP(L92,пр.взв!$D$6:$Q$70,8,0),"")
B93: =пр.хода!L17 | C93: =IFERROR(VLOOKUP(B93,пр.взв!$D$6:$Q$70,2,0),"") | D93: =IFERROR(VLOOKUP(B93,пр.взв!$D$6:$Q$70,5,0),"") | E93: =IFERROR(VLOOKUP(B93,пр.взв!$D$6:$Q$70,6,0),"") | F93: =IFERROR(VLOOKUP(B93,пр.взв!$D$6:$Q$70,8,0),"") | L93: =пр.хода!L66 | M93: =IFERROR(VLOOKUP(L93,пр.взв!$D$6:$Q$70,2,0),"") | N93: =IFERROR(VLOOKUP(L93,пр.взв!$D$6:$Q$70,5,0),"") | O93: =IFERROR(VLOOKUP(L93,пр.взв!$D$6:$Q$70,6,0),"") | P93: =IFERROR(VLOOKUP(L93,пр.взв!$D$6:$Q$70,8,0),"")
A95: 5 | B95: =пр.хода!N8 -> 0 | C95: =IFERROR(VLOOKUP(B95,пр.взв!$D$6:$Q$70,2,0),"") | D95: =IFERROR(VLOOKUP(B95,пр.взв!$D$6:$Q$70,5,0),"") | E95: =IFERROR(VLOOKUP(B95,пр.взв!$D$6:$Q$70,6,0),"") | F95: =IFERROR(VLOOKUP(B95,пр.взв!$D$6:$Q$70,8,0),"") | K95: 7 | L95: =пр.хода!N57 -> 0 | M95: =IFERROR(VLOOKUP(L95,пр.взв!$D$6:$Q$70,2,0),"") | N95: =IFERROR(VLOOKUP(L95,пр.взв!$D$6:$Q$70,5,0),"") | O95: =IFERROR(VLOOKUP(L95,пр.взв!$D$6:$Q$70,6,0),"") | P95: =IFERROR(VLOOKUP(L95,пр.взв!$D$6:$Q$70,8,0),"")
B96: =пр.хода!N11 | C96: =IFERROR(VLOOKUP(B96,пр.взв!$D$6:$Q$70,2,0),"") | D96: =IFERROR(VLOOKUP(B96,пр.взв!$D$6:$Q$70,5,0),"") | E96: =IFERROR(VLOOKUP(B96,пр.взв!$D$6:$Q$70,6,0),"") | F96: =IFERROR(VLOOKUP(B96,пр.взв!$D$6:$Q$70,8,0),"") | L96: =пр.хода!N60 | M96: =IFERROR(VLOOKUP(L96,пр.взв!$D$6:$Q$70,2,0),"") | N96: =IFERROR(VLOOKUP(L96,пр.взв!$D$6:$Q$70,5,0),"") | O96: =IFERROR(VLOOKUP(L96,пр.взв!$D$6:$Q$70,6,0),"") | P96: =IFERROR(VLOOKUP(L96,пр.взв!$D$6:$Q$70,8,0),"")
A97: 6 | B97: =пр.хода!N15 -> 0 | C97: =IFERROR(VLOOKUP(B97,пр.взв!$D$6:$Q$70,2,0),"") | D97: =IFERROR(VLOOKUP(B97,пр.взв!$D$6:$Q$70,5,0),"") | E97: =IFERROR(VLOOKUP(B97,пр.взв!$D$6:$Q$70,6,0),"") | F97: =IFERROR(VLOOKUP(B97,пр.взв!$D$6:$Q$70,8,0),"") | K97: 8 | L97: =пр.хода!N64 -> 0 | M97: =IFERROR(VLOOKUP(L97,пр.взв!$D$6:$Q$70,2,0),"") | N97: =IFERROR(VLOOKUP(L97,пр.взв!$D$6:$Q$70,5,0),"") | O97: =IFERROR(VLOOKUP(L97,пр.взв!$D$6:$Q$70,6,0),"") | P97: =IFERROR(VLOOKUP(L97,пр.взв!$D$6:$Q$70,8,0),"")
B98: =пр.хода!N18 | C98: =IFERROR(VLOOKUP(B98,пр.взв!$D$6:$Q$70,2,0),"") | D98: =IFERROR(VLOOKUP(B98,пр.взв!$D$6:$Q$70,5,0),"") | E98: =IFERROR(VLOOKUP(B98,пр.взв!$D$6:$Q$70,6,0),"") | F98: =IFERROR(VLOOKUP(B98,пр.взв!$D$6:$Q$70,8,0),"") | L98: =пр.хода!N67 | M98: =IFERROR(VLOOKUP(L98,пр.взв!$D$6:$Q$70,2,0),"") | N98: =IFERROR(VLOOKUP(L98,пр.взв!$D$6:$Q$70,5,0),"") | O98: =IFERROR(VLOOKUP(L98,пр.взв!$D$6:$Q$70,6,0),"") | P98: =IFERROR(VLOOKUP(L98,пр.взв!$D$6:$Q$70,8,0),"")
A100: 9 | B100: =пр.хода!O10 -> 0 | C100: =IFERROR(VLOOKUP(B100,пр.взв!$D$6:$Q$70,2,0),"") | D100: =IFERROR(VLOOKUP(B100,пр.взв!$D$6:$Q$70,5,0),"") | E100: =IFERROR(VLOOKUP(B100,пр.взв!$D$6:$Q$70,6,0),"") | F100: =IFERROR(VLOOKUP(B100,пр.взв!$D$6:$Q$70,8,0),"") | K100: 11 | L100: =пр.хода!O59 -> 0 | M100: =IFERROR(VLOOKUP(L100,пр.взв!$D$6:$Q$70,2,0),"") | N100: =IFERROR(VLOOKUP(L100,пр.взв!$D$6:$Q$70,5,0),"") | O100: =IFERROR(VLOOKUP(L100,пр.взв!$D$6:$Q$70,6,0),"") | P100: =IFERROR(VLOOKUP(L100,пр.взв!$D$6:$Q$70,8,0),"")
B101: =пр.хода!O13 | C101: =IFERROR(VLOOKUP(B101,пр.взв!$D$6:$Q$70,2,0),"") | D101: =IFERROR(VLOOKUP(B101,пр.взв!$D$6:$Q$70,5,0),"") | E101: =IFERROR(VLOOKUP(B101,пр.взв!$D$6:$Q$70,6,0),"") | F101: =IFERROR(VLOOKUP(B101,пр.взв!$D$6:$Q$70,8,0),"") | L101: =пр.хода!O62 | M101: =IFERROR(VLOOKUP(L101,пр.взв!$D$6:$Q$70,2,0),"") | N101: =IFERROR(VLOOKUP(L101,пр.взв!$D$6:$Q$70,5,0),"") | O101: =IFERROR(VLOOKUP(L101,пр.взв!$D$6:$Q$70,6,0),"") | P101: =IFERROR(VLOOKUP(L101,пр.взв!$D$6:$Q$70,8,0),"")
A102: 10 | B102: =пр.хода!O17 -> 0 | C102: =IFERROR(VLOOKUP(B102,пр.взв!$D$6:$Q$70,2,0),"") | D102: =IFERROR(VLOOKUP(B102,пр.взв!$D$6:$Q$70,5,0),"") | E102: =IFERROR(VLOOKUP(B102,пр.взв!$D$6:$Q$70,6,0),"") | F102: =IFERROR(VLOOKUP(B102,пр.взв!$D$6:$Q$70,8,0),"") | K102: 12 | L102: =пр.хода!O66 -> 0 | M102: =IFERROR(VLOOKUP(L102,пр.взв!$D$6:$Q$70,2,0),"") | N102: =IFERROR(VLOOKUP(L102,пр.взв!$D$6:$Q$70,5,0),"") | O102: =IFERROR(VLOOKUP(L102,пр.взв!$D$6:$Q$70,6,0),"") | P102: =IFERROR(VLOOKUP(L102,пр.взв!$D$6:$Q$70,8,0),"")
B103: =пр.хода!O20 | C103: =IFERROR(VLOOKUP(B103,пр.взв!$D$6:$Q$70,2,0),"") | D103: =IFERROR(VLOOKUP(B103,пр.взв!$D$6:$Q$70,5,0),"") | E103: =IFERROR(VLOOKUP(B103,пр.взв!$D$6:$Q$70,6,0),"") | F103: =IFERROR(VLOOKUP(B103,пр.взв!$D$6:$Q$70,8,0),"") | L103: =пр.хода!O69 | M103: =IFERROR(VLOOKUP(L103,пр.взв!$D$6:$Q$70,2,0),"") | N103: =IFERROR(VLOOKUP(L103,пр.взв!$D$6:$Q$70,5,0),"") | O103: =IFERROR(VLOOKUP(L103,пр.взв!$D$6:$Q$70,6,0),"") | P103: =IFERROR(VLOOKUP(L103,пр.взв!$D$6:$Q$70,8,0),"")
A105: 13 | B105: =пр.хода!P12 -> 0 | C105: =IFERROR(VLOOKUP(B105,пр.взв!$D$6:$Q$70,2,0),"") | D105: =IFERROR(VLOOKUP(B105,пр.взв!$D$6:$Q$70,5,0),"") | E105: =IFERROR(VLOOKUP(B105,пр.взв!$D$6:$Q$70,6,0),"") | F105: =IFERROR(VLOOKUP(B105,пр.взв!$D$6:$Q$70,8,0),"") | K105: 14 | L105: =пр.хода!P61 -> 0 | M105: =IFERROR(VLOOKUP(L105,пр.взв!$D$6:$Q$70,2,0),"") | N105: =IFERROR(VLOOKUP(L105,пр.взв!$D$6:$Q$70,5,0),"") | O105: =IFERROR(VLOOKUP(L105,пр.взв!$D$6:$Q$70,6,0),"") | P105: =IFERROR(VLOOKUP(L105,пр.взв!$D$6:$Q$70,8,0),"")
B106: =пр.хода!P19 -> 0 | C106: =IFERROR(VLOOKUP(B106,пр.взв!$D$6:$Q$70,2,0),"") | D106: =IFERROR(VLOOKUP(B106,пр.взв!$D$6:$Q$70,5,0),"") | E106: =IFERROR(VLOOKUP(B106,пр.взв!$D$6:$Q$70,6,0),"") | F106: =IFERROR(VLOOKUP(B106,пр.взв!$D$6:$Q$70,8,0),"") | L106: =пр.хода!P68 -> 0 | M106: =IFERROR(VLOOKUP(L106,пр.взв!$D$6:$Q$70,2,0),"") | N106: =IFERROR(VLOOKUP(L106,пр.взв!$D$6:$Q$70,5,0),"") | O106: =IFERROR(VLOOKUP(L106,пр.взв!$D$6:$Q$70,6,0),"") | P106: =IFERROR(VLOOKUP(L106,пр.взв!$D$6:$Q$70,8,0),"")

Sheet Табло
B1: ВСТРЕЧИ ПО КРУГАМ | E1: =пр.взв!G4 -> В.к. 71 кг | M1: ВСТРЕЧИ ПО КРУГАМ | P1: =пр.взв!G4 -> В.к. 71 кг
B2: 3 | C2: КОВЕР | D2: 1/32 | E2: Подгуппа А | M2: =B2 -> 3 | N2: КОВЕР | O2: =D2 -> 1/32 | P2: Подгуппа Б
A3: № встр | B3: № п/ж | C3: Ф.И.О. | D3: Д. р., разряд | E3: Вед., регион | G3: Оценки | H3: Очки | I3: Рез-т | J3: Время | L3: № встр | M3: № п/ж | N3: Ф.И.О. | O3: Д. р., разряд | P3: Вед., регион | R3: Оценки | S3: Очки | T3: Рез-т | U3: Время
A4: 1 | B4: 1 | C4: =IFERROR(VLOOKUP(B4,пр.взв!$D$6:$Q$70,2,0),"") -> БАГОВ Тимур | D4: =IFERROR(VLOOKUP(B4,пр.взв!$D$6:$Q$70,5,0),"") -> КМС | E4: =IFERROR(VLOOKUP(B4,пр.взв!$D$6:$Q$70,6,0),"") -> ЮФО | F4: =IFERROR(VLOOKUP(B4,пр.взв!$D$6:$Q$70,8,0),"") -> Р.Адыгея | L4: 17 | M4: 2 | N4: =IFERROR(VLOOKUP(M4,пр.взв!$D$6:$Q$70,2,0),"") -> КОЛОНТАЙ Артём | O4: =IFERROR(VLOOKUP(M4,пр.взв!$D$6:$Q$70,5,0),"") -> КМС | P4: =IFERROR(VLOOKUP(M4,пр.взв!$D$6:$Q$70,6,0),"") -> ЦФО | Q4: =IFERROR(VLOOKUP(M4,пр.взв!$D$6:$Q$70,8,0),"") -> Ярославская
B5: 33 | C5: =IFERROR(VLOOKUP(B5,пр.взв!$D$6:$Q$70,2,0),"") -> НАПИДЖЕВ Рахман | D5: =IFERROR(VLOOKUP(B5,пр.взв!$D$6:$Q$70,5,0),"") -> КМС | E5: =IFERROR(VLOOKUP(B5,пр.взв!$D$6:$Q$70,6,0),"") -> СКФО | F5: =IFERROR(VLOOKUP(B5,пр.взв!$D$6:$Q$70,8,0),"") -> КЧР | M5: 34 | N5: =IFERROR(VLOOKUP(M5,пр.взв!$D$6:$Q$70,2,0),"") -> НАЗАРОВ Никита | O5: =IFERROR(VLOOKUP(M5,пр.взв!$D$6:$Q$70,5,0),"") -> КМС | P5: =IFERROR(VLOOKUP(M5,пр.взв!$D$6:$Q$70,6,0),"") -> МОС | Q5: =IFERROR(VLOOKUP(M5,пр.взв!$D$6:$Q$70,8,0),"") -> Москва
A6: 2 | B6: 17 | C6: =IFERROR(VLOOKUP(B6,пр.взв!$D$6:$Q$70,2,0),"") -> ПЭЛЫПИВ Никита | D6: =IFERROR(VLOOKUP(B6,пр.взв!$D$6:$Q$70,5,0),"") -> КМС | E6: =IFERROR(VLOOKUP(B6,пр.взв!$D$6:$Q$70,6,0),"") -> ПФО | F6: =IFERROR(VLOOKUP(B6,пр.взв!$D$6:$Q$70,8,0),"") -> Саратовская | L6: 18 | M6: 18 | N6: =IFERROR(VLOOKUP(M6,пр.взв!$D$6:$Q$70,2,0),"") -> КОРОСТИЕНКО Денис | O6: =IFERROR(VLOOKUP(M6,пр.взв!$D$6:$Q$70,5,0),"") -> КМС | P6: =IFERROR(VLOOKUP(M6,пр.взв!$D$6:$Q$70,6,0),"") -> ДВФО | Q6: =IFERROR(VLOOKUP(M6,пр.взв!$D$6:$Q$70,8,0),"") -> Хабаровский
B7: 49 | C7: =IFERROR(VLOOKUP(B7,пр.взв!$D$6:$Q$70,2,0),"") | D7: =IFERROR(VLOOKUP(B7,пр.взв!$D$6:$Q$70,5,0),"") | E7: =IFERROR(VLOOKUP(B7,пр.взв!$D$6:$Q$70,6,0),"") | F7: =IFERROR(VLOOKUP(B7,пр.взв!$D$6:$Q$70,8,0),"") | M7: 50 | N7: =IFERROR(VLOOKUP(M7,пр.взв!$D$6:$Q$70,2,0),"") | O7: =IFERROR(VLOOKUP(M7,пр.взв!$D$6:$Q$70,5,0),"") | P7: =IFERROR(VLOOKUP(M7,пр.взв!$D$6:$Q$70,6,0),"") | Q7: =IFERROR(VLOOKUP(M7,пр.взв!$D$6:$Q$70,8,0),"")
A8: 3 | B8: 9 | C8: =IFERROR(VLOOKUP(B8,пр.взв!$D$6:$Q$70,2,0),"") -> ПРОТАСОВ Артем | D8: =IFERROR(VLOOKUP(B8,пр.взв!$D$6:$Q$70,5,0),"") -> КМС | E8: =IFERROR(VLOOKUP(B8,пр.взв!$D$6:$Q$70,6,0),"") -> СПБ | F8: =IFERROR(VLOOKUP(B8,пр.взв!$D$6:$Q$70,8,0),"") -> Санкт-Петербург | L8: 19 | M8: 10 | N8: =IFERROR(VLOOKUP(M8,пр.взв!$D$6:$Q$70,2,0),"") -> ТУКСУМБАЕВ Артём | O8: =IFERROR(VLOOKUP(M8,пр.взв!$D$6:$Q$70,5,0),"") -> КМС | P8: =IFERROR(VLOOKUP(M8,пр.взв!$D$6:$Q$70,6,0),"") -> СФО | Q8: =IFERROR(VLOOKUP(M8,пр.взв!$D$6:$Q$70,8,0),"") -> Алтайский
B9: 41 | C9: =IFERROR(VLOOKUP(B9,пр.взв!$D$6:$Q$70,2,0),"") -> ВОРОЖЦОВ Егор | D9: =IFERROR(VLOOKUP(B9,пр.взв!$D$6:$Q$70,5,0),"") -> КМС | E9: =IFERROR(VLOOKUP(B9,пр.взв!$D$6:$Q$70,6,0),"") -> 0 | F9: =IFERROR(VLOOKUP(B9,пр.взв!$D$6:$Q$70,8,0),"") -> Кировская | M9: 42 | N9: =IFERROR(VLOOKUP(M9,пр.взв!$D$6:$Q$70,2,0),"") -> АБАЕВ Оразеддин | O9: =IFERROR(VLOOKUP(M9,пр.взв!$D$6:$Q$70,5,0),"") -> КМС | P9: =IFERROR(VLOOKUP(M9,пр.взв!$D$6:$Q$70,6,0),"") -> ПФО | Q9: =IFERROR(VLOOKUP(M9,пр.взв!$D$6:$Q$70,8,0),"") -> Р.Татарстан
A10: 4 | B10: 25 | C10: =IFERROR(VLOOKUP(B10,пр.взв!$D$6:$Q$70,2,0),"") -> АКСЕНОВ Артем | D10: =IFERROR(VLOOKUP(B10,пр.взв!$D$6:$Q$70,5,0),"") -> КМС | E10: =IFERROR(VLOOKUP(B10,пр.взв!$D$6:$Q$70,6,0),"") -> СЗФО | F10: =IFERROR(VLOOKUP(B10,пр.взв!$D$6:$Q$70,8,0),"") -> Калининградская | L10: 20 | M10: 26 | N10: =IFERROR(VLOOKUP(M10,пр.взв!$D$6:$Q$70,2,0),"") -> АБИТОВ Алим | O10: =IFERROR(VLOOKUP(M10,пр.взв!$D$6:$Q$70,5,0),"") -> КМС | P10: =IFERROR(VLOOKUP(M10,пр.взв!$D$6:$Q$70,6,0),"") -> СКФО | Q10: =IFERROR(VLOOKUP(M10,пр.взв!$D$6:$Q$70,8,0),"") -> КЧР
B11: 57 | C11: =IFERROR(VLOOKUP(B11,пр.взв!$D$6:$Q$70,2,0),"") | D11: =IFERROR(VLOOKUP(B11,пр.взв!$D$6:$Q$70,5,0),"") | E11: =IFERROR(VLOOKUP(B11,пр.взв!$D$6:$Q$70,6,0),"") | F11: =IFERROR(VLOOKUP(B11,пр.взв!$D$6:$Q$70,8,0),"") | M11: 58 | N11: =IFERROR(VLOOKUP(M11,пр.взв!$D$6:$Q$70,2,0),"") | O11: =IFERROR(VLOOKUP(M11,пр.взв!$D$6:$Q$70,5,0),"") | P11: =IFERROR(VLOOKUP(M11,пр.взв!$D$6:$Q$70,6,0),"") | Q11: =IFERROR(VLOOKUP(M11,пр.взв!$D$6:$Q$70,8,0),"")
A12: 5 | B12: 5 | C12: =IFERROR(VLOOKUP(B12,пр.взв!$D$6:$Q$70,2,0),"") -> МАРКОВ Егор | D12: =IFERROR(VLOOKUP(B12,пр.взв!$D$6:$Q$70,5,0),"") -> КМС | E12: =IFERROR(VLOOKUP(B12,пр.взв!$D$6:$Q$70,6,0),"") -> ЦФО | F12: =IFERROR(VLOOKUP(B12,пр.взв!$D$6:$Q$70,8,0),"") -> Московская | L12: 21 | M12: 6 | N12: =IFERROR(VLOOKUP(M12,пр.взв!$D$6:$Q$70,2,0),"") -> СТАШ Тагир | O12: =IFERROR(VLOOKUP(M12,пр.взв!$D$6:$Q$70,5,0),"") -> КМС | P12: =IFERROR(VLOOKUP(M12,пр.взв!$D$6:$Q$70,6,0),"") -> ЮФО | Q12: =IFERROR(VLOOKUP(M12,пр.взв!$D$6:$Q$70,8,0),"") -> Р.Адыгея
B13: 37 | C13: =IFERROR(VLOOKUP(B13,пр.взв!$D$6:$Q$70,2,0),"") -> ДУНГЕРОВ Вадим | D13: =IFERROR(VLOOKUP(B13,пр.взв!$D$6:$Q$70,5,0),"") -> МС | E13: =IFERROR(VLOOKUP(B13,пр.взв!$D$6:$Q$70,6,0),"") -> МОС | F13: =IFERROR(VLOOKUP(B13,пр.взв!$D$6:$Q$70,8,0),"") -> Москва | M13: 38 | N13: =IFERROR(VLOOKUP(M13,пр.взв!$D$6:$Q$70,2,0),"") -> ДМИТРИЕВ Владислав | O13: =IFERROR(VLOOKUP(M13,пр.взв!$D$6:$Q$70,5,0),"") -> КМС | P13: =IFERROR(VLOOKUP(M13,пр.взв!$D$6:$Q$70,6,0),"") -> СЗФО | Q13: =IFERROR(VLOOKUP(M13,пр.взв!$D$6:$Q$70,8,0),"") -> Калининградская
A14: 6 | B14: 21 | C14: =IFERROR(VLOOKUP(B14,пр.взв!$D$6:$Q$70,2,0),"") -> ЁСИНАГА Кэйта | D14: =IFERROR(VLOOKUP(B14,пр.взв!$D$6:$Q$70,5,0),"") -> КМС | E14: =IFERROR(VLOOKUP(B14,пр.взв!$D$6:$Q$70,6,0),"") -> ДВФО | F14: =IFERROR(VLOOKUP(B14,пр.взв!$D$6:$Q$70,8,0),"") -> Хабаровский | L14: 22 | M14: 22 | N14: =IFERROR(VLOOKUP(M14,пр.взв!$D$6:$Q$70,2,0),"") -> ТРУБНИКОВ Денис | O14: =IFERROR(VLOOKUP(M14,пр.взв!$D$6:$Q$70,5,0),"") -> 1р | P14: =IFERROR(VLOOKUP(M14,пр.взв!$D$6:$Q$70,6,0),"") -> УФО | Q14: =IFERROR(VLOOKUP(M14,пр.взв!$D$6:$Q$70,8,0),"") -> Свердловская
B15: 53 | C15: =IFERROR(VLOOKUP(B15,пр.взв!$D$6:$Q$70,2,0),"") | D15: =IFERROR(VLOOKUP(B15,пр.взв!$D$6:$Q$70,5,0),"") | E15: =IFERROR(VLOOKUP(B15,пр.взв!$D$6:$Q$70,6,0),"") | F15: =IFERROR(VLOOKUP(B15,пр.взв!$D$6:$Q$70,8,0),"") | M15: 54 | N15: =IFERROR(VLOOKUP(M15,пр.взв!$D$6:$Q$70,2,0),"") | O15: =IFERROR(VLOOKUP(M15,пр.взв!$D$6:$Q$70,5,0),"") | P15: =IFERROR(VLOOKUP(M15,пр.взв!$D$6:$Q$70,6,0),"") | Q15: =IFERROR(VLOOKUP(M15,пр.взв!$D$6:$Q$70,8,0),"")
A16: 7 | B16: 13 | C16: =IFERROR(VLOOKUP(B16,пр.взв!$D$6:$Q$70,2,0),"") -> НЕДОИМКИН Максим | D16: =IFERROR(VLOOKUP(B16,пр.взв!$D$6:$Q$70,5,0),"") -> КМС | E16: =IFERROR(VLOOKUP(B16,пр.взв!$D$6:$Q$70,6,0),"") -> СФО | F16: =IFERROR(VLOOKUP(B16,пр.взв!$D$6:$Q$70,8,0),"") -> Алтайский | L16: 23 | M16: 14 | N16: =IFERROR(VLOOKUP(M16,пр.взв!$D$6:$Q$70,2,0),"") -> ШАЛЫГИН Нестор | O16: =IFERROR(VLOOKUP(M16,пр.взв!$D$6:$Q$70,5,0),"") -> КМС | P16: =IFERROR(VLOOKUP(M16,пр.взв!$D$6:$Q$70,6,0),"") -> МОС | Q16: =IFERROR(VLOOKUP(M16,пр.взв!$D$6:$Q$70,8,0),"") -> Москва
B17: 45 | C17: =IFERROR(VLOOKUP(B17,пр.взв!$D$6:$Q$70,2,0),"") | D17: =IFERROR(VLOOKUP(B17,пр.взв!$D$6:$Q$70,5,0),"") | E17: =IFERROR(VLOOKUP(B17,пр.взв!$D$6:$Q$70,6,0),"") | F17: =IFERROR(VLOOKUP(B17,пр.взв!$D$6:$Q$70,8,0),"") | M17: 46 | N17: =IFERROR(VLOOKUP(M17,пр.взв!$D$6:$Q$70,2,0),"") | O17: =IFERROR(VLOOKUP(M17,пр.взв!$D$6:$Q$70,5,0),"") | P17: =IFERROR(VLOOKUP(M17,пр.взв!$D$6:$Q$70,6,0),"") | Q17: =IFERROR(VLOOKUP(M17,пр.взв!$D$6:$Q$70,8,0),"")
A18: 8 | B18: 29 | C18: =IFERROR(VLOOKUP(B18,пр.взв!$D$6:$Q$70,2,0),"") -> РАШКИН Никита | D18: =IFERROR(VLOOKUP(B18,пр.взв!$D$6:$Q$70,5,0),"") -> КМС | E18: =IFERROR(VLOOKUP(B18,пр.взв!$D$6:$Q$70,6,0),"") -> УФО | F18: =IFERROR(VLOOKUP(B18,пр.взв!$D$6:$Q$70,8,0),"") -> Свердловская | L18: 24 | M18: 30 | N18: =IFERROR(VLOOKUP(M18,пр.взв!$D$6:$Q$70,2,0),"") -> ШВЕЦ Павел | O18: =IFERROR(VLOOKUP(M18,пр.взв!$D$6:$Q$70,5,0),"") -> КМС | P18: =IFERROR(VLOOKUP(M18,пр.взв!$D$6:$Q$70,6,0),"") -> ЦФО | Q18: =IFERROR(VLOOKUP(M18,пр.взв!$D$6:$Q$70,8,0),"") -> Брянская
B19: 61 | C19: =IFERROR(VLOOKUP(B19,пр.взв!$D$6:$Q$70,2,0),"") | D19: =IFERROR(VLOOKUP(B19,пр.взв!$D$6:$Q$70,5,0),"") | E19: =IFERROR(VLOOKUP(B19,пр.взв!$D$6:$Q$70,6,0),"") | F19: =IFERROR(VLOOKUP(B19,пр.взв!$D$6:$Q$70,8,0),"") | M19: 62 | N19: =IFERROR(VLOOKUP(M19,пр.взв!$D$6:$Q$70,2,0),"") | O19: =IFERROR(VLOOKUP(M19,пр.взв!$D$6:$Q$70,5,0),"") | P19: =IFERROR(VLOOKUP(M19,пр.взв!$D$6:$Q$70,6,0),"") | Q19: =IFERROR(VLOOKUP(M19,пр.взв!$D$6:$Q$70,8,0),"")
A20: 9 | B20: 3 | C20: =IFERROR(VLOOKUP(B20,пр.взв!$D$6:$Q$70,2,0),"") -> ГОРШКОВ Фёдор | D20: =IFERROR(VLOOKUP(B20,пр.взв!$D$6:$Q$70,5,0),"") -> КМС | E20: =IFERROR(VLOOKUP(B20,пр.взв!$D$6:$Q$70,6,0),"") -> СЗФО | F20: =IFERROR(VLOOKUP(B20,пр.взв!$D$6:$Q$70,8,0),"") -> Санкт-Петербург | L20: 25 | M20: 4 | N20: =IFERROR(VLOOKUP(M20,пр.взв!$D$6:$Q$70,2,0),"") -> ЧЕРНИЙ Михаил | O20: =IFERROR(VLOOKUP(M20,пр.взв!$D$6:$Q$70,5,0),"") -> КМС | P20: =IFERROR(VLOOKUP(M20,пр.взв!$D$6:$Q$70,6,0),"") -> ЮФО | Q20: =IFERROR(VLOOKUP(M20,пр.взв!$D$6:$Q$70,8,0),"") -> Краснодарский
B21: 35 | C21: =IFERROR(VLOOKUP(B21,пр.взв!$D$6:$Q$70,2,0),"") -> КОЗЫРСКИЙ Родион | D21: =IFERROR(VLOOKUP(B21,пр.взв!$D$6:$Q$70,5,0),"") -> КМС | E21: =IFERROR(VLOOKUP(B21,пр.взв!$D$6:$Q$70,6,0),"") -> ДВФО | F21: =IFERROR(VLOOKUP(B21,пр.взв!$D$6:$Q$70,8,0),"") -> Хабаровский | M21: 36 | N21: =IFERROR(VLOOKUP(M21,пр.взв!$D$6:$Q$70,2,0),"") -> ВОЛКОВ Александр | O21: =IFERROR(VLOOKUP(M21,пр.взв!$D$6:$Q$70,5,0),"") -> КМС | P21: =IFERROR(VLOOKUP(M21,пр.взв!$D$6:$Q$70,6,0),"") -> ДВФО | Q21: =IFERROR(VLOOKUP(M21,пр.взв!$D$6:$Q$70,8,0),"") -> Приморский
A22: 10 | B22: 19 | C22: =IFERROR(VLOOKUP(B22,пр.взв!$D$6:$Q$70,2,0),"") -> ГОЛОВ Глеб | D22: =IFERROR(VLOOKUP(B22,пр.взв!$D$6:$Q$70,5,0),"") -> КМС | E22: =IFERROR(VLOOKUP(B22,пр.взв!$D$6:$Q$70,6,0),"") -> ПФО | F22: =IFERROR(VLOOKUP(B22,пр.взв!$D$6:$Q$70,8,0),"") -> Р.Татарстан | L22: 26 | M22: 20 | N22: =IFERROR(VLOOKUP(M22,пр.взв!$D$6:$Q$70,2,0),"") -> ТУРАЙКИН Алексей | O22: =IFERROR(VLOOKUP(M22,пр.взв!$D$6:$Q$70,5,0),"") -> КМС | P22: =IFERROR(VLOOKUP(M22,пр.взв!$D$6:$Q$70,6,0),"") -> ДВФО | Q22: =IFERROR(VLOOKUP(M22,пр.взв!$D$6:$Q$70,8,0),"") -> Хабаровский
B23: 51 | C23: =IFERROR(VLOOKUP(B23,пр.взв!$D$6:$Q$70,2,0),"") | D23: =IFERROR(VLOOKUP(B23,пр.взв!$D$6:$Q$70,5,0),"") | E23: =IFERROR(VLOOKUP(B23,пр.взв!$D$6:$Q$70,6,0),"") | F23: =IFERROR(VLOOKUP(B23,пр.взв!$D$6:$Q$70,8,0),"") | M23: 52 | N23: =IFERROR(VLOOKUP(M23,пр.взв!$D$6:$Q$70,2,0),"") | O23: =IFERROR(VLOOKUP(M23,пр.взв!$D$6:$Q$70,5,0),"") | P23: =IFERROR(VLOOKUP(M23,пр.взв!$D$6:$Q$70,6,0),"") | Q23: =IFERROR(VLOOKUP(M23,пр.взв!$D$6:$Q$70,8,0),"")
A24: 11 | B24: 11 | C24: =IFERROR(VLOOKUP(B24,пр.взв!$D$6:$Q$70,2,0),"") -> НАДЫРОВ Адик | D24: =IFERROR(VLOOKUP(B24,пр.взв!$D$6:$Q$70,5,0),"") -> КМС | E24: =IFERROR(VLOOKUP(B24,пр.взв!$D$6:$Q$70,6,0),"") -> ЦФО | F24: =IFERROR(VLOOKUP(B24,пр.взв!$D$6:$Q$70,8,0),"") -> Воронежская | L24: 27 | M24: 12 | N24: =IFERROR(VLOOKUP(M24,пр.взв!$D$6:$Q$70,2,0),"") -> СОМСИН Антон | O24: =IFERROR(VLOOKUP(M24,пр.взв!$D$6:$Q$70,5,0),"") -> КМС | P24: =IFERROR(VLOOKUP(M24,пр.взв!$D$6:$Q$70,6,0),"") -> ЦФО | Q24: =IFERROR(VLOOKUP(M24,пр.взв!$D$6:$Q$70,8,0),"") -> Воронежская
B25: 43 | C25: =IFERROR(VLOOKUP(B25,пр.взв!$D$6:$Q$70,2,0),"") | D25: =IFERROR(VLOOKUP(B25,пр.взв!$D$6:$Q$70,5,0),"") | E25: =IFERROR(VLOOKUP(B25,пр.взв!$D$6:$Q$70,6,0),"") | F25: =IFERROR(VLOOKUP(B25,пр.взв!$D$6:$Q$70,8,0),"") | M25: 44 | N25: =IFERROR(VLOOKUP(M25,пр.взв!$D$6:$Q$70,2,0),"") | O25: =IFERROR(VLOOKUP(M25,пр.взв!$D$6:$Q$70,5,0),"") | P25: =IFERROR(VLOOKUP(M25,пр.взв!$D$6:$Q$70,6,0),"") | Q25: =IFERROR(VLOOKUP(M25,пр.взв!$D$6:$Q$70,8,0),"")
A26: 12 | B26: 27 | C26: =IFERROR(VLOOKUP(B26,пр.взв!$D$6:$Q$70,2,0),"") -> ЧEРНЫЙ Ростислав | D26: =IFERROR(VLOOKUP(B26,пр.взв!$D$6:$Q$70,5,0),"") -> МС | E26: =IFERROR(VLOOKUP(B26,пр.взв!$D$6:$Q$70,6,0),"") -> МОС | F26: =IFERROR(VLOOKUP(B26,пр.взв!$D$6:$Q$70,8,0),"") -> Москва | L26: 28 | M26: 28 | N26: =IFERROR(VLOOKUP(M26,пр.взв!$D$6:$Q$70,2,0),"") -> ВАНЮШИН Максим | O26: =IFERROR(VLOOKUP(M26,пр.взв!$D$6:$Q$70,5,0),"") -> КМС | P26: =IFERROR(VLOOKUP(M26,пр.взв!$D$6:$Q$70,6,0),"") -> ЦФО | Q26: =IFERROR(VLOOKUP(M26,пр.взв!$D$6:$Q$70,8,0),"") -> Рязанская
B27: 59 | C27: =IFERROR(VLOOKUP(B27,пр.взв!$D$6:$Q$70,2,0),"") | D27: =IFERROR(VLOOKUP(B27,пр.взв!$D$6:$Q$70,5,0),"") | E27: =IFERROR(VLOOKUP(B27,пр.взв!$D$6:$Q$70,6,0),"") | F27: =IFERROR(VLOOKUP(B27,пр.взв!$D$6:$Q$70,8,0),"") | M27: 60 | N27: =IFERROR(VLOOKUP(M27,пр.взв!$D$6:$Q$70,2,0),"") | O27: =IFERROR(VLOOKUP(M27,пр.взв!$D$6:$Q$70,5,0),"") | P27: =IFERROR(VLOOKUP(M27,пр.взв!$D$6:$Q$70,6,0),"") | Q27: =IFERROR(VLOOKUP(M27,пр.взв!$D$6:$Q$70,8,0),"")
A28: 13 | B28: 7 | C28: =IFERROR(VLOOKUP(B28,пр.взв!$D$6:$Q$70,2,0),"") -> СТОЛБОВ Иван | D28: =IFERROR(VLOOKUP(B28,пр.взв!$D$6:$Q$70,5,0),"") -> КМС | E28: =IFERROR(VLOOKUP(B28,пр.взв!$D$6:$Q$70,6,0),"") -> ПФО | F28: =IFERROR(VLOOKUP(B28,пр.взв!$D$6:$Q$70,8,0),"") -> Чувашская | L28: 29 | M28: 8 | N28: =IFERROR(VLOOKUP(M28,пр.взв!$D$6:$Q$70,2,0),"") -> ГАЙРБЕКОВ Умар | O28: =IFERROR(VLOOKUP(M28,пр.взв!$D$6:$Q$70,5,0),"") -> КМС | P28: =IFERROR(VLOOKUP(M28,пр.взв!$D$6:$Q$70,6,0),"") -> ПФО | Q28: =IFERROR(VLOOKUP(M28,пр.взв!$D$6:$Q$70,8,0),"") -> Самарская
B29: 39 | C29: =IFERROR(VLOOKUP(B29,пр.взв!$D$6:$Q$70,2,0),"") -> НАШ Расул | D29: =IFERROR(VLOOKUP(B29,пр.взв!$D$6:$Q$70,5,0),"") -> КМС | E29: =IFERROR(VLOOKUP(B29,пр.взв!$D$6:$Q$70,6,0),"") -> ЮФО | F29: =IFERROR(VLOOKUP(B29,пр.взв!$D$6:$Q$70,8,0),"") -> Р.Адыгея | M29: 40 | N29: =IFERROR(VLOOKUP(M29,пр.взв!$D$6:$Q$70,2,0),"") -> РУШЕВ Николай | O29: =IFERROR(VLOOKUP(M29,пр.взв!$D$6:$Q$70,5,0),"") -> КМС | P29: =IFERROR(VLOOKUP(M29,пр.взв!$D$6:$Q$70,6,0),"") -> МОС | Q29: =IFERROR(VLOOKUP(M29,пр.взв!$D$6:$Q$70,8,0),"") -> Москва
A30: 14 | B30: 23 | C30: =IFERROR(VLOOKUP(B30,пр.взв!$D$6:$Q$70,2,0),"") -> СКИБА Владислав | D30: =IFERROR(VLOOKUP(B30,пр.взв!$D$6:$Q$70,5,0),"") -> КМС | E30: =IFERROR(VLOOKUP(B30,пр.взв!$D$6:$Q$70,6,0),"") -> СФО | F30: =IFERROR(VLOOKUP(B30,пр.взв!$D$6:$Q$70,8,0),"") -> Новосибирская | L30: 30 | M30: 24 | N30: =IFERROR(VLOOKUP(M30,пр.взв!$D$6:$Q$70,2,0),"") -> ХАКУЙ Амир | O30: =IFERROR(VLOOKUP(M30,пр.взв!$D$6:$Q$70,5,0),"") -> КМС | P30: =IFERROR(VLOOKUP(M30,пр.взв!$D$6:$Q$70,6,0),"") -> ЮФО | Q30: =IFERROR(VLOOKUP(M30,пр.взв!$D$6:$Q$70,8,0),"") -> Р.Адыгея
B31: 55 | C31: =IFERROR(VLOOKUP(B31,пр.взв!$D$6:$Q$70,2,0),"") | D31: =IFERROR(VLOOKUP(B31,пр.взв!$D$6:$Q$70,5,0),"") | E31: =IFERROR(VLOOKUP(B31,пр.взв!$D$6:$Q$70,6,0),"") | F31: =IFERROR(VLOOKUP(B31,пр.взв!$D$6:$Q$70,8,0),"") | M31: 56 | N31: =IFERROR(VLOOKUP(M31,пр.взв!$D$6:$Q$70,2,0),"") | O31: =IFERROR(VLOOKUP(M31,пр.взв!$D$6:$Q$70,5,0),"") | P31: =IFERROR(VLOOKUP(M31,пр.взв!$D$6:$Q$70,6,0),"") | Q31: =IFERROR(VLOOKUP(M31,пр.взв!$D$6:$Q$70,8,0),"")
A32: 15 | B32: 15 | C32: =IFERROR(VLOOKUP(B32,пр.взв!$D$6:$Q$70,2,0),"") -> МУХАМЕДРИЗАЕВ Рустам | D32: =IFERROR(VLOOKUP(B32,пр.взв!$D$6:$Q$70,5,0),"") -> МС | E32: =IFERROR(VLOOKUP(B32,пр.взв!$D$6:$Q$70,6,0),"") -> МОС | F32: =IFERROR(VLOOKUP(B32,пр.взв!$D$6:$Q$70,8,0),"") -> Москва | L32: 31 | M32: 16 | N32: =IFERROR(VLOOKUP(M32,пр.взв!$D$6:$Q$70,2,0),"") -> ШЕЛКОВНИКОВ Кирилл | O32: =IFERROR(VLOOKUP(M32,пр.взв!$D$6:$Q$70,5,0),"") -> КМС | P32: =IFERROR(VLOOKUP(M32,пр.взв!$D$6:$Q$70,6,0),"") -> СПБ | Q32: =IFERROR(VLOOKUP(M32,пр.взв!$D$6:$Q$70,8,0),"") -> Санкт-Петербург
B33: 47 | C33: =IFERROR(VLOOKUP(B33,пр.взв!$D$6:$Q$70,2,0),"") | D33: =IFERROR(VLOOKUP(B33,пр.взв!$D$6:$Q$70,5,0),"") | E33: =IFERROR(VLOOKUP(B33,пр.взв!$D$6:$Q$70,6,0),"") | F33: =IFERROR(VLOOKUP(B33,пр.взв!$D$6:$Q$70,8,0),"") | M33: 48 | N33: =IFERROR(VLOOKUP(M33,пр.взв!$D$6:$Q$70,2,0),"") | O33: =IFERROR(VLOOKUP(M33,пр.взв!$D$6:$Q$70,5,0),"") | P33: =IFERROR(VLOOKUP(M33,пр.взв!$D$6:$Q$70,6,0),"") | Q33: =IFERROR(VLOOKUP(M33,пр.взв!$D$6:$Q$70,8,0),"")
A34: 16 | B34: 31 | C34: =IFERROR(VLOOKUP(B34,пр.взв!$D$6:$Q$70,2,0),"") -> НУРМАГОМЕДОВ Руслан | D34: =IFERROR(VLOOKUP(B34,пр.взв!$D$6:$Q$70,5,0),"") -> КМС | E34: =IFERROR(VLOOKUP(B34,пр.взв!$D$6:$Q$70,6,0),"") -> ЦФО | F34: =IFERROR(VLOOKUP(B34,пр.взв!$D$6:$Q$70,8,0),"") -> Ярославская | L34: 32 | M34: 32 | N34: =IFERROR(VLOOKUP(M34,пр.взв!$D$6:$Q$70,2,0),"") -> МОВСИСЯН Амбарцум | O34: =IFERROR(VLOOKUP(M34,пр.взв!$D$6:$Q$70,5,0),"") -> КМС | P34: =IFERROR(VLOOKUP(M34,пр.взв!$D$6:$Q$70,6,0),"") -> СЗФО | Q34: =IFERROR(VLOOKUP(M34,пр.взв!$D$6:$Q$70,8,0),"") -> Калининградская
B35: 63 | C35: =IFERROR(VLOOKUP(B35,пр.взв!$D$6:$Q$70,2,0),"") | D35: =IFERROR(VLOOKUP(B35,пр.взв!$D$6:$Q$70,5,0),"") | E35: =IFERROR(VLOOKUP(B35,пр.взв!$D$6:$Q$70,6,0),"") | F35: =IFERROR(VLOOKUP(B35,пр.взв!$D$6:$Q$70,8,0),"") | M35: 64 | N35: =IFERROR(VLOOKUP(M35,пр.взв!$D$6:$Q$70,2,0),"") | O35: =IFERROR(VLOOKUP(M35,пр.взв!$D$6:$Q$70,5,0),"") | P35: =IFERROR(VLOOKUP(M35,пр.взв!$D$6:$Q$70,6,0),"") | Q35: =IFERROR(VLOOKUP(M35,пр.взв!$D$6:$Q$70,8,0),"")
B36: ВСТРЕЧИ ПО КРУГАМ | E36: =E1 -> В.к. 71 кг | G36: =пр.взв!$D$4 -> 0 | M36: ВСТРЕЧИ ПО КРУГАМ | P36: =E36 -> В.к. 71 кг | R36: =пр.взв!$D$4 -> 0
B37: 3 | C37: КОВЕР | D37: 1/32 | E37: Подгуппа А | M37: =B37 -> 3 | N37: КОВЕР | O37: =D37 -> 1/32 | P37: Подгуппа Б
A38: № встр | B38: № п/ж | C38: Ф.И.О. | D38: Д. р., разряд | E38: Вед., регион | G38: Оценки | H38: Очки | I38: Результат | J38: Время | L38: № встр | M38: № п/ж | N38: Ф.И.О. | O38: Д. р., разряд | P38: Вед., регион | R38: Оценки | S38: Очки | T38: Результат | U38: Время
A40: 1 | B40: =пр.хода!E6 -> 0 | C40: =IFERROR(VLOOKUP(B40,пр.взв!$D$6:$Q$70,2,0),"") | D40: =IFERROR(VLOOKUP(B40,пр.взв!$D$6:$Q$70,5,0),"") | E40: =IFERROR(VLOOKUP(B40,пр.взв!$D$6:$Q$70,6,0),"") | F40: =IFERROR(VLOOKUP(B40,пр.взв!$D$6:$Q$70,8,0),"") | L40: 9 | M40: =пр.хода!AA6 -> 0 | N40: =IFERROR(VLOOKUP(M40,пр.взв!$D$6:$Q$70,2,0),"") | O40: =IFERROR(VLOOKUP(M40,пр.взв!$D$6:$Q$70,5,0),"") | P40: =IFERROR(VLOOKUP(M40,пр.взв!$D$6:$Q$70,6,0),"") | Q40: =IFERROR(VLOOKUP(M40,пр.взв!$D$6:$Q$70,8,0),"")
B41: =пр.хода!E10 -> 0 | C41: =IFERROR(VLOOKUP(B41,пр.взв!$D$6:$Q$70,2,0),"") | D41: =IFERROR(VLOOKUP(B41,пр.взв!$D$6:$Q$70,5,0),"") | E41: =IFERROR(VLOOKUP(B41,пр.взв!$D$6:$Q$70,6,0),"") | F41: =IFERROR(VLOOKUP(B41,пр.взв!$D$6:$Q$70,8,0),"") | M41: =пр.хода!AA10 -> 0 | N41: =IFERROR(VLOOKUP(M41,пр.взв!$D$6:$Q$70,2,0),"") | O41: =IFERROR(VLOOKUP(M41,пр.взв!$D$6:$Q$70,5,0),"") | P41: =IFERROR(VLOOKUP(M41,пр.взв!$D$6:$Q$70,6,0),"") | Q41: =IFERROR(VLOOKUP(M41,пр.взв!$D$6:$Q$70,8,0),"")
A42: 2 | B42: =пр.хода!E14 -> 0 | C42: =IFERROR(VLOOKUP(B42,пр.взв!$D$6:$Q$70,2,0),"") | D42: =IFERROR(VLOOKUP(B42,пр.взв!$D$6:$Q$70,5,0),"") | E42: =IFERROR(VLOOKUP(B42,пр.взв!$D$6:$Q$70,6,0),"") | F42: =IFERROR(VLOOKUP(B42,пр.взв!$D$6:$Q$70,8,0),"") | L42: 10 | M42: =пр.хода!AA14 -> 0 | N42: =IFERROR(VLOOKUP(M42,пр.взв!$D$6:$Q$70,2,0),"") | O42: =IFERROR(VLOOKUP(M42,пр.взв!$D$6:$Q$70,5,0),"") | P42: =IFERROR(VLOOKUP(M42,пр.взв!$D$6:$Q$70,6,0),"") | Q42: =IFERROR(VLOOKUP(M42,пр.взв!$D$6:$Q$70,8,0),"")
B43: =пр.хода!E18 -> 0 | C43: =IFERROR(VLOOKUP(B43,пр.взв!$D$6:$Q$70,2,0),"") | D43: =IFERROR(VLOOKUP(B43,пр.взв!$D$6:$Q$70,5,0),"") | E43: =IFERROR(VLOOKUP(B43,пр.взв!$D$6:$Q$70,6,0),"") | F43: =IFERROR(VLOOKUP(B43,пр.взв!$D$6:$Q$70,8,0),"") | M43: =пр.хода!AA18 -> 0 | N43: =IFERROR(VLOOKUP(M43,пр.взв!$D$6:$Q$70,2,0),"") | O43: =IFERROR(VLOOKUP(M43,пр.взв!$D$6:$Q$70,5,0),"") | P43: =IFERROR(VLOOKUP(M43,пр.взв!$D$6:$Q$70,6,0),"") | Q43: =IFERROR(VLOOKUP(M43,пр.взв!$D$6:$Q$70,8,0),"")
A44: 3 | B44: =пр.хода!E22 -> 0 | C44: =IFERROR(VLOOKUP(B44,пр.взв!$D$6:$Q$70,2,0),"") | D44: =IFERROR(VLOOKUP(B44,пр.взв!$D$6:$Q$70,5,0),"") | E44: =IFERROR(VLOOKUP(B44,пр.взв!$D$6:$Q$70,6,0),"") | F44: =IFERROR(VLOOKUP(B44,пр.взв!$D$6:$Q$70,8,0),"") | L44: 11 | M44: =пр.хода!AA22 -> 0 | N44: =IFERROR(VLOOKUP(M44,пр.взв!$D$6:$Q$70,2,0),"") | O44: =IFERROR(VLOOKUP(M44,пр.взв!$D$6:$Q$70,5,0),"") | P44: =IFERROR(VLOOKUP(M44,пр.взв!$D$6:$Q$70,6,0),"") | Q44: =IFERROR(VLOOKUP(M44,пр.взв!$D$6:$Q$70,8,0),"")
B45: =пр.хода!E26 -> 0 | C45: =IFERROR(VLOOKUP(B45,пр.взв!$D$6:$Q$70,2,0),"") | D45: =IFERROR(VLOOKUP(B45,пр.взв!$D$6:$Q$70,5,0),"") | E45: =IFERROR(VLOOKUP(B45,пр.взв!$D$6:$Q$70,6,0),"") | F45: =IFERROR(VLOOKUP(B45,пр.взв!$D$6:$Q$70,8,0),"") | M45: =пр.хода!AA26 -> 0 | N45: =IFERROR(VLOOKUP(M45,пр.взв!$D$6:$Q$70,2,0),"") | O45: =IFERROR(VLOOKUP(M45,пр.взв!$D$6:$Q$70,5,0),"") | P45: =IFERROR(VLOOKUP(M45,пр.взв!$D$6:$Q$70,6,0),"") | Q45: =IFERROR(VLOOKUP(M45,пр.взв!$D$6:$Q$70,8,0),"")
A46: 4 | B46: =пр.хода!E30 -> 0 | C46: =IFERROR(VLOOKUP(B46,пр.взв!$D$6:$Q$70,2,0),"") | D46: =IFERROR(VLOOKUP(B46,пр.взв!$D$6:$Q$70,5,0),"") | E46: =IFERROR(VLOOKUP(B46,пр.взв!$D$6:$Q$70,6,0),"") | F46: =IFERROR(VLOOKUP(B46,пр.взв!$D$6:$Q$70,8,0),"") | L46: 12 | M46: =пр.хода!AA30 -> 0 | N46: =IFERROR(VLOOKUP(M46,пр.взв!$D$6:$Q$70,2,0),"") | O46: =IFERROR(VLOOKUP(M46,пр.взв!$D$6:$Q$70,5,0),"") | P46: =IFERROR(VLOOKUP(M46,пр.взв!$D$6:$Q$70,6,0),"") | Q46: =IFERROR(VLOOKUP(M46,пр.взв!$D$6:$Q$70,8,0),"")
B47: =пр.хода!E34 -> 0 | C47: =IFERROR(VLOOKUP(B47,пр.взв!$D$6:$Q$70,2,0),"") | D47: =IFERROR(VLOOKUP(B47,пр.взв!$D$6:$Q$70,5,0),"") | E47: =IFERROR(VLOOKUP(B47,пр.взв!$D$6:$Q$70,6,0),"") | F47: =IFERROR(VLOOKUP(B47,пр.взв!$D$6:$Q$70,8,0),"") | M47: =пр.хода!AA34 -> 0 | N47: =IFERROR(VLOOKUP(M47,пр.взв!$D$6:$Q$70,2,0),"") | O47: =IFERROR(VLOOKUP(M47,пр.взв!$D$6:$Q$70,5,0),"") | P47: =IFERROR(VLOOKUP(M47,пр.взв!$D$6:$Q$70,6,0),"") | Q47: =IFERROR(VLOOKUP(M47,пр.взв!$D$6:$Q$70,8,0),"")
A48: 5 | B48: =пр.хода!E39 -> 0 | C48: =IFERROR(VLOOKUP(B48,пр.взв!$D$6:$Q$70,2,0),"") | D48: =IFERROR(VLOOKUP(B48,пр.взв!$D$6:$Q$70,5,0),"") | E48: =IFERROR(VLOOKUP(B48,пр.взв!$D$6:$Q$70,6,0),"") | F48: =IFERROR(VLOOKUP(B48,пр.взв!$D$6:$Q$70,8,0),"") | L48: 13 | M48: =пр.хода!AA39 -> 0 | N48: =IFERROR(VLOOKUP(M48,пр.взв!$D$6:$Q$70,2,0),"") | O48: =IFERROR(VLOOKUP(M48,пр.взв!$D$6:$Q$70,5,0),"") | P48: =IFERROR(VLOOKUP(M48,пр.взв!$D$6:$Q$70,6,0),"") | Q48: =IFERROR(VLOOKUP(M48,пр.взв!$D$6:$Q$70,8,0),"")
B49: =пр.хода!E43 -> 0 | C49: =IFERROR(VLOOKUP(B49,пр.взв!$D$6:$Q$70,2,0),"") | D49: =IFERROR(VLOOKUP(B49,пр.взв!$D$6:$Q$70,5,0),"") | E49: =IFERROR(VLOOKUP(B49,пр.взв!$D$6:$Q$70,6,0),"") | F49: =IFERROR(VLOOKUP(B49,пр.взв!$D$6:$Q$70,8,0),"") | M49: =пр.хода!AA43 -> 0 | N49: =IFERROR(VLOOKUP(M49,пр.взв!$D$6:$Q$70,2,0),"") | O49: =IFERROR(VLOOKUP(M49,пр.взв!$D$6:$Q$70,5,0),"") | P49: =IFERROR(VLOOKUP(M49,пр.взв!$D$6:$Q$70,6,0),"") | Q49: =IFERROR(VLOOKUP(M49,пр.взв!$D$6:$Q$70,8,0),"")
A50: 6 | B50: =пр.хода!E47 -> 0 | C50: =IFERROR(VLOOKUP(B50,пр.взв!$D$6:$Q$70,2,0),"") | D50: =IFERROR(VLOOKUP(B50,пр.взв!$D$6:$Q$70,5,0),"") | E50: =IFERROR(VLOOKUP(B50,пр.взв!$D$6:$Q$70,6,0),"") | F50: =IFERROR(VLOOKUP(B50,пр.взв!$D$6:$Q$70,8,0),"") | L50: 14 | M50: =пр.хода!AA47 -> 0 | N50: =IFERROR(VLOOKUP(M50,пр.взв!$D$6:$Q$70,2,0),"") | O50: =IFERROR(VLOOKUP(M50,пр.взв!$D$6:$Q$70,5,0),"") | P50: =IFERROR(VLOOKUP(M50,пр.взв!$D$6:$Q$70,6,0),"") | Q50: =IFERROR(VLOOKUP(M50,пр.взв!$D$6:$Q$70,8,0),"")
B51: =пр.хода!E51 -> 0 | C51: =IFERROR(VLOOKUP(B51,пр.взв!$D$6:$Q$70,2,0),"") | D51: =IFERROR(VLOOKUP(B51,пр.взв!$D$6:$Q$70,5,0),"") | E51: =IFERROR(VLOOKUP(B51,пр.взв!$D$6:$Q$70,6,0),"") | F51: =IFERROR(VLOOKUP(B51,пр.взв!$D$6:$Q$70,8,0),"") | M51: =пр.хода!AA51 -> 0 | N51: =IFERROR(VLOOKUP(M51,пр.взв!$D$6:$Q$70,2,0),"") | O51: =IFERROR(VLOOKUP(M51,пр.взв!$D$6:$Q$70,5,0),"") | P51: =IFERROR(VLOOKUP(M51,пр.взв!$D$6:$Q$70,6,0),"") | Q51: =IFERROR(VLOOKUP(M51,пр.взв!$D$6:$Q$70,8,0),"")
A52: 7 | B52: =пр.хода!E55 -> 0 | C52: =IFERROR(VLOOKUP(B52,пр.взв!$D$6:$Q$70,2,0),"") | D52: =IFERROR(VLOOKUP(B52,пр.взв!$D$6:$Q$70,5,0),"") | E52: =IFERROR(VLOOKUP(B52,пр.взв!$D$6:$Q$70,6,0),"") | F52: =IFERROR(VLOOKUP(B52,пр.взв!$D$6:$Q$70,8,0),"") | L52: 15 | M52: =пр.хода!AA55 -> 0 | N52: =IFERROR(VLOOKUP(M52,пр.взв!$D$6:$Q$70,2,0),"") | O52: =IFERROR(VLOOKUP(M52,пр.взв!$D$6:$Q$70,5,0),"") | P52: =IFERROR(VLOOKUP(M52,пр.взв!$D$6:$Q$70,6,0),"") | Q52: =IFERROR(VLOOKUP(M52,пр.взв!$D$6:$Q$70,8,0),"")
B53: =пр.хода!E59 -> 0 | C53: =IFERROR(VLOOKUP(B53,пр.взв!$D$6:$Q$70,2,0),"") | D53: =IFERROR(VLOOKUP(B53,пр.взв!$D$6:$Q$70,5,0),"") | E53: =IFERROR(VLOOKUP(B53,пр.взв!$D$6:$Q$70,6,0),"") | F53: =IFERROR(VLOOKUP(B53,пр.взв!$D$6:$Q$70,8,0),"") | M53: =пр.хода!AA59 -> 0 | N53: =IFERROR(VLOOKUP(M53,пр.взв!$D$6:$Q$70,2,0),"") | O53: =IFERROR(VLOOKUP(M53,пр.взв!$D$6:$Q$70,5,0),"") | P53: =IFERROR(VLOOKUP(M53,пр.взв!$D$6:$Q$70,6,0),"") | Q53: =IFERROR(VLOOKUP(M53,пр.взв!$D$6:$Q$70,8,0),"")
A54: 8 | B54: =пр.хода!E63 -> 0 | C54: =IFERROR(VLOOKUP(B54,пр.взв!$D$6:$Q$70,2,0),"") | D54: =IFERROR(VLOOKUP(B54,пр.взв!$D$6:$Q$70,5,0),"") | E54: =IFERROR(VLOOKUP(B54,пр.взв!$D$6:$Q$70,6,0),"") | F54: =IFERROR(VLOOKUP(B54,пр.взв!$D$6:$Q$70,8,0),"") | L54: 16 | M54: =пр.хода!AA63 -> 0 | N54: =IFERROR(VLOOKUP(M54,пр.взв!$D$6:$Q$70,2,0),"") | O54: =IFERROR(VLOOKUP(M54,пр.взв!$D$6:$Q$70,5,0),"") | P54: =IFERROR(VLOOKUP(M54,пр.взв!$D$6:$Q$70,6,0),"") | Q54: =IFERROR(VLOOKUP(M54,пр.взв!$D$6:$Q$70,8,0),"")
B55: =пр.хода!E67 -> 0 | C55: =IFERROR(VLOOKUP(B55,пр.взв!$D$6:$Q$70,2,0),"") | D55: =IFERROR(VLOOKUP(B55,пр.взв!$D$6:$Q$70,5,0),"") | E55: =IFERROR(VLOOKUP(B55,пр.взв!$D$6:$Q$70,6,0),"") | F55: =IFERROR(VLOOKUP(B55,пр.взв!$D$6:$Q$70,8,0),"") | M55: =пр.хода!AA67 -> 0 | N55: =IFERROR(VLOOKUP(M55,пр.взв!$D$6:$Q$70,2,0),"") | O55: =IFERROR(VLOOKUP(M55,пр.взв!$D$6:$Q$70,5,0),"") | P55: =IFERROR(VLOOKUP(M55,пр.взв!$D$6:$Q$70,6,0),"") | Q55: =IFERROR(VLOOKUP(M55,пр.взв!$D$6:$Q$70,8,0),"")
B56: A | C56: (Круг) | F56: 1/8 | G56: =пр.взв!$D$4 -> 0 | M56: Б | N56: (Круг) | Q56: 1/8 | R56: =пр.взв!$D$4 -> 0
A57: № встр | B57: № п/ж | C57: Ф.И.О. | D57: Д. р., разряд | E57: Вед., регион | G57: Оценки | H57: Очки | I57: Результат | J57: Время | L57: № встр | M57: № п/ж | N57: Ф.И.О. | O57: Д. р., разряд | P57: Вед., регион | R57: Оценки | S57: Очки | T57: Результат | U57: Время
A59: 1 | B59: =пр.хода!G8 -> 0 | C59: =IFERROR(VLOOKUP(B59,пр.взв!$D$6:$Q$70,2,0),"") | D59: =IFERROR(VLOOKUP(B59,пр.взв!$D$6:$Q$70,5,0),"") | E59: =IFERROR(VLOOKUP(B59,пр.взв!$D$6:$Q$70,6,0),"") | F59: =IFERROR(VLOOKUP(B59,пр.взв!$D$6:$Q$70,8,0),"") | L59: 5 | M59: =пр.хода!Y8 -> 0 | N59: =IFERROR(VLOOKUP(M59,пр.взв!$D$6:$Q$70,2,0),"") | O59: =IFERROR(VLOOKUP(M59,пр.взв!$D$6:$Q$70,5,0),"") | P59: =IFERROR(VLOOKUP(M59,пр.взв!$D$6:$Q$70,6,0),"") | Q59: =IFERROR(VLOOKUP(M59,пр.взв!$D$6:$Q$70,8,0),"")
B60: =пр.хода!G16 -> 0 | C60: =IFERROR(VLOOKUP(B60,пр.взв!$D$6:$Q$70,2,0),"") | D60: =IFERROR(VLOOKUP(B60,пр.взв!$D$6:$Q$70,5,0),"") | E60: =IFERROR(VLOOKUP(B60,пр.взв!$D$6:$Q$70,6,0),"") | F60: =IFERROR(VLOOKUP(B60,пр.взв!$D$6:$Q$70,8,0),"") | M60: =пр.хода!Y16 -> 0 | N60: =IFERROR(VLOOKUP(M60,пр.взв!$D$6:$Q$70,2,0),"") | O60: =IFERROR(VLOOKUP(M60,пр.взв!$D$6:$Q$70,5,0),"") | P60: =IFERROR(VLOOKUP(M60,пр.взв!$D$6:$Q$70,6,0),"") | Q60: =IFERROR(VLOOKUP(M60,пр.взв!$D$6:$Q$70,8,0),"")
A61: 2 | B61: =пр.хода!G24 -> 0 | C61: =IFERROR(VLOOKUP(B61,пр.взв!$D$6:$Q$70,2,0),"") | D61: =IFERROR(VLOOKUP(B61,пр.взв!$D$6:$Q$70,5,0),"") | E61: =IFERROR(VLOOKUP(B61,пр.взв!$D$6:$Q$70,6,0),"") | F61: =IFERROR(VLOOKUP(B61,пр.взв!$D$6:$Q$70,8,0),"") | L61: 6 | M61: =пр.хода!Y24 -> 0 | N61: =IFERROR(VLOOKUP(M61,пр.взв!$D$6:$Q$70,2,0),"") | O61: =IFERROR(VLOOKUP(M61,пр.взв!$D$6:$Q$70,5,0),"") | P61: =IFERROR(VLOOKUP(M61,пр.взв!$D$6:$Q$70,6,0),"") | Q61: =IFERROR(VLOOKUP(M61,пр.взв!$D$6:$Q$70,8,0),"")
B62: =пр.хода!G32 -> 0 | C62: =IFERROR(VLOOKUP(B62,пр.взв!$D$6:$Q$70,2,0),"") | D62: =IFERROR(VLOOKUP(B62,пр.взв!$D$6:$Q$70,5,0),"") | E62: =IFERROR(VLOOKUP(B62,пр.взв!$D$6:$Q$70,6,0),"") | F62: =IFERROR(VLOOKUP(B62,пр.взв!$D$6:$Q$70,8,0),"") | M62: =пр.хода!Y32 -> 0 | N62: =IFERROR(VLOOKUP(M62,пр.взв!$D$6:$Q$70,2,0),"") | O62: =IFERROR(VLOOKUP(M62,пр.взв!$D$6:$Q$70,5,0),"") | P62: =IFERROR(VLOOKUP(M62,пр.взв!$D$6:$Q$70,6,0),"") | Q62: =IFERROR(VLOOKUP(M62,пр.взв!$D$6:$Q$70,8,0),"")
A63: 3 | B63: =пр.хода!G41 -> 0 | C63: =IFERROR(VLOOKUP(B63,пр.взв!$D$6:$Q$70,2,0),"") | D63: =IFERROR(VLOOKUP(B63,пр.взв!$D$6:$Q$70,5,0),"") | E63: =IFERROR(VLOOKUP(B63,пр.взв!$D$6:$Q$70,6,0),"") | F63: =IFERROR(VLOOKUP(B63,пр.взв!$D$6:$Q$70,8,0),"") | L63: 7 | M63: =пр.хода!Y41 -> 0 | N63: =IFERROR(VLOOKUP(M63,пр.взв!$D$6:$Q$70,2,0),"") | O63: =IFERROR(VLOOKUP(M63,пр.взв!$D$6:$Q$70,5,0),"") | P63: =IFERROR(VLOOKUP(M63,пр.взв!$D$6:$Q$70,6,0),"") | Q63: =IFERROR(VLOOKUP(M63,пр.взв!$D$6:$Q$70,8,0),"")
B64: =пр.хода!G49 -> 0 | C64: =IFERROR(VLOOKUP(B64,пр.взв!$D$6:$Q$70,2,0),"") | D64: =IFERROR(VLOOKUP(B64,пр.взв!$D$6:$Q$70,5,0),"") | E64: =IFERROR(VLOOKUP(B64,пр.взв!$D$6:$Q$70,6,0),"") | F64: =IFERROR(VLOOKUP(B64,пр.взв!$D$6:$Q$70,8,0),"") | M64: =пр.хода!Y49 -> 0 | N64: =IFERROR(VLOOKUP(M64,пр.взв!$D$6:$Q$70,2,0),"") | O64: =IFERROR(VLOOKUP(M64,пр.взв!$D$6:$Q$70,5,0),"") | P64: =IFERROR(VLOOKUP(M64,пр.взв!$D$6:$Q$70,6,0),"") | Q64: =IFERROR(VLOOKUP(M64,пр.взв!$D$6:$Q$70,8,0),"")
A65: 4 | B65: =пр.хода!G57 -> 0 | C65: =IFERROR(VLOOKUP(B65,пр.взв!$D$6:$Q$70,2,0),"") | D65: =IFERROR(VLOOKUP(B65,пр.взв!$D$6:$Q$70,5,0),"") | E65: =IFERROR(VLOOKUP(B65,пр.взв!$D$6:$Q$70,6,0),"") | F65: =IFERROR(VLOOKUP(B65,пр.взв!$D$6:$Q$70,8,0),"") | L65: 8 | M65: =пр.хода!Y57 -> 0 | N65: =IFERROR(VLOOKUP(M65,пр.взв!$D$6:$Q$70,2,0),"") | O65: =IFERROR(VLOOKUP(M65,пр.взв!$D$6:$Q$70,5,0),"") | P65: =IFERROR(VLOOKUP(M65,пр.взв!$D$6:$Q$70,6,0),"") | Q65: =IFERROR(VLOOKUP(M65,пр.взв!$D$6:$Q$70,8,0),"")
B66: =пр.хода!G65 -> 0 | C66: =IFERROR(VLOOKUP(B66,пр.взв!$D$6:$Q$70,2,0),"") | D66: =IFERROR(VLOOKUP(B66,пр.взв!$D$6:$Q$70,5,0),"") | E66: =IFERROR(VLOOKUP(B66,пр.взв!$D$6:$Q$70,6,0),"") | F66: =IFERROR(VLOOKUP(B66,пр.взв!$D$6:$Q$70,8,0),"") | M66: =пр.хода!Y65 -> 0 | N66: =IFERROR(VLOOKUP(M66,пр.взв!$D$6:$Q$70,2,0),"") | O66: =IFERROR(VLOOKUP(M66,пр.взв!$D$6:$Q$70,5,0),"") | P66: =IFERROR(VLOOKUP(M66,пр.взв!$D$6:$Q$70,6,0),"") | Q66: =IFERROR(VLOOKUP(M66,пр.взв!$D$6:$Q$70,8,0),"")
B67: A | C67: (Круг) | F67: 1/4 | G67: =пр.взв!$D$4 -> 0 | M67: B | N67: (Круг) | Q67: 1/4 | R67: =пр.взв!$D$4 -> 0
A68: № встр | B68: № п/ж | C68: Ф.И.О. | D68: Д. р., разряд | E68: Вед., регион | G68: Оценки | H68: Очки | I68: Результат | J68: Время | L68: № встр | M68: № п/ж | N68: Ф.И.О. | O68: Д. р., разряд | P68: Вед., регион | R68: Оценки | S68: Очки | T68: Результат | U68: Время
A70: 1 | B70: =пр.хода!I12 -> 0 | C70: =IFERROR(VLOOKUP(B70,пр.взв!$D$6:$Q$70,2,0),"") | D70: =IFERROR(VLOOKUP(B70,пр.взв!$D$6:$Q$70,5,0),"") | E70: =IFERROR(VLOOKUP(B70,пр.взв!$D$6:$Q$70,6,0),"") | F70: =IFERROR(VLOOKUP(B70,пр.взв!$D$6:$Q$70,8,0),"") | L70: 3 | M70: =пр.хода!W12 -> 0 | N70: =IFERROR(VLOOKUP(M70,пр.взв!$D$6:$Q$70,2,0),"") | O70: =IFERROR(VLOOKUP(M70,пр.взв!$D$6:$Q$70,5,0),"") | P70: =IFERROR(VLOOKUP(M70,пр.взв!$D$6:$Q$70,6,0),"") | Q70: =IFERROR(VLOOKUP(M70,пр.взв!$D$6:$Q$70,8,0),"")
B71: =пр.хода!I28 -> 0 | C71: =IFERROR(VLOOKUP(B71,пр.взв!$D$6:$Q$70,2,0),"") | D71: =IFERROR(VLOOKUP(B71,пр.взв!$D$6:$Q$70,5,0),"") | E71: =IFERROR(VLOOKUP(B71,пр.взв!$D$6:$Q$70,6,0),"") | F71: =IFERROR(VLOOKUP(B71,пр.взв!$D$6:$Q$70,8,0),"") | M71: =пр.хода!W28 -> 0 | N71: =IFERROR(VLOOKUP(M71,пр.взв!$D$6:$Q$70,2,0),"") | O71: =IFERROR(VLOOKUP(M71,пр.взв!$D$6:$Q$70,5,0),"") | P71: =IFERROR(VLOOKUP(M71,пр.взв!$D$6:$Q$70,6,0),"") | Q71: =IFERROR(VLOOKUP(M71,пр.взв!$D$6:$Q$70,8,0),"")
A72: 2 | B72: =пр.хода!I46 -> 0 | C72: =IFERROR(VLOOKUP(B72,пр.взв!$D$6:$Q$70,2,0),"") | D72: =IFERROR(VLOOKUP(B72,пр.взв!$D$6:$Q$70,5,0),"") | E72: =IFERROR(VLOOKUP(B72,пр.взв!$D$6:$Q$70,6,0),"") | F72: =IFERROR(VLOOKUP(B72,пр.взв!$D$6:$Q$70,8,0),"") | L72: 4 | M72: =пр.хода!W45 -> 0 | N72: =IFERROR(VLOOKUP(M72,пр.взв!$D$6:$Q$70,2,0),"") | O72: =IFERROR(VLOOKUP(M72,пр.взв!$D$6:$Q$70,5,0),"") | P72: =IFERROR(VLOOKUP(M72,пр.взв!$D$6:$Q$70,6,0),"") | Q72: =IFERROR(VLOOKUP(M72,пр.взв!$D$6:$Q$70,8,0),"")
B73: =пр.хода!I61 -> 0 | C73: =IFERROR(VLOOKUP(B73,пр.взв!$D$6:$Q$70,2,0),"") | D73: =IFERROR(VLOOKUP(B73,пр.взв!$D$6:$Q$70,5,0),"") | E73: =IFERROR(VLOOKUP(B73,пр.взв!$D$6:$Q$70,6,0),"") | F73: =IFERROR(VLOOKUP(B73,пр.взв!$D$6:$Q$70,8,0),"") | M73: =пр.хода!W61 -> 0 | N73: =IFERROR(VLOOKUP(M73,пр.взв!$D$6:$Q$70,2,0),"") | O73: =IFERROR(VLOOKUP(M73,пр.взв!$D$6:$Q$70,5,0),"") | P73: =IFERROR(VLOOKUP(M73,пр.взв!$D$6:$Q$70,6,0),"") | Q73: =IFERROR(VLOOKUP(M73,пр.взв!$D$6:$Q$70,8,0),"")
B74: A | C74: Полуфинал | G74: =пр.взв!$D$4 -> 0 | M74: Б | N74: Полуфинал | R74: =пр.взв!$D$4 -> 0
A75: № встр | B75: № п/ж | C75: Ф.И.О. | D75: Д. р., разряд | E75: Вед., регион | G75: Оценки | H75: Очки | I75: Результат | J75: Время | L75: № встр | M75: № п/ж | N75: Ф.И.О. | O75: Д. р., разряд | P75: Вед., регион | R75: Оценки | S75: Очки | T75: Результат | U75: Время
A77: 1 | B77: =пр.хода!K20 -> 0 | C77: =IFERROR(VLOOKUP(B77,пр.взв!$D$6:$Q$70,2,0),"") | D77: =IFERROR(VLOOKUP(B77,пр.взв!$D$6:$Q$70,5,0),"") | E77: =IFERROR(VLOOKUP(B77,пр.взв!$D$6:$Q$70,6,0),"") | F77: =IFERROR(VLOOKUP(B77,пр.взв!$D$6:$Q$70,8,0),"") | L77: 2 | M77: =пр.хода!U20 -> 0 | N77: =IFERROR(VLOOKUP(M77,пр.взв!$D$6:$Q$70,2,0),"") | O77: =IFERROR(VLOOKUP(M77,пр.взв!$D$6:$Q$70,5,0),"") | P77: =IFERROR(VLOOKUP(M77,пр.взв!$D$6:$Q$70,6,0),"") | Q77: =IFERROR(VLOOKUP(M77,пр.взв!$D$6:$Q$70,8,0),"")
B78: =пр.хода!K53 -> 0 | C78: =IFERROR(VLOOKUP(B78,пр.взв!$D$6:$Q$70,2,0),"") | D78: =IFERROR(VLOOKUP(B78,пр.взв!$D$6:$Q$70,5,0),"") | E78: =IFERROR(VLOOKUP(B78,пр.взв!$D$6:$Q$70,6,0),"") | F78: =IFERROR(VLOOKUP(B78,пр.взв!$D$6:$Q$70,8,0),"") | M78: =пр.хода!U53 -> 0 | N78: =IFERROR(VLOOKUP(M78,пр.взв!$D$6:$Q$70,2,0),"") | O78: =IFERROR(VLOOKUP(M78,пр.взв!$D$6:$Q$70,5,0),"") | P78: =IFERROR(VLOOKUP(M78,пр.взв!$D$6:$Q$70,6,0),"") | Q78: =IFERROR(VLOOKUP(M78,пр.взв!$D$6:$Q$70,8,0),"")
A79: (Утешительные встречи) 16 | L79: (Утешительные встречи) 16
B80: A | G80: =пр.взв!$D$4 -> 0 | M80: Б | R80: =пр.взв!$D$4 -> 0
A81: № встр | B81: № п/ж | C81: Ф.И.О. | D81: Д. р., разряд | E81: Вед., регион | G81: Оценки | H81: Очки | I81: Результат | J81: Время | L81: № встр | M81: № п/ж | N81: Ф.И.О. | O81: Д. р., разряд | P81: Вед., регион | R81: Оценки | S81: Очки | T81: Результат | U81: Время
A83: 1 | B83: =пр.хода!L7 | C83: =IFERROR(VLOOKUP(B83,пр.взв!$D$6:$Q$70,2,0),"") | D83: =IFERROR(VLOOKUP(B83,пр.взв!$D$6:$Q$70,5,0),"") | E83: =IFERROR(VLOOKUP(B83,пр.взв!$D$6:$Q$70,6,0),"") | F83: =IFERROR(VLOOKUP(B83,пр.взв!$D$6:$Q$70,8,0),"") | L83: 3 | M83: =пр.хода!L56 | N83: =IFERROR(VLOOKUP(M83,пр.взв!$D$6:$Q$70,2,0),"") | O83: =IFERROR(VLOOKUP(M83,пр.взв!$D$6:$Q$70,5,0),"") | P83: =IFERROR(VLOOKUP(M83,пр.взв!$D$6:$Q$70,6,0),"") | Q83: =IFERROR(VLOOKUP(M83,пр.взв!$D$6:$Q$70,8,0),"")
B84: =пр.хода!L10 | C84: =IFERROR(VLOOKUP(B84,пр.взв!$D$6:$Q$70,2,0),"") | D84: =IFERROR(VLOOKUP(B84,пр.взв!$D$6:$Q$70,5,0),"") | E84: =IFERROR(VLOOKUP(B84,пр.взв!$D$6:$Q$70,6,0),"") | F84: =IFERROR(VLOOKUP(B84,пр.взв!$D$6:$Q$70,8,0),"") | M84: =пр.хода!L59 | N84: =IFERROR(VLOOKUP(M84,пр.взв!$D$6:$Q$70,2,0),"") | O84: =IFERROR(VLOOKUP(M84,пр.взв!$D$6:$Q$70,5,0),"") | P84: =IFERROR(VLOOKUP(M84,пр.взв!$D$6:$Q$70,6,0),"") | Q84: =IFERROR(VLOOKUP(M84,пр.взв!$D$6:$Q$70,8,0),"")
A85: 2 | B85: =пр.хода!L14 | C85: =IFERROR(VLOOKUP(B85,пр.взв!$D$6:$Q$70,2,0),"") | D85: =IFERROR(VLOOKUP(B85,пр.взв!$D$6:$Q$70,5,0),"") | E85: =IFERROR(VLOOKUP(B85,пр.взв!$D$6:$Q$70,6,0),"") | F85: =IFERROR(VLOOKUP(B85,пр.взв!$D$6:$Q$70,8,0),"") | L85: 4 | M85: =пр.хода!L63 | N85: =IFERROR(VLOOKUP(M85,пр.взв!$D$6:$Q$70,2,0),"") | O85: =IFERROR(VLOOKUP(M85,пр.взв!$D$6:$Q$70,5,0),"") | P85: =IFERROR(VLOOKUP(M85,пр.взв!$D$6:$Q$70,6,0),"") | Q85: =IFERROR(VLOOKUP(M85,пр.взв!$D$6:$Q$70,8,0),"")
B86: =пр.хода!L17 | C86: =IFERROR(VLOOKUP(B86,пр.взв!$D$6:$Q$70,2,0),"") | D86: =IFERROR(VLOOKUP(B86,пр.взв!$D$6:$Q$70,5,0),"") | E86: =IFERROR(VLOOKUP(B86,пр.взв!$D$6:$Q$70,6,0),"") | F86: =IFERROR(VLOOKUP(B86,пр.взв!$D$6:$Q$70,8,0),"") | M86: =пр.хода!L66 | N86: =IFERROR(VLOOKUP(M86,пр.взв!$D$6:$Q$70,2,0),"") | O86: =IFERROR(VLOOKUP(M86,пр.взв!$D$6:$Q$70,5,0),"") | P86: =IFERROR(VLOOKUP(M86,пр.взв!$D$6:$Q$70,6,0),"") | Q86: =IFERROR(VLOOKUP(M86,пр.взв!$D$6:$Q$70,8,0),"")
A87: (Утешительные встречи) 12 | L87: (Утешительные встречи) 12
A88: 5 | B88: =пр.хода!N8 -> 0 | C88: =IFERROR(VLOOKUP(B88,пр.взв!$D$6:$Q$70,2,0),"") | D88: =IFERROR(VLOOKUP(B88,пр.взв!$D$6:$Q$70,5,0),"") | E88: =IFERROR(VLOOKUP(B88,пр.взв!$D$6:$Q$70,6,0),"") | F88: =IFERROR(VLOOKUP(B88,пр.взв!$D$6:$Q$70,8,0),"") | L88: 7 | M88: =пр.хода!N57 -> 0 | N88: =IFERROR(VLOOKUP(M88,пр.взв!$D$6:$Q$70,2,0),"") | O88: =IFERROR(VLOOKUP(M88,пр.взв!$D$6:$Q$70,5,0),"") | P88: =IFERROR(VLOOKUP(M88,пр.взв!$D$6:$Q$70,6,0),"") | Q88: =IFERROR(VLOOKUP(M88,пр.взв!$D$6:$Q$70,8,0),"")
B89: =пр.хода!N11 | C89: =IFERROR(VLOOKUP(B89,пр.взв!$D$6:$Q$70,2,0),"") | D89: =IFERROR(VLOOKUP(B89,пр.взв!$D$6:$Q$70,5,0),"") | E89: =IFERROR(VLOOKUP(B89,пр.взв!$D$6:$Q$70,6,0),"") | F89: =IFERROR(VLOOKUP(B89,пр.взв!$D$6:$Q$70,8,0),"") | M89: =пр.хода!N60 | N89: =IFERROR(VLOOKUP(M89,пр.взв!$D$6:$Q$70,2,0),"") | O89: =IFERROR(VLOOKUP(M89,пр.взв!$D$6:$Q$70,5,0),"") | P89: =IFERROR(VLOOKUP(M89,пр.взв!$D$6:$Q$70,6,0),"") | Q89: =IFERROR(VLOOKUP(M89,пр.взв!$D$6:$Q$70,8,0),"")
A90: 6 | B90: =пр.хода!N15 -> 0 | C90: =IFERROR(VLOOKUP(B90,пр.взв!$D$6:$Q$70,2,0),"") | D90: =IFERROR(VLOOKUP(B90,пр.взв!$D$6:$Q$70,5,0),"") | E90: =IFERROR(VLOOKUP(B90,пр.взв!$D$6:$Q$70,6,0),"") | F90: =IFERROR(VLOOKUP(B90,пр.взв!$D$6:$Q$70,8,0),"") | L90: 8 | M90: =пр.хода!N64 -> 0 | N90: =IFERROR(VLOOKUP(M90,пр.взв!$D$6:$Q$70,2,0),"") | O90: =IFERROR(VLOOKUP(M90,пр.взв!$D$6:$Q$70,5,0),"") | P90: =IFERROR(VLOOKUP(M90,пр.взв!$D$6:$Q$70,6,0),"") | Q90: =IFERROR(VLOOKUP(M90,пр.взв!$D$6:$Q$70,8,0),"")
B91: =пр.хода!N18 | C91: =IFERROR(VLOOKUP(B91,пр.взв!$D$6:$Q$70,2,0),"") | D91: =IFERROR(VLOOKUP(B91,пр.взв!$D$6:$Q$70,5,0),"") | E91: =IFERROR(VLOOKUP(B91,пр.взв!$D$6:$Q$70,6,0),"") | F91: =IFERROR(VLOOKUP(B91,пр.взв!$D$6:$Q$70,8,0),"") | M91: =пр.хода!N67 | N91: =IFERROR(VLOOKUP(M91,пр.взв!$D$6:$Q$70,2,0),"") | O91: =IFERROR(VLOOKUP(M91,пр.взв!$D$6:$Q$70,5,0),"") | P91: =IFERROR(VLOOKUP(M91,пр.взв!$D$6:$Q$70,6,0),"") | Q91: =IFERROR(VLOOKUP(M91,пр.взв!$D$6:$Q$70,8,0),"")
A92: (Утешительные встречи) 8 | L92: (Утешительные встречи) 8
A93: 9 | B93: =пр.хода!O10 -> 0 | C93: =IFERROR(VLOOKUP(B93,пр.взв!$D$6:$Q$70,2,0),"") | D93: =IFERROR(VLOOKUP(B93,пр.взв!$D$6:$Q$70,5,0),"") | E93: =IFERROR(VLOOKUP(B93,пр.взв!$D$6:$Q$70,6,0),"") | F93: =IFERROR(VLOOKUP(B93,пр.взв!$D$6:$Q$70,8,0),"") | L93: 11 | M93: =пр.хода!O59 -> 0 | N93: =IFERROR(VLOOKUP(M93,пр.взв!$D$6:$Q$70,2,0),"") | O93: =IFERROR(VLOOKUP(M93,пр.взв!$D$6:$Q$70,5,0),"") | P93: =IFERROR(VLOOKUP(M93,пр.взв!$D$6:$Q$70,6,0),"") | Q93: =IFERROR(VLOOKUP(M93,пр.взв!$D$6:$Q$70,8,0),"")
B94: =пр.хода!O13 | C94: =IFERROR(VLOOKUP(B94,пр.взв!$D$6:$Q$70,2,0),"") | D94: =IFERROR(VLOOKUP(B94,пр.взв!$D$6:$Q$70,5,0),"") | E94: =IFERROR(VLOOKUP(B94,пр.взв!$D$6:$Q$70,6,0),"") | F94: =IFERROR(VLOOKUP(B94,пр.взв!$D$6:$Q$70,8,0),"") | M94: =пр.хода!O62 | N94: =IFERROR(VLOOKUP(M94,пр.взв!$D$6:$Q$70,2,0),"") | O94: =IFERROR(VLOOKUP(M94,пр.взв!$D$6:$Q$70,5,0),"") | P94: =IFERROR(VLOOKUP(M94,пр.взв!$D$6:$Q$70,6,0),"") | Q94: =IFERROR(VLOOKUP(M94,пр.взв!$D$6:$Q$70,8,0),"")
A95: 10 | B95: =пр.хода!O17 -> 0 | C95: =IFERROR(VLOOKUP(B95,пр.взв!$D$6:$Q$70,2,0),"") | D95: =IFERROR(VLOOKUP(B95,пр.взв!$D$6:$Q$70,5,0),"") | E95: =IFERROR(VLOOKUP(B95,пр.взв!$D$6:$Q$70,6,0),"") | F95: =IFERROR(VLOOKUP(B95,пр.взв!$D$6:$Q$70,8,0),"") | L95: 12 | M95: =пр.хода!O66 -> 0 | N95: =IFERROR(VLOOKUP(M95,пр.взв!$D$6:$Q$70,2,0),"") | O95: =IFERROR(VLOOKUP(M95,пр.взв!$D$6:$Q$70,5,0),"") | P95: =IFERROR(VLOOKUP(M95,пр.взв!$D$6:$Q$70,6,0),"") | Q95: =IFERROR(VLOOKUP(M95,пр.взв!$D$6:$Q$70,8,0),"")
B96: =пр.хода!O20 | C96: =IFERROR(VLOOKUP(B96,пр.взв!$D$6:$Q$70,2,0),"") | D96: =IFERROR(VLOOKUP(B96,пр.взв!$D$6:$Q$70,5,0),"") | E96: =IFERROR(VLOOKUP(B96,пр.взв!$D$6:$Q$70,6,0),"") | F96: =IFERROR(VLOOKUP(B96,пр.взв!$D$6:$Q$70,8,0),"") | M96: =пр.хода!O69 | N96: =IFERROR(VLOOKUP(M96,пр.взв!$D$6:$Q$70,2,0),"") | O96: =IFERROR(VLOOKUP(M96,пр.взв!$D$6:$Q$70,5,0),"") | P96: =IFERROR(VLOOKUP(M96,пр.взв!$D$6:$Q$70,6,0),"") | Q96: =IFERROR(VLOOKUP(M96,пр.взв!$D$6:$Q$70,8,0),"")
A97: (Утешительные встречи) 6 | L97: (Утешительные встречи) 6
A98: 13 | B98: =пр.хода!P12 -> 0 | C98: =IFERROR(VLOOKUP(B98,пр.взв!$D$6:$Q$70,2,0),"") | D98: =IFERROR(VLOOKUP(B98,пр.взв!$D$6:$Q$70,5,0),"") | E98: =IFERROR(VLOOKUP(B98,пр.взв!$D$6:$Q$70,6,0),"") | F98: =IFERROR(VLOOKUP(B98,пр.взв!$D$6:$Q$70,8,0),"") | L98: 14 | M98: =пр.хода!P61 -> 0 | N98: =IFERROR(VLOOKUP(M98,пр.взв!$D$6:$Q$70,2,0),"") | O98: =IFERROR(VLOOKUP(M98,пр.взв!$D$6:$Q$70,5,0),"") | P98: =IFERROR(VLOOKUP(M98,пр.взв!$D$6:$Q$70,6,0),"") | Q98: =IFERROR(VLOOKUP(M98,пр.взв!$D$6:$Q$70,8,0),"")
B99: =пр.хода!P19 -> 0 | C99: =IFERROR(VLOOKUP(B99,пр.взв!$D$6:$Q$70,2,0),"") | D99: =IFERROR(VLOOKUP(B99,пр.взв!$D$6:$Q$70,5,0),"") | E99: =IFERROR(VLOOKUP(B99,пр.взв!$D$6:$Q$70,6,0),"") | F99: =IFERROR(VLOOKUP(B99,пр.взв!$D$6:$Q$70,8,0),"") | M99: =пр.хода!P68 -> 0 | N99: =IFERROR(VLOOKUP(M99,пр.взв!$D$6:$Q$70,2,0),"") | O99: =IFERROR(VLOOKUP(M99,пр.взв!$D$6:$Q$70,5,0),"") | P99: =IFERROR(VLOOKUP(M99,пр.взв!$D$6:$Q$70,6,0),"") | Q99: =IFERROR(VLOOKUP(M99,пр.взв!$D$6:$Q$70,8,0),"")
C100: ЗА 3 МЕСТО | N100: ЗА 3 МЕСТО
C101: ВСТРЕЧА 1 | D101: =пр.взв!$D$4 -> 0 | N101: ВСТРЕЧА 1 | O101: =пр.взв!$D$4 -> 0
B102: =пр.хода!Q15 -> 0 | C102: =IFERROR(VLOOKUP(B102,пр.взв!$D$6:$Q$70,2,0),"") | D102: =IFERROR(VLOOKUP(B102,пр.взв!$D$6:$Q$70,5,0),"") | E102: =IFERROR(VLOOKUP(B102,пр.взв!$D$6:$Q$70,6,0),"") | F102: =IFERROR(VLOOKUP(B102,пр.взв!$D$6:$Q$70,8,0),"") | M102: =пр.хода!Q15 -> 0 | N102: =IFERROR(VLOOKUP(M102,пр.взв!$D$6:$Q$70,2,0),"") | O102: =IFERROR(VLOOKUP(M102,пр.взв!$D$6:$Q$70,5,0),"") | P102: =IFERROR(VLOOKUP(M102,пр.взв!$D$6:$Q$70,6,0),"") | Q102: =IFERROR(VLOOKUP(M102,пр.взв!$D$6:$Q$70,8,0),"")
B103: =пр.хода!Q21 -> 0 | C103: =IFERROR(VLOOKUP(B103,пр.взв!$D$6:$Q$70,2,0),"") | D103: =IFERROR(VLOOKUP(B103,пр.взв!$D$6:$Q$70,5,0),"") | E103: =IFERROR(VLOOKUP(B103,пр.взв!$D$6:$Q$70,6,0),"") | F103: =IFERROR(VLOOKUP(B103,пр.взв!$D$6:$Q$70,8,0),"") | M103: =пр.хода!Q21 -> 0 | N103: =IFERROR(VLOOKUP(M103,пр.взв!$D$6:$Q$70,2,0),"") | O103: =IFERROR(VLOOKUP(M103,пр.взв!$D$6:$Q$70,5,0),"") | P103: =IFERROR(VLOOKUP(M103,пр.взв!$D$6:$Q$70,6,0),"") | Q103: =IFERROR(VLOOKUP(M103,пр.взв!$D$6:$Q$70,8,0),"")
C104: 3А 3 МЕСТО | N104: 3А 3 МЕСТО
C105: ВСТРЕЧА 2 | D105: =пр.взв!$D$4 -> 0 | N105: ВСТРЕЧА 2 | O105: =пр.взв!$D$4 -> 0
...

Sheet за призовые места
A1: =пр.взв!C2 -> Первенство России по самбо юниоры 18-20 лет (отбор на Первенство Мира и Европы) ЕКП № 23752
C3: ЗА 3 МЕСТО | E3: =пр.взв!G4 -> В.к. 71 кг
C4: ВСТРЕЧА 1 | D4: =пр.взв!$D$4 -> 0
A5: Цвет | B5: № п/ж | C5: Ф.И.О. | D5: Д. р., разряд | E5: Вед., регион | G5: Оценки | H5: Рез-т | I5: Время
B7: =пр.хода!Q15 -> 0 | C7: =IFERROR(VLOOKUP(B7,пр.взв!$D$6:$Q$70,2,0),"") | D7: =IFERROR(VLOOKUP(B7,пр.взв!$D$6:$Q$70,5,0),"") | E7: =IFERROR(VLOOKUP(B7,пр.взв!$D$6:$Q$70,6,0),"") | F7: =IFERROR(VLOOKUP(B7,пр.взв!$D$6:$Q$70,8,0),"")
B8: =пр.хода!Q21 -> 0 | C8: =IFERROR(VLOOKUP(B8,пр.взв!$D$6:$Q$70,2,0),"") | D8: =IFERROR(VLOOKUP(B8,пр.взв!$D$6:$Q$70,5,0),"") | E8: =IFERROR(VLOOKUP(B8,пр.взв!$D$6:$Q$70,6,0),"") | F8: =IFERROR(VLOOKUP(B8,пр.взв!$D$6:$Q$70,8,0),"")
A9: Руководитель ковра
B10: А
B11: Б
C13: 3А 3 МЕСТО | E13: =пр.взв!G4 -> В.к. 71 кг | G13: =G3 -> 0
C14: ВСТРЕЧА 2 | D14: =пр.взв!$D$4 -> 0
A15: Цвет | B15: № п/ж | C15: Ф.И.О. | D15: Д. р., разряд | E15: Вед., регион | G15: Оценки | H15: Рез-т | I15: Время
B17: =пр.хода!Q64 -> 0 | C17: =IFERROR(VLOOKUP(B17,пр.взв!$D$6:$Q$70,2,0),"") | D17: =IFERROR(VLOOKUP(B17,пр.взв!$D$6:$Q$70,5,0),"") | E17: =IFERROR(VLOOKUP(B17,пр.взв!$D$6:$Q$70,6,0),"") | F17: =IFERROR(VLOOKUP(B17,пр.взв!$D$6:$Q$70,8,0),"")
B18: =пр.хода!Q69 | C18: =IFERROR(VLOOKUP(B18,пр.взв!$D$6:$Q$70,2,0),"") | D18: =IFERROR(VLOOKUP(B18,пр.взв!$D$6:$Q$70,5,0),"") | E18: =IFERROR(VLOOKUP(B18,пр.взв!$D$6:$Q$70,6,0),"") | F18: =IFERROR(VLOOKUP(B18,пр.взв!$D$6:$Q$70,8,0),"")
A19: Руководитель ковра
B20: А
B21: Б
A23: =A1 -> Первенство России по самбо юниоры 18-20 лет (отбор на Первенство Мира и Европы) ЕКП № 23752
C25: ФИНАЛ | E25: =пр.взв!G4 -> В.к. 71 кг
A27: Цвет | B27: № п/ж | C27: Ф.И.О. | D27: Д. р., разряд | E27: Вед., регион | G27: Оценки | H27: Рез-т | I27: Время
B29: =пр.хода!M36 -> 0 | C29: =IFERROR(VLOOKUP(B29,пр.взв!$D$6:$Q$70,2,0),"") | D29: =IFERROR(VLOOKUP(B29,пр.взв!$D$6:$Q$70,5,0),"") | E29: =IFERROR(VLOOKUP(B29,пр.взв!$D$6:$Q$70,6,0),"") | F29: =IFERROR(VLOOKUP(B29,пр.взв!$D$6:$Q$70,8,0),"")
B30: =пр.хода!S36 -> 0 | C30: =IFERROR(VLOOKUP(B30,пр.взв!$D$6:$Q$70,2,0),"") | D30: =IFERROR(VLOOKUP(B30,пр.взв!$D$6:$Q$70,5,0),"") | E30: =IFERROR(VLOOKUP(B30,пр.взв!$D$6:$Q$70,6,0),"") | F30: =IFERROR(VLOOKUP(B30,пр.взв!$D$6:$Q$70,8,0),"")
A31: Руководитель ковра
B32: А
B33: Б

Sheet ит.пр
A1: ВСЕРОССИЙСКАЯ ФЕДЕРАЦИЯ САМБО | T1: =SUMIF(T6:T11,V1,$K$14:$K$17) -> 1 | V1: =J12
B2: ИТОГОВЫЙ ПРОТОКОЛ МУЖЧИНЫ | D2: =пр.взв!C2 -> Первенство России по самбо юниоры 18-20 лет (отбор на Первенство Мира и Европы) ЕКП № 23752 | T2: =SUMIF(J14:J16,V1,$K$14:$K$17) -> 2
B3: 24.02 - 01.03.2022 г. г. В-Пышма | H3: =пр.взв!G4 -> В.к. 71 кг
A4: место | B4: № п/ж | C4: Ф.И.О. | D4: Дата рожд., разряд | E4: Округ, субъект, город, ведомство | G4: № карточки | H4: Тренер | J4: =IFERROR(LEFT(F6,FIND(",",F6)-1),F6) | K4: 1 | L4: №пп | M4: Субъект | S4: №пп | T4: Субъект | AC4: №пп | AD4: Субъект
N5: 1 | O5: 2 | P5: 3 | Q5: 5 | U5: 1 | V5: 2 | W5: 3 | X5: 5 | Z5: 1 | AB5: 2 | AE5: 1 | AF5: 2 | AG5: 3 | AH5: 5
A6: 1 | B6: =пр.хода!M32 -> 0 | C6: =IFERROR(VLOOKUP(B6,пр.взв!$D$6:$Q$70,3,0),"") | D6: =IFERROR(VLOOKUP(B6,пр.взв!$D$6:$Q$70,4,0),"") | E6: =IFERROR(VLOOKUP(B6,пр.взв!$D$6:$Q$70,6,0),"") | F6: =IFERROR(VLOOKUP(B6,пр.взв!$D$6:$Q$70,7,0),"") | G6: =IFERROR(VLOOKUP(B6,пр.взв!$D$6:$Q$70,8,0),"") | H6: =IFERROR(VLOOKUP(B6,пр.взв!$D$6:$Q$70,10,0),"") | J6: СМИТ | K6: 1 | L6: 1 | M6: Алтайский | N6: =SUMIF($J$4:$J$7,J4,$K$4:$K$7) -> 1 | O6: =SUMIF($I$8:$J$9,"алт",$K$6:$K$9) -> 0 | P6: =SUMIF($J$10:$J$13,"Алт",$K$10:$K$13) -> 0 | Q6: =SUMIF($J$14:$J$17,"Алт",$K$14:$K$17) -> 0 | S6: 1 | T6: =J4 | U6: =SUMIF($J$4:$J$7,T6,$K$4:$K$7) -> 1 | V6: =SUMIF($I$8:$J$9,T6,$K$6:$K$9) -> 4 | W6: =SUMIF($J$10:$J$13,T6,$K$10:$K$13) -> 2 | X6: =SUMIF($J$14:$J$17,T6,$K$14:$K$17) -> 2 | Z6: =T6 | AB6: =Z6 | AC6: 1 | AD6: =AB6 | AE6: =SUMIF($J$4:$J$7,AD6,$K$4:$K$7) -> 1 | AF6: =SUMIF($I$8:$J$9,AD6,$K$6:$K$9) -> 4 | AG6: =SUMIF($J$10:$J$13,AD6,$K$10:$K$13) -> 2 | AH6: =SUMIF($J$14:$J$17,AD6,$K$14:$K$17) -> 2
A7: 2 | B7: =пр.хода!M40 | C7: =IFERROR(VLOOKUP(B7,пр.взв!$D$6:$Q$70,3,0),"") | D7: =IFERROR(VLOOKUP(B7,пр.взв!$D$6:$Q$70,4,0),"") | E7: =IFERROR(VLOOKUP(B7,пр.взв!$D$6:$Q$70,6,0),"") | F7: =IFERROR(VLOOKUP(B7,пр.взв!$D$6:$Q$70,7,0),"") | G7: =IFERROR(VLOOKUP(B7,пр.взв!$D$6:$Q$70,8,0),"") | H7: =IFERROR(VLOOKUP(B7,пр.взв!$D$6:$Q$70,10,0),"") | L7: 2 | M7: Забайкальский | N7: =SUMIF($J$4:$J$7,"заб",$K$4:$K$7) -> 0 | O7: =SUMIF($I$8:$J$9,"заб",$K$6:$K$9) -> 0 | P7: =SUMIF($J$10:$J$13,"заб",$K$10:$K$13) -> 0 | Q7: =SUMIF($J$14:$J$17,"заб",$K$14:$K$17) -> 0 | S7: 2 | T7: =IF(J8=J4," ",J8) | U7: =SUMIF($J$4:$J$7,T7,$K$4:$K$7) -> 0 | V7: =SUMIF($I$8:$J$9,T7,$K$6:$K$9) -> 0 | W7: =SUMIF($J$10:$J$13,T7,$K$10:$K$13) -> 0 | X7: =SUMIF($J$14:$J$17,T7,$K$14:$K$17) -> 0 | Z7: =IF(OR(T7=" "),T8,T7) | AA7: =IF(U7=U6," ",U7) -> 0 | AB7: =IF(OR(Z7=" "),Z8,Z7) | AC7: 2 | AD7: =IF(OR(AB7=" "),AB8,AB7) | AE7: =SUMIF($J$4:$J$7,AD7,$K$4:$K$7) -> 0 | AF7: =SUMIF($I$8:$J$9,AD7,$K$6:$K$9) -> 0 | AG7: =SUMIF($J$10:$J$13,AD7,$K$10:$K$13) -> 0 | AH7: =SUMIF($J$14:$J$17,AD7,$K$14:$K$17) -> 0
A8: 3 | B8: =пр.хода!R18 -> 0 | C8: =IFERROR(VLOOKUP(B8,пр.взв!$D$6:$Q$70,3,0),"") | D8: =IFERROR(VLOOKUP(B8,пр.взв!$D$6:$Q$70,4,0),"") | E8: =IFERROR(VLOOKUP(B8,пр.взв!$D$6:$Q$70,6,0),"") | F8: =IFERROR(VLOOKUP(B8,пр.взв!$D$6:$Q$70,7,0),"") | G8: =IFERROR(VLOOKUP(B8,пр.взв!$D$6:$Q$70,8,0),"") | H8: =IFERROR(VLOOKUP(B8,пр.взв!$D$6:$Q$70,10,0),"") | J8: =IFERROR(LEFT(F7,FIND(",",F7)-1),F7) | K8: 1 | L8: 3 | M8: Иркутская | N8: =SUMIF($J$4:$J$7,"ирк",$K$4:$K$7) -> 0 | O8: =SUMIF($I$8:$J$9,"ирк",$K$6:$K$9) -> 0 | P8: =SUMIF($J$10:$J$13,"ирк",$K$10:$K$13) -> 0 | Q8: =SUMIF($J$14:$J$17,"ирк",$K$14:$K$17) -> 0 | S8: 3 | T8: =IF(OR(J10=J4,J10=J8)," ",J10) | U8: =SUMIF($J$4:$J$7,T8,$K$4:$K$7) -> 0 | V8: =SUMIF($I$8:$J$9,T8,$K$6:$K$9) -> 0 | W8: =SUMIF($J$10:$J$13,T8,$K$10:$K$13) -> 0 | X8: =SUMIF($J$14:$J$17,T8,$K$14:$K$17) -> 0 | Z8: =IF(OR(T8=" ",T7=" "),T9,T8) | AB8: =IF(OR(Z8=" ",Z7=" "),Z9,Z8) | AC8: 3 | AD8: =IF(OR(AB8=" ",AB7=" "),AB9,AB8) | AE8: =SUMIF($J$4:$J$7,AD8,$K$4:$K$7) -> 0 | AF8: =SUMIF($I$8:$J$9,AD8,$K$6:$K$9) -> 0 | AG8: =SUMIF($J$10:$J$13,AD8,$K$10:$K$13) -> 0 | AH8: =SUMIF($J$14:$J$17,AD8,$K$14:$K$17) -> 0
A9: 3 | B9: =пр.хода!R67 -> 0 | C9: =IFERROR(VLOOKUP(B9,пр.взв!$D$6:$Q$70,3,0),"") | D9: =IFERROR(VLOOKUP(B9,пр.взв!$D$6:$Q$70,4,0),"") | E9: =IFERROR(VLOOKUP(B9,пр.взв!$D$6:$Q$70,6,0),"") | F9: =IFERROR(VLOOKUP(B9,пр.взв!$D$6:$Q$70,7,0),"") | G9: =IFERROR(VLOOKUP(B9,пр.взв!$D$6:$Q$70,8,0),"") | H9: =IFERROR(VLOOKUP(B9,пр.взв!$D$6:$Q$70,10,0),"") | L9: 4 | M9: Кемеровская | N9: =SUMIF($J$4:$J$7,"кем",$K$4:$K$7) -> 0 | O9: =SUMIF($I$8:$J$9,"кем",$K$6:$K$9) -> 0 | P9: =SUMIF($J$10:$J$13,"кем",$K$10:$K$13) -> 0 | Q9: =SUMIF($J$14:$J$17,"кем",$K$14:$K$17) -> 0 | S9: 4 | T9: =IF(OR(J12=J4,J12=J8,J12=J10)," ",J12) | U9: =SUMIF($J$4:$J$7,T9,$K$4:$K$7) -> 0 | V9: =SUMIF($I$8:$J$9,T9,$K$6:$K$9) -> 0 | W9: =SUMIF($J$10:$J$13,T9,$K$10:$K$13) -> 0 | X9: =SUMIF($J$14:$J$17,T9,$K$14:$K$17) -> 0 | Z9: =IF(OR(T7=" ",T8=" ",T9=" "),T10,T9) | AB9: =IF(OR(Z7=" ",Z8=" ",Z9=" "),Z10,Z9) | AC9: 4 | AD9: =IF(OR(AB7=" ",AB8=" ",AB9=" "),AB10,AB9) | AE9: =SUMIF($J$4:$J$7,AD9,$K$4:$K$7) -> 0 | AF9: =SUMIF($I$8:$J$9,AD9,$K$6:$K$9) -> 0 | AG9: =SUMIF($J$10:$J$13,AD9,$K$10:$K$13) -> 0 | AH9: =SUMIF($J$14:$J$17,AD9,$K$14:$K$17) -> 0
A10: 5 | B10: =пр.хода!AM28 -> 0 | C10: =IFERROR(VLOOKUP(B10,пр.взв!$D$6:$Q$70,3,0),"") | D10: =IFERROR(VLOOKUP(B10,пр.взв!$D$6:$Q$70,4,0),"") | E10: =IFERROR(VLOOKUP(B10,пр.взв!$D$6:$Q$70,6,0),"") | F10: =IFERROR(VLOOKUP(B10,пр.взв!$D$6:$Q$70,7,0),"") | G10: =IFERROR(VLOOKUP(B10,пр.взв!$D$6:$Q$70,8,0),"") | H10: =IFERROR(VLOOKUP(B10,пр.взв!$D$6:$Q$70,10,0),"") | J10: =IFERROR(LEFT(F8,FIND(",",F8)-1),F8) | K10: 1 | L10: 5 | M10: Красноярский | N10: =SUMIF($J$4:$J$7,"кра",$K$4:$K$7) -> 0 | O10: =SUMIF($I$8:$J$9,"кра",$K$6:$K$9) -> 0 | P10: =SUMIF($J$10:$J$13,"кра",$K$10:$K$13) -> 0 | Q10: =SUMIF($J$14:$J$17,"кра",$K$14:$K$17) -> 0 | S10: 5 | T10: =IF(OR(J14=J4,J14=J8,J14=J10,J14=J12)," ",J14) | U10: =SUMIF($J$4:$J$7,T10,$K$4:$K$7) -> 0 | V10: =SUMIF($I$8:$J$9,T10,$K$6:$K$9) -> 0 | W10: =SUMIF($J$10:$J$13,T10,$K$10:$K$13) -> 0 | X10: =SUMIF($J$14:$J$17,T10,$K$14:$K$17) -> 0 | Z10: =IF(OR(T7=" ",T8=" ",T9=" ",T10=" "),T11,T10) | AB10: =IF(OR(Z7=" ",Z8=" ",Z9=" ")," ",Z10) | AC10: 5 | AD10: =IF(OR(AB7=" ",AB8=" ",AB9=" ")," ",AB10) | AE10: =SUMIF($J$4:$J$7,AD10,$K$4:$K$7) -> 0 | AF10: =SUMIF($I$8:$J$9,AD10,$K$6:$K$9) -> 0 | AG10: =SUMIF($J$10:$J$13,AD10,$K$10:$K$13) -> 0 | AH10: =SUMIF($J$14:$J$17,AD10,$K$14:$K$17) -> 0
A11: 5 | B11: =пр.хода!AM29 | C11: =IFERROR(VLOOKUP(B11,пр.взв!$D$6:$Q$70,3,0),"") | D11: =IFERROR(VLOOKUP(B11,пр.взв!$D$6:$Q$70,4,0),"") | E11: =IFERROR(VLOOKUP(B11,пр.взв!$D$6:$Q$70,6,0),"") | F11: =IFERROR(VLOOKUP(B11,пр.взв!$D$6:$Q$70,7,0),"") | G11: =IFERROR(VLOOKUP(B11,пр.взв!$D$6:$Q$70,8,0),"") | H11: =IFERROR(VLOOKUP(B11,пр.взв!$D$6:$Q$70,10,0),"") | L11: 6 | M11: Новосибирская | N11: =SUMIF($J$4:$J$7,"нов",$K$4:$K$7) -> 0 | O11: =SUMIF($I$8:$J$9,"нов",$K$6:$K$9) -> 0 | P11: =SUMIF($J$10:$J$13,"нов",$K$10:$K$13) -> 0 | Q11: =SUMIF($J$14:$J$17,"нов",$K$14:$K$17) -> 0 | S11: 6 | T11: =IF(OR(J16=J4,J16=J8,J16=J10,J16=J12,J16=J14)," ",J16) | U11: =SUMIF($J$4:$J$7,T11,$K$4:$K$7) -> 0 | V11: =SUMIF($I$8:$J$9,T11,$K$6:$K$9) -> 0 | W11: =SUMIF($J$10:$J$13,T11,$K$10:$K$13) -> 0 | X11: =SUMIF($J$14:$J$17,T11,$K$8:$K$17) -> 0 | Z11: =IF(OR(T7=" ",T8=" ",T9=" ",T10=" ")," ",T11) | AB11: =IF(OR(Z7=" ",Z8=" ",Z9=" ",Z10=" ")," ",Z11) | AC11: 6 | AD11: =IF(OR(AB7=" ",AB8=" ",AB9=" ",AB10=" ")," ",AB11) | AE11: =SUMIF($J$4:$J$7,AD11,$K$4:$K$7) -> 0 | AF11: =SUMIF($I$8:$J$9,AD11,$K$6:$K$9) -> 0 | AG11: =SUMIF($J$10:$J$13,AD11,$K$10:$K$13) -> 0 | AH11: =SUMIF($J$14:$J$17,AD11,$K$14:$K$17) -> 0
A12: 7-8 | B12: =пр.хода!AM25 -> 0 | C12: =IFERROR(VLOOKUP(B12,пр.взв!$D$6:$Q$70,3,0),"") | D12: =IFERROR(VLOOKUP(B12,пр.взв!$D$6:$Q$70,4,0),"") | E12: =IFERROR(VLOOKUP(B12,пр.взв!$D$6:$Q$70,6,0),"") | F12: =IFERROR(VLOOKUP(B12,пр.взв!$D$6:$Q$70,7,0),"") | G12: =IFERROR(VLOOKUP(B12,пр.взв!$D$6:$Q$70,8,0),"") | H12: =IFERROR(VLOOKUP(B12,пр.взв!$D$6:$Q$70,10,0),"") | J12: =IFERROR(LEFT(F9,FIND(",",F9)-1),F9) | K12: 1 | L12: 7 | M12: Омская | N12: =SUMIF($J$4:$J$7,"омс",$K$4:$K$7) -> 0 | O12: =SUMIF($I$8:$J$9,"омс",$K$6:$K$9) -> 0 | P12: =SUMIF($J$10:$J$13,"омс",$K$10:$K$13) -> 0 | Q12: =SUMIF($J$14:$J$17,"омс",$K$14:$K$17) -> 0 | T12: =IF(OR(J15=J7,J15=J11,J15=J13)," ",J15) | AE12: =SUM(AE6:AE11) -> 1 | AF12: =SUM(AF6:AF11) -> 4 | AG12: =SUM(AG6:AG11) -> 2 | AH12: =SUM(AH6:AH11) -> 2
A13: 7-8 | B13: =пр.хода!AM26 -> 0 | C13: =IFERROR(VLOOKUP(B13,пр.взв!$D$6:$Q$70,3,0),"") | D13: =IFERROR(VLOOKUP(B13,пр.взв!$D$6:$Q$70,4,0),"") | E13: =IFERROR(VLOOKUP(B13,пр.взв!$D$6:$Q$70,6,0),"") | F13: =IFERROR(VLOOKUP(B13,пр.взв!$D$6:$Q$70,7,0),"") | G13: =IFERROR(VLOOKUP(B13,пр.взв!$D$6:$Q$70,8,0),"") | H13: =IFERROR(VLOOKUP(B13,пр.взв!$D$6:$Q$70,10,0),"") | L13: 8 | M13: Р.Алтай | N13: =SUMIF($J$4:$J$7,"р.а",$K$4:$K$7) -> 0 | O13: =SUMIF($I$8:$J$9,"р.а",$K$6:$K$9) -> 0 | P13: =SUMIF($J$10:$J$13,"р.а",$K$10:$K$13) -> 0 | Q13: =SUMIF($J$14:$J$17,"р.а",$K$14:$K$17) -> 0 | T13: =IF(OR(J16=J8,J16=J12,J16=J14)," ",J16)
A14: 9-12 | B14: =пр.хода!AM20 | C14: =IFERROR(VLOOKUP(B14,пр.взв!$D$6:$Q$70,3,0),"") | D14: =IFERROR(VLOOKUP(B14,пр.взв!$D$6:$Q$70,4,0),"") | E14: =IFERROR(VLOOKUP(B14,пр.взв!$D$6:$Q$70,6,0),"") | F14: =IFERROR(VLOOKUP(B14,пр.взв!$D$6:$Q$70,7,0),"") | G14: =IFERROR(VLOOKUP(B14,пр.взв!$D$6:$Q$70,8,0),"") | H14: =IFERROR(VLOOKUP(B14,пр.взв!$D$6:$Q$70,10,0),"") | J14: =IFERROR(LEFT(F10,FIND(",",F10)-1),F10) | K14: 1 | L14: 9 | M14: Р.Бурятия | N14: =SUMIF($J$4:$J$7,"р.б",$K$4:$K$7) -> 0 | O14: =SUMIF($I$8:$J$9,"р.б",$K$6:$K$9) -> 0 | P14: =SUMIF($J$10:$J$13,"р.б",$K$10:$K$13) -> 0 | Q14: =SUMIF($J$14:$J$17,"р.б",$K$14:$K$17) -> 0
A15: =$A$14 -> 9-12 | B15: =пр.хода!AM21 | C15: =IFERROR(VLOOKUP(B15,пр.взв!$D$6:$Q$70,3,0),"") | D15: =IFERROR(VLOOKUP(B15,пр.взв!$D$6:$Q$70,4,0),"") | E15: =IFERROR(VLOOKUP(B15,пр.взв!$D$6:$Q$70,6,0),"") | F15: =IFERROR(VLOOKUP(B15,пр.взв!$D$6:$Q$70,7,0),"") | G15: =IFERROR(VLOOKUP(B15,пр.взв!$D$6:$Q$70,8,0),"") | H15: =IFERROR(VLOOKUP(B15,пр.взв!$D$6:$Q$70,10,0),"") | L15: 10 | M15: Р.Хакасия | N15: =SUMIF($J$4:$J$7,"р.х",$K$4:$K$7) -> 0 | O15: =SUMIF($I$8:$J$9,"р.х",$K$6:$K$9) -> 0 | P15: =SUMIF($J$10:$J$13,"р.х",$K$10:$K$13) -> 0 | Q15: =SUMIF($J$14:$J$17,"р.х",$K$14:$K$17) -> 0
A16: =$A$14 -> 9-12 | B16: =пр.хода!AM22 | C16: =IFERROR(VLOOKUP(B16,пр.взв!$D$6:$Q$70,3,0),"") | D16: =IFERROR(VLOOKUP(B16,пр.взв!$D$6:$Q$70,4,0),"") | E16: =IFERROR(VLOOKUP(B16,пр.взв!$D$6:$Q$70,6,0),"") | F16: =IFERROR(VLOOKUP(B16,пр.взв!$D$6:$Q$70,7,0),"") | G16: =IFERROR(VLOOKUP(B16,пр.взв!$D$6:$Q$70,8,0),"") | H16: =IFERROR(VLOOKUP(B16,пр.взв!$D$6:$Q$70,10,0),"") | J16: =IFERROR(LEFT(F11,FIND(",",F11)-1),F11) | K16: 1 | L16: 11 | M16: Томская | N16: =SUMIF($J$4:$J$7,"том",$K$4:$K$7) -> 0 | O16: =SUMIF($I$8:$J$9,"том",$K$6:$K$9) -> 0 | P16: =SUMIF($J$10:$J$13,"том",$K$10:$K$13) -> 0 | Q16: =SUMIF($J$14:$J$17,"том",$K$14:$K$17) -> 0
A17: =$A$14 -> 9-12 | B17: =пр.хода!AM23 | C17: =IFERROR(VLOOKUP(B17,пр.взв!$D$6:$Q$70,3,0),"") | D17: =IFERROR(VLOOKUP(B17,пр.взв!$D$6:$Q$70,4,0),"") | E17: =IFERROR(VLOOKUP(B17,пр.взв!$D$6:$Q$70,6,0),"") | F17: =IFERROR(VLOOKUP(B17,пр.взв!$D$6:$Q$70,7,0),"") | G17: =IFERROR(VLOOKUP(B17,пр.взв!$D$6:$Q$70,8,0),"") | H17: =IFERROR(VLOOKUP(B17,пр.взв!$D$6:$Q$70,10,0),"") | L17: 12 | M17: Мос | N17: =SUMIF($J$4:$J$7,"Мос",$K$4:$K$7) -> 0 | O17: =SUMIF($I$8:$J$9,"Мос",$K$6:$K$9) -> 0 | P17: =SUMIF($J$10:$J$13,"Мос",$K$10:$K$13) -> 0 | Q17: =SUMIF($J$14:$J$17,"Мос",$K$14:$K$17) -> 0
A18: 13-16 | B18: =пр.хода!AM15 | C18: =IFERROR(VLOOKUP(B18,пр.взв!$D$6:$Q$70,3,0),"") | D18: =IFERROR(VLOOKUP(B18,пр.взв!$D$6:$Q$70,4,0),"") | E18: =IFERROR(VLOOKUP(B18,пр.взв!$D$6:$Q$70,6,0),"") | F18: =IFERROR(VLOOKUP(B18,пр.взв!$D$6:$Q$70,7,0),"") | G18: =IFERROR(VLOOKUP(B18,пр.взв!$D$6:$Q$70,8,0),"") | H18: =IFERROR(VLOOKUP(B18,пр.взв!$D$6:$Q$70,10,0),"") | N18: =SUM(N6:N17) -> 1 | O18: =SUM(O6:O17) -> 0 | P18: =SUM(P6:P17) -> 0 | Q18: =SUM(Q6:Q17) -> 0 | U18: =SUM(U6:U17) -> 1 | V18: =SUM(V6:V17) -> 4 | W18: =SUM(W6:W17) -> 2 | X18: =SUM(X6:X17) -> 2
A19: 13-16 | B19: =пр.хода!AM16 | C19: =IFERROR(VLOOKUP(B19,пр.взв!$D$6:$Q$70,3,0),"") | D19: =IFERROR(VLOOKUP(B19,пр.взв!$D$6:$Q$70,4,0),"") | E19: =IFERROR(VLOOKUP(B19,пр.взв!$D$6:$Q$70,6,0),"") | F19: =IFERROR(VLOOKUP(B19,пр.взв!$D$6:$Q$70,7,0),"") | G19: =IFERROR(VLOOKUP(B19,пр.взв!$D$6:$Q$70,8,0),"") | H19: =IFERROR(VLOOKUP(B19,пр.взв!$D$6:$Q$70,10,0),"")
A20: 13-16 | B20: =пр.хода!AM17 | C20: =IFERROR(VLOOKUP(B20,пр.взв!$D$6:$Q$70,3,0),"") | D20: =IFERROR(VLOOKUP(B20,пр.взв!$D$6:$Q$70,4,0),"") | E20: =IFERROR(VLOOKUP(B20,пр.взв!$D$6:$Q$70,6,0),"") | F20: =IFERROR(VLOOKUP(B20,пр.взв!$D$6:$Q$70,7,0),"") | G20: =IFERROR(VLOOKUP(B20,пр.взв!$D$6:$Q$70,8,0),"") | H20: =IFERROR(VLOOKUP(B20,пр.взв!$D$6:$Q$70,10,0),"")
A21: 13-16 | B21: =пр.хода!AM18 | C21: =IFERROR(VLOOKUP(B21,пр.взв!$D$6:$Q$70,3,0),"") | D21: =IFERROR(VLOOKUP(B21,пр.взв!$D$6:$Q$70,4,0),"") | E21: =IFERROR(VLOOKUP(B21,пр.взв!$D$6:$Q$70,6,0),"") | F21: =IFERROR(VLOOKUP(B21,пр.взв!$D$6:$Q$70,7,0),"") | G21: =IFERROR(VLOOKUP(B21,пр.взв!$D$6:$Q$70,8,0),"") | H21: =IFERROR(VLOOKUP(B21,пр.взв!$D$6:$Q$70,10,0),"")
A22: 17-20 | B22: =пр.хода!AM12 | C22: =IFERROR(VLOOKUP(B22,пр.взв!$D$6:$Q$70,3,0),"") | D22: =IFERROR(VLOOKUP(B22,пр.взв!$D$6:$Q$70,4,0),"") | E22: =IFERROR(VLOOKUP(B22,пр.взв!$D$6:$Q$70,6,0),"") | F22: =IFERROR(VLOOKUP(B22,пр.взв!$D$6:$Q$70,7,0),"") | G22: =IFERROR(VLOOKUP(B22,пр.взв!$D$6:$Q$70,8,0),"") | H22: =IFERROR(VLOOKUP(B22,пр.взв!$D$6:$Q$70,10,0),"")
A23: 17-20 | B23: =пр.хода!AM10 | C23: =IFERROR(VLOOKUP(B23,пр.взв!$D$6:$Q$70,3,0),"") | D23: =IFERROR(VLOOKUP(B23,пр.взв!$D$6:$Q$70,4,0),"") | E23: =IFERROR(VLOOKUP(B23,пр.взв!$D$6:$Q$70,6,0),"") | F23: =IFERROR(VLOOKUP(B23,пр.взв!$D$6:$Q$70,7,0),"") | G23: =IFERROR(VLOOKUP(B23,пр.взв!$D$6:$Q$70,8,0),"") | H23: =IFERROR(VLOOKUP(B23,пр.взв!$D$6:$Q$70,10,0),"")
A24: 17-20 | B24: =пр.хода!AM11 | C24: =IFERROR(VLOOKUP(B24,пр.взв!$D$6:$Q$70,3,0),"") | D24: =IFERROR(VLOOKUP(B24,пр.взв!$D$6:$Q$70,4,0),"") | E24: =IFERROR(VLOOKUP(B24,пр.взв!$D$6:$Q$70,6,0),"") | F24: =IFERROR(VLOOKUP(B24,пр.взв!$D$6:$Q$70,7,0),"") | G24: =IFERROR(VLOOKUP(B24,пр.взв!$D$6:$Q$70,8,0),"") | H24: =IFERROR(VLOOKUP(B24,пр.взв!$D$6:$Q$70,10,0),"")
A25: 17-20 | B25: =пр.хода!AM13 | C25: =IFERROR(VLOOKUP(B25,пр.взв!$D$6:$Q$70,3,0),"") | D25: =IFERROR(VLOOKUP(B25,пр.взв!$D$6:$Q$70,4,0),"") | E25: =IFERROR(VLOOKUP(B25,пр.взв!$D$6:$Q$70,6,0),"") | F25: =IFERROR(VLOOKUP(B25,пр.взв!$D$6:$Q$70,7,0),"") | G25: =IFERROR(VLOOKUP(B25,пр.взв!$D$6:$Q$70,8,0),"") | H25: =IFERROR(VLOOKUP(B25,пр.взв!$D$6:$Q$70,10,0),"")
A26: 21-24 | B26: =пр.хода!AL11 -> 0 | C26: =IFERROR(VLOOKUP(B26,пр.взв!$D$6:$Q$70,3,0),"") | D26: =IFERROR(VLOOKUP(B26,пр.взв!$D$6:$Q$70,4,0),"") | E26: =IFERROR(VLOOKUP(B26,пр.взв!$D$6:$Q$70,6,0),"") | F26: =IFERROR(VLOOKUP(B26,пр.взв!$D$6:$Q$70,7,0),"") | G26: =IFERROR(VLOOKUP(B26,пр.взв!$D$6:$Q$70,8,0),"") | H26: =IFERROR(VLOOKUP(B26,пр.взв!$D$6:$Q$70,10,0),"")
A27: 21-24 | B27: =пр.хода!AL29 -> 0 | C27: =IFERROR(VLOOKUP(B27,пр.взв!$D$6:$Q$70,3,0),"") | D27: =IFERROR(VLOOKUP(B27,пр.взв!$D$6:$Q$70,4,0),"") | E27: =IFERROR(VLOOKUP(B27,пр.взв!$D$6:$Q$70,6,0),"") | F27: =IFERROR(VLOOKUP(B27,пр.взв!$D$6:$Q$70,7,0),"") | G27: =IFERROR(VLOOKUP(B27,пр.взв!$D$6:$Q$70,8,0),"") | H27: =IFERROR(VLOOKUP(B27,пр.взв!$D$6:$Q$70,10,0),"")
A28: 21-24 | B28: =пр.хода!AL20 -> 0 | C28: =IFERROR(VLOOKUP(B28,пр.взв!$D$6:$Q$70,3,0),"") | D28: =IFERROR(VLOOKUP(B28,пр.взв!$D$6:$Q$70,4,0),"") | E28: =IFERROR(VLOOKUP(B28,пр.взв!$D$6:$Q$70,6,0),"") | F28: =IFERROR(VLOOKUP(B28,пр.взв!$D$6:$Q$70,7,0),"") | G28: =IFERROR(VLOOKUP(B28,пр.взв!$D$6:$Q$70,8,0),"") | H28: =IFERROR(VLOOKUP(B28,пр.взв!$D$6:$Q$70,10,0),"")
A29: 21-24 | B29: =пр.хода!AL39 -> 0 | C29: =IFERROR(VLOOKUP(B29,пр.взв!$D$6:$Q$70,3,0),"") | D29: =IFERROR(VLOOKUP(B29,пр.взв!$D$6:$Q$70,4,0),"") | E29: =IFERROR(VLOOKUP(B29,пр.взв!$D$6:$Q$70,6,0),"") | F29: =IFERROR(VLOOKUP(B29,пр.взв!$D$6:$Q$70,7,0),"") | G29: =IFERROR(VLOOKUP(B29,пр.взв!$D$6:$Q$70,8,0),"") | H29: =IFERROR(VLOOKUP(B29,пр.взв!$D$6:$Q$70,10,0),"")
A30: 25-36 | B30: =пр.хода!AK11 | C30: =IFERROR(VLOOKUP(B30,пр.взв!$D$6:$Q$70,3,0),"") | D30: =IFERROR(VLOOKUP(B30,пр.взв!$D$6:$Q$70,4,0),"") | E30: =IFERROR(VLOOKUP(B30,пр.взв!$D$6:$Q$70,6,0),"") | F30: =IFERROR(VLOOKUP(B30,пр.взв!$D$6:$Q$70,7,0),"") | G30: =IFERROR(VLOOKUP(B30,пр.взв!$D$6:$Q$70,8,0),"") | H30: =IFERROR(VLOOKUP(B30,пр.взв!$D$6:$Q$70,10,0),"")
A31: 25-36 | B31: =пр.хода!AK29 | C31: =IFERROR(VLOOKUP(B31,пр.взв!$D$6:$Q$70,3,0),"") | D31: =IFERROR(VLOOKUP(B31,пр.взв!$D$6:$Q$70,4,0),"") | E31: =IFERROR(VLOOKUP(B31,пр.взв!$D$6:$Q$70,6,0),"") | F31: =IFERROR(VLOOKUP(B31,пр.взв!$D$6:$Q$70,7,0),"") | G31: =IFERROR(VLOOKUP(B31,пр.взв!$D$6:$Q$70,8,0),"") | H31: =IFERROR(VLOOKUP(B31,пр.взв!$D$6:$Q$70,10,0),"")
A32: 25-36 | B32: =пр.хода!AK20 | C32: =IFERROR(VLOOKUP(B32,пр.взв!$D$6:$Q$70,3,0),"") | D32: =IFERROR(VLOOKUP(B32,пр.взв!$D$6:$Q$70,4,0),"") | E32: =IFERROR(VLOOKUP(B32,пр.взв!$D$6:$Q$70,6,0),"") | F32: =IFERROR(VLOOKUP(B32,пр.взв!$D$6:$Q$70,7,0),"") | G32: =IFERROR(VLOOKUP(B32,пр.взв!$D$6:$Q$70,8,0),"") | H32: =IFERROR(VLOOKUP(B32,пр.взв!$D$6:$Q$70,10,0),"")
A33: 25-36 | B33: =пр.хода!AK39 | C33: =IFERROR(VLOOKUP(B33,пр.взв!$D$6:$Q$70,3,0),"") | D33: =IFERROR(VLOOKUP(B33,пр.взв!$D$6:$Q$70,4,0),"") | E33: =IFERROR(VLOOKUP(B33,пр.взв!$D$6:$Q$70,6,0),"") | F33: =IFERROR(VLOOKUP(B33,пр.взв!$D$6:$Q$70,7,0),"") | G33: =IFERROR(VLOOKUP(B33,пр.взв!$D$6:$Q$70,8,0),"") | H33: =IFERROR(VLOOKUP(B33,пр.взв!$D$6:$Q$70,10,0),"")
A34: 25-36 | B34: =пр.хода!AK10 | C34: =IFERROR(VLOOKUP(B34,пр.взв!$D$6:$Q$70,3,0),"") | D34: =IFERROR(VLOOKUP(B34,пр.взв!$D$6:$Q$70,4,0),"") | E34: =IFERROR(VLOOKUP(B34,пр.взв!$D$6:$Q$70,6,0),"") | F34: =IFERROR(VLOOKUP(B34,пр.взв!$D$6:$Q$70,7,0),"") | G34: =IFERROR(VLOOKUP(B34,пр.взв!$D$6:$Q$70,8,0),"") | H34: =IFERROR(VLOOKUP(B34,пр.взв!$D$6:$Q$70,10,0),"")
A35: 25-36 | B35: =пр.хода!AK28 | C35: =IFERROR(VLOOKUP(B35,пр.взв!$D$6:$Q$70,3,0),"") | D35: =IFERROR(VLOOKUP(B35,пр.взв!$D$6:$Q$70,4,0),"") | E35: =IFERROR(VLOOKUP(B35,пр.взв!$D$6:$Q$70,6,0),"") | F35: =IFERROR(VLOOKUP(B35,пр.взв!$D$6:$Q$70,7,0),"") | G35: =IFERROR(VLOOKUP(B35,пр.взв!$D$6:$Q$70,8,0),"") | H35: =IFERROR(VLOOKUP(B35,пр.взв!$D$6:$Q$70,10,0),"")
A36: 25-36 | B36: =пр.хода!AK19 | C36: =IFERROR(VLOOKUP(B36,пр.взв!$D$6:$Q$70,3,0),"") | D36: =IFERROR(VLOOKUP(B36,пр.взв!$D$6:$Q$70,4,0),"") | E36: =IFERROR(VLOOKUP(B36,пр.взв!$D$6:$Q$70,6,0),"") | F36: =IFERROR(VLOOKUP(B36,пр.взв!$D$6:$Q$70,7,0),"") | G36: =IFERROR(VLOOKUP(B36,пр.взв!$D$6:$Q$70,8,0),"") | H36: =IFERROR(VLOOKUP(B36,пр.взв!$D$6:$Q$70,10,0),"")
A37: 25-36 | B37: =пр.хода!AK38 | C37: =IFERROR(VLOOKUP(B37,пр.взв!$D$6:$Q$70,3,0),"") | D37: =IFERROR(VLOOKUP(B37,пр.взв!$D$6:$Q$70,4,0),"") | E37: =IFERROR(VLOOKUP(B37,пр.взв!$D$6:$Q$70,6,0),"") | F37: =IFERROR(VLOOKUP(B37,пр.взв!$D$6:$Q$70,7,0),"") | G37: =IFERROR(VLOOKUP(B37,пр.взв!$D$6:$Q$70,8,0),"") | H37: =IFERROR(VLOOKUP(B37,пр.взв!$D$6:$Q$70,10,0),"")
A38: 25-36 | B38: =пр.хода!AK12 | C38: =IFERROR(VLOOKUP(B38,пр.взв!$D$6:$Q$70,3,0),"") | D38: =IFERROR(VLOOKUP(B38,пр.взв!$D$6:$Q$70,4,0),"") | E38: =IFERROR(VLOOKUP(B38,пр.взв!$D$6:$Q$70,6,0),"") | F38: =IFERROR(VLOOKUP(B38,пр.взв!$D$6:$Q$70,7,0),"") | G38: =IFERROR(VLOOKUP(B38,пр.взв!$D$6:$Q$70,8,0),"") | H38: =IFERROR(VLOOKUP(B38,пр.взв!$D$6:$Q$70,10,0),"")
A39: 25-36 | B39: =пр.хода!AK30 | C39: =IFERROR(VLOOKUP(B39,пр.взв!$D$6:$Q$70,3,0),"") | D39: =IFERROR(VLOOKUP(B39,пр.взв!$D$6:$Q$70,4,0),"") | E39: =IFERROR(VLOOKUP(B39,пр.взв!$D$6:$Q$70,6,0),"") | F39: =IFERROR(VLOOKUP(B39,пр.взв!$D$6:$Q$70,7,0),"") | G39: =IFERROR(VLOOKUP(B39,пр.взв!$D$6:$Q$70,8,0),"") | H39: =IFERROR(VLOOKUP(B39,пр.взв!$D$6:$Q$70,10,0),"")
A40: 25-36 | B40: =пр.хода!AK21 | C40: =IFERROR(VLOOKUP(B40,пр.взв!$D$6:$Q$70,3,0),"") | D40: =IFERROR(VLOOKUP(B40,пр.взв!$D$6:$Q$70,4,0),"") | E40: =IFERROR(VLOOKUP(B40,пр.взв!$D$6:$Q$70,6,0),"") | F40: =IFERROR(VLOOKUP(B40,пр.взв!$D$6:$Q$70,7,0),"") | G40: =IFERROR(VLOOKUP(B40,пр.взв!$D$6:$Q$70,8,0),"") | H40: =IFERROR(VLOOKUP(B40,пр.взв!$D$6:$Q$70,10,0),"")
A41: 25-36 | B41: =пр.хода!AK40 | C41: =IFERROR(VLOOKUP(B41,пр.взв!$D$6:$Q$70,3,0),"") | D41: =IFERROR(VLOOKUP(B41,пр.взв!$D$6:$Q$70,4,0),"") | E41: =IFERROR(VLOOKUP(B41,пр.взв!$D$6:$Q$70,6,0),"") | F41: =IFERROR(VLOOKUP(B41,пр.взв!$D$6:$Q$70,7,0),"") | G41: =IFERROR(VLOOKUP(B41,пр.взв!$D$6:$Q$70,8,0),"") | H41: =IFERROR(VLOOKUP(B41,пр.взв!$D$6:$Q$70,10,0),"")
A42: 37-64 | B42: =пр.хода!AI30 -> 10 | C42: =IFERROR(VLOOKUP(B42,пр.взв!$D$6:$Q$70,3,0),"") -> ТУКСУМБАЕВ Артём Александрович | D42: =IFERROR(VLOOKUP(B42,пр.взв!$D$6:$Q$70,4,0),"") -> 12.05.04, КМС | E42: =IFERROR(VLOOKUP(B42,пр.взв!$D$6:$Q$70,6,0),"") -> СФО | F42: =IFERROR(VLOOKUP(B42,пр.взв!$D$6:$Q$70,7,0),"") -> Алтайский, Барнаул , МС | G42: =IFERROR(VLOOKUP(B42,пр.взв!$D$6:$Q$70,8,0),"") -> Алтайский | H42: =IFERROR(VLOOKUP(B42,пр.взв!$D$6:$Q$70,10,0),"") -> Жданов В.В. ; Тюкин С.Г.
A43: 37-64 | B43: =пр.хода!AI40 -> 12 | C43: =IFERROR(VLOOKUP(B43,пр.взв!$D$6:$Q$70,3,0),"") -> СОМСИН Антон Геннадьевич | D43: =IFERROR(VLOOKUP(B43,пр.взв!$D$6:$Q$70,4,0),"") -> 09.05.03, КМС | E43: =IFERROR(VLOOKUP(B43,пр.взв!$D$6:$Q$70,6,0),"") -> ЦФО | F43: =IFERROR(VLOOKUP(B43,пр.взв!$D$6:$Q$70,7,0),"") -> Воронежская обл., Воронеж, ВУНЦ ВВС ВВА | G43: =IFERROR(VLOOKUP(B43,пр.взв!$D$6:$Q$70,8,0),"") -> Воронежская | H43: =IFERROR(VLOOKUP(B43,пр.взв!$D$6:$Q$70,10,0),"") -> Зимин М.А.
A44: 37-64 | B44: =пр.хода!AI15 -> 21 | C44: =IFERROR(VLOOKUP(B44,пр.взв!$D$6:$Q$70,3,0),"") -> ЁСИНАГА Кэйта - | D44: =IFERROR(VLOOKUP(B44,пр.взв!$D$6:$Q$70,4,0),"") -> 30.06.05, КМС | E44: =IFERROR(VLOOKUP(B44,пр.взв!$D$6:$Q$70,6,0),"") -> ДВФО | F44: =IFERROR(VLOOKUP(B44,пр.взв!$D$6:$Q$70,7,0),"") -> Хабаровский, Хабаровск, МО | G44: =IFERROR(VLOOKUP(B44,пр.взв!$D$6:$Q$70,8,0),"") -> Хабаровский | H44: =IFERROR(VLOOKUP(B44,пр.взв!$D$6:$Q$70,10,0),"") -> Иконников Е.М.
A45: 37-64 | B45: =пр.хода!AI44 -> 16 | C45: =IFERROR(VLOOKUP(B45,пр.взв!$D$6:$Q$70,3,0),"") -> ШЕЛКОВНИКОВ Кирилл Александрович | D45: =IFERROR(VLOOKUP(B45,пр.взв!$D$6:$Q$70,4,0),"") -> 11.08.05, КМС | E45: =IFERROR(VLOOKUP(B45,пр.взв!$D$6:$Q$70,6,0),"") -> СПБ | F45: =IFERROR(VLOOKUP(B45,пр.взв!$D$6:$Q$70,7,0),"") -> г. Санкт-Петербург, Санкт-Петербург, ГБУ СШОР №1 Адмиралтейского района | G45: =IFERROR(VLOOKUP(B45,пр.взв!$D$6:$Q$70,8,0),"") -> Санкт-Петербург | H45: =IFERROR(VLOOKUP(B45,пр.взв!$D$6:$Q$70,10,0),"") -> Чмыхалов В.В.
A46: 37-64 | B46: =пр.хода!AI10 -> 1 | C46: =IFERROR(VLOOKUP(B46,пр.взв!$D$6:$Q$70,3,0),"") -> БАГОВ Тимур Долетчериевич | D46: =IFERROR(VLOOKUP(B46,пр.взв!$D$6:$Q$70,4,0),"") -> 19.08.03, КМС | E46: =IFERROR(VLOOKUP(B46,пр.взв!$D$6:$Q$70,6,0),"") -> ЮФО | F46: =IFERROR(VLOOKUP(B46,пр.взв!$D$6:$Q$70,7,0),"") -> Респ. Адыгея, Майкоп, СШ | G46: =IFERROR(VLOOKUP(B46,пр.взв!$D$6:$Q$70,8,0),"") -> Р.Адыгея | H46: =IFERROR(VLOOKUP(B46,пр.взв!$D$6:$Q$70,10,0),"") -> Гомлешко А.А. Делок А.А.
A47: 37-64 | B47: =пр.хода!AI19 -> 3 | C47: =IFERROR(VLOOKUP(B47,пр.взв!$D$6:$Q$70,3,0),"") -> ГОРШКОВ Фёдор Вадимович | D47: =IFERROR(VLOOKUP(B47,пр.взв!$D$6:$Q$70,4,0),"") -> 10.06.04, КМС | E47: =IFERROR(VLOOKUP(B47,пр.взв!$D$6:$Q$70,6,0),"") -> СЗФО | F47: =IFERROR(VLOOKUP(B47,пр.взв!$D$6:$Q$70,7,0),"") -> Санкт-Петербург, Санкт-Петербург, МО | G47: =IFERROR(VLOOKUP(B47,пр.взв!$D$6:$Q$70,8,0),"") -> Санкт-Петербург | H47: =IFERROR(VLOOKUP(B47,пр.взв!$D$6:$Q$70,10,0),"") -> Алимов М.Г., Гасанов А.З.
A48: 37-64 | B48: =пр.хода!AI39 -> 20 | C48: =IFERROR(VLOOKUP(B48,пр.взв!$D$6:$Q$70,3,0),"") -> ТУРАЙКИН Алексей Андреевич | D48: =IFERROR(VLOOKUP(B48,пр.взв!$D$6:$Q$70,4,0),"") -> 29.05.03, КМС | E48: =IFERROR(VLOOKUP(B48,пр.взв!$D$6:$Q$70,6,0),"") -> ДВФО | F48: =IFERROR(VLOOKUP(B48,пр.взв!$D$6:$Q$70,7,0),"") -> Хабаровский, Хабаровск , МО | G48: =IFERROR(VLOOKUP(B48,пр.взв!$D$6:$Q$70,8,0),"") -> Хабаровский | H48: =IFERROR(VLOOKUP(B48,пр.взв!$D$6:$Q$70,10,0),"") -> Шилакин Б.В.
A49: 37-64 | B49: =пр.хода!AI23 -> 7 | C49: =IFERROR(VLOOKUP(B49,пр.взв!$D$6:$Q$70,3,0),"") -> СТОЛБОВ Иван Юрьевич | D49: =IFERROR(VLOOKUP(B49,пр.взв!$D$6:$Q$70,4,0),"") -> 05.05.03, КМС | E49: =IFERROR(VLOOKUP(B49,пр.взв!$D$6:$Q$70,6,0),"") -> ПФО | F49: =IFERROR(VLOOKUP(B49,пр.взв!$D$6:$Q$70,7,0),"") -> Чувашская Республика - Чувашия, Чебоксары, СК «ЭКРА» | G49: =IFERROR(VLOOKUP(B49,пр.взв!$D$6:$Q$70,8,0),"") -> Чувашская | H49: =IFERROR(VLOOKUP(B49,пр.взв!$D$6:$Q$70,10,0),"") -> Бондарев А.В. Пегасов С.В.
A50: 37-64 | B50: =пр.хода!AI12 -> 9 | C50: =IFERROR(VLOOKUP(B50,пр.взв!$D$6:$Q$70,3,0),"") -> ПРОТАСОВ Артем Сергеевич | D50: =IFERROR(VLOOKUP(B50,пр.взв!$D$6:$Q$70,4,0),"") -> 20.09.04, КМС | E50: =IFERROR(VLOOKUP(B50,пр.взв!$D$6:$Q$70,6,0),"") -> СПБ | F50: =IFERROR(VLOOKUP(B50,пр.взв!$D$6:$Q$70,7,0),"") -> г. Санкт-Петербург, г. Санкт-Петербург, КШВСМ | G50: =IFERROR(VLOOKUP(B50,пр.взв!$D$6:$Q$70,8,0),"") -> Санкт-Петербург | H50: =IFERROR(VLOOKUP(B50,пр.взв!$D$6:$Q$70,10,0),"") -> Елисеев Д.М.
A51: 37-64 | B51: =пр.хода!AI31 -> 26 | C51: =IFERROR(VLOOKUP(B51,пр.взв!$D$6:$Q$70,3,0),"") -> АБИТОВ Алим Тимурович | D51: =IFERROR(VLOOKUP(B51,пр.взв!$D$6:$Q$70,4,0),"") -> 10.04.04, КМС | E51: =IFERROR(VLOOKUP(B51,пр.взв!$D$6:$Q$70,6,0),"") -> СКФО | F51: =IFERROR(VLOOKUP(B51,пр.взв!$D$6:$Q$70,7,0),"") -> КЧР, Черкесск, ВС | G51: =IFERROR(VLOOKUP(B51,пр.взв!$D$6:$Q$70,8,0),"") -> КЧР | H51: =IFERROR(VLOOKUP(B51,пр.взв!$D$6:$Q$70,10,0),"") -> Кишмахов Мусса Вдадимирович
A52: 37-64 | B52: =пр.хода!AI21 -> 11 | C52: =IFERROR(VLOOKUP(B52,пр.взв!$D$6:$Q$70,3,0),"") -> НАДЫРОВ Адик Сабирович | D52: =IFERROR(VLOOKUP(B52,пр.взв!$D$6:$Q$70,4,0),"") -> 11.02.04, КМС | E52: =IFERROR(VLOOKUP(B52,пр.взв!$D$6:$Q$70,6,0),"") -> ЦФО | F52: =IFERROR(VLOOKUP(B52,пр.взв!$D$6:$Q$70,7,0),"") -> Воронежская, Воронеж , МО | G52: =IFERROR(VLOOKUP(B52,пр.взв!$D$6:$Q$70,8,0),"") -> Воронежская | H52: =IFERROR(VLOOKUP(B52,пр.взв!$D$6:$Q$70,10,0),"") -> Зимин М.А. Гончаров С.Ю.
A53: 37-64 | B53: =пр.хода!AI41 -> 28 | C53: =IFERROR(VLOOKUP(B53,пр.взв!$D$6:$Q$70,3,0),"") -> ВАНЮШИН Максим Юрьевич | D53: =IFERROR(VLOOKUP(B53,пр.взв!$D$6:$Q$70,4,0),"") -> 30.11.03, КМС | E53: =IFERROR(VLOOKUP(B53,пр.взв!$D$6:$Q$70,6,0),"") -> ЦФО | F53: =IFERROR(VLOOKUP(B53,пр.взв!$D$6:$Q$70,7,0),"") -> Рязанская, Рязань, Д | G53: =IFERROR(VLOOKUP(B53,пр.взв!$D$6:$Q$70,8,0),"") -> Рязанская | H53: =IFERROR(VLOOKUP(B53,пр.взв!$D$6:$Q$70,10,0),"") -> Серегин СМ
A54: 37-64 | B54: =пр.хода!AI16 -> 13 | C54: =IFERROR(VLOOKUP(B54,пр.взв!$D$6:$Q$70,3,0),"") -> НЕДОИМКИН Максим Александрович | D54: =IFERROR(VLOOKUP(B54,пр.взв!$D$6:$Q$70,4,0),"") -> 12.08.04, КМС | E54: =IFERROR(VLOOKUP(B54,пр.взв!$D$6:$Q$70,6,0),"") -> СФО | F54: =IFERROR(VLOOKUP(B54,пр.взв!$D$6:$Q$70,7,0),"") -> Алтайский, Бийск , МС | G54: =IFERROR(VLOOKUP(B54,пр.взв!$D$6:$Q$70,8,0),"") -> Алтайский | H54: =IFERROR(VLOOKUP(B54,пр.взв!$D$6:$Q$70,10,0),"") -> Димитриенко И.В., Гуляев А.М.
A55: 37-64 | B55: =пр.хода!AI28 -> 2 | C55: =IFERROR(VLOOKUP(B55,пр.взв!$D$6:$Q$70,3,0),"") -> КОЛОНТАЙ Артём Андреевич | D55: =IFERROR(VLOOKUP(B55,пр.взв!$D$6:$Q$70,4,0),"") -> 13.07.05, КМС | E55: =IFERROR(VLOOKUP(B55,пр.взв!$D$6:$Q$70,6,0),"") -> ЦФО | F55: =IFERROR(VLOOKUP(B55,пр.взв!$D$6:$Q$70,7,0),"") -> Ярославская обл., Ярославль, МУ СШОР №17 | G55: =IFERROR(VLOOKUP(B55,пр.взв!$D$6:$Q$70,8,0),"") -> Ярославская | H55: =IFERROR(VLOOKUP(B55,пр.взв!$D$6:$Q$70,10,0),"") -> Сапожников С.В. , Викторов Р.А.
A56: 37-64 | B56: =пр.хода!AI38 -> 4 | C56: =IFERROR(VLOOKUP(B56,пр.взв!$D$6:$Q$70,3,0),"") -> ЧЕРНИЙ Михаил Васильевич | D56: =IFERROR(VLOOKUP(B56,пр.взв!$D$6:$Q$70,4,0),"") -> 20.12.03, КМС | E56: =IFERROR(VLOOKUP(B56,пр.взв!$D$6:$Q$70,6,0),"") -> ЮФО | F56: =IFERROR(VLOOKUP(B56,пр.взв!$D$6:$Q$70,7,0),"") -> Краснодарский, Курганинск, ВС | G56: =IFERROR(VLOOKUP(B56,пр.взв!$D$6:$Q$70,8,0),"") -> Краснодарский | H56: =IFERROR(VLOOKUP(B56,пр.взв!$D$6:$Q$70,10,0),"") -> Потапов И. Г. Красов В. В.
A57: 37-64 | B57: =пр.хода!AI13 -> 25 | C57: =IFERROR(VLOOKUP(B57,пр.взв!$D$6:$Q$70,3,0),"") -> АКСЕНОВ Артем Александрович | D57: =IFERROR(VLOOKUP(B57,пр.взв!$D$6:$Q$70,4,0),"") -> 16.03.04, КМС | E57: =IFERROR(VLOOKUP(B57,пр.взв!$D$6:$Q$70,6,0),"") -> СЗФО | F57: =IFERROR(VLOOKUP(B57,пр.взв!$D$6:$Q$70,7,0),"") -> Калининградская, Калининград, МС | G57: =IFERROR(VLOOKUP(B57,пр.взв!$D$6:$Q$70,8,0),"") -> Калининградская | H57: =IFERROR(VLOOKUP(B57,пр.взв!$D$6:$Q$70,10,0),"") -> Мкртчян С.Р.
A58: 37-64 | B58: =пр.хода!AI32 -> 6 | C58: =IFERROR(VLOOKUP(B58,пр.взв!$D$6:$Q$70,3,0),"") -> СТАШ Тагир Рустамович | D58: =IFERROR(VLOOKUP(B58,пр.взв!$D$6:$Q$70,4,0),"") -> 18.02.04, КМС | E58: =IFERROR(VLOOKUP(B58,пр.взв!$D$6:$Q$70,6,0),"") -> ЮФО | F58: =IFERROR(VLOOKUP(B58,пр.взв!$D$6:$Q$70,7,0),"") -> Р.Адыгея, Тахтамукай, МО | G58: =IFERROR(VLOOKUP(B58,пр.взв!$D$6:$Q$70,8,0),"") -> Р.Адыгея | H58: =IFERROR(VLOOKUP(B58,пр.взв!$D$6:$Q$70,10,0),"") -> Джаримок Р.Н., Джаримок А.Н.
A59: 37-64 | B59: =пр.хода!AI22 -> 27 | C59: =IFERROR(VLOOKUP(B59,пр.взв!$D$6:$Q$70,3,0),"") -> ЧEРНЫЙ Ростислав Олегович | D59: =IFERROR(VLOOKUP(B59,пр.взв!$D$6:$Q$70,4,0),"") -> 15.03.03, МС | E59: =IFERROR(VLOOKUP(B59,пр.взв!$D$6:$Q$70,6,0),"") -> МОС | F59: =IFERROR(VLOOKUP(B59,пр.взв!$D$6:$Q$70,7,0),"") -> г. Москва, Москва, ГБОУ ЦСиО "Самбо-70" | G59: =IFERROR(VLOOKUP(B59,пр.взв!$D$6:$Q$70,8,0),"") -> Москва | H59: =IFERROR(VLOOKUP(B59,пр.взв!$D$6:$Q$70,10,0),"") -> Юхарев С.С. Павлов Д.А. Фунтиков П.В. Герасименко Д.В.
A60: 37-64 | B60: =пр.хода!AI42 -> 8 | C60: =IFERROR(VLOOKUP(B60,пр.взв!$D$6:$Q$70,3,0),"") -> ГАЙРБЕКОВ Умар Арбиевич | D60: =IFERROR(VLOOKUP(B60,пр.взв!$D$6:$Q$70,4,0),"") -> 29.11.04, КМС | E60: =IFERROR(VLOOKUP(B60,пр.взв!$D$6:$Q$70,6,0),"") -> ПФО | F60: =IFERROR(VLOOKUP(B60,пр.взв!$D$6:$Q$70,7,0),"") -> Самарская обл., Самара, МБУ го Самара «СШОР-11» им ВВ Ольховского | G60: =IFERROR(VLOOKUP(B60,пр.взв!$D$6:$Q$70,8,0),"") -> Самарская | H60: =IFERROR(VLOOKUP(B60,пр.взв!$D$6:$Q$70,10,0),"") -> Сулейманов РЖ, Родомакин ЮС.
A61: 37-64 | B61: =пр.хода!AI11 -> 17 | C61: =IFERROR(VLOOKUP(B61,пр.взв!$D$6:$Q$70,3,0),"") -> ПЭЛЫПИВ Никита Николаевич | D61: =IFERROR(VLOOKUP(B61,пр.взв!$D$6:$Q$70,4,0),"") -> 23.06.04, КМС | E61: =IFERROR(VLOOKUP(B61,пр.взв!$D$6:$Q$70,6,0),"") -> ПФО | F61: =IFERROR(VLOOKUP(B61,пр.взв!$D$6:$Q$70,7,0),"") -> Саратовская, Балашов , ВС | G61: =IFERROR(VLOOKUP(B61,пр.взв!$D$6:$Q$70,8,0),"") -> Саратовская | H61: =IFERROR(VLOOKUP(B61,пр.взв!$D$6:$Q$70,10,0),"") -> Разваляев С.В.
A62: 37-64 | B62: =пр.хода!AI20 -> 19 | C62: =IFERROR(VLOOKUP(B62,пр.взв!$D$6:$Q$70,3,0),"") -> ГОЛОВ Глеб Андреевич | D62: =IFERROR(VLOOKUP(B62,пр.взв!$D$6:$Q$70,4,0),"") -> 07.04.04, КМС | E62: =IFERROR(VLOOKUP(B62,пр.взв!$D$6:$Q$70,6,0),"") -> ПФО | F62: =IFERROR(VLOOKUP(B62,пр.взв!$D$6:$Q$70,7,0),"") -> Респ. Татарстан, Казань, ГАУ РСШОР «Батыр» | G62: =IFERROR(VLOOKUP(B62,пр.взв!$D$6:$Q$70,8,0),"") -> Р.Татарстан | H62: =IFERROR(VLOOKUP(B62,пр.взв!$D$6:$Q$70,10,0),"") -> Гусев О.М. ,Ащеулов И.Ю. ,Зарипов А.А.
A63: 37-64 | B63: =пр.хода!AI33 -> 22 | C63: =IFERROR(VLOOKUP(B63,пр.взв!$D$6:$Q$70,3,0),"") -> ТРУБНИКОВ Денис Дмитриевич | D63: =IFERROR(VLOOKUP(B63,пр.взв!$D$6:$Q$70,4,0),"") -> 14.05.04, 1р | E63: =IFERROR(VLOOKUP(B63,пр.взв!$D$6:$Q$70,6,0),"") -> УФО | F63: =IFERROR(VLOOKUP(B63,пр.взв!$D$6:$Q$70,7,0),"") -> Свердловская обл., Екатеринбург, Уор #1 | G63: =IFERROR(VLOOKUP(B63,пр.взв!$D$6:$Q$70,8,0),"") -> Свердловская | H63: =IFERROR(VLOOKUP(B63,пр.взв!$D$6:$Q$70,10,0),"") -> Печуров Е. А. Емельянов С. Д.
A64: 37-64 | B64: =пр.хода!AI24 -> 23 | C64: =IFERROR(VLOOKUP(B64,пр.взв!$D$6:$Q$70,3,0),"") -> СКИБА Владислав Андреевич | D64: =IFERROR(VLOOKUP(B64,пр.взв!$D$6:$Q$70,4,0),"") -> 16.09.05, КМС | E64: =IFERROR(VLOOKUP(B64,пр.взв!$D$6:$Q$70,6,0),"") -> СФО | F64: =IFERROR(VLOOKUP(B64,пр.взв!$D$6:$Q$70,7,0),"") -> Новосибирская, Новосибирск , МС | G64: =IFERROR(VLOOKUP(B64,пр.взв!$D$6:$Q$70,8,0),"") -> Новосибирская | H64: =IFERROR(VLOOKUP(B64,пр.взв!$D$6:$Q$70,10,0),"") -> А.А Орлов
A65: 37-64 | B65: =пр.хода!AI29 -> 18 | C65: =IFERROR(VLOOKUP(B65,пр.взв!$D$6:$Q$70,3,0),"") -> КОРОСТИЕНКО Денис Витальевич | D65: =IFERROR(VLOOKUP(B65,пр.взв!$D$6:$Q$70,4,0),"") -> 30.08.05, КМС | E65: =IFERROR(VLOOKUP(B65,пр.взв!$D$6:$Q$70,6,0),"") -> ДВФО | F65: =IFERROR(VLOOKUP(B65,пр.взв!$D$6:$Q$70,7,0),"") -> Хабаровский край, Хабаровск, МАУ СШ «Самбо 90» | G65: =IFERROR(VLOOKUP(B65,пр.взв!$D$6:$Q$70,8,0),"") -> Хабаровский | H65: =IFERROR(VLOOKUP(B65,пр.взв!$D$6:$Q$70,10,0),"") -> Золоторевич А.А.
A66: 37-64 | B66: =пр.хода!AI14 -> 5 | C66: =IFERROR(VLOOKUP(B66,пр.взв!$D$6:$Q$70,3,0),"") -> МАРКОВ Егор Александрович | D66: =IFERROR(VLOOKUP(B66,пр.взв!$D$6:$Q$70,4,0),"") -> 13.07.04, КМС | E66: =IFERROR(VLOOKUP(B66,пр.взв!$D$6:$Q$70,6,0),"") -> ЦФО | F66: =IFERROR(VLOOKUP(B66,пр.взв!$D$6:$Q$70,7,0),"") -> Московская обл., Реутов, МАУ "спортивная школа" г.Реутов | G66: =IFERROR(VLOOKUP(B66,пр.взв!$D$6:$Q$70,8,0),"") -> Московская | H66: =IFERROR(VLOOKUP(B66,пр.взв!$D$6:$Q$70,10,0),"") -> Абрамов Александр Геннадьевич, Герасименко Дмитрий Владимирович
A67: 37-64 | B67: =пр.хода!AI43 -> 24 | C67: =IFERROR(VLOOKUP(B67,пр.взв!$D$6:$Q$70,3,0),"") -> ХАКУЙ Амир Рашидович | D67: =IFERROR(VLOOKUP(B67,пр.взв!$D$6:$Q$70,4,0),"") -> 08.11.03, КМС | E67: =IFERROR(VLOOKUP(B67,пр.взв!$D$6:$Q$70,6,0),"") -> ЮФО | F67: =IFERROR(VLOOKUP(B67,пр.взв!$D$6:$Q$70,7,0),"") -> Респ. Адыгея, г Майкоп, СШ | G67: =IFERROR(VLOOKUP(B67,пр.взв!$D$6:$Q$70,8,0),"") -> Р.Адыгея | H67: =IFERROR(VLOOKUP(B67,пр.взв!$D$6:$Q$70,10,0),"") -> Гомлешко А. А. Делок А. А
A68: 37-64 | B68: =пр.хода!AI34 -> 14 | C68: =IFERROR(VLOOKUP(B68,пр.взв!$D$6:$Q$70,3,0),"") -> ШАЛЫГИН Нестор Игоревич | D68: =IFERROR(VLOOKUP(B68,пр.взв!$D$6:$Q$70,4,0),"") -> 07.05.05, КМС | E68: =IFERROR(VLOOKUP(B68,пр.взв!$D$6:$Q$70,6,0),"") -> МОС | F68: =IFERROR(VLOOKUP(B68,пр.взв!$D$6:$Q$70,7,0),"") -> г. Москва, Москва, Самбо-70 | G68: =IFERROR(VLOOKUP(B68,пр.взв!$D$6:$Q$70,8,0),"") -> Москва | H68: =IFERROR(VLOOKUP(B68,пр.взв!$D$6:$Q$70,10,0),"") -> Талызин Павел Николаевич, Корниенко Максим Александрович,
A69: 37-64 | B69: =пр.хода!AI25 -> 15 | C69: =IFERROR(VLOOKUP(B69,пр.взв!$D$6:$Q$70,3,0),"") -> МУХАМЕДРИЗАЕВ Рустам Маратович | D69: =IFERROR(VLOOKUP(B69,пр.взв!$D$6:$Q$70,4,0),"") -> 11.02.23, МС | E69: =IFERROR(VLOOKUP(B69,пр.взв!$D$6:$Q$70,6,0),"") -> МОС | F69: =IFERROR(VLOOKUP(B69,пр.взв!$D$6:$Q$70,7,0),"") -> г. Москва, Москва, Самабо-70 | G69: =IFERROR(VLOOKUP(B69,пр.взв!$D$6:$Q$70,8,0),"") -> Москва | H69: =IFERROR(VLOOKUP(B69,пр.взв!$D$6:$Q$70,10,0),"") -> Гусаров А.А.
A71: =пр.хода!A73 -> Гл.судья, судья ВК | F71: =пр.хода!G73 -> Редин Д.А. | H71: =пр.хода!J73 -> Хабаровский кр.
A74: =пр.хода!T73 -> Гл.секретарь, судья ВК | F74: =пр.хода!AB73 -> Мордовин С.Н. | H74: =пр.хода!AC73 -> Р.Алт, Майма

Sheet наградной лист
A1: =пр.взв!C2 -> Первенство России по самбо юниоры 18-20 лет (отбор на Первенство Мира и Европы) ЕКП № 23752
A2: =пр.взв!A3 -> 0
A3: НАГРАДНОЙ ЛИСТ МУЖЧИНЫ
D4: =пр.взв!G4 -> В.к. 71 кг
A6: I м | B6: =IFERROR(VLOOKUP(#REF!,пр.взв!$D$6:$Q$70,2,0),"") | H6: =IFERROR(VLOOKUP(#REF!,пр.взв!$D$6:$Q$70,4,0),"")
B8: =IFERROR(VLOOKUP(#REF!,пр.взв!$D$6:$Q$70,6,0),"") | E8: =IFERROR(VLOOKUP(#REF!,пр.взв!$D$6:$Q$70,7,0),"")
A11: II м | B11: =IFERROR(VLOOKUP(#REF!,пр.взв!$D$6:$Q$70,2,0),"") | H11: =IFERROR(VLOOKUP(#REF!,пр.взв!$D$6:$Q$70,4,0),"")
B13: =IFERROR(VLOOKUP(#REF!,пр.взв!$D$6:$Q$70,6,0),"") | E13: =IFERROR(VLOOKUP(#REF!,пр.взв!$D$6:$Q$70,7,0),"")
A16: III м | B16: =IFERROR(VLOOKUP(#REF!,пр.взв!$D$6:$Q$70,2,0),"") | H16: =IFERROR(VLOOKUP(#REF!,пр.взв!$D$6:$Q$70,4,0),"")
B18: =IFERROR(VLOOKUP(#REF!,пр.взв!$D$6:$Q$70,6,0),"") | E18: =IFERROR(VLOOKUP(#REF!,пр.взв!$D$6:$Q$70,7,0),"")
A21: III м | B21: =IFERROR(VLOOKUP(#REF!,пр.взв!$D$6:$Q$70,2,0),"") | H21: =IFERROR(VLOOKUP(#REF!,пр.взв!$D$6:$Q$70,4,0),"")
B23: =IFERROR(VLOOKUP(#REF!,пр.взв!$D$6:$Q$70,6,0),"") | E23: =IFERROR(VLOOKUP(#REF!,пр.взв!$D$6:$Q$70,7,0),"")
A26: Тренер победителя:
A28: =IFERROR(VLOOKUP(#REF!,пр.взв!$D$6:$Q$70,10,0),"")
A32: Награждение проводят:

Sheet Ст Б
A1: Чемпионат России по БОЕВОМУ САМБО
H2: =пр.взв!D4 -> 0
A3: 2 | B3: =VLOOKUP(A3,#REF!,2,FALSE) -> #REF! | C3: =VLOOKUP(A3,#REF!,3,FALSE) -> #REF! | D3: =VLOOKUP(A3,#REF!,4,FALSE) -> #REF!
H4: Подгруппа Б
A5: 34 | B5: =VLOOKUP(A5,#REF!,2,FALSE) -> #REF! | C5: =VLOOKUP(A5,#REF!,3,FALSE) -> #REF! | D5: =VLOOKUP(A5,#REF!,4,FALSE) -> #REF!
A7: 18 | B7: =VLOOKUP(A7,#REF!,2,FALSE) -> #REF! | C7: =VLOOKUP(A7,#REF!,3,FALSE) -> #REF! | D7: =VLOOKUP(A7,#REF!,4,FALSE) -> #REF!
A9: 50 | B9: =VLOOKUP(A9,#REF!,2,FALSE) -> #REF! | C9: =VLOOKUP(A9,#REF!,3,FALSE) -> #REF! | D9: =VLOOKUP(A9,#REF!,4,FALSE) -> #REF!
A11: 10 | B11: =VLOOKUP(A11,#REF!,2,FALSE) -> #REF! | C11: =VLOOKUP(A11,#REF!,3,FALSE) -> #REF! | D11: =VLOOKUP(A11,#REF!,4,FALSE) -> #REF!
A13: 42 | B13: =VLOOKUP(A13,#REF!,2,FALSE) -> #REF! | C13: =VLOOKUP(A13,#REF!,3,FALSE) -> #REF! | D13: =VLOOKUP(A13,#REF!,4,FALSE) -> #REF!
A15: 26 | B15: =VLOOKUP(A15,#REF!,2,FALSE) -> #REF! | C15: =VLOOKUP(A15,#REF!,3,FALSE) -> #REF! | D15: =VLOOKUP(A15,#REF!,4,FALSE) -> #REF!
A17: 58 | B17: =VLOOKUP(A17,#REF!,2,FALSE) -> #REF! | C17: =VLOOKUP(A17,#REF!,3,FALSE) -> #REF! | D17: =VLOOKUP(A17,#REF!,4,FALSE) -> #REF!
A19: 6 | B19: =VLOOKUP(A19,#REF!,2,FALSE) -> #REF! | C19: =VLOOKUP(A19,#REF!,3,FALSE) -> #REF! | D19: =VLOOKUP(A19,#REF!,4,FALSE) -> #REF!
A21: 38 | B21: =VLOOKUP(A21,#REF!,2,FALSE) -> #REF! | C21: =VLOOKUP(A21,#REF!,3,FALSE) -> #REF! | D21: =VLOOKUP(A21,#REF!,4,FALSE) -> #REF!
A23: 22 | B23: =VLOOKUP(A23,#REF!,2,FALSE) -> #REF! | C23: =VLOOKUP(A23,#REF!,3,FALSE) -> #REF! | D23: =VLOOKUP(A23,#REF!,4,FALSE) -> #REF!
A25: 54 | B25: =VLOOKUP(A25,#REF!,2,FALSE) -> #REF! | C25: =VLOOKUP(A25,#REF!,3,FALSE) -> #REF! | D25: =VLOOKUP(A25,#REF!,4,FALSE) -> #REF!
A27: 14 | B27: =VLOOKUP(A27,#REF!,2,FALSE) -> #REF! | C27: =VLOOKUP(A27,#REF!,3,FALSE) -> #REF! | D27: =VLOOKUP(A27,#REF!,4,FALSE) -> #REF!
... A66: 64 | B66: =VLOOKUP(A66,#REF!,2,FALSE) -> #REF! | C66: =VLOOKUP(A66,#REF!,3,FALSE) -> #REF! | D66: =VLOOKUP(A66,#REF!,4,FALSE) -> #REF!
A70: Утешительные встречи | E70: =H2 -> 0 | G70: Подгруппа Б1

Sheet Ст А
A1: Чемпионат России по БОЕВОМУ САМБО
H2: =пр.взв!D4 -> 0
A3: 1 | B3: =VLOOKUP(A3,#REF!,2,FALSE) -> #REF! | C3: =VLOOKUP(A3,#REF!,3,FALSE) -> #REF! | D3: =VLOOKUP(A3,#REF!,4,FALSE) -> #REF!
A5: 33 | B5: =VLOOKUP(A5,#REF!,2,FALSE) -> #REF! | C5: =VLOOKUP(A5,#REF!,3,FALSE) -> #REF! | D5: =VLOOKUP(A5,#REF!,4,FALSE) -> #REF! | H5: Подгруппа А
A7: 17 | B7: =VLOOKUP(A7,#REF!,2,FALSE) -> #REF! | C7: =VLOOKUP(A7,#REF!,3,FALSE) -> #REF! | D7: =VLOOKUP(A7,#REF!,4,FALSE) -> #REF!
A9: 49 | B9: =VLOOKUP(A9,#REF!,2,FALSE) -> #REF! | C9: =VLOOKUP(A9,#REF!,3,FALSE) -> #REF! | D9: =VLOOKUP(A9,#REF!,4,FALSE) -> #REF!
A11: 9 | B11: =VLOOKUP(A11,#REF!,2,FALSE) -> #REF! | C11: =VLOOKUP(A11,#REF!,3,FALSE) -> #REF! | D11: =VLOOKUP(A11,#REF!,4,FALSE) -> #REF!
A13: 41 | B13: =VLOOKUP(A13,#REF!,2,FALSE) -> #REF! | C13: =VLOOKUP(A13,#REF!,3,FALSE) -> #REF! | D13: =VLOOKUP(A13,#REF!,4,FALSE) -> #REF!
A15: 25 | B15: =VLOOKUP(A15,#REF!,2,FALSE) -> #REF! | C15: =VLOOKUP(A15,#REF!,3,FALSE) -> #REF! | D15: =VLOOKUP(A15,#REF!,4,FALSE) -> #REF!
A17: 57 | B17: =VLOOKUP(A17,#REF!,2,FALSE) -> #REF! | C17: =VLOOKUP(A17,#REF!,3,FALSE) -> #REF! | D17: =VLOOKUP(A17,#REF!,4,FALSE) -> #REF!
A19: 5 | B19: =VLOOKUP(A19,#REF!,2,FALSE) -> #REF! | C19: =VLOOKUP(A19,#REF!,3,FALSE) -> #REF! | D19: =VLOOKUP(A19,#REF!,4,FALSE) -> #REF!
A21: 37 | B21: =VLOOKUP(A21,#REF!,2,FALSE) -> #REF! | C21: =VLOOKUP(A21,#REF!,3,FALSE) -> #REF! | D21: =VLOOKUP(A21,#REF!,4,FALSE) -> #REF!
A23: 21 | B23: =VLOOKUP(A23,#REF!,2,FALSE) -> #REF! | C23: =VLOOKUP(A23,#REF!,3,FALSE) -> #REF! | D23: =VLOOKUP(A23,#REF!,4,FALSE) -> #REF!
A25: 53 | B25: =VLOOKUP(A25,#REF!,2,FALSE) -> #REF! | C25: =VLOOKUP(A25,#REF!,3,FALSE) -> #REF! | D25: =VLOOKUP(A25,#REF!,4,FALSE) -> #REF!
A27: 13 | B27: =VLOOKUP(A27,#REF!,2,FALSE) -> #REF! | C27: =VLOOKUP(A27,#REF!,3,FALSE) -> #REF! | D27: =VLOOKUP(A27,#REF!,4,FALSE) -> #REF!
A29: 45 | B29: =VLOOKUP(A29,#REF!,2,FALSE) -> #REF! | C29: =VLOOKUP(A29,#REF!,3,FALSE) -> #REF! | D29: =VLOOKUP(A29,#REF!,4,FALSE) -> #REF!
... A66: 63 | B66: =VLOOKUP(A66,#REF!,2,FALSE) -> #REF! | C66: =VLOOKUP(A66,#REF!,3,FALSE) -> #REF! | D66: =VLOOKUP(A66,#REF!,4,FALSE) -> #REF!
A72: Утешительные встречи | E72: =HYPERLINK(#REF!) -> #REF! | G72: Подгруппа А1
