Workbook
Name Е4кр: пр.хода!$BT$6:$BT$117
Name Е5кр: пр.хода!$BZ$6:$BZ$117
Name Е6кр: пр.хода!$CF$6:$CF$117
Name ЕстьПустые: пр.хода!$BQ$6:$BQ$117
Name Н4кр: пр.хода!$BU$6:$BU$117
Name Н5кр: пр.хода!$CA$6:$CA$117
Name Н6кр: пр.хода!$CG$6:$CG$117
Name НетПустых: пр.хода!$BS$6:$BS$23
Name разряд: пр.взв!$K$7:$K$70
Name разряд: #REF!
Name субъект: пр.взв!$L$7:$L$70
Name субъект: #REF!

Sheet пр.взв
A1: select Col1,Col3,Col4,Col5,Col6,Col10,Col12,Col13,Col14,Col15,Col16,Col17 WHERE Col1>1 | C1: ПРОТОКОЛ ВЗВЕШИВАНИЯ | N1: https://docs.google.com/spreadsheets/d/1PZBWEDXHEPZXYxRzUFeEH96OiFQnJ7dbRms-DrndW-M/edit#gid=946786355 | O1: =IF(O2="98+",99,O2) -> 71
C2: =IFERROR(__xludf.DUMMYFUNCTION("IMPORTRANGE(N1,""Реквизиты!A1"")"),"Первенство России по самбо юниоры 18-20 лет (отбор на Первенство Мира и Европы) ЕКП № 23752") -> Первенство России по самбо юниоры 18-20 лет (отбор на Первенство Мира и Европы) ЕКП № 23752 | O2: 71 | P2: В.к. | Q2: кг
C3: =IFERROR(__xludf.DUMMYFUNCTION("IMPORTRANGE(N1,""Реквизиты!A3"")"),"13.02 - 17.02.2022 г. г. В-Пышма") -> 13.02 - 17.02.2022 г. г. В-Пышма | P3: участников | AX3: =SUM(AX7:AX12) -> 0
G4: =P2&" "&O2&" "&Q2 -> В.к. 71 кг | Y4: Мандатка
A5: ВК | B5: ВК | C5: № п/п | D5: № п/ж | E5: Ф.И.О. | F5: Ф.И.О. | G5: Дата рожд., разряд | H5: Разряд | I5: Округ, субъект, город, ведомство | K5: Субъект | L5: № карточки | M5: Тренер
A6: 71 | B6: 71 | C6: 23 | D6: 1 | E6: БАГОВ Тимур | F6: БАГОВ Тимур Долетчериевич | G6: 19.08.03, КМС | H6: КМС | I6: ЮФО | J6: Респ. Адыгея, Майкоп, СШ | K6: Р.Адыгея | M6: Гомлешко А.А. Делок А.А. | N6: {=IF(D6:D1602="","",(LEFT(F6:F1602,FIND(" ",F6:F1602)-1)))} -> БАГОВ | O6: 53 | R6: =N8 -> ГОРШКОВ | S6: =N9 -> ЧЕРНИЙ | T6: =N10 -> МАРКОВ | U6: =N11 -> СТАШ | V6: =N12 -> СТОЛБОВ | W6: =N13 -> ГАЙРБЕКОВ | Y6: Субъект, город. | Z6: =Q6 -> 0 | AA6: =R6 -> ГОРШКОВ | AB6: =S6 -> ЧЕРНИЙ | AC6: =T6 -> МАРКОВ | AD6: =U6 -> СТАШ | AE6: =V6 -> СТОЛБОВ | AF6: =W6 -> ГАЙРБЕКОВ
A7: 71 | B7: 71 | C7: 11 | D7: 2 | E7: КОЛОНТАЙ Артём | F7: КОЛОНТАЙ Артём Андреевич | G7: 13.07.05, КМС | H7: КМС | I7: ЦФО | J7: Ярославская обл., Ярославль, МУ СШОР №17 | K7: Ярославская | M7: Сапожников С.В. , Викторов Р.А. | N7: КОЛОНТАЙ | O7: 58 | R7: =SUMIFS($J$7:$J$88,$L$7:$L$88,P7,$K$7:$K$88,R$6) -> 0 | S7: =SUMIFS($J$7:$J$88,$L$7:$L$88,P7,$K$7:$K$88,S$6) -> 0 | T7: =SUMIFS($J$7:$J$88,$L$7:$L$88,P7,$K$7:$K$88,T$6) -> 0 | U7: =SUMIFS($J$7:$J$88,$L$7:$L$88,P7,$K$7:$K$88,U$6) -> 0 | V7: =SUMIFS($J$7:$J$88,$L$7:$L$88,P7,$K$7:$K$88,V$6) -> 0 | W7: =SUMIFS($J$7:$J$88,$L$7:$L$88,P7,$K$7:$K$88,W$6) -> 0 | Y7: =P7 -> 0 | Z7: =IF(Q7=0," ",Q7) | AA7: =IF(R7=0," ",R7) | AB7: =IF(S7=0," ",S7) | AC7: =IF(T7=0," ",T7) | AD7: =IF(U7=0," ",U7) | AE7: =IF(V7=0," ",V7) | AF7: =IF(W7=0," ",W7)
A8: 71 | B8: 71 | C8: 6 | D8: 3 | E8: ГОРШКОВ Фёдор | F8: ГОРШКОВ Фёдор Вадимович | G8: 10.06.04, КМС | H8: КМС | I8: СЗФО | J8: Санкт-Петербург, Санкт-Петербург, МО | K8: Санкт-Петербург | M8: Алимов М.Г., Гасанов А.З. | N8: ГОРШКОВ | O8: 64 | R8: =SUMIFS($J$7:$J$88,$L$7:$L$88,P8,$K$7:$K$88,R$6) -> 0 | S8: =SUMIFS($J$7:$J$88,$L$7:$L$88,P8,$K$7:$K$88,S$6) -> 0 | T8: =SUMIFS($J$7:$J$88,$L$7:$L$88,P8,$K$7:$K$88,T$6) -> 0 | U8: =SUMIFS($J$7:$J$88,$L$7:$L$88,P8,$K$7:$K$88,U$6) -> 0 | V8: =SUMIFS($J$7:$J$88,$L$7:$L$88,P8,$K$7:$K$88,V$6) -> 0 | W8: =SUMIFS($J$7:$J$88,$L$7:$L$88,P8,$K$7:$K$88,W$6) -> 0 | Y8: =P8 -> 0 | Z8: =IF($Y$8=$Y$7," ",IF(Q8=0," ",Q8)) | AA8: =IF($Y$8=$Y$7," ",IF(R8=0," ",R8)) | AB8: =IF($Y$8=$Y$7," ",IF(S8=0," ",S8)) | AC8: =IF($Y$8=$Y$7," ",IF(T8=0," ",T8)) | AD8: =IF(U8=0," ",U8) | AE8: =IF(V8=0," ",V8) | AF8: =IF(W8=0," ",W8)
A9: 71 | B9: 71 | C9: 42 | D9: 4 | E9: ЧЕРНИЙ Михаил | F9: ЧЕРНИЙ Михаил Васильевич | G9: 20.12.03, КМС | H9: КМС | I9: ЮФО | J9: Краснодарский, Курганинск, ВС | K9: Краснодарский | M9: Потапов И. Г. Красов В. В. | N9: ЧЕРНИЙ | O9: 71 | R9: =SUMIFS($J$7:$J$88,$L$7:$L$88,P9,$K$7:$K$88,R$6) -> 0 | S9: =SUMIFS($J$7:$J$88,$L$7:$L$88,P9,$K$7:$K$88,S$6) -> 0 | T9: =SUMIFS($J$7:$J$88,$L$7:$L$88,P9,$K$7:$K$88,T$6) -> 0 | U9: =SUMIFS($J$7:$J$88,$L$7:$L$88,P9,$K$7:$K$88,U$6) -> 0 | V9: =SUMIFS($J$7:$J$88,$L$7:$L$88,P9,$K$7:$K$88,V$6) -> 0 | W9: =SUMIFS($J$7:$J$88,$L$7:$L$88,P9,$K$7:$K$88,W$6) -> 0 | Y9: =P9 -> 0 | Z9: =IF(OR($Y9=$Y7,$Y9=$Y8)," ",IF(Q9=0," ",Q9)) | AA9: =IF(OR($Y9=$Y7,$Y9=$Y8)," ",IF(R9=0," ",R9)) | AB9: =IF(OR($Y9=$Y7,$Y9=$Y8)," ",IF(S9=0," ",S9)) | AC9: =IF(OR($Y9=$Y7,$Y9=$Y8)," ",IF(T9=0," ",T9)) | AD9: =IF(U9=0," ",U9) | AE9: =IF(V9=0," ",V9) | AF9: =IF(W9=0," ",W9)
A10: 71 | B10: 71 | C10: 39 | D10: 5 | E10: МАРКОВ Егор | F10: МАРКОВ Егор Александрович | G10: 13.07.04, КМС | H10: КМС | I10: ЦФО | J10: Московская обл., Реутов, МАУ "спортивная школа" г.Реутов | K10: Московская | M10: Абрамов Александр Геннадьевич, Герасименко Дмитрий Владимирович | N10: МАРКОВ | O10: 79 | R10: =SUMIFS($J$7:$J$88,$L$7:$L$88,P10,$K$7:$K$88,R$6) -> 0 | S10: =SUMIFS($J$7:$J$88,$L$7:$L$88,P10,$K$7:$K$88,S$6) -> 0 | T10: =SUMIFS($J$7:$J$88,$L$7:$L$88,P10,$K$7:$K$88,T$6) -> 0 | U10: =SUMIFS($J$7:$J$88,$L$7:$L$88,P10,$K$7:$K$88,U$6) -> 0 | V10: =SUMIFS($J$7:$J$88,$L$7:$L$88,P10,$K$7:$K$88,V$6) -> 0 | W10: =SUMIFS($J$7:$J$88,$L$7:$L$88,P10,$K$7:$K$88,W$6) -> 0 | Y10: =P10 -> 0 | Z10: =IF(OR($Y10=$Y8,$Y10=$Y9,$Y10=$Y7)," ",IF(Q10=0," ",Q10)) | AA10: =IF(OR($Y10=$Y8,$Y10=$Y9,$Y10=$Y7)," ",IF(R10=0," ",R10)) | AB10: =IF(OR($Y10=$Y8,$Y10=$Y9,$Y10=$Y7)," ",IF(S10=0," ",S10)) | AC10: =IF(OR($Y10=$Y8,$Y10=$Y9,$Y10=$Y7)," ",IF(T10=0," ",T10)) | AD10: =IF(U10=0," ",U10) | AE10: =IF(V10=0," ",V10) | AF10: =IF(W10=0," ",W10)
A11: 71 | B11: 71 | C11: 23 | D11: 6 | E11: СТАШ Тагир | F11: СТАШ Тагир Рустамович | G11: 18.02.04, КМС | H11: КМС | I11: ЮФО | J11: Р.Адыгея, Тахтамукай, МО | K11: Р.Адыгея | M11: Джаримок Р.Н., Джаримок А.Н. | N11: СТАШ | O11: 88 | R11: =SUMIFS($J$7:$J$88,$L$7:$L$88,P11,$K$7:$K$88,R$6) -> 0 | S11: =SUMIFS($J$7:$J$88,$L$7:$L$88,P11,$K$7:$K$88,S$6) -> 0 | T11: =SUMIFS($J$7:$J$88,$L$7:$L$88,P11,$K$7:$K$88,T$6) -> 0 | U11: =SUMIFS($J$7:$J$88,$L$7:$L$88,P11,$K$7:$K$88,U$6) -> 0 | V11: =SUMIFS($J$7:$J$88,$L$7:$L$88,P11,$K$7:$K$88,V$6) -> 0 | W11: =SUMIFS($J$7:$J$88,$L$7:$L$88,P11,$K$7:$K$88,W$6) -> 0 | Y11: =P11 -> 0 | Z11: =IF(OR($Y11=$Y9,$Y11=$Y10,$Y11=$Y8,$Y11=$Y7)," ",IF(Q11=0," ",Q11)) | AA11: =IF(OR($Y11=$Y9,$Y11=$Y10,$Y11=$Y8,$Y11=$Y7)," ",IF(R11=0," ",R11)) | AB11: =IF(OR($Y11=$Y9,$Y11=$Y10,$Y11=$Y8,$Y11=$Y7)," ",IF(S11=0," ",S11)) | AC11: =IF(OR($Y11=$Y9,$Y11=$Y10,$Y11=$Y8,$Y11=$Y7)," ",IF(T11=0," ",T11)) | AD11: =IF(U11=0," ",U11) | AE11: =IF(V11=0," ",V11) | AF11: =IF(W11=0," ",W11)
A12: 71 | B12: 71 | C12: 21 | D12: 7 | E12: СТОЛБОВ Иван | F12: СТОЛБОВ Иван Юрьевич | G12: 05.05.03, КМС | H12: КМС | I12: ПФО | J12: Чувашская Республика - Чувашия, Чебоксары, СК «ЭКРА» | K12: Чувашская | M12: Бондарев А.В. Пегасов С.В. | N12: СТОЛБОВ | O12: 98 | R12: =SUMIFS($J$7:$J$88,$L$7:$L$88,P12,$K$7:$K$88,R$6) -> 0 | S12: =SUMIFS($J$7:$J$88,$L$7:$L$88,P12,$K$7:$K$88,S$6) -> 0 | T12: =SUMIFS($J$7:$J$88,$L$7:$L$88,P12,$K$7:$K$88,T$6) -> 0 | U12: =SUMIFS($J$7:$J$88,$L$7:$L$88,P12,$K$7:$K$88,U$6) -> 0 | V12: =SUMIFS($J$7:$J$88,$L$7:$L$88,P12,$K$7:$K$88,V$6) -> 0 | W12: =SUMIFS($J$7:$J$88,$L$7:$L$88,P12,$K$7:$K$88,W$6) -> 0 | Y12: =P12 -> 0 | Z12: =IF(OR($Y12=$Y10,$Y12=$Y11,$Y12=$Y9,$Y12=$Y8,$Y12=$Y7)," ",IF(Q12=0," ",Q12)) | AA12: =IF(OR($Y12=$Y10,$Y12=$Y11,$Y12=$Y9,$Y12=$Y8,$Y12=$Y7)," ",IF(R12=0," ",R12)) | AB12: =IF(OR($Y12=$Y10,$Y12=$Y11,$Y12=$Y9,$Y12=$Y8,$Y12=$Y7)," ",IF(S12=0," ",S12)) | AC12: =IF(OR($Y12=$Y10,$Y12=$Y11,$Y12=$Y9,$Y12=$Y8,$Y12=$Y7)," ",IF(T12=0," ",T12)) | AD12: =IF(U12=0," ",U12) | AE12: =IF(V12=0," ",V12) | AF12: =IF(W12=0," ",W12)
A13: 71 | B13: 71 | C13: 8 | D13: 8 | E13: ГАЙРБЕКОВ Умар | F13: ГАЙРБЕКОВ Умар Арбиевич | G13: 29.11.04, КМС | H13: КМС | I13: ПФО | J13: Самарская обл., Самара, МБУ го Самара «СШОР-11» им ВВ Ольховского | K13: Самарская | M13: Сулейманов РЖ, Родомакин ЮС. | N13: ГАЙРБЕКОВ | O13: 98+ | R13: =SUMIFS($J$7:$J$88,$L$7:$L$88,P13,$K$7:$K$88,R$6) -> 0 | S13: =SUMIFS($J$7:$J$88,$L$7:$L$88,P13,$K$7:$K$88,S$6) -> 0 | T13: =SUMIFS($J$7:$J$88,$L$7:$L$88,P13,$K$7:$K$88,T$6) -> 0 | U13: =SUMIFS($J$7:$J$88,$L$7:$L$88,P13,$K$7:$K$88,U$6) -> 0 | V13: =SUMIFS($J$7:$J$88,$L$7:$L$88,P13,$K$7:$K$88,V$6) -> 0 | W13: =SUMIFS($J$7:$J$88,$L$7:$L$88,P13,$K$7:$K$88,W$6) -> 0 | Y13: =P13 -> 0 | Z13: =IF(OR($Y13=$Y11,$Y13=$Y12,$Y13=$Y10,$Y13=$Y9,$Y13=$Y8,$Y13=$Y7)," ",IF(Q13=0," ",Q13)) | AA13: =IF(OR($Y13=$Y11,$Y13=$Y12,$Y13=$Y10,$Y13=$Y9,$Y13=$Y8,$Y13=$Y7)," ",IF(R13=0," ",R13)) | AB13: =IF(OR($Y13=$Y11,$Y13=$Y12,$Y13=$Y10,$Y13=$Y9,$Y13=$Y8,$Y13=$Y7)," ",IF(S13=0," ",S13)) | AC13: =IF(OR($Y13=$Y11,$Y13=$Y12,$Y13=$Y10,$Y13=$Y9,$Y13=$Y8,$Y13=$Y7)," ",IF(T13=0," ",T13)) | AD13: =IF(U13=0," ",U13) | AE13: =IF(V13=0," ",V13) | AF13: =IF(W13=0," ",W13)
A14: 71 | B14: 71 | C14: 6 | D14: 9 | E14: ПРОТАСОВ Артем | F14: ПРОТАСОВ Артем Сергеевич | G14: 20.09.04, КМС | H14: КМС | I14: СПБ | J14: г. Санкт-Петербург, г. Санкт-Петербург, КШВСМ | K14: Санкт-Петербург | M14: Елисеев Д.М. | N14: ПРОТАСОВ | R14: =SUMIFS($J$7:$J$88,$L$7:$L$88,P14,$K$7:$K$88,R$6) -> 0 | S14: =SUMIFS($J$7:$J$88,$L$7:$L$88,P14,$K$7:$K$88,S$6) -> 0 | T14: =SUMIFS($J$7:$J$88,$L$7:$L$88,P14,$K$7:$K$88,T$6) -> 0 | U14: =SUMIFS($J$7:$J$88,$L$7:$L$88,P14,$K$7:$K$88,U$6) -> 0 | V14: =SUMIFS($J$7:$J$88,$L$7:$L$88,P14,$K$7:$K$88,V$6) -> 0 | W14: =SUMIFS($J$7:$J$88,$L$7:$L$88,P14,$K$7:$K$88,W$6) -> 0 | Y14: =P14 -> 0 | Z14: =IF(OR($Y14=$Y12,$Y14=$Y13,$Y14=$Y11,$Y14=$Y10,$Y14=$Y9,$Y14=$Y7)," ",IF(Q14=0," ",Q14)) | AA14: =IF(OR($Y14=$Y12,$Y14=$Y13,$Y14=$Y11,$Y14=$Y10,$Y14=$Y9,$Y14=$Y7)," ",IF(R14=0," ",R14)) | AB14: =IF(OR($Y14=$Y12,$Y14=$Y13,$Y14=$Y11,$Y14=$Y10,$Y14=$Y9,$Y14=$Y7)," ",IF(S14=0," ",S14)) | AC14: =IF(OR($Y14=$Y12,$Y14=$Y13,$Y14=$Y11,$Y14=$Y10,$Y14=$Y9,$Y14=$Y7)," ",IF(T14=0," ",T14)) | AD14: =IF(U14=0," ",U14) | AE14: =IF(V14=0," ",V14) | AF14: =IF(W14=0," ",W14)
A15: 71 | B15: 71 | C15: 20 | D15: 10 | E15: ТУКСУМБАЕВ Артём | F15: ТУКСУМБАЕВ Артём Александрович | G15: 12.05.04, КМС | H15: КМС | I15: СФО | J15: Алтайский, Барнаул , МС | K15: Алтайский | M15: Жданов В.В. ; Тюкин С.Г. | N15: ТУКСУМБАЕВ | R15: =SUMIFS($J$7:$J$88,$L$7:$L$88,P15,$K$7:$K$88,R$6) -> 0 | S15: =SUMIFS($J$7:$J$88,$L$7:$L$88,P15,$K$7:$K$88,S$6) -> 0 | T15: =SUMIFS($J$7:$J$88,$L$7:$L$88,P15,$K$7:$K$88,T$6) -> 0 | U15: =SUMIFS($J$7:$J$88,$L$7:$L$88,P15,$K$7:$K$88,U$6) -> 0 | V15: =SUMIFS($J$7:$J$88,$L$7:$L$88,P15,$K$7:$K$88,V$6) -> 0 | W15: =SUMIFS($J$7:$J$88,$L$7:$L$88,P15,$K$7:$K$88,W$6) -> 0 | Y15: =P15 -> 0 | Z15: =IF(OR($Y15=$Y13,$Y15=$Y14,$Y15=$Y12,$Y15=$Y11,$Y15=$Y10,$Y15=$Y8,$Y15=$Y7)," ",IF(Q15=0," ",Q15)) | AA15: =IF(OR($Y15=$Y13,$Y15=$Y14,$Y15=$Y12,$Y15=$Y11,$Y15=$Y10,$Y15=$Y8,$Y15=$Y7)," ",IF(R15=0," ",R15)) | AB15: =IF(OR($Y15=$Y13,$Y15=$Y14,$Y15=$Y12,$Y15=$Y11,$Y15=$Y10,$Y15=$Y8,$Y15=$Y7)," ",IF(S15=0," ",S15)) | AC15: =IF(OR($Y15=$Y13,$Y15=$Y14,$Y15=$Y12,$Y15=$Y11,$Y15=$Y10,$Y15=$Y8,$Y15=$Y7)," ",IF(T15=0," ",T15)) | AD15: =IF(U15=0," ",U15) | AE15: =IF(V15=0," ",V15) | AF15: =IF(W15=0," ",W15)
A16: 71 | B16: 71 | C16: 30 | D16: 11 | E16: НАДЫРОВ Адик | F16: НАДЫРОВ Адик Сабирович | G16: 11.02.04, КМС | H16: КМС | I16: ЦФО | J16: Воронежская, Воронеж , МО | K16: Воронежская | M16: Зимин М.А. Гончаров С.Ю. | N16: НАДЫРОВ | R16: =SUMIFS($J$7:$J$88,$L$7:$L$88,P16,$K$7:$K$88,R$6) -> 0 | S16: =SUMIFS($J$7:$J$88,$L$7:$L$88,P16,$K$7:$K$88,S$6) -> 0 | T16: =SUMIFS($J$7:$J$88,$L$7:$L$88,P16,$K$7:$K$88,T$6) -> 0 | U16: =SUMIFS($J$7:$J$88,$L$7:$L$88,P16,$K$7:$K$88,U$6) -> 0 | V16: =SUMIFS($J$7:$J$88,$L$7:$L$88,P16,$K$7:$K$88,V$6) -> 0 | W16: =SUMIFS($J$7:$J$88,$L$7:$L$88,P16,$K$7:$K$88,W$6) -> 0 | Y16: =P16 -> 0 | Z16: =IF(OR($Y16=$Y14,$Y16=$Y15,$Y16=$Y13,$Y16=$Y12,$Y16=$Y11,$Y16=$Y9,$Y16=$Y8,$Y16=$Y7)," ",IF(Q16=0," ",Q16)) | AA16: =IF(OR($Y16=$Y14,$Y16=$Y15,$Y16=$Y13,$Y16=$Y12,$Y16=$Y11,$Y16=$Y9,$Y16=$Y8,$Y16=$Y7)," ",IF(R16=0," ",R16)) | AB16: =IF(OR($Y16=$Y14,$Y16=$Y15,$Y16=$Y13,$Y16=$Y12,$Y16=$Y11,$Y16=$Y9,$Y16=$Y8,$Y16=$Y7)," ",IF(S16=0," ",S16)) | AC16: =IF(OR($Y16=$Y14,$Y16=$Y15,$Y16=$Y13,$Y16=$Y12,$Y16=$Y11,$Y16=$Y9,$Y16=$Y8,$Y16=$Y7)," ",IF(T16=0," ",T16)) | AD16: =IF(U16=0," ",U16) | AE16: =IF(V16=0," ",V16) | AF16: =IF(W16=0," ",W16)
A17: 71 | B17: 71 | C17: 30 | D17: 12 | E17: СОМСИН Антон | F17: СОМСИН Антон Геннадьевич | G17: 09.05.03, КМС | H17: КМС | I17: ЦФО | J17: Воронежская обл., Воронеж, ВУНЦ ВВС ВВА | K17: Воронежская | M17: Зимин М.А. | N17: СОМСИН | R17: =SUMIFS($J$7:$J$88,$L$7:$L$88,P17,$K$7:$K$88,R$6) -> 0 | S17: =SUMIFS($J$7:$J$88,$L$7:$L$88,P17,$K$7:$K$88,S$6) -> 0 | T17: =SUMIFS($J$7:$J$88,$L$7:$L$88,P17,$K$7:$K$88,T$6) -> 0 | U17: =SUMIFS($J$7:$J$88,$L$7:$L$88,P17,$K$7:$K$88,U$6) -> 0 | V17: =SUMIFS($J$7:$J$88,$L$7:$L$88,P17,$K$7:$K$88,V$6) -> 0 | W17: =SUMIFS($J$7:$J$88,$L$7:$L$88,P17,$K$7:$K$88,W$6) -> 0 | Y17: =P17 -> 0 | Z17: =IF(OR($Y17=$Y15,$Y17=$Y16,$Y17=$Y14,$Y17=$Y13,$Y17=$Y12,$Y17=$Y10,$Y17=$Y9,$Y17=$Y8,$Y17=$Y7)," ",IF(Q17=0," ",Q17)) | AA17: =IF(OR($Y17=$Y15,$Y17=$Y16,$Y17=$Y14,$Y17=$Y13,$Y17=$Y12,$Y17=$Y10,$Y17=$Y9,$Y17=$Y8,$Y17=$Y7)," ",IF(R17=0," ",R17)) | AB17: =IF(OR($Y17=$Y15,$Y17=$Y16,$Y17=$Y14,$Y17=$Y13,$Y17=$Y12,$Y17=$Y10,$Y17=$Y9,$Y17=$Y8,$Y17=$Y7)," ",IF(S17=0," ",S17)) | AC17: =IF(OR($Y17=$Y15,$Y17=$Y16,$Y17=$Y14,$Y17=$Y13,$Y17=$Y12,$Y17=$Y10,$Y17=$Y9,$Y17=$Y8,$Y17=$Y7)," ",IF(T17=0," ",T17)) | AD17: =IF(U17=0," ",U17) | AE17: =IF(V17=0," ",V17) | AF17: =IF(W17=0," ",W17)
A18: 71 | B18: 71 | C18: 20 | D18: 13 | E18: НЕДОИМКИН Максим | F18: НЕДОИМКИН Максим Александрович | G18: 12.08.04, КМС | H18: КМС | I18: СФО | J18: Алтайский, Бийск , МС | K18: Алтайский | M18: Димитриенко И.В., Гуляев А.М. | N18: НЕДОИМКИН | R18: =SUMIFS($J$7:$J$88,$L$7:$L$88,P18,$K$7:$K$88,R$6) -> 0 | S18: =SUMIFS($J$7:$J$88,$L$7:$L$88,P18,$K$7:$K$88,S$6) -> 0 | T18: =SUMIFS($J$7:$J$88,$L$7:$L$88,P18,$K$7:$K$88,T$6) -> 0 | U18: =SUMIFS($J$7:$J$88,$L$7:$L$88,P18,$K$7:$K$88,U$6) -> 0 | V18: =SUMIFS($J$7:$J$88,$L$7:$L$88,P18,$K$7:$K$88,V$6) -> 0 | W18: =SUMIFS($J$7:$J$88,$L$7:$L$88,P18,$K$7:$K$88,W$6) -> 0 | Y18: =P18 -> 0 | Z18: =IF(OR($Y18=$Y16,$Y18=$Y17,$Y18=$Y15,$Y18=$Y14,$Y18=$Y13,$Y18=$Y11,$Y18=$Y10,$Y18=$Y9,$Y18=$Y8,$Y18=$Y7)," ",IF(Q18=0," ",Q18)) | AA18: =IF(OR($Y18=$Y16,$Y18=$Y17,$Y18=$Y15,$Y18=$Y14,$Y18=$Y13,$Y18=$Y11,$Y18=$Y10,$Y18=$Y9,$Y18=$Y8,$Y18=$Y7)," ",IF(R18=0," ",R18)) | AB18: =IF(OR($Y18=$Y16,$Y18=$Y17,$Y18=$Y15,$Y18=$Y14,$Y18=$Y13,$Y18=$Y11,$Y18=$Y10,$Y18=$Y9,$Y18=$Y8,$Y18=$Y7)," ",IF(S18=0," ",S18)) | AC18: =IF(OR($Y18=$Y16,$Y18=$Y17,$Y18=$Y15,$Y18=$Y14,$Y18=$Y13,$Y18=$Y11,$Y18=$Y10,$Y18=$Y9,$Y18=$Y8,$Y18=$Y7)," ",IF(T18=0," ",T18)) | AD18: =IF(U18=0," ",U18) | AE18: =IF(V18=0," ",V18) | AF18: =IF(W18=0," ",W18)
A19: 71 | B19: 71 | C19: 43 | D19: 14 | E19: ШАЛЫГИН Нестор | F19: ШАЛЫГИН Нестор Игоревич | G19: 07.05.05, КМС | H19: КМС | I19: МОС | J19: г. Москва, Москва, Самбо-70 | K19: Москва | M19: Талызин Павел Николаевич, Корниенко Максим Александрович, | N19: ШАЛЫГИН | R19: =SUMIFS($J$7:$J$88,$L$7:$L$88,P19,$K$7:$K$88,R$6) -> 0 | S19: =SUMIFS($J$7:$J$88,$L$7:$L$88,P19,$K$7:$K$88,S$6) -> 0 | T19: =SUMIFS($J$7:$J$88,$L$7:$L$88,P19,$K$7:$K$88,T$6) -> 0 | U19: =SUMIFS($J$7:$J$88,$L$7:$L$88,P19,$K$7:$K$88,U$6) -> 0 | V19: =SUMIFS($J$7:$J$88,$L$7:$L$88,P19,$K$7:$K$88,V$6) -> 0 | W19: =SUMIFS($J$7:$J$88,$L$7:$L$88,P19,$K$7:$K$88,W$6) -> 0 | Y19: =P19 -> 0 | Z19: =IF(Q19=0," ",Q19) | AA19: =IF(R19=0," ",R19) | AB19: =IF(S19=0," ",S19) | AC19: =IF(T19=0," ",T19) | AD19: =IF(U19=0," ",U19) | AE19: =IF(V19=0," ",V19) | AF19: =IF(W19=0," ",W19)
A20: 71 | B20: 71 | C20: 43 | D20: 15 | E20: МУХАМЕДРИЗАЕВ Рустам | F20: МУХАМЕДРИЗАЕВ Рустам Маратович | G20: 11.02.23, МС | H20: МС | I20: МОС | J20: г. Москва, Москва, Самабо-70 | K20: Москва | M20: Гусаров А.А. | N20: МУХАМЕДРИЗАЕВ | R20: =SUMIFS($J$7:$J$88,$L$7:$L$88,P20,$K$7:$K$88,R$6) -> 0 | S20: =SUMIFS($J$7:$J$88,$L$7:$L$88,P20,$K$7:$K$88,S$6) -> 0 | T20: =SUMIFS($J$7:$J$88,$L$7:$L$88,P20,$K$7:$K$88,T$6) -> 0 | U20: =SUMIFS($J$7:$J$88,$L$7:$L$88,P20,$K$7:$K$88,U$6) -> 0 | V20: =SUMIFS($J$7:$J$88,$L$7:$L$88,P20,$K$7:$K$88,V$6) -> 0 | W20: =SUMIFS($J$7:$J$88,$L$7:$L$88,P20,$K$7:$K$88,W$6) -> 0 | Y20: =P20 -> 0 | Z20: =IF(Q20=0," ",Q20) | AA20: =IF(R20=0," ",R20) | AB20: =IF(S20=0," ",S20) | AC20: =IF(T20=0," ",T20) | AD20: =IF(U20=0," ",U20) | AE20: =IF(V20=0," ",V20) | AF20: =IF(W20=0," ",W20)
A21: 71 | B21: 71 | C21: 6 | D21: 16 | E21: ШЕЛКОВНИКОВ Кирилл | F21: ШЕЛКОВНИКОВ Кирилл Александрович | G21: 11.08.05, КМС | H21: КМС | I21: СПБ | J21: г. Санкт-Петербург, Санкт-Петербург, ГБУ СШОР №1 Адмиралтейского района | K21: Санкт-Петербург | M21: Чмыхалов В.В. | N21: ШЕЛКОВНИКОВ | R21: =SUMIFS($J$7:$J$88,$L$7:$L$88,P21,$K$7:$K$88,R$6) -> 0 | S21: =SUMIFS($J$7:$J$88,$L$7:$L$88,P21,$K$7:$K$88,S$6) -> 0 | T21: =SUMIFS($J$7:$J$88,$L$7:$L$88,P21,$K$7:$K$88,T$6) -> 0 | U21: =SUMIFS($J$7:$J$88,$L$7:$L$88,P21,$K$7:$K$88,U$6) -> 0 | V21: =SUMIFS($J$7:$J$88,$L$7:$L$88,P21,$K$7:$K$88,V$6) -> 0 | W21: =SUMIFS($J$7:$J$88,$L$7:$L$88,P21,$K$7:$K$88,W$6) -> 0 | Y21: =P21 -> 0 | Z21: =IF(Q21=0," ",Q21) | AA21: =IF(R21=0," ",R21) | AB21: =IF(S21=0," ",S21) | AC21: =IF(T21=0," ",T21) | AD21: =IF(U21=0," ",U21) | AE21: =IF(V21=0," ",V21) | AF21: =IF(W21=0," ",W21)
A22: 71 | B22: 71 | C22: 17 | D22: 17 | E22: ПЭЛЫПИВ Никита | F22: ПЭЛЫПИВ Никита Николаевич | G22: 23.06.04, КМС | H22: КМС | I22: ПФО | J22: Саратовская, Балашов , ВС | K22: Саратовская | M22: Разваляев С.В. | N22: ПЭЛЫПИВ | R22: =SUMIFS($J$7:$J$88,$L$7:$L$88,P22,$K$7:$K$88,R$6) -> 0 | S22: =SUMIFS($J$7:$J$88,$L$7:$L$88,P22,$K$7:$K$88,S$6) -> 0 | T22: =SUMIFS($J$7:$J$88,$L$7:$L$88,P22,$K$7:$K$88,T$6) -> 0 | U22: =SUMIFS($J$7:$J$88,$L$7:$L$88,P22,$K$7:$K$88,U$6) -> 0 | V22: =SUMIFS($J$7:$J$88,$L$7:$L$88,P22,$K$7:$K$88,V$6) -> 0 | W22: =SUMIFS($J$7:$J$88,$L$7:$L$88,P22,$K$7:$K$88,W$6) -> 0 | Y22: =P22 -> 0 | Z22: =IF(Q22=0," ",Q22) | AA22: =IF(R22=0," ",R22) | AB22: =IF(S22=0," ",S22) | AC22: =IF(T22=0," ",T22) | AD22: =IF(U22=0," ",U22) | AE22: =IF(V22=0," ",V22) | AF22: =IF(W22=0," ",W22)
A23: 71 | B23: 71 | C23: 37 | D23: 18 | E23: КОРОСТИЕНКО Денис | F23: КОРОСТИЕНКО Денис Витальевич | G23: 30.08.05, КМС | H23: КМС | I23: ДВФО | J23: Хабаровский край, Хабаровск, МАУ СШ «Самбо 90» | K23: Хабаровский | M23: Золоторевич А.А. | N23: КОРОСТИЕНКО | R23: =SUMIFS($J$7:$J$88,$L$7:$L$88,P23,$K$7:$K$88,R$6) -> 0 | S23: =SUMIFS($J$7:$J$88,$L$7:$L$88,P23,$K$7:$K$88,S$6) -> 0 | T23: =SUMIFS($J$7:$J$88,$L$7:$L$88,P23,$K$7:$K$88,T$6) -> 0 | U23: =SUMIFS($J$7:$J$88,$L$7:$L$88,P23,$K$7:$K$88,U$6) -> 0 | V23: =SUMIFS($J$7:$J$88,$L$7:$L$88,P23,$K$7:$K$88,V$6) -> 0 | W23: =SUMIFS($J$7:$J$88,$L$7:$L$88,P23,$K$7:$K$88,W$6) -> 0 | Y23: =P23 -> 0 | Z23: =IF(Q23=0," ",Q23) | AA23: =IF(R23=0," ",R23) | AB23: =IF(S23=0," ",S23) | AC23: =IF(T23=0," ",T23) | AD23: =IF(U23=0," ",U23) | AE23: =IF(V23=0," ",V23) | AF23: =IF(W23=0," ",W23)
A24: 71 | B24: 71 | C24: 33 | D24: 19 | E24: ГОЛОВ Глеб | F24: ГОЛОВ Глеб Андреевич | G24: 07.04.04, КМС | H24: КМС | I24: ПФО | J24: Респ. Татарстан, Казань, ГАУ РСШОР «Батыр» | K24: Р.Татарстан | M24: Гусев О.М. ,Ащеулов И.Ю. ,Зарипов А.А. | N24: ГОЛОВ | R24: =SUMIFS($J$7:$J$88,$L$7:$L$88,P24,$K$7:$K$88,R$6) -> 0 | S24: =SUMIFS($J$7:$J$88,$L$7:$L$88,P24,$K$7:$K$88,S$6) -> 0 | T24: =SUMIFS($J$7:$J$88,$L$7:$L$88,P24,$K$7:$K$88,T$6) -> 0 | U24: =SUMIFS($J$7:$J$88,$L$7:$L$88,P24,$K$7:$K$88,U$6) -> 0 | V24: =SUMIFS($J$7:$J$88,$L$7:$L$88,P24,$K$7:$K$88,V$6) -> 0 | W24: =SUMIFS($J$7:$J$88,$L$7:$L$88,P24,$K$7:$K$88,W$6) -> 0 | Y24: =P24 -> 0 | Z24: =IF(Q24=0," ",Q24) | AA24: =IF(R24=0," ",R24) | AB24: =IF(S24=0," ",S24) | AC24: =IF(T24=0," ",T24) | AD24: =IF(U24=0," ",U24) | AE24: =IF(V24=0," ",V24) | AF24: =IF(W24=0," ",W24)
A25: 71 | B25: 71 | C25: 37 | D25: 20 | E25: ТУРАЙКИН Алексей | F25: ТУРАЙКИН Алексей Андреевич | G25: 29.05.03, КМС | H25: КМС | I25: ДВФО | J25: Хабаровский, Хабаровск , МО | K25: Хабаровский | M25: Шилакин Б.В. | N25: ТУРАЙКИН | R25: =SUMIFS($J$7:$J$88,$L$7:$L$88,P25,$K$7:$K$88,R$6) -> 0 | S25: =SUMIFS($J$7:$J$88,$L$7:$L$88,P25,$K$7:$K$88,S$6) -> 0 | T25: =SUMIFS($J$7:$J$88,$L$7:$L$88,P25,$K$7:$K$88,T$6) -> 0 | U25: =SUMIFS($J$7:$J$88,$L$7:$L$88,P25,$K$7:$K$88,U$6) -> 0 | V25: =SUMIFS($J$7:$J$88,$L$7:$L$88,P25,$K$7:$K$88,V$6) -> 0 | W25: =SUMIFS($J$7:$J$88,$L$7:$L$88,P25,$K$7:$K$88,W$6) -> 0 | Y25: =P25 -> 0 | Z25: =IF(Q25=0," ",Q25) | AA25: =IF(R25=0," ",R25) | AB25: =IF(S25=0," ",S25) | AC25: =IF(T25=0," ",T25) | AD25: =IF(U25=0," ",U25) | AE25: =IF(V25=0," ",V25) | AF25: =IF(W25=0," ",W25)
A26: 71 | B26: 71 | C26: 37 | D26: 21 | E26: ЁСИНАГА Кэйта | F26: ЁСИНАГА Кэйта - | G26: 30.06.05, КМС | H26: КМС | I26: ДВФО | J26: Хабаровский, Хабаровск, МО | K26: Хабаровский | M26: Иконников Е.М. | N26: ЁСИНАГА | R26: =SUMIFS($J$7:$J$88,$L$7:$L$88,P26,$K$7:$K$88,R$6) -> 0 | S26: =SUMIFS($J$7:$J$88,$L$7:$L$88,P26,$K$7:$K$88,S$6) -> 0 | T26: =SUMIFS($J$7:$J$88,$L$7:$L$88,P26,$K$7:$K$88,T$6) -> 0 | U26: =SUMIFS($J$7:$J$88,$L$7:$L$88,P26,$K$7:$K$88,U$6) -> 0 | V26: =SUMIFS($J$7:$J$88,$L$7:$L$88,P26,$K$7:$K$88,V$6) -> 0 | W26: =SUMIFS($J$7:$J$88,$L$7:$L$88,P26,$K$7:$K$88,W$6) -> 0 | Y26: =P26 -> 0 | Z26: =IF(Q26=0," ",Q26) | AA26: =IF(R26=0," ",R26) | AB26: =IF(S26=0," ",S26) | AC26: =IF(T26=0," ",T26) | AD26: =IF(U26=0," ",U26) | AE26: =IF(V26=0," ",V26) | AF26: =IF(W26=0," ",W26)
A27: 71 | B27: 71 | C27: 1 | D27: 22 | E27: ТРУБНИКОВ Денис | F27: ТРУБНИКОВ Денис Дмитриевич | G27: 14.05.04, 1р | H27: 1р | I27: УФО | J27: Свердловская обл., Екатеринбург, Уор #1 | K27: Свердловская | M27: Печуров Е. А. Емельянов С. Д. | N27: ТРУБНИКОВ | R27: =SUMIFS($J$7:$J$88,$L$7:$L$88,P27,$K$7:$K$88,R$6) -> 0 | S27: =SUMIFS($J$7:$J$88,$L$7:$L$88,P27,$K$7:$K$88,S$6) -> 0 | T27: =SUMIFS($J$7:$J$88,$L$7:$L$88,P27,$K$7:$K$88,T$6) -> 0 | U27: =SUMIFS($J$7:$J$88,$L$7:$L$88,P27,$K$7:$K$88,U$6) -> 0 | V27: =SUMIFS($J$7:$J$88,$L$7:$L$88,P27,$K$7:$K$88,V$6) -> 0 | W27: =SUMIFS($J$7:$J$88,$L$7:$L$88,P27,$K$7:$K$88,W$6) -> 0 | Y27: =P27 -> 0 | Z27: =IF(Q27=0," ",Q27) | AA27: =IF(R27=0," ",R27) | AB27: =IF(S27=0," ",S27) | AC27: =IF(T27=0," ",T27) | AD27: =IF(U27=0," ",U27) | AE27: =IF(V27=0," ",V27) | AF27: =IF(W27=0," ",W27)
A28: 71 | B28: 71 | C28: 18 | D28: 23 | E28: СКИБА Владислав | F28: СКИБА Владислав Андреевич | G28: 16.09.05, КМС | H28: КМС | I28: СФО | J28: Новосибирская, Новосибирск , МС | K28: Новосибирская | M28: А.А Орлов | N28: СКИБА | R28: =SUMIFS($J$7:$J$88,$L$7:$L$88,P28,$K$7:$K$88,R$6) -> 0 | S28: =SUMIFS($J$7:$J$88,$L$7:$L$88,P28,$K$7:$K$88,S$6) -> 0 | T28: =SUMIFS($J$7:$J$88,$L$7:$L$88,P28,$K$7:$K$88,T$6) -> 0 | U28: =SUMIFS($J$7:$J$88,$L$7:$L$88,P28,$K$7:$K$88,U$6) -> 0 | V28: =SUMIFS($J$7:$J$88,$L$7:$L$88,P28,$K$7:$K$88,V$6) -> 0 | W28: =SUMIFS($J$7:$J$88,$L$7:$L$88,P28,$K$7:$K$88,W$6) -> 0 | Y28: =P28 -> 0 | Z28: =IF(Q28=0," ",Q28) | AA28: =IF(R28=0," ",R28) | AB28: =IF(S28=0," ",S28) | AC28: =IF(T28=0," ",T28) | AD28: =IF(U28=0," ",U28) | AE28: =IF(V28=0," ",V28) | AF28: =IF(W28=0," ",W28)
A29: 71 | B29: 71 | C29: 23 | D29: 24 | E29: ХАКУЙ Амир | F29: ХАКУЙ Амир Рашидович | G29: 08.11.03, КМС | H29: КМС | I29: ЮФО | J29: Респ. Адыгея, г Майкоп, СШ | K29: Р.Адыгея | M29: Гомлешко А. А. Делок А. А | N29: ХАКУЙ | R29: =SUMIFS($J$7:$J$88,$L$7:$L$88,P29,$K$7:$K$88,R$6) -> 0 | S29: =SUMIFS($J$7:$J$88,$L$7:$L$88,P29,$K$7:$K$88,S$6) -> 0 | T29: =SUMIFS($J$7:$J$88,$L$7:$L$88,P29,$K$7:$K$88,T$6) -> 0 | U29: =SUMIFS($J$7:$J$88,$L$7:$L$88,P29,$K$7:$K$88,U$6) -> 0 | V29: =SUMIFS($J$7:$J$88,$L$7:$L$88,P29,$K$7:$K$88,V$6) -> 0 | W29: =SUMIFS($J$7:$J$88,$L$7:$L$88,P29,$K$7:$K$88,W$6) -> 0 | Y29: =P29 -> 0 | Z29: =IF(Q29=0," ",Q29) | AA29: =IF(R29=0," ",R29) | AB29: =IF(S29=0," ",S29) | AC29: =IF(T29=0," ",T29) | AD29: =IF(U29=0," ",U29) | AE29: =IF(V29=0," ",V29) | AF29: =IF(W29=0," ",W29)
A30: 71 | B30: 71 | C30: 33 | D30: 25 | E30: АКСЕНОВ Артем | F30: АКСЕНОВ Артем Александрович | G30: 16.03.04, КМС | H30: КМС | I30: СЗФО | J30: Калининградская, Калининград, МС | K30: Калининградская | M30: Мкртчян С.Р. | N30: АКСЕНОВ | R30: =SUMIFS($J$7:$J$88,$L$7:$L$88,P30,$K$7:$K$88,R$6) -> 0 | S30: =SUMIFS($J$7:$J$88,$L$7:$L$88,P30,$K$7:$K$88,S$6) -> 0 | T30: =SUMIFS($J$7:$J$88,$L$7:$L$88,P30,$K$7:$K$88,T$6) -> 0 | U30: =SUMIFS($J$7:$J$88,$L$7:$L$88,P30,$K$7:$K$88,U$6) -> 0 | V30: =SUMIFS($J$7:$J$88,$L$7:$L$88,P30,$K$7:$K$88,V$6) -> 0 | W30: =SUMIFS($J$7:$J$88,$L$7:$L$88,P30,$K$7:$K$88,W$6) -> 0 | Y30: =P30 -> 0 | Z30: =IF(Q30=0," ",Q30) | AA30: =IF(R30=0," ",R30) | AB30: =IF(S30=0," ",S30) | AC30: =IF(T30=0," ",T30) | AD30: =IF(U30=0," ",U30) | AE30: =IF(V30=0," ",V30) | AF30: =IF(W30=0," ",W30)
A31: 71 | B31: 71 | C31: 35 | D31: 26 | E31: АБИТОВ Алим | F31: АБИТОВ Алим Тимурович | G31: 10.04.04, КМС | H31: КМС | I31: СКФО | J31: КЧР, Черкесск, ВС | K31: КЧР | M31: Кишмахов Мусса Вдадимирович | N31: АБИТОВ | R31: =SUMIFS($J$7:$J$88,$L$7:$L$88,P31,$K$7:$K$88,R$6) -> 0 | S31: =SUMIFS($J$7:$J$88,$L$7:$L$88,P31,$K$7:$K$88,S$6) -> 0 | T31: =SUMIFS($J$7:$J$88,$L$7:$L$88,P31,$K$7:$K$88,T$6) -> 0 | U31: =SUMIFS($J$7:$J$88,$L$7:$L$88,P31,$K$7:$K$88,U$6) -> 0 | V31: =SUMIFS($J$7:$J$88,$L$7:$L$88,P31,$K$7:$K$88,V$6) -> 0 | W31: =SUMIFS($J$7:$J$88,$L$7:$L$88,P31,$K$7:$K$88,W$6) -> 0 | Y31: =P31 -> 0 | Z31: =IF(Q31=0," ",Q31) | AA31: =IF(R31=0," ",R31) | AB31: =IF(S31=0," ",S31) | AC31: =IF(T31=0," ",T31) | AD31: =IF(U31=0," ",U31) | AE31: =IF(V31=0," ",V31) | AF31: =IF(W31=0," ",W31)
A32: 71 | B32: 71 | C32: 43 | D32: 27 | E32: ЧEРНЫЙ Ростислав | F32: ЧEРНЫЙ Ростислав Олегович | G32: 15.03.03, МС | H32: МС | I32: МОС | J32: г. Москва, Москва, ГБОУ ЦСиО "Самбо-70" | K32: Москва | M32: Юхарев С.С. Павлов Д.А. Фунтиков П.В. Герасименко Д.В. | N32: ЧEРНЫЙ | R32: =SUMIFS($J$7:$J$88,$L$7:$L$88,P32,$K$7:$K$88,R$6) -> 0 | S32: =SUMIFS($J$7:$J$88,$L$7:$L$88,P32,$K$7:$K$88,S$6) -> 0 | T32: =SUMIFS($J$7:$J$88,$L$7:$L$88,P32,$K$7:$K$88,T$6) -> 0 | U32: =SUMIFS($J$7:$J$88,$L$7:$L$88,P32,$K$7:$K$88,U$6) -> 0 | V32: =SUMIFS($J$7:$J$88,$L$7:$L$88,P32,$K$7:$K$88,V$6) -> 0 | W32: =SUMIFS($J$7:$J$88,$L$7:$L$88,P32,$K$7:$K$88,W$6) -> 0 | Y32: =P32 -> 0 | Z32: =IF(Q32=0," ",Q32) | AA32: =IF(R32=0," ",R32) | AB32: =IF(S32=0," ",S32) | AC32: =IF(T32=0," ",T32) | AD32: =IF(U32=0," ",U32) | AE32: =IF(V32=0," ",V32) | AF32: =IF(W32=0," ",W32)
A33: 71 | B33: 71 | C33: 47 | D33: 28 | E33: ВАНЮШИН Максим | F33: ВАНЮШИН Максим Юрьевич | G33: 30.11.03, КМС | H33: КМС | I33: ЦФО | J33: Рязанская, Рязань, Д | K33: Рязанская | M33: Серегин СМ | N33: ВАНЮШИН | R33: =SUMIFS($J$7:$J$88,$L$7:$L$88,P33,$K$7:$K$88,R$6) -> 0 | S33: =SUMIFS($J$7:$J$88,$L$7:$L$88,P33,$K$7:$K$88,S$6) -> 0 | T33: =SUMIFS($J$7:$J$88,$L$7:$L$88,P33,$K$7:$K$88,T$6) -> 0 | U33: =SUMIFS($J$7:$J$88,$L$7:$L$88,P33,$K$7:$K$88,U$6) -> 0 | V33: =SUMIFS($J$7:$J$88,$L$7:$L$88,P33,$K$7:$K$88,V$6) -> 0 | W33: =SUMIFS($J$7:$J$88,$L$7:$L$88,P33,$K$7:$K$88,W$6) -> 0 | Y33: =P33 -> 0 | Z33: =IF(Q33=0," ",Q33) | AA33: =IF(R33=0," ",R33) | AB33: =IF(S33=0," ",S33) | AC33: =IF(T33=0," ",T33) | AD33: =IF(U33=0," ",U33) | AE33: =IF(V33=0," ",V33) | AF33: =IF(W33=0," ",W33)
... A38: 71 | B38: 71 | C38: 35 | D38: 33 | E38: НАПИДЖЕВ Рахман | F38: НАПИДЖЕВ Рахман Юрьевич | G38: 20.11.04, КМС | H38: КМС | I38: СКФО | J38: КЧР, Черкесск, ВС | K38: КЧР | M38: Абитов М.М. Охтов А.Д. | N38: НАПИДЖЕВ | R38: =SUMIFS($J$7:$J$88,$L$7:$L$88,P38,$K$7:$K$88,R$6) -> 0 | S38: =SUMIFS($J$7:$J$88,$L$7:$L$88,P38,$K$7:$K$88,S$6) -> 0 | T38: =SUMIFS($J$7:$J$88,$L$7:$L$88,P38,$K$7:$K$88,T$6) -> 0 | U38: =SUMIFS($J$7:$J$88,$L$7:$L$88,P38,$K$7:$K$88,U$6) -> 0 | V38: =SUMIFS($J$7:$J$88,$L$7:$L$88,P38,$K$7:$K$88,V$6) -> 0 | W38: =SUMIFS($J$7:$J$88,$L$7:$L$88,P38,$K$7:$K$88,W$6) -> 0 | Y38: =P38 -> 0 | Z38: =IF(Q38=0," ",Q38) | AA38: =IF(R38=0," ",R38) | AB38: =IF(S38=0," ",S38) | AC38: =IF(T38=0," ",T38) | AD38: =IF(U38=0," ",U38) | AE38: =IF(V38=0," ",V38) | AF38: =IF(W38=0," ",W38)
A39: 71 | B39: 71 | C39: 43 | D39: 34 | E39: НАЗАРОВ Никита | F39: НАЗАРОВ Никита Дмитриевич | G39: 20.08.03, КМС | H39: КМС | I39: МОС | J39: г. Москва, Москва, ГБОУ «ЦСиО «Самбо-70» | K39: Москва | M39: Филимонов Сергей Николаевич, Павлов Денис Александрович | N39: НАЗАРОВ | R39: =SUMIFS($J$7:$J$88,$L$7:$L$88,P39,$K$7:$K$88,R$6) -> 0 | S39: =SUMIFS($J$7:$J$88,$L$7:$L$88,P39,$K$7:$K$88,S$6) -> 0 | T39: =SUMIFS($J$7:$J$88,$L$7:$L$88,P39,$K$7:$K$88,T$6) -> 0 | U39: =SUMIFS($J$7:$J$88,$L$7:$L$88,P39,$K$7:$K$88,U$6) -> 0 | V39: =SUMIFS($J$7:$J$88,$L$7:$L$88,P39,$K$7:$K$88,V$6) -> 0 | W39: =SUMIFS($J$7:$J$88,$L$7:$L$88,P39,$K$7:$K$88,W$6) -> 0 | X39: =SUM(Q7:T38) -> 0 | Y39: =P39 -> 0 | Z39: =IF(Q39=0," ",Q39) | AA39: =IF(R39=0," ",R39) | AB39: =IF(S39=0," ",S39) | AC39: =IF(T39=0," ",T39) | AD39: =IF(U39=0," ",U39) | AE39: =IF(V39=0," ",V39) | AF39: =IF(W39=0," ",W39)
A40: 71 | B40: 71 | C40: 37 | D40: 35 | E40: КОЗЫРСКИЙ Родион | F40: КОЗЫРСКИЙ Родион Эдуардович | G40: 01.06.04, КМС | H40: КМС | I40: ДВФО | J40: Хабаровский, Хабаровск, МО | K40: Хабаровский | M40: Золоторевич Александр Александрович, Шилакин Борис Викторович | N40: КОЗЫРСКИЙ | R40: =SUMIFS($J$7:$J$88,$L$7:$L$88,P40,$K$7:$K$88,R$6) -> 0 | S40: =SUMIFS($J$7:$J$88,$L$7:$L$88,P40,$K$7:$K$88,S$6) -> 0 | T40: =SUMIFS($J$7:$J$88,$L$7:$L$88,P40,$K$7:$K$88,T$6) -> 0 | U40: =SUMIFS($J$7:$J$88,$L$7:$L$88,P40,$K$7:$K$88,U$6) -> 0 | V40: =SUMIFS($J$7:$J$88,$L$7:$L$88,P40,$K$7:$K$88,V$6) -> 0 | W40: =SUMIFS($J$7:$J$88,$L$7:$L$88,P40,$K$7:$K$88,W$6) -> 0 | Y40: =P40 -> 0 | Z40: =IF(Q40=0," ",Q40) | AA40: =IF(R40=0," ",R40) | AB40: =IF(S40=0," ",S40) | AC40: =IF(T40=0," ",T40) | AD40: =IF(U40=0," ",U40) | AE40: =IF(V40=0," ",V40) | AF40: =IF(W40=0," ",W40)
A41: 71 | B41: 71 | C41: 10 | D41: 36 | E41: ВОЛКОВ Александр | F41: ВОЛКОВ Александр Вячеславович | G41: 20.03.04, КМС | H41: КМС | I41: ДВФО | J41: Приморский край, Артём, СШ Мастер | K41: Приморский | M41: Зубков В.Г., Шурхай Ю.А. | N41: ВОЛКОВ | R41: =SUMIFS($J$7:$J$88,$L$7:$L$88,P41,$K$7:$K$88,R$6) -> 0 | S41: =SUMIFS($J$7:$J$88,$L$7:$L$88,P41,$K$7:$K$88,S$6) -> 0 | T41: =SUMIFS($J$7:$J$88,$L$7:$L$88,P41,$K$7:$K$88,T$6) -> 0 | U41: =SUMIFS($J$7:$J$88,$L$7:$L$88,P41,$K$7:$K$88,U$6) -> 0 | V41: =SUMIFS($J$7:$J$88,$L$7:$L$88,P41,$K$7:$K$88,V$6) -> 0 | W41: =SUMIFS($J$7:$J$88,$L$7:$L$88,P41,$K$7:$K$88,W$6) -> 0 | Y41: =P41 -> 0 | Z41: =IF(Q41=0," ",Q41) | AA41: =IF(R41=0," ",R41) | AB41: =IF(S41=0," ",S41) | AC41: =IF(T41=0," ",T41) | AD41: =IF(U41=0," ",U41) | AE41: =IF(V41=0," ",V41) | AF41: =IF(W41=0," ",W41)
A42: 71 | B42: 71 | C42: 43 | D42: 37 | E42: ДУНГЕРОВ Вадим | F42: ДУНГЕРОВ Вадим Дмитриевич | G42: 22.09.04, МС | H42: МС | I42: МОС | J42: г. Москва, Москва, Самбо-70 | K42: Москва | M42: Богомолов В.А Мартынов И.В | N42: ДУНГЕРОВ | R42: =SUMIFS($J$7:$J$88,$L$7:$L$88,P42,$K$7:$K$88,R$6) -> 0 | S42: =SUMIFS($J$7:$J$88,$L$7:$L$88,P42,$K$7:$K$88,S$6) -> 0 | T42: =SUMIFS($J$7:$J$88,$L$7:$L$88,P42,$K$7:$K$88,T$6) -> 0 | U42: =SUMIFS($J$7:$J$88,$L$7:$L$88,P42,$K$7:$K$88,U$6) -> 0 | V42: =SUMIFS($J$7:$J$88,$L$7:$L$88,P42,$K$7:$K$88,V$6) -> 0 | W42: =SUMIFS($J$7:$J$88,$L$7:$L$88,P42,$K$7:$K$88,W$6) -> 0 | Y42: =P42 -> 0 | Z42: =IF(Q42=0," ",Q42) | AA42: =IF(R42=0," ",R42) | AB42: =IF(S42=0," ",S42) | AC42: =IF(T42=0," ",T42) | AD42: =IF(U42=0," ",U42) | AE42: =IF(V42=0," ",V42) | AF42: =IF(W42=0," ",W42)
A43: 71 | B43: 71 | C43: 33 | D43: 38 | E43: ДМИТРИЕВ Владислав | F43: ДМИТРИЕВ Владислав Дмитриевич | G43: 17.10.04, КМС | H43: КМС | I43: СЗФО | J43: Калининградская, Калининград , МО | K43: Калининградская | M43: Дуев М.А;Мкртчян С.Р | N43: ДМИТРИЕВ | R43: =SUMIFS($J$7:$J$88,$L$7:$L$88,P43,$K$7:$K$88,R$6) -> 0 | S43: =SUMIFS($J$7:$J$88,$L$7:$L$88,P43,$K$7:$K$88,S$6) -> 0 | T43: =SUMIFS($J$7:$J$88,$L$7:$L$88,P43,$K$7:$K$88,T$6) -> 0 | U43: =SUMIFS($J$7:$J$88,$L$7:$L$88,P43,$K$7:$K$88,U$6) -> 0 | V43: =SUMIFS($J$7:$J$88,$L$7:$L$88,P43,$K$7:$K$88,V$6) -> 0 | W43: =SUMIFS($J$7:$J$88,$L$7:$L$88,P43,$K$7:$K$88,W$6) -> 0 | Y43: =P43 -> 0 | Z43: =IF(Q43=0," ",Q43) | AA43: =IF(R43=0," ",R43) | AB43: =IF(S43=0," ",S43) | AC43: =IF(T43=0," ",T43) | AD43: =IF(U43=0," ",U43) | AE43: =IF(V43=0," ",V43) | AF43: =IF(W43=0," ",W43)
A44: 71 | B44: 71 | C44: 23 | D44: 39 | E44: НАШ Расул | F44: НАШ Расул Саферович | G44: 05.07.04, КМС | H44: КМС | I44: ЮФО | J44: Р.Адыгея, Тахтамукай , ПР | K44: Р.Адыгея | M44: Джаримок Рустам | N44: НАШ | R44: =SUMIFS($J$7:$J$88,$L$7:$L$88,P44,$K$7:$K$88,R$6) -> 0 | S44: =SUMIFS($J$7:$J$88,$L$7:$L$88,P44,$K$7:$K$88,S$6) -> 0 | T44: =SUMIFS($J$7:$J$88,$L$7:$L$88,P44,$K$7:$K$88,T$6) -> 0 | U44: =SUMIFS($J$7:$J$88,$L$7:$L$88,P44,$K$7:$K$88,U$6) -> 0 | V44: =SUMIFS($J$7:$J$88,$L$7:$L$88,P44,$K$7:$K$88,V$6) -> 0 | W44: =SUMIFS($J$7:$J$88,$L$7:$L$88,P44,$K$7:$K$88,W$6) -> 0 | Y44: =P44 -> 0 | Z44: =IF(Q44=0," ",Q44) | AA44: =IF(R44=0," ",R44) | AB44: =IF(S44=0," ",S44) | AC44: =IF(T44=0," ",T44) | AD44: =IF(U44=0," ",U44) | AE44: =IF(V44=0," ",V44) | AF44: =IF(W44=0," ",W44)
...

Sheet пр.хода
F1: ВСЕРОССИЙСКАЯ ФЕДЕРАЦИЯ САМБО | AC1: =пр.взв!$D$4 -> 0 | AD1: =пр.взв!G4 -> В.к. 71 кг
F2: ПРОТОКОЛ ХОДА СОРЕВНОВАНИЙ ЮНИОРЫ
B3: =пр.взв!C2 -> Первенство России по самбо юниоры 18-20 лет (отбор на Первенство Мира и Европы) ЕКП № 23752 | AD3: =AH3&" "&AI3 -> 0 участников | AH3: =пр.взв!O3 -> 0 | AI3: участников
A4: Подгруппа А | H4: =пр.взв!C3 -> 13.02 - 17.02.2022 г. г. В-Пышма | AB4: Подгруппа Б
A5: 1 | B5: =IFERROR(VLOOKUP(A5,пр.взв!$D$6:$Q$70,2,0),"") -> БАГОВ Тимур | C5: =IFERROR(VLOOKUP(A5,пр.взв!$D$6:$Q$70,5,0),"") -> КМС | D5: =IFERROR(VLOOKUP(A5,пр.взв!$D$6:$Q$70,8,0),"") -> Р.Адыгея | AB5: =IFERROR(VLOOKUP(AE5,пр.взв!$D$6:$Q$70,2,0),"") -> КОЛОНТАЙ Артём | AC5: =IFERROR(VLOOKUP(AE5,пр.взв!$D$6:$Q$70,5,0),"") -> КМС | AD5: =IFERROR(VLOOKUP(AE5,пр.взв!$D$6:$Q$70,8,0),"") -> Ярославская | AE5: 2 | AH5: =IF(K20=""," ",IF(K20=A5,A7,IF(K20=A7,A5,IF(K20=A9,A11,IF(K20=A11,A9,IF(K20=A13,A15,IF(K20=A15,A13,IF(K20=A17,A19,IF(K20=A19,A17,0))))))))) | AI5: =IF(K20=""," ",IF(K20=A21,A23,IF(K20=A23,A21,IF(K20=A25,A27,IF(K20=A27,A25,IF(K20=A29,A31,IF(K20=A31,A29,IF(K20=A33,A35,IF(K20=A35,A33,0)))))))))
N6: А1 | AG6: =IF(AH5=""," ",IF(AH5=0,AI5,AH5)) | AH6: =IF(K53=""," ",IF(K53=A54,A56,IF(K53=A56,A54,IF(K53=A58,A60,IF(K53=A60,A58,IF(K53=A62,A64,IF(K53=A64,A62,IF(K53=A66,A68,IF(K53=A68,A66,0))))))))) | AI6: =IF(K53=""," ",IF(K53=A38,A40,IF(K53=A40,A38,IF(K53=A42,A44,IF(K53=A44,A42,IF(K53=A46,A48,IF(K53=A48,A46,IF(K53=A50,A52,IF(K53=A52,A50,0)))))))))
A7: 33 | B7: =IFERROR(VLOOKUP(A7,пр.взв!$D$6:$Q$70,2,0),"") -> НАПИДЖЕВ Рахман | C7: =IFERROR(VLOOKUP(A7,пр.взв!$D$6:$Q$70,5,0),"") -> КМС | D7: =IFERROR(VLOOKUP(A7,пр.взв!$D$6:$Q$70,8,0),"") -> КЧР | L7: =AG6 | AB7: =IFERROR(VLOOKUP(AE7,пр.взв!$D$6:$Q$70,2,0),"") -> НАЗАРОВ Никита | AC7: =IFERROR(VLOOKUP(AE7,пр.взв!$D$6:$Q$70,5,0),"") -> КМС | AD7: =IFERROR(VLOOKUP(AE7,пр.взв!$D$6:$Q$70,8,0),"") -> Москва | AE7: 34 | AG7: =IF(K20=""," ",IF(K20=E6,E10,IF(K20=E10,E6,IF(K20=E14,E18,IF(K20=E18,E14,IF(K20=E22,E26,IF(K20=E26,E22,IF(K20=E30,E34,E30)))))))) | AH7: =IF(U20=""," ",IF(U20=AE5,AE7,IF(U20=AE7,AE5,IF(U20=AE9,AE11,IF(U20=AE11,AE9,IF(U20=AE13,AE15,IF(U20=AE15,AE13,IF(U20=AE17,AE19,IF(U20=AE19,AE17,0))))))))) | AI7: =IF(U20=""," ",IF(U20=AE21,AE23,IF(U20=AE23,AE21,IF(U20=AE25,AE27,IF(U20=AE27,AE25,IF(U20=AE29,AE31,IF(U20=AE31,AE29,IF(U20=AE33,AE35,IF(U20=AE35,AE33,0)))))))))
AG8: =IF(K20=""," ",IF(K20=G8,G16,IF(K20=G16,G8,IF(K20=G24,G32,G24)))) | AH8: =IF(U53=""," ",IF(U53=AE54,AE56,IF(U53=AE56,AE54,IF(U53=AE58,AE60,IF(U53=AE60,AE58,IF(U53=AE62,AE64,IF(U53=AE64,AE62,IF(U53=AE66,AE68,IF(U53=AE68,AE66,0))))))))) | AI8: =IF(U53=""," ",IF(U53=AE38,AE40,IF(U53=AE40,AE38,IF(U53=AE42,AE44,IF(U53=AE44,AE42,IF(U53=AE46,AE48,IF(U53=AE48,AE46,IF(U53=AE50,AE52,IF(U53=AE52,AE50,0)))))))))
A9: 17 | B9: =IFERROR(VLOOKUP(A9,пр.взв!$D$6:$Q$70,2,0),"") -> ПЭЛЫПИВ Никита | C9: =IFERROR(VLOOKUP(A9,пр.взв!$D$6:$Q$70,5,0),"") -> КМС | D9: =IFERROR(VLOOKUP(A9,пр.взв!$D$6:$Q$70,8,0),"") -> Саратовская | AB9: =IFERROR(VLOOKUP(AE9,пр.взв!$D$6:$Q$70,2,0),"") -> КОРОСТИЕНКО Денис | AC9: =IFERROR(VLOOKUP(AE9,пр.взв!$D$6:$Q$70,5,0),"") -> КМС | AD9: =IFERROR(VLOOKUP(AE9,пр.взв!$D$6:$Q$70,8,0),"") -> Хабаровский | AE9: 18 | AG9: =IF(K20=""," ",IF(K20=I12,I28,I12)) | AI9: м1 | AK9: м1 | AL9: м1 | AM9: ум
L10: =AG7 | AG10: =IF(AH6=0,AI6,AH6) | AH10: =IF(OR(K$20=A5,K$20=A7)," ",IF(E6=A5,A7,A5)) -> 1 | AI10: =IF(AH10=" ",AH11,AH10) -> 1 | AJ10: =IF(OR(K$20=E6,K$20=E10)," ",IF(G8=E6,E10,E6)) | AK10: =IF(AJ10=" ",AJ11,AJ10) | AL10: =IF(OR(K$20=G8,K$20=G16)," ",IF(I12=G8,G16,G8)) | AM10: =IF(N8=L7,L10,L7)
A11: 49 | B11: =IFERROR(VLOOKUP(A11,пр.взв!$D$6:$Q$70,2,0),"") | C11: =IFERROR(VLOOKUP(A11,пр.взв!$D$6:$Q$70,5,0),"") | D11: =IFERROR(VLOOKUP(A11,пр.взв!$D$6:$Q$70,8,0),"") | N11: =AG8 | AB11: =IFERROR(VLOOKUP(AE11,пр.взв!$D$6:$Q$70,2,0),"") | AC11: =IFERROR(VLOOKUP(AE11,пр.взв!$D$6:$Q$70,5,0),"") | AD11: =IFERROR(VLOOKUP(AE11,пр.взв!$D$6:$Q$70,8,0),"") | AE11: 50 | AG11: =IF(K53=""," ",IF(K53=E39,E43,IF(K53=E43,E39,IF(K53=E47,E51,IF(K53=E51,E47,IF(K53=E55,E59,IF(K53=E59,E55,IF(K53=E63,E67,E63)))))))) | AH11: =IF(OR(K$20=A9,K$20=A11)," ",IF(E10=A9,A11,A9)) -> 17 | AI11: =IF(OR(AH10=" ",AH11=" "),AH12,AH11) -> 17 | AJ11: =IF(OR(K$20=E14,K$20=E18)," ",IF(G16=E14,E18,E14)) | AK11: =IF(OR(AJ10=" ",AJ11=" "),AJ12,AJ11) | AL11: =IF(AND(OR(K20=G8,K20=G16),I28=G24),G32,IF(AND(OR(K20=G8,K20=G16),I28=G32),G24,IF(I12=G8,G16,G8))) -> 0 | AM11: =IF(N57=L56,L59,L56)
AG12: =IF(K53=""," ",IF(K53=G41,G49,IF(K53=G49,G41,IF(K53=G57,G65,G57)))) | AH12: =IF(OR(K$20=A13,K$20=A15)," ",IF(E14=A13,A15,A13)) -> 9 | AI12: =IF(OR(AH10=" ",AH11=" ",AH12=" "),AH13,AH12) -> 9 | AJ12: =IF(OR(K$20=E22,K$20=E26)," ",IF(G24=E22,E26,E22)) | AK12: =IF(OR(AJ10=" ",AJ11=" ",AJ12=" "),AJ13,AJ12) | AM12: =IF(N15=L14,L17,L14)
A13: 9 | B13: =IFERROR(VLOOKUP(A13,пр.взв!$D$6:$Q$70,2,0),"") -> ПРОТАСОВ Артем | C13: =IFERROR(VLOOKUP(A13,пр.взв!$D$6:$Q$70,5,0),"") -> КМС | D13: =IFERROR(VLOOKUP(A13,пр.взв!$D$6:$Q$70,8,0),"") -> Санкт-Петербург | O13: =AG9 | AB13: =IFERROR(VLOOKUP(AE13,пр.взв!$D$6:$Q$70,2,0),"") -> ТУКСУМБАЕВ Артём | AC13: =IFERROR(VLOOKUP(AE13,пр.взв!$D$6:$Q$70,5,0),"") -> КМС | AD13: =IFERROR(VLOOKUP(AE13,пр.взв!$D$6:$Q$70,8,0),"") -> Алтайский | AE13: 10 | AG13: =IF(K53=""," ",IF(K53=I46,I61,I46)) | AH13: =IF(OR(K$20=A17,K$20=A19)," ",IF(E18=A17,A19,A17)) -> 25 | AI13: =IF(OR(AH10=" ",AH11=" ",AH12=" ",AH13=" "),AH14,AH13) -> 25 | AJ13: =IF(OR(K$20=E30,K$20=E34)," ",IF(G32=E30,E34,E30)) | AM13: =IF(N64=L63,L66,L63)
L14: =AG10 | AG14: =IF(S36="","",IF(S36=U20,U53,U20)) | AH14: =IF(OR(K$20=A21,K$20=A23)," ",IF(E22=A21,A23,A21)) -> 5 | AI14: =IF(OR(AH10=" ",AH11=" ",AH12=" ",AH13=" ",AH14=" "),AH15,AH14) -> 5 | AM14: ум
A15: 41 | B15: =IFERROR(VLOOKUP(A15,пр.взв!$D$6:$Q$70,2,0),"") -> ВОРОЖЦОВ Егор | C15: =IFERROR(VLOOKUP(A15,пр.взв!$D$6:$Q$70,5,0),"") -> КМС | D15: =IFERROR(VLOOKUP(A15,пр.взв!$D$6:$Q$70,8,0),"") -> Кировская | AB15: =IFERROR(VLOOKUP(AE15,пр.взв!$D$6:$Q$70,2,0),"") -> АБАЕВ Оразеддин | AC15: =IFERROR(VLOOKUP(AE15,пр.взв!$D$6:$Q$70,5,0),"") -> КМС | AD15: =IFERROR(VLOOKUP(AE15,пр.взв!$D$6:$Q$70,8,0),"") -> Р.Татарстан | AE15: 42 | AG15: =IF(M32="","",IF(M32=M36,S36,M36)) | AH15: =IF(OR(K$20=A25,K$20=A27)," ",IF(E26=A25,A27,A25)) -> 21 | AI15: =IF(OR(AH10=" ",AH11=" ",AH12=" ",AH13=" ",AH14=" ",AH15=" "),AH16,AH15) -> 21 | AM15: =IF(O10=N8,N11,N8)
AH16: =IF(OR(K$20=A29,K$20=A31)," ",IF(E30=A29,A31,A29)) -> 13 | AI16: =IF(OR(AH10=" ",AH11=" ",AH12=" ",AH13=" ",AH14=" ",AH15=" ",AH16=" "),AH17,AH16) -> 13 | AM16: =IF(O59=N57,N60,N57)
A17: 25 | B17: =IFERROR(VLOOKUP(A17,пр.взв!$D$6:$Q$70,2,0),"") -> АКСЕНОВ Артем | C17: =IFERROR(VLOOKUP(A17,пр.взв!$D$6:$Q$70,5,0),"") -> КМС | D17: =IFERROR(VLOOKUP(A17,пр.взв!$D$6:$Q$70,8,0),"") -> Калининградская | L17: =AG11 | AB17: =IFERROR(VLOOKUP(AE17,пр.взв!$D$6:$Q$70,2,0),"") -> АБИТОВ Алим | AC17: =IFERROR(VLOOKUP(AE17,пр.взв!$D$6:$Q$70,5,0),"") -> КМС | AD17: =IFERROR(VLOOKUP(AE17,пр.взв!$D$6:$Q$70,8,0),"") -> КЧР | AE17: 26 | AH17: =IF(OR(K$20=A33,K$20=A35)," ",IF(E34=A33,A35,A33)) -> 29 | AM17: =IF(O17=N15,N18,N15)
N18: =AG12 | AI18: м3 | AK18: м3 | AL18: м3 | AM18: =IF(O66=N64,N67,N64)
A19: 57 | B19: =IFERROR(VLOOKUP(A19,пр.взв!$D$6:$Q$70,2,0),"") | C19: =IFERROR(VLOOKUP(A19,пр.взв!$D$6:$Q$70,5,0),"") | D19: =IFERROR(VLOOKUP(A19,пр.взв!$D$6:$Q$70,8,0),"") | AB19: =IFERROR(VLOOKUP(AE19,пр.взв!$D$6:$Q$70,2,0),"") | AC19: =IFERROR(VLOOKUP(AE19,пр.взв!$D$6:$Q$70,5,0),"") | AD19: =IFERROR(VLOOKUP(AE19,пр.взв!$D$6:$Q$70,8,0),"") | AE19: 58 | AH19: =IF(OR(K$53=A38,K$53=A40)," ",IF(E39=A38,A40,A38)) -> 3 | AI19: =IF(AH19=" ",AH20,AH19) -> 3 | AJ19: =IF(OR(K$53=E39,K$53=E43)," ",IF(G41=E39,E43,E39)) | AK19: =IF(AJ19=" ",AJ20,AJ19) | AM19: ум
O20: =AG13 | AH20: =IF(OR(K$53=A42,K$53=A44)," ",IF(E43=A42,A44,A42)) -> 19 | AI20: =IF(OR(AH18=" ",AH19=" ",AH20=" "),AH21,AH20) -> 19 | AJ20: =IF(OR(K$53=E47,K$53=E51)," ",IF(G49=E47,E51,E47)) | AK20: =IF(OR(AJ18=" ",AJ19=" ",AJ20=" "),AJ21,AJ20) | AL20: =IF(AND(OR(K53=G41,K53=G49),I61=G57),G65,IF(AND(OR(K53=G41,K53=G49),I61=G65),G57,IF(I46=G41,G49,G41))) -> 0 | AM20: =IF(P12=O10,O13,O10)
A21: 5 | B21: =IFERROR(VLOOKUP(A21,пр.взв!$D$6:$Q$70,2,0),"") -> МАРКОВ Егор | C21: =IFERROR(VLOOKUP(A21,пр.взв!$D$6:$Q$70,5,0),"") -> КМС | D21: =IFERROR(VLOOKUP(A21,пр.взв!$D$6:$Q$70,8,0),"") -> Московская | AB21: =IFERROR(VLOOKUP(AE21,пр.взв!$D$6:$Q$70,2,0),"") -> СТАШ Тагир | AC21: =IFERROR(VLOOKUP(AE21,пр.взв!$D$6:$Q$70,5,0),"") -> КМС | AD21: =IFERROR(VLOOKUP(AE21,пр.взв!$D$6:$Q$70,8,0),"") -> Р.Адыгея | AE21: 6 | AH21: =IF(OR(K$53=A46,K$53=A48)," ",IF(E47=A46,A48,A46)) -> 11 | AI21: =IF(OR(AH18=" ",AH19=" ",AH20=" ",AH21=" "),AH22,AH21) -> 11 | AJ21: =IF(OR(K$53=E55,K$53=E59)," ",IF(G57=E55,E59,E55)) | AK21: =IF(OR(AJ18=" ",AJ19=" ",AJ20=" ",AJ21=" "),AJ22,AJ21) | AM21: =IF(P61=O59,O62,O59)
AH22: =IF(OR(K$53=A50,K$53=A52)," ",IF(E51=A50,A52,A50)) -> 27 | AI22: =IF(OR(AH18=" ",AH19=" ",AH20=" ",AH21=" ",AH22=" "),AH23,AH22) -> 27 | AJ22: =IF(OR(K$53=E63,K$53=E67)," ",IF(G65=E63,E67,E63)) | AM22: =IF(P19=O17,O20,O17)
A23: 37 | B23: =IFERROR(VLOOKUP(A23,пр.взв!$D$6:$Q$70,2,0),"") -> ДУНГЕРОВ Вадим | C23: =IFERROR(VLOOKUP(A23,пр.взв!$D$6:$Q$70,5,0),"") -> МС | D23: =IFERROR(VLOOKUP(A23,пр.взв!$D$6:$Q$70,8,0),"") -> Москва | AB23: =IFERROR(VLOOKUP(AE23,пр.взв!$D$6:$Q$70,2,0),"") -> ДМИТРИЕВ Владислав | AC23: =IFERROR(VLOOKUP(AE23,пр.взв!$D$6:$Q$70,5,0),"") -> КМС | AD23: =IFERROR(VLOOKUP(AE23,пр.взв!$D$6:$Q$70,8,0),"") -> Калининградская | AE23: 38 | AH23: =IF(OR(K$53=A54,K$53=A56)," ",IF(E55=A54,A56,A54)) -> 7 | AI23: =IF(OR(AH18=" ",AH19=" ",AH20=" ",AH21=" ",AH22=" ",AH23=" "),AH24,AH23) -> 7 | AM23: =IF(P68=O66,O69,O66)
AH24: =IF(OR(K$53=A58,K$53=A60)," ",IF(E59=A58,A60,A58)) -> 23 | AI24: =IF(OR(AH18=" ",AH19=" ",AH20=" ",AH21=" ",AH22=" ",AH23=" ",AH24=" "),AH25,AH24) -> 23 | AM24: ум
A25: 21 | B25: =IFERROR(VLOOKUP(A25,пр.взв!$D$6:$Q$70,2,0),"") -> ЁСИНАГА Кэйта | C25: =IFERROR(VLOOKUP(A25,пр.взв!$D$6:$Q$70,5,0),"") -> КМС | D25: =IFERROR(VLOOKUP(A25,пр.взв!$D$6:$Q$70,8,0),"") -> Хабаровский | AB25: =IFERROR(VLOOKUP(AE25,пр.взв!$D$6:$Q$70,2,0),"") -> ТРУБНИКОВ Денис | AC25: =IFERROR(VLOOKUP(AE25,пр.взв!$D$6:$Q$70,5,0),"") -> 1р | AD25: =IFERROR(VLOOKUP(AE25,пр.взв!$D$6:$Q$70,8,0),"") -> Свердловская | AE25: 22 | AH25: =IF(OR(K$53=A62,K$53=A64)," ",IF(E63=A62,A64,A62)) -> 15 | AI25: =IF(OR(AH18=" ",AH19=" ",AH20=" ",AH21=" ",AH22=" ",AH23=" ",AH24=" ",AH25=" "),AH26,AH25) -> 15 | AM25: =IF(пр.хода!Q15=пр.хода!P12,пр.хода!P19,пр.хода!P12) -> 0
P26: 3 м | AH26: =IF(OR(K$53=A66,K$53=A68)," ",IF(E67=A66,A68,A66)) -> 31 | AM26: =IF(пр.хода!Q64=пр.хода!P61,пр.хода!P68,пр.хода!P61) -> 0
A27: 53 | B27: =IFERROR(VLOOKUP(A27,пр.взв!$D$6:$Q$70,2,0),"") | C27: =IFERROR(VLOOKUP(A27,пр.взв!$D$6:$Q$70,5,0),"") | D27: =IFERROR(VLOOKUP(A27,пр.взв!$D$6:$Q$70,8,0),"") | N27: =IFERROR(VLOOKUP(R18,пр.взв!$D$6:$Q$70,2,0),"") | AB27: =IFERROR(VLOOKUP(AE27,пр.взв!$D$6:$Q$70,2,0),"") | AC27: =IFERROR(VLOOKUP(AE27,пр.взв!$D$6:$Q$70,5,0),"") | AD27: =IFERROR(VLOOKUP(AE27,пр.взв!$D$6:$Q$70,8,0),"") | AE27: 54 | AI27: м2 | AK27: м2 | AL27: м2 | AM27: ум
AH28: =IF(OR(U$20=AE5,U$20=AE7)," ",IF(AA6=AE5,AE7,AE5)) -> 2 | AI28: =IF(AH28=" ",AH29,AH28) -> 2 | AJ28: =IF(OR(U$20=AA6,U$20=AA10)," ",IF(Y8=AA6,AA10,AA6)) | AK28: =IF(AJ28=" ",AJ29,AJ28) | AM28: =IF(пр.хода!R18=пр.хода!Q15,пр.хода!Q21,пр.хода!Q15) -> 0
A29: 13 | B29: =IFERROR(VLOOKUP(A29,пр.взв!$D$6:$Q$70,2,0),"") -> НЕДОИМКИН Максим | C29: =IFERROR(VLOOKUP(A29,пр.взв!$D$6:$Q$70,5,0),"") -> КМС | D29: =IFERROR(VLOOKUP(A29,пр.взв!$D$6:$Q$70,8,0),"") -> Алтайский | AB29: =IFERROR(VLOOKUP(AE29,пр.взв!$D$6:$Q$70,2,0),"") -> ШАЛЫГИН Нестор | AC29: =IFERROR(VLOOKUP(AE29,пр.взв!$D$6:$Q$70,5,0),"") -> КМС | AD29: =IFERROR(VLOOKUP(AE29,пр.взв!$D$6:$Q$70,8,0),"") -> Москва | AE29: 14 | AH29: =IF(OR(U$20=AE9,U$20=AE11)," ",IF(AA10=AE9,AE11,AE9)) -> 18 | AI29: =IF(OR(AH28=" ",AH29=" "),AH30,AH29) -> 18 | AJ29: =IF(OR(U$20=AA14,U$20=AA18)," ",IF(Y16=AA14,AA18,AA14)) | AK29: =IF(OR(AJ28=" ",AJ29=" "),AJ30,AJ29) | AL29: =IF(AND(OR(U20=Y8,U20=Y16),W28=Y24),Y32,IF(AND(OR(U20=Y8,U20=Y16),W28=Y32),Y24,IF(W12=Y8,Y16,Y8))) -> 0 | AM29: =IF(пр.хода!R67=пр.хода!Q64,пр.хода!Q69,пр.хода!Q64)
AH30: =IF(OR(U$20=AE13,U$20=AE15)," ",IF(AA14=AE13,AE15,AE13)) -> 10 | AI30: =IF(OR(AH28=" ",AH29=" ",AH30=" "),AH31,AH30) -> 10 | AJ30: =IF(OR(U$20=AA22,U$20=AA26)," ",IF(Y24=AA22,AA26,AA22)) | AK30: =IF(OR(AJ28=" ",AJ29=" ",AJ30=" "),AJ31,AJ30)
A31: 45 | B31: =IFERROR(VLOOKUP(A31,пр.взв!$D$6:$Q$70,2,0),"") | C31: =IFERROR(VLOOKUP(A31,пр.взв!$D$6:$Q$70,5,0),"") | D31: =IFERROR(VLOOKUP(A31,пр.взв!$D$6:$Q$70,8,0),"") | P31: 1 м | AB31: =IFERROR(VLOOKUP(AE31,пр.взв!$D$6:$Q$70,2,0),"") | AC31: =IFERROR(VLOOKUP(AE31,пр.взв!$D$6:$Q$70,5,0),"") | AD31: =IFERROR(VLOOKUP(AE31,пр.взв!$D$6:$Q$70,8,0),"") | AE31: 46 | AH31: =IF(OR(U$20=AE17,U$20=AE19)," ",IF(AA18=AE17,AE19,AE17)) -> 26 | AI31: =IF(OR(AH28=" ",AH29=" ",AH30=" ",AH31=" "),AH32,AH31) -> 26 | AJ31: =IF(OR(U$20=AA30,U$20=AA34)," ",IF(Y32=AA30,AA34,AA30))
AH32: =IF(OR(U$20=AE21,U$20=AE23)," ",IF(AA22=AE21,AE23,AE21)) -> 6 | AI32: =IF(OR(AH28=" ",AH29=" ",AH30=" ",AH31=" ",AH32=" "),AH33,AH32) -> 6
A33: 29 | B33: =IFERROR(VLOOKUP(A33,пр.взв!$D$6:$Q$70,2,0),"") -> РАШКИН Никита | C33: =IFERROR(VLOOKUP(A33,пр.взв!$D$6:$Q$70,5,0),"") -> КМС | D33: =IFERROR(VLOOKUP(A33,пр.взв!$D$6:$Q$70,8,0),"") -> Свердловская | N33: =IFERROR(VLOOKUP(M32,пр.взв!$D$6:$Q$70,2,0),"") | AB33: =IFERROR(VLOOKUP(AE33,пр.взв!$D$6:$Q$70,2,0),"") -> ШВЕЦ Павел | AC33: =IFERROR(VLOOKUP(AE33,пр.взв!$D$6:$Q$70,5,0),"") -> КМС | AD33: =IFERROR(VLOOKUP(AE33,пр.взв!$D$6:$Q$70,8,0),"") -> Брянская | AE33: 30 | AH33: =IF(OR(U$20=AE25,U$20=AE27)," ",IF(AA26=AE25,AE27,AE25)) -> 22 | AI33: =IF(OR(AH28=" ",AH29=" ",AH30=" ",AH31=" ",AH32=" ",AH33=" "),AH34,AH33) -> 22
AH34: =IF(OR(U$20=AE29,U$20=AE31)," ",IF(AA30=AE29,AE31,AE29)) -> 14 | AI34: =IF(OR(AH28=" ",AH29=" ",AH30=" ",AH31=" ",AH32=" ",AH33=" ",AH34=" "),AH35,AH34) -> 14
A35: 61 | B35: =IFERROR(VLOOKUP(A35,пр.взв!$D$6:$Q$70,2,0),"") | C35: =IFERROR(VLOOKUP(A35,пр.взв!$D$6:$Q$70,5,0),"") | D35: =IFERROR(VLOOKUP(A35,пр.взв!$D$6:$Q$70,8,0),"") | AB35: =IFERROR(VLOOKUP(AE35,пр.взв!$D$6:$Q$70,2,0),"") | AC35: =IFERROR(VLOOKUP(AE35,пр.взв!$D$6:$Q$70,5,0),"") | AD35: =IFERROR(VLOOKUP(AE35,пр.взв!$D$6:$Q$70,8,0),"") | AE35: 62 | AH35: =IF(OR(U$20=AE33,U$20=AE35)," ",IF(AA34=AE33,AE35,AE33)) -> 30
AI36: м4 | AK36: м4 | AL36: м4
AH37: =IF(OR(U$20=AE32,U$20=AE34)," ",IF(AA33=AE32,AE34,AE32))
A38: 3 | B38: =IFERROR(VLOOKUP(A38,пр.взв!$D$6:$Q$70,2,0),"") -> ГОРШКОВ Фёдор | C38: =IFERROR(VLOOKUP(A38,пр.взв!$D$6:$Q$70,5,0),"") -> КМС | D38: =IFERROR(VLOOKUP(A38,пр.взв!$D$6:$Q$70,8,0),"") -> Санкт-Петербург | AB38: =IFERROR(VLOOKUP(AE38,пр.взв!$D$6:$Q$70,2,0),"") -> ЧЕРНИЙ Михаил | AC38: =IFERROR(VLOOKUP(AE38,пр.взв!$D$6:$Q$70,5,0),"") -> КМС | AD38: =IFERROR(VLOOKUP(AE38,пр.взв!$D$6:$Q$70,8,0),"") -> Краснодарский | AE38: 4 | AH38: =IF(OR(U$53=AE38,U$53=AE40)," ",IF(AA39=AE38,AE40,AE38)) -> 4 | AI38: =IF(AH38=" ",AH39,AH38) -> 4 | AJ38: =IF(OR(U$53=AA39,U$53=AA43)," ",IF(Y41=AA39,AA43,AA39)) | AK38: =IF(AJ38=" ",AJ39,AJ38)
P39: 2 м | AH39: =IF(OR(U$53=AE42,U$53=AE44)," ",IF(AA43=AE42,AE44,AE42)) -> 20 | AI39: =IF(OR(AH38=" ",AH39=" "),AH40,AH39) -> 20 | AJ39: =IF(OR(U$53=AA47,U$53=AA51)," ",IF(Y49=AA47,AA51,AA47)) | AK39: =IF(OR(AJ38=" ",AJ39=" "),AJ40,AJ39) | AL39: =IF(AND(OR(U53=Y41,U53=Y49),W61=Y57),Y65,IF(AND(OR(U53=Y41,U53=Y49),W61=Y65),Y57,IF(W45=Y41,Y49,Y41))) -> 0
A40: 35 | B40: =IFERROR(VLOOKUP(A40,пр.взв!$D$6:$Q$70,2,0),"") -> КОЗЫРСКИЙ Родион | C40: =IFERROR(VLOOKUP(A40,пр.взв!$D$6:$Q$70,5,0),"") -> КМС | D40: =IFERROR(VLOOKUP(A40,пр.взв!$D$6:$Q$70,8,0),"") -> Хабаровский | M40: =AG15 | AB40: =IFERROR(VLOOKUP(AE40,пр.взв!$D$6:$Q$70,2,0),"") -> ВОЛКОВ Александр | AC40: =IFERROR(VLOOKUP(AE40,пр.взв!$D$6:$Q$70,5,0),"") -> КМС | AD40: =IFERROR(VLOOKUP(AE40,пр.взв!$D$6:$Q$70,8,0),"") -> Приморский | AE40: 36 | AH40: =IF(OR(U$53=AE46,U$53=AE48)," ",IF(AA47=AE46,AE48,AE46)) -> 12 | AI40: =IF(OR(AH38=" ",AH39=" ",AH40=" "),AH41,AH40) -> 12 | AJ40: =IF(OR(U$53=AA55,U$53=AA59)," ",IF(Y57=AA55,AA59,AA55)) | AK40: =IF(OR(AJ38=" ",AJ39=" ",AJ40=" "),AJ41,AJ40)
...

Sheet круги
B1: ВСТРЕЧИ ПО КРУГАМ | L1: ВСТРЕЧИ ПО КРУГАМ
B2: =пр.взв!$D$4 -> 0 | L2: =пр.взв!$D$4 -> 0
B3: 0 | C3: КОВЕР | L3: =B3 -> 0 | M3: КОВЕР
B4: A | C4: (Круг) | F4: 1/32 | G4: =пр.взв!G4 -> В.к. 71 кг | L4: Б | M4: (Круг) | P4: 1/32 | Q4: =G4 -> В.к. 71 кг
A5: № встр | B5: № п/ж | C5: Ф.И.О. | D5: Д. р., разряд | E5: Вед., регион | G5: Оценки | H5: Очки | I5: Рез-т | J5: Время | K5: № встр | L5: № п/ж | M5: Ф.И.О. | N5: Д. р., разряд | O5: Вед., регион | Q5: Оценки | R5: Очки | S5: Рез-т | T5: Время
A7: 1 | B7: 1 | C7: =IFERROR(VLOOKUP(B7,пр.взв!$D$6:$Q$70,2,0),"") -> БАГОВ Тимур | D7: =IFERROR(VLOOKUP(B7,пр.взв!$D$6:$Q$70,5,0),"") -> КМС | E7: =IFERROR(VLOOKUP(B7,пр.взв!$D$6:$Q$70,6,0),"") -> ЮФО | F7: =IFERROR(VLOOKUP(B7,пр.взв!$D$6:$Q$70,8,0),"") -> Р.Адыгея | K7: 17 | L7: 2 | M7: =IFERROR(VLOOKUP(L7,пр.взв!$D$6:$Q$70,2,0),"") -> КОЛОНТАЙ Артём | N7: =IFERROR(VLOOKUP(L7,пр.взв!$D$6:$Q$70,5,0),"") -> КМС | O7: =IFERROR(VLOOKUP(L7,пр.взв!$D$6:$Q$70,6,0),"") -> ЦФО | P7: =IFERROR(VLOOKUP(L7,пр.взв!$D$6:$Q$70,8,0),"") -> Ярославская
B8: 33 | C8: =IFERROR(VLOOKUP(B8,пр.взв!$D$6:$Q$70,2,0),"") -> НАПИДЖЕВ Рахман | D8: =IFERROR(VLOOKUP(B8,пр.взв!$D$6:$Q$70,5,0),"") -> КМС | E8: =IFERROR(VLOOKUP(B8,пр.взв!$D$6:$Q$70,6,0),"") -> СКФО | F8: =IFERROR(VLOOKUP(B8,пр.взв!$D$6:$Q$70,8,0),"") -> КЧР | L8: 34 | M8: =IFERROR(VLOOKUP(L8,пр.взв!$D$6:$Q$70,2,0),"") -> НАЗАРОВ Никита | N8: =IFERROR(VLOOKUP(L8,пр.взв!$D$6:$Q$70,5,0),"") -> КМС | O8: =IFERROR(VLOOKUP(L8,пр.взв!$D$6:$Q$70,6,0),"") -> МОС | P8: =IFERROR(VLOOKUP(L8,пр.взв!$D$6:$Q$70,8,0),"") -> Москва
A9: 2 | B9: 17 | C9: =IFERROR(VLOOKUP(B9,пр.взв!$D$6:$Q$70,2,0),"") -> ПЭЛЫПИВ Никита | D9: =IFERROR(VLOOKUP(B9,пр.взв!$D$6:$Q$70,5,0),"") -> КМС | E9: =IFERROR(VLOOKUP(B9,пр.взв!$D$6:$Q$70,6,0),"") -> ПФО | F9: =IFERROR(VLOOKUP(B9,пр.взв!$D$6:$Q$70,8,0),"") -> Саратовская | K9: 18 | L9: 18 | M9: =IFERROR(VLOOKUP(L9,пр.взв!$D$6:$Q$70,2,0),"") -> КОРОСТИЕНКО Денис | N9: =IFERROR(VLOOKUP(L9,пр.взв!$D$6:$Q$70,5,0),"") -> КМС | O9: =IFERROR(VLOOKUP(L9,пр.взв!$D$6:$Q$70,6,0),"") -> ДВФО | P9: =IFERROR(VLOOKUP(L9,пр.взв!$D$6:$Q$70,8,0),"") -> Хабаровский
B10: 49 | C10: =IFERROR(VLOOKUP(B10,пр.взв!$D$6:$Q$70,2,0),"") | D10: =IFERROR(VLOOKUP(B10,пр.взв!$D$6:$Q$70,5,0),"") | E10: =IFERROR(VLOOKUP(B10,пр.взв!$D$6:$Q$70,6,0),"") | F10: =IFERROR(VLOOKUP(B10,пр.взв!$D$6:$Q$70,8,0),"") | L10: 50 | M10: =IFERROR(VLOOKUP(L10,пр.взв!$D$6:$Q$70,2,0),"") | N10: =IFERROR(VLOOKUP(L10,пр.взв!$D$6:$Q$70,5,0),"") | O10: =IFERROR(VLOOKUP(L10,пр.взв!$D$6:$Q$70,6,0),"") | P10: =IFERROR(VLOOKUP(L10,пр.взв!$D$6:$Q$70,8,0),"")
A11: 3 | B11: 9 | C11: =IFERROR(VLOOKUP(B11,пр.взв!$D$6:$Q$70,2,0),"") -> ПРОТАСОВ Артем | D11: =IFERROR(VLOOKUP(B11,пр.взв!$D$6:$Q$70,5,0),"") -> КМС | E11: =IFERROR(VLOOKUP(B11,пр.взв!$D$6:$Q$70,6,0),"") -> СПБ | F11: =IFERROR(VLOOKUP(B11,пр.взв!$D$6:$Q$70,8,0),"") -> Санкт-Петербург | K11: 19 | L11: 10 | M11: =IFERROR(VLOOKUP(L11,пр.взв!$D$6:$Q$70,2,0),"") -> ТУКСУМБАЕВ Артём | N11: =IFERROR(VLOOKUP(L11,пр.взв!$D$6:$Q$70,5,0),"") -> КМС | O11: =IFERROR(VLOOKUP(L11,пр.взв!$D$6:$Q$70,6,0),"") -> СФО | P11: =IFERROR(VLOOKUP(L11,пр.взв!$D$6:$Q$70,8,0),"") -> Алтайский
B12: 41 | C12: =IFERROR(VLOOKUP(B12,пр.взв!$D$6:$Q$70,2,0),"") -> ВОРОЖЦОВ Егор | D12: =IFERROR(VLOOKUP(B12,пр.взв!$D$6:$Q$70,5,0),"") -> КМС | E12: =IFERROR(VLOOKUP(B12,пр.взв!$D$6:$Q$70,6,0),"") -> 0 | F12: =IFERROR(VLOOKUP(B12,пр.взв!$D$6:$Q$70,8,0),"") -> Кировская | L12: 42 | M12: =IFERROR(VLOOKUP(L12,пр.взв!$D$6:$Q$70,2,0),"") -> АБАЕВ Оразеддин | N12: =IFERROR(VLOOKUP(L12,пр.взв!$D$6:$Q$70,5,0),"") -> КМС | O12: =IFERROR(VLOOKUP(L12,пр.взв!$D$6:$Q$70,6,0),"") -> ПФО | P12: =IFERROR(VLOOKUP(L12,пр.взв!$D$6:$Q$70,8,0),"") -> Р.Татарстан
A13: 4 | B13: 25 | C13: =IFERROR(VLOOKUP(B13,пр.взв!$D$6:$Q$70,2,0),"") -> АКСЕНОВ Артем | D13: =IFERROR(VLOOKUP(B13,пр.взв!$D$6:$Q$70,5,0),"") -> КМС | E13: =IFERROR(VLOOKUP(B13,пр.взв!$D$6:$Q$70,6,0),"") -> СЗФО | F13: =IFERROR(VLOOKUP(B13,пр.взв!$D$6:$Q$70,8,0),"") -> Калининградская | K13: 20 | L13: 26 | M13: =IFERROR(VLOOKUP(L13,пр.взв!$D$6:$Q$70,2,0),"") -> АБИТОВ Алим | N13: =IFERROR(VLOOKUP(L13,пр.взв!$D$6:$Q$70,5,0),"") -> КМС | O13: =IFERROR(VLOOKUP(L13,пр.взв!$D$6:$Q$70,6,0),"") -> СКФО | P13: =IFERROR(VLOOKUP(L13,пр.взв!$D$6:$Q$70,8,0),"") -> КЧР
B14: 57 | C14: =IFERROR(VLOOKUP(B14,пр.взв!$D$6:$Q$70,2,0),"") | D14: =IFERROR(VLOOKUP(B14,пр.взв!$D$6:$Q$70,5,0),"") | E14: =IFERROR(VLOOKUP(B14,пр.взв!$D$6:$Q$70,6,0),"") | F14: =IFERROR(VLOOKUP(B14,пр.взв!$D$6:$Q$70,8,0),"") | L14: 58 | M14: =IFERROR(VLOOKUP(L14,пр.взв!$D$6:$Q$70,2,0),"") | N14: =IFERROR(VLOOKUP(L14,пр.взв!$D$6:$Q$70,5,0),"") | O14: =IFERROR(VLOOKUP(L14,пр.взв!$D$6:$Q$70,6,0),"") | P14: =IFERROR(VLOOKUP(L14,пр.взв!$D$6:$Q$70,8,0),"")
A15: 5 | B15: 5 | C15: =IFERROR(VLOOKUP(B15,пр.взв!$D$6:$Q$70,2,0),"") -> МАРКОВ Егор | D15: =IFERROR(VLOOKUP(B15,пр.взв!$D$6:$Q$70,5,0),"") -> КМС | E15: =IFERROR(VLOOKUP(B15,пр.взв!$D$6:$Q$70,6,0),"") -> ЦФО | F15: =IFERROR(VLOOKUP(B15,пр.взв!$D$6:$Q$70,8,0),"") -> Московская | K15: 21 | L15: 6 | M15: =IFERROR(VLOOKUP(L15,пр.взв!$D$6:$Q$70,2,0),"") -> СТАШ Тагир | N15: =IFERROR(VLOOKUP(L15,пр.взв!$D$6:$Q$70,5,0),"") -> КМС | O15: =IFERROR(VLOOKUP(L15,пр.взв!$D$6:$Q$70,6,0),"") -> ЮФО | P15: =IFERROR(VLOOKUP(L15,пр.взв!$D$6:$Q$70,8,0),"") -> Р.Адыгея
B16: 37 | C16: =IFERROR(VLOOKUP(B16,пр.взв!$D$6:$Q$70,2,0),"") -> ДУНГЕРОВ Вадим | D16: =IFERROR(VLOOKUP(B16,пр.взв!$D$6:$Q$70,5,0),"") -> МС | E16: =IFERROR(VLOOKUP(B16,пр.взв!$D$6:$Q$70,6,0),"") -> МОС | F16: =IFERROR(VLOOKUP(B16,пр.взв!$D$6:$Q$70,8,0),"") -> Москва | L16: 38 | M16: =IFERROR(VLOOKUP(L16,пр.взв!$D$6:$Q$70,2,0),"") -> ДМИТРИЕВ Владислав | N16: =IFERROR(VLOOKUP(L16,пр.взв!$D$6:$Q$70,5,0),"") -> КМС | O16: =IFERROR(VLOOKUP(L16,пр.взв!$D$6:$Q$70,6,0),"") -> СЗФО | P16: =IFERROR(VLOOKUP(L16,пр.взв!$D$6:$Q$70,8,0),"") -> Калининградская
A17: 6 | B17: 21 | C17: =IFERROR(VLOOKUP(B17,пр.взв!$D$6:$Q$70,2,0),"") -> ЁСИНАГА Кэйта | D17: =IFERROR(VLOOKUP(B17,пр.взв!$D$6:$Q$70,5,0),"") -> КМС | E17: =IFERROR(VLOOKUP(B17,пр.взв!$D$6:$Q$70,6,0),"") -> ДВФО | F17: =IFERROR(VLOOKUP(B17,пр.взв!$D$6:$Q$70,8,0),"") -> Хабаровский | K17: 22 | L17: 22 | M17: =IFERROR(VLOOKUP(L17,пр.взв!$D$6:$Q$70,2,0),"") -> ТРУБНИКОВ Денис | N17: =IFERROR(VLOOKUP(L17,пр.взв!$D$6:$Q$70,5,0),"") -> 1р | O17: =IFERROR(VLOOKUP(L17,пр.взв!$D$6:$Q$70,6,0),"") -> УФО | P17: =IFERROR(VLOOKUP(L17,пр.взв!$D$6:$Q$70,8,0),"") -> Свердловская
B18: 53 | C18: =IFERROR(VLOOKUP(B18,пр.взв!$D$6:$Q$70,2,0),"") | D18: =IFERROR(VLOOKUP(B18,пр.взв!$D$6:$Q$70,5,0),"") | E18: =IFERROR(VLOOKUP(B18,пр.взв!$D$6:$Q$70,6,0),"") | F18: =IFERROR(VLOOKUP(B18,пр.взв!$D$6:$Q$70,8,0),"") | L18: 54 | M18: =IFERROR(VLOOKUP(L18,пр.взв!$D$6:$Q$70,2,0),"") | N18: =IFERROR(VLOOKUP(L18,пр.взв!$D$6:$Q$70,5,0),"") | O18: =IFERROR(VLOOKUP(L18,пр.взв!$D$6:$Q$70,6,0),"") | P18: =IFERROR(VLOOKUP(L18,пр.взв!$D$6:$Q$70,8,0),"")
A19: 7 | B19: 13 | C19: =IFERROR(VLOOKUP(B19,пр.взв!$D$6:$Q$70,2,0),"") -> НЕДОИМКИН Максим | D19: =IFERROR(VLOOKUP(B19,пр.взв!$D$6:$Q$70,5,0),"") -> КМС | E19: =IFERROR(VLOOKUP(B19,пр.взв!$D$6:$Q$70,6,0),"") -> СФО | F19: =IFERROR(VLOOKUP(B19,пр.взв!$D$6:$Q$70,8,0),"") -> Алтайский | K19: 23 | L19: 14 | M19: =IFERROR(VLOOKUP(L19,пр.взв!$D$6:$Q$70,2,0),"") -> ШАЛЫГИН Нестор | N19: =IFERROR(VLOOKUP(L19,пр.взв!$D$6:$Q$70,5,0),"") -> КМС | O19: =IFERROR(VLOOKUP(L19,пр.взв!$D$6:$Q$70,6,0),"") -> МОС | P19: =IFERROR(VLOOKUP(L19,пр.взв!$D$6:$Q$70,8,0),"") -> Москва
B20: 45 | C20: =IFERROR(VLOOKUP(B20,пр.взв!$D$6:$Q$70,2,0),"") | D20: =IFERROR(VLOOKUP(B20,пр.взв!$D$6:$Q$70,5,0),"") | E20: =IFERROR(VLOOKUP(B20,пр.взв!$D$6:$Q$70,6,0),"") | F20: =IFERROR(VLOOKUP(B20,пр.взв!$D$6:$Q$70,8,0),"") | L20: 46 | M20: =IFERROR(VLOOKUP(L20,пр.взв!$D$6:$Q$70,2,0),"") | N20: =IFERROR(VLOOKUP(L20,пр.взв!$D$6:$Q$70,5,0),"") | O20: =IFERROR(VLOOKUP(L20,пр.взв!$D$6:$Q$70,6,0),"") | P20: =IFERROR(VLOOKUP(L20,пр.взв!$D$6:$Q$70,8,0),"")
A21: 8 | B21: 29 | C21: =IFERROR(VLOOKUP(B21,пр.взв!$D$6:$Q$70,2,0),"") -> РАШКИН Никита | D21: =IFERROR(VLOOKUP(B21,пр.взв!$D$6:$Q$70,5,0),"") -> КМС | E21: =IFERROR(VLOOKUP(B21,пр.взв!$D$6:$Q$70,6,0),"") -> УФО | F21: =IFERROR(VLOOKUP(B21,пр.взв!$D$6:$Q$70,8,0),"") -> Свердловская | K21: 24 | L21: 30 | M21: =IFERROR(VLOOKUP(L21,пр.взв!$D$6:$Q$70,2,0),"") -> ШВЕЦ Павел | N21: =IFERROR(VLOOKUP(L21,пр.взв!$D$6:$Q$70,5,0),"") -> КМС | O21: =IFERROR(VLOOKUP(L21,пр.взв!$D$6:$Q$70,6,0),"") -> ЦФО | P21: =IFERROR(VLOOKUP(L21,пр.взв!$D$6:$Q$70,8,0),"") -> Брянская
B22: 61 | C22: =IFERROR(VLOOKUP(B22,пр.взв!$D$6:$Q$70,2,0),"") | D22: =IFERROR(VLOOKUP(B22,пр.взв!$D$6:$Q$70,5,0),"") | E22: =IFERROR(VLOOKUP(B22,пр.взв!$D$6:$Q$70,6,0),"") | F22: =IFERROR(VLOOKUP(B22,пр.взв!$D$6:$Q$70,8,0),"") | L22: 62 | M22: =IFERROR(VLOOKUP(L22,пр.взв!$D$6:$Q$70,2,0),"") | N22: =IFERROR(VLOOKUP(L22,пр.взв!$D$6:$Q$70,5,0),"") | O22: =IFERROR(VLOOKUP(L22,пр.взв!$D$6:$Q$70,6,0),"") | P22: =IFERROR(VLOOKUP(L22,пр.взв!$D$6:$Q$70,8,0),"")
A23: 9 | B23: 3 | C23: =IFERROR(VLOOKUP(B23,пр.взв!$D$6:$Q$70,2,0),"") -> ГОРШКОВ Фёдор | D23: =IFERROR(VLOOKUP(B23,пр.взв!$D$6:$Q$70,5,0),"") -> КМС | E23: =IFERROR(VLOOKUP(B23,пр.взв!$D$6:$Q$70,6,0),"") -> СЗФО | F23: =IFERROR(VLOOKUP(B23,пр.взв!$D$6:$Q$70,8,0),"") -> Санкт-Петербург | K23: 25 | L23: 4 | M23: =IFERROR(VLOOKUP(L23,пр.взв!$D$6:$Q$70,2,0),"") -> ЧЕРНИЙ Михаил | N23: =IFERROR(VLOOKUP(L23,пр.взв!$D$6:$Q$70,5,0),"") -> КМС | O23: =IFERROR(VLOOKUP(L23,пр.взв!$D$6:$Q$70,6,0),"") -> ЮФО | P23: =IFERROR(VLOOKUP(L23,пр.взв!$D$6:$Q$70,8,0),"") -> Краснодарский
B24: 35 | C24: =IFERROR(VLOOKUP(B24,пр.взв!$D$6:$Q$70,2,0),"") -> КОЗЫРСКИЙ Родион | D24: =IFERROR(VLOOKUP(B24,пр.взв!$D$6:$Q$70,5,0),"") -> КМС | E24: =IFERROR(VLOOKUP(B24,пр.взв!$D$6:$Q$70,6,0),"") -> ДВФО | F24: =IFERROR(VLOOKUP(B24,пр.взв!$D$6:$Q$70,8,0),"") -> Хабаровский | L24: 36 | M24: =IFERROR(VLOOKUP(L24,пр.взв!$D$6:$Q$70,2,0),"") -> ВОЛКОВ Александр | N24: =IFERROR(VLOOKUP(L24,пр.взв!$D$6:$Q$70,5,0),"") -> КМС | O24: =IFERROR(VLOOKUP(L24,пр.взв!$D$6:$Q$70,6,0),"") -> ДВФО | P24: =IFERROR(VLOOKUP(L24,пр.взв!$D$6:$Q$70,8,0),"") -> Приморский
A25: 10 | B25: 19 | C25: =IFERROR(VLOOKUP(B25,пр.взв!$D$6:$Q$70,2,0),"") -> ГОЛОВ Глеб | D25: =IFERROR(VLOOKUP(B25,пр.взв!$D$6:$Q$70,5,0),"") -> КМС | E25: =IFERROR(VLOOKUP(B25,пр.взв!$D$6:$Q$70,6,0),"") -> ПФО | F25: =IFERROR(VLOOKUP(B25,пр.взв!$D$6:$Q$70,8,0),"") -> Р.Татарстан | K25: 26 | L25: 20 | M25: =IFERROR(VLOOKUP(L25,пр.взв!$D$6:$Q$70,2,0),"") -> ТУРАЙКИН Алексей | N25: =IFERROR(VLOOKUP(L25,пр.взв!$D$6:$Q$70,5,0),"") -> КМС | O25: =IFERROR(VLOOKUP(L25,пр.взв!$D$6:$Q$70,6,0),"") -> ДВФО | P25: =IFERROR(VLOOKUP(L25,пр.взв!$D$6:$Q$70,8,0),"") -> Хабаровский
B26: 51 | C26: =IFERROR(VLOOKUP(B26,пр.взв!$D$6:$Q$70,2,0),"") | D26: =IFERROR(VLOOKUP(B26,пр.взв!$D$6:$Q$70,5,0),"") | E26: =IFERROR(VLOOKUP(B26,пр.взв!$D$6:$Q$70,6,0),"") | F26: =IFERROR(VLOOKUP(B26,пр.взв!$D$6:$Q$70,8,0),"") | L26: 52 | M26: =IFERROR(VLOOKUP(L26,пр.взв!$D$6:$Q$70,2,0),"") | N26: =IFERROR(VLOOKUP(L26,пр.взв!$D$6:$Q$70,5,0),"") | O26: =IFERROR(VLOOKUP(L26,пр.взв!$D$6:$Q$70,6,0),"") | P26: =IFERROR(VLOOKUP(L26,пр.взв!$D$6:$Q$70,8,0),"")
