Workbook
Name KR: Пр.хода!$BY$5:$BY$164

Sheet Пр.взв
A1: select Col1,Col3,Col4,Col5,Col6,Col10,Col12,Col13,Col14,Col15,Col16,Col17 WHERE Col1>1 | C1: ПРОТОКОЛ ВЗВЕШИВАНИЯ | N1: https://docs.google.com/spreadsheets/d/1-mr44NXoxiCFwZh6G4EyfPc7CemDD3qxAv_tXDHZBQk/edit?usp=share_link | O1: =IF(O2="80+",81,O2) -> 59
C2: =IFERROR(__xludf.DUMMYFUNCTION("IMPORTRANGE(N1,""Реквизиты!A1"")"),"Первенство России по самбо юниорки 18-20 лет (отбор на Первенство Мира и Европы) ЕКП № 23752") -> Первенство России по самбо юниорки 18-20 лет (отбор на Первенство Мира и Европы) ЕКП № 23752 | O2: 59 | P2: В.к. | Q2: кг
C3: =IFERROR(__xludf.DUMMYFUNCTION("IMPORTRANGE(N1,""Реквизиты!A3"")"),"13.02 - 17.02.2022 г. г. В-Пышма") -> 13.02 - 17.02.2022 г. г. В-Пышма | O3: =COUNT(B6:B991) -> 0 | P3: участников
G4: =P2&" "&O2&" "&Q2 -> В.к. 59 кг | J4: ЮНИОРКИ
A5: ВК | B5: ВК | C5: № п/п | D5: № п/ж | E5: Ф.И.О. | F5: Ф.И.О. | G5: Дата рожд., разряд | H5: Разряд | I5: Округ, субъект, город, ведомство | K5: Субъект | L5: № карточки | M5: Тренер
A6: =IF(B6=81,"80+",B6) -> #REF! | B6: =IFERROR(__xludf.DUMMYFUNCTION("QUERY(IMPORTRANGE(N1,""Рег.!A2:Q""),""select Col1,Col3,Col4,Col5,Col6,Col10,Col12,Col13,Col14,Col15,Col16,Col17 WHERE Col1 contains '""&O1&""'order by Col13,Col15"")"),"#REF!") -> #REF! | C6: 41 | D6: 6 | E6: БУБЯКИНА Ольга | F6: БУБЯКИНА Ольга Павловна | G6: 28.08.04, КМС | H6: КМС | I6: ДВФО | J6: Амурская обл., Благовещенск, МАОУ ДО ДЮСШ 5 | K6: Амурская | M6: Богодист Д.И., Бубякин П.В. | N6: 47 | O6: БУБЯКИНА
A7: =IF(B7=81,"80+",B7) -> 0 | C7: 22 | D7: 23 | E7: ТИХОНОВА Юлия | F7: ТИХОНОВА Юлия Алексеевна | G7: 16.03.05, 1р | H7: 1р | I7: ДВФО | J7: Забайкальский край, Чита, Детский юношеский центр | K7: Забайкальский | M7: Курбатов Владимир Сергеевич | N7: 50 | O7: ТИХОНОВА
A8: =IF(B8=81,"80+",B8) -> 0 | C8: 40 | D8: 8 | E8: ЗЕНЧЕНКО Алина | F8: ЗЕНЧЕНКО Алина Руслановна | G8: 06.03.05, КМС | H8: КМС | I8: МОС | J8: г. Москва, Москва, МГФСО | K8: Москва | M8: Мартынов М.Г, Терешок В.А | N8: 54 | O8: 58
A9: =IF(B9=81,"80+",B9) -> 0 | C9: 40 | D9: 4 | E9: ИЛЮКОВА Карина | F9: ИЛЮКОВА Карина Евгеньевна | G9: 22.09.04, КМС | H9: КМС | I9: МОС | J9: г. Москва, Москва, МССУОР 1 | K9: Москва | M9: Коржавин Николай Васильевич | N9: 59 | O9: 64
A10: =IF(B10=81,"80+",B10) -> 0 | C10: 40 | D10: 15 | E10: МАЙОРСКАЯ Виктория | F10: МАЙОРСКАЯ Виктория Станиславовна | G10: 26.01.04, КМС | H10: КМС | I10: МОС | J10: г. Москва, Москва, Самбо-70 | K10: Москва | M10: Гусаров А.А.,Клецков Н.В. | N10: 65 | O10: 71
A11: =IF(B11=81,"80+",B11) -> 0 | C11: 30 | D11: 9 | E11: ГАЛИЕВА Алина | F11: ГАЛИЕВА Алина Романовна | G11: 09.09.04, КМС | H11: КМС | I11: ПФО | J11: Респ. Башкортостан, Уфа, СШОР «Геркулес» | K11: Р.Башкортостан | M11: Бикташев.М.Р Шерстабитов.Ю.А Яркеев.В.А | N11: 72 | O11: 79
A12: =IF(B12=81,"80+",B12) -> 0 | C12: 10 | D12: 18 | E12: АРТАМОНОВА Лина | F12: АРТАМОНОВА Лина Алексеевна | G12: 15.01.05, КМС | H12: КМС | I12: ПФО | J12: Саратовская обл., Энгельс, МБУ Юность | K12: Саратовская | M12: Гусев М.С | N12: 80 | O12: 88
A13: =IF(B13=81,"80+",B13) -> 0 | C13: 32 | D13: 3 | E13: МАКАРЕНКО Екатерина | F13: МАКАРЕНКО Екатерина Викторовна | G13: 31.01.05, КМС | H13: КМС | I13: СЗФО | J13: Калининградская обл., Калининград, ГБПОУ КО УОР | K13: Калининградская | M13: Мкртчян С.Р, Дуев М.А, Ковалев А.А | N13: 80+ | O13: 98
A14: =IF(B14=81,"80+",B14) -> 0 | C14: 6 | D14: 22 | E14: ТАЛПА Елизавета | F14: ТАЛПА Елизавета Валерьевна | G14: 15.08.05, КМС | H14: КМС | I14: СЗФО | J14: Респ. Коми, Воркута, СШ «СМЕНА» | K14: Р.Коми | M14: Алехин В.В. | N14: 98+ | O14: 98+
A15: =IF(B15=81,"80+",B15) -> 0 | C15: 3 | D15: 13 | E15: КАРАТАЕВА Анастасия | F15: КАРАТАЕВА Анастасия Ивановна | G15: 09.12.04, КМС | H15: КМС | I15: СФО | J15: Алтайский край, Бийск, ДЮСШ Зонального района | K15: Алтайский | M15: Шуликов Е.С | N15: <3
A16: =IF(B16=81,"80+",B16) -> 0 | C16: 15 | D16: 24 | E16: АНТОНЮК Яна | F16: АНТОНЮК Яна Сергеевна | G16: 07.09.04, МС | H16: МС | I16: СФО | J16: Иркутская обл., Иркутск, ГКУИО | K16: Иркутская | M16: Томский А
A17: =IF(B17=81,"80+",B17) -> 0 | C17: 13 | D17: 17 | E17: БОЧКАРЕВА Маргарита | F17: БОЧКАРЕВА Маргарита Сергеевна | G17: 13.11.03, КМС | H17: КМС | I17: СФО | J17: Р.Алтай, Горно-Алтайск, Д | K17: Р.Алтай | M17: Тайпинов В. Л.
A18: =IF(B18=81,"80+",B18) -> 0 | C18: 35 | D18: 10 | E18: АЛЁХИНА Алёна | F18: АЛЁХИНА Алёна Александровна | G18: 03.01.05, КМС | H18: КМС | I18: УФО | J18: Свердловская обл., Екатеринбург, ГАУ СО « СШОР по самбо и дзюдо» | K18: Свердловская | M18: Федосеев М.Е., Воронов В.В
A19: =IF(B19=81,"80+",B19) -> 0 | C19: 35 | D19: 12 | E19: МУРАШОВА Марина | F19: МУРАШОВА Марина Андреевна | G19: 08.11.04, 1р | H19: 1р | I19: УФО | J19: Свердловская обл., Екатеринбург, ГАУ СШОР | K19: Свердловская | M19: Черникова.М.И
A20: =IF(B20=81,"80+",B20) -> 0 | C20: 35 | D20: 2 | E20: ДЖУМАЕВА Яна | F20: ДЖУМАЕВА Яна Хидирназаровна | G20: 25.11.03, КМС | H20: КМС | I20: УФО | J20: Свердловская обл., Екатеринбург, Ск Родина | K20: Свердловская | M20: Федосеев М.Е Селянина О.В
A21: =IF(B21=81,"80+",B21) -> 0 | C21: 35 | D21: 16 | E21: ШТЕНЦОВА Валентина | F21: ШТЕНЦОВА Валентина Михайловна | G21: 10.06.04, МС | H21: МС | I21: УФО | J21: Свердловская обл., Екатеринбург, СШОР ПО САМБО И ДЗЮДО | K21: Свердловская | M21: Куликов С.С ; Савинский В.С
A22: =IF(B22=99,"98+",B22) -> 0 | C22: 35 | D22: 26 | E22: КОМАРДИНА Олеся | F22: КОМАРДИНА Олеся Алексеевна | G22: 17.04.03, КМС | H22: КМС | I22: УФО | J22: Свердловская обл., Екатеринбург, Уор №1 | K22: Свердловская | M22: Федосеев М.Е; Селянина О.В
A23: =IF(B23=99,"98+",B23) -> 0 | C23: 35 | D23: 7 | E23: МЕЛАДЗЕ Дарья | F23: МЕЛАДЗЕ Дарья Николаевна | G23: 21.12.03, КМС | H23: КМС | I23: УФО | J23: Свердловская обл., Ирбит, Ирбитская ДЮСШ | K23: Свердловская | M23: Шевчук П.Н. Дымшаков М.И.
A24: =IF(B24=99,"98+",B24) -> 0 | C24: 35 | D24: 21 | E24: МУХИНА Ольга | F24: МУХИНА Ольга Дмитриевна | G24: 10.08.04, КМС | H24: КМС | I24: УФО | J24: Свердловская, Екатеринбург , МС | K24: Свердловская | M24: Львов ЕВ
A25: =IF(B25=99,"98+",B25) -> 0 | C25: 25 | D25: 11 | E25: КОЛОСОВА Карина | F25: КОЛОСОВА Карина Юрьевна | G25: 28.01.04, КМС | H25: КМС | I25: ЦФО | J25: Воронежская обл., Нововоронеж, Нововоронежская ДЮСШ | K25: Воронежская | M25: Маклецова Т. Е.
A26: =IF(B26=99,"98+",B26) -> 0 | C26: 34 | D26: 5 | E26: ГАЙДУЧОК Дарья | F26: ГАЙДУЧОК Дарья Сергеевна | G26: 03.07.03, МС | H26: МС | I26: ЦФО | J26: Московская, Можайск, МО | K26: Московская | M26: Степанов И.М., Нагулин А.В.
A27: =IF(B27=99,"98+",B27) -> 0 | C27: 34 | D27: 14 | E27: ИЗМАЛКОВА Анастасия | F27: ИЗМАЛКОВА Анастасия Кирилловна | G27: 29.05.05, КМС | H27: КМС | I27: ЦФО | J27: Московская, Можайск, МО | K27: Московская | M27: Анохин В.Н
A28: =IF(B28=99,"98+",B28) -> 0 | C28: 27 | D28: 19 | E28: ВОРОШИЛОВА Мария | F28: ВОРОШИЛОВА Мария Александровна | G28: 14.12.05, КМС | H28: КМС | I28: ЦФО | J28: Смоленская обл., Смоленск, СДЮШОР 2 | K28: Смоленская | M28: Ермаченков Сергей Александрович Гореленков Сергей Анатольевич
A29: =IF(B29=99,"98+",B29) -> 0 | C29: 17 | D29: 20 | E29: МАКСИМОВА Василиса | F29: МАКСИМОВА Василиса Игоревна | G29: 06.05.04, КМС | H29: КМС | I29: ЮФО | J29: Астраханская, Астрахань, МО | K29: Астраханская | M29: Гольберг Е. М
A30: =IF(B30=99,"98+",B30) -> 0 | C30: 38 | D30: 25 | E30: САВИНОВА Ольга | F30: САВИНОВА Ольга Григорьевна | G30: 22.01.04, КМС | H30: КМС | I30: ЮФО | J30: Краснодарский край, Краснодар, Спортивная школа 5 | K30: Краснодарский | M30: Коваленко Сергей Владимирович
A31: =IF(B31=99,"98+",B31) -> 0 | C31: 24 | D31: 1 | E31: ДАВЫДЮК Дарья | F31: ДАВЫДЮК Дарья Вячеславовна | G31: 05.05.05, КМС | H31: КМС | I31: ЮФО | J31: Респ. Крым, Ялта-Керчь, МБУ "СШ самбо им. И.С.Павленко" | K31: Р.Крым | M31: Красов В.В.,Мурашкин А.О.
A32: =IF(B32=99,"98+",B32) -> 0
A33: =IF(B33=99,"98+",B33) -> 0
A34: =IF(B34=99,"98+",B34) -> 0
A35: =IF(B35=99,"98+",B35) -> 0
A36: =IF(B36=99,"98+",B36) -> 0
A37: =IF(B37=99,"98+",B37) -> 0
A38: =IF(B38=99,"98+",B38) -> 0
A39: =IF(B39=99,"98+",B39) -> 0
A40: =IF(B40=99,"98+",B40) -> 0
...

Sheet Пр.хода
B1: ВСЕРОССИЙСКАЯ ФЕДЕРАЦИЯ САМБО | X1: sambo.ru.com
B2: ПРОТОКОЛ ХОДА ЮНИОРКИ | E2: =Пр.взв!C2 -> Первенство России по самбо юниорки 18-20 лет (отбор на Первенство Мира и Европы) ЕКП № 23752 | AY2: =Пр.взв!O3 -> 0
B3: 13.02 - 17.02.2022 г. г. В-Пышма | Q3: =AY3&" "&AZ3 -> 0 участников | Z3: =Пр.взв!G4 -> В.к. 59 кг | AY3: =AY2 -> 0 | AZ3: участников | BC3: =AY2/2+0.5 -> 0.5
B4: № п/ж | C4: Ф.И.О. | D4: Разряд | E4: Субъект | F4: Круги | AB4: Круг выбытия | AC4: очки | AD4: место | AF4: место | AH4: 1 | AI4: 2 | AJ4: 3 | AK4: 4 | AL4: 5 | AM4: 6 | AN4: 7 | AO4: 8 | AP4: победы | AQ4: оч | AR4: круги | AS4: место | AY4: 5 | AZ4: мин | BC4: время | BE4: =SUM(AY4*AY2,AY8,BA8,BC8,BE8) -> 0 | BG4: мин | BI4: мин | BR4: 2кр | BW4: 3кр | CE4: 4кр | CJ4: 5кр | CO4: 6KP | CT4: 7KP | CY4: 8kp
F5: 1 | H5: 2 | J5: 3 | L5: 4 | N5: 5 | P5: 6 | R5: 7 | T5: 8 | V5: № | X5: пф | Z5: фин | AZ5: 1пф | BA5: 2пф | BB5: фин | BP5: 1 | BQ5: =IFERROR(__xludf.DUMMYFUNCTION("QUERY(BP5:BP164,""select BP where BP is not null"")"),1) -> 1 | BU5: 1 | BV5: =IFERROR(__xludf.DUMMYFUNCTION("QUERY(BU5:BU164,""select BU where BU is not null"")"),1) -> 1 | BZ5: 1 | CA5: =IFERROR(__xludf.DUMMYFUNCTION("QUERY(BZ5:BZ164,""select BZ where BZ is not null"")"),1) -> 1 | CH5: 1 | CI5: =IFERROR(__xludf.DUMMYFUNCTION("QUERY(CH5:CH164,""select CH where CH is not null"")"),1) -> 1 | CM5: 1 | CN5: =IFERROR(__xludf.DUMMYFUNCTION("QUERY(CM5:CM164,""select CM where CM is not null"")"),1) -> 1 | CR5: 1 | CS5: =IFERROR(__xludf.DUMMYFUNCTION("QUERY(CR5:CR164,""select CR where CR is not null"")"),1) -> 1 | CW5: 1 | CX5: =IFERROR(__xludf.DUMMYFUNCTION("QUERY(CW5:CW164,""select CW where CW is not null"")"),1) -> 1 | DB5: 1 | DC5: =IFERROR(__xludf.DUMMYFUNCTION("QUERY(DB5:DB164,""select DB where DB is not null"")"),1) -> 1
B6: 1 | C6: =(VLOOKUP($B6,Пр.взв!$D$6:$J$63,2,0)) -> ДАВЫДЮК Дарья | D6: =(VLOOKUP($B6,Пр.взв!$D$6:$J$63,5,0)) -> КМС | E6: =(VLOOKUP($B6,Пр.взв!$D$6:$M$63,8,0)) -> Р.Крым | F6: 2 | H6: 3 | J6: =IF(H6="Х","Х",IF($AC6<6," ","Х")) | L6: =IF(J6="Х","Х",IF(K6<3," ",IF($AC6<6," ","Х"))) | N6: =IF(L6="Х","Х",IF(M6<3," ",IF($AC6<6," ","Х"))) | P6: =IF(N6="Х","Х",IF(O6<3," ",IF($AC6<6," ","Х"))) | R6: =IF(P6="Х","Х",IF(Q6<3," ",IF($AC6<6," ","Х"))) | T6: =IF(R6="Х","Х",IF(S6<3," ",IF($AC6<6," ","Х"))) | V6: =IF(T6="Х","Х",IF(U6<3," ",IF($AC6<6," ","Х"))) | X6: =IF(V6="А1",$AZ$7,IF(V6="Б2",$AZ$6,IF(V6="Б1",$BA$7,IF(V6="А2",$BA$6,IF(V6="Х","Х",IF(V6<6," "," ")))))) | Z6: =IF(V6="Х","Х",IF(ISBLANK(Y6),"",IF(Y6>2.5," ",IF(B6=BB$6,BB$7,BB$6)))) | AB6: =IF(H6="Х",F$5,IF(J6="Х",H$5,IF(L6="Х",J$5,IF(N6="Х",L$5,IF(P6="Х",N$5,IF(R6="Х",P$5,IF(T6="Х",R$5,IF(X6="Х",T$5,"")))))))) | AC6: =SUM(G6+I6+K6+M6+O6+Q6+S6+U6+Y6+AA6) -> 0 | AD6: =AF6 -> 1-22 | AE6: =AD6 -> 1-22 | AF6: =COUNTIF(AG$6:AG$148,">"&AG$6:AG$148)+1&REPT("-"&COUNTIF(AG$6:AG$148,">="&AG$6:AG$148),COUNTIF(AG$6:AG$148,AG6)>1) -> 1-22 | AG6: =(AR6*100)+(AP6*10)-AC6 -> 1280 | AH6: =IF(OR(F6="Х",F6="св")," ",IF(AND(G6>=0,G6<3),"1"," ")) -> 1 | AI6: =IF(OR(H6="Х",H6="св")," ",IF(AND(I6>=0,I6<3),"1"," ")) -> 1 | AJ6: =IF(OR(J6="Х",J6="св")," ",IF(AND(K6>=0,K6<3),"1"," ")) -> 1 | AK6: =IF(OR(L6="Х",L6="св")," ",IF(AND(M6>=0,M6<3),"1"," ")) -> 1 | AL6: =IF(OR(N6="Х",N6="св")," ",IF(AND(O6>=0,O6<3),"1"," ")) -> 1 | AM6: =IF(OR(P6="Х",P6="св")," ",IF(AND(Q6>=0,Q6<3),"1"," ")) -> 1 | AN6: =IF(OR(R6="Х",R6="св")," ",IF(AND(S6>=0,S6<3),"1"," ")) -> 1 | AO6: =IF(OR(T6="Х",T6="св")," ",IF(AND(U6>=0,U6<3),"1"," ")) -> 1 | AP6: =COUNTIF(AH6:AO7,1) -> 8 | AQ6: =AG6-AC6 -> 1280 | AR6: =IF(F6=0,0,IF(F6="Х",1,IF(H6="Х",2,IF(J6="Х",3,IF(L6="Х",4,IF(N6="Х",5,IF(P6="Х",6,IF(R6="Х",7,IF(T6="Х",8,IF(V6="Х",9,IF(Y6>2.5,10,IF(AA6>2.5,11,IF(AA6>=0,12,IF(AA6=" ",0,)))))))))))))) -> 12 | AS6: =COUNTIF(AG$6:AG$134,">"&AG$6:AG$134)+1&REPT("-"&COUNTIF(AG$6:AG$134,">="&AG$6:AG$134),COUNTIF(AG$6:AG$134,AG6)>1) -> 1-22 | AT6: =COUNTIF(AU$6:AU$134,">"&AU$6:AU$134)+1&REPT("-"&COUNTIF(AU$6:AU$134,">="&AU$6:AU$134),COUNTIF(AU$6:AU$134,AU6)>1) -> 1-64 | AU6: =COUNTIF(AV$6:AV$134,">"&AV$6:AV$134)+1&REPT("-"&COUNTIF(AV$6:AV$134,">="&AV$6:AV$134),COUNTIF(AV$6:AV$134,AV6)>1) -> 1-0 | AV6: =COUNTIF(AW$6:AW$134,">"&AW$6:AW$134)+1&REPT("-"&COUNTIF(AW$6:AW$134,">="&AW$6:AW$134),COUNTIF(AW$6:AW$134,AW6)>1) -> 1 | AW6: =COUNTIF(AX$6:AX$134,">"&AX$6:AX$134)+1&REPT("-"&COUNTIF(AX$6:AX$134,">="&AX$6:AX$134),COUNTIF(AX$6:AX$134,AX6)>1) -> 64 | AX6: =IF(X6="Х","Х",IF(Y6<3,B6,"Х")) -> 1 | AZ6: {=INDEX(B6:V134,MATCH("А1",V6:V134,0),MATCH("№ п/ж",B4:C4,0))} -> #N/A | BA6: {=INDEX(B6:V134,MATCH("Б1",V6:V134,0),MATCH("№ п/ж",B4:C4,0))} -> #N/A | BB6: =IF(ISERROR(BC6),AZ7,AZ6) -> #N/A | BC6: {=INDEX(B$6:V$134,MATCH(AZ6,AX$6:AX$134,0),MATCH("№ п/ж",B$4:C$4,0))} -> #N/A | BD6: =INDEX(B$6:V$134,MATCH(BA6,AX$6:AX$134,0),MATCH("№ п/ж",B$4:C$4,0)) -> #N/A | BM6: {=IF($B6:$B164="","",(IF(F6:F164="х"," ",$B6:$B164)))} -> 1 | BN6: {=IF(BR6:BR164=" "," ",F6:F164)} -> 2 | BO6: =IF(BM6<BN6,BM6,"") -> 1 | BP6: {=IF(BO6:BO164="св",0,BO6:BO164)} -> 1 | BQ6: =IFERROR(__xludf.DUMMYFUNCTION("""COMPUTED_VALUE"""),1) -> 1 | BR6: {=IF($H6:$H164="","",(IF(H6:H164="х"," ",$B6:$B164)))} -> 1 | BS6: {=IF(BR6:BR164=" "," ",H6:H164)} -> 3 | BT6: =IF(BR6<BS6,BR6,"") -> 1 | BU6: {=IF(BT6:BT164="св",0,BT6:BT164)} -> 1 | BV6: =IFERROR(__xludf.DUMMYFUNCTION("""COMPUTED_VALUE"""),1) -> 1 | BW6: {=IF($J6:$J164="","",(IF(J6:J164="х"," ",$B6:$B164)))} -> 1 | BX6: {=IF(BW6:BW164=" "," ",J6:J164)} | BY6: {=IF(BW6<BX6,BW6,"")} -> 1 | BZ6: =IF(BY6="св",0,BY6) -> 1 | CA6: =IFERROR(__xludf.DUMMYFUNCTION("""COMPUTED_VALUE"""),1) -> 1 | CB6: =IF(CA6=0,"св",CA6) -> 1 | CC6: =IFERROR(__xludf.DUMMYFUNCTION("QUERY(BY6:BZ164,""select BW,BX where BX is not null"")"),"#VALUE!") -> #VALUE! | CE6: {=IF($B6:$B164="","",(IF(L6:L164="х"," ",$B6:$B164)))} -> 1 | CF6: {=IF(CE6:CE164=" "," ",L6:L164)} | CG6: {=IF(CE6<CF6,CE6,"")} -> 1 | CH6: {=IF(CG6:CG164="св",0,CG6:CG164)} -> 1 | CI6: =IFERROR(__xludf.DUMMYFUNCTION("""COMPUTED_VALUE"""),1) -> 1 | CJ6: {=IF($B6:$B164="","",(IF(N6:N164="х"," ",$B6:$B164)))} -> 1 | CK6: {=IF(CJ6:CJ164=" "," ",N6:N164)} | CL6: {=IF(CJ6<CK6,CJ6,"")} -> 1 | CM6: {=IF(CL6:CL164="св",0,CL6:CL164)} -> 1 | CN6: =IFERROR(__xludf.DUMMYFUNCTION("""COMPUTED_VALUE"""),1) -> 1 | CO6: {=IF($B6:$B164="","",(IF(P6:P164="х"," ",$B6:$B164)))} -> 1 | CP6: {=IF(CO6:CO164=" "," ",P6:P164)} | CQ6: {=IF(CO6<CP6,CO6,"")} -> 1 | CR6: {=IF(CQ6:CQ164="св",0,CQ6:CQ164)} -> 1 | CS6: =IFERROR(__xludf.DUMMYFUNCTION("""COMPUTED_VALUE"""),1) -> 1 | CT6: {=IF($B6:$B164="","",(IF(R6:R164="х"," ",$B6:$B164)))} -> 1 | CU6: {=IF(CT6:CT164=" "," ",R6:R164)} | CV6: {=IF(CT6<CU6,CT6,"")} -> 1 | CW6: {=IF(CV6:CV164="св",0,CV6:CV164)} -> 1 | CX6: =IFERROR(__xludf.DUMMYFUNCTION("""COMPUTED_VALUE"""),1) -> 1 | CY6: {=IF($B6:$B164="","",(IF(T6:T164="х"," ",$B6:$B164)))} -> 1 | CZ6: {=IF(CY6:CY164=" "," ",T6:T164)} | DA6: {=IF(CY6<CZ6,CY6,"")} -> 1 | DB6: {=IF(DA6:DA164="св",0,DA6:DA164)} -> 1 | DC6: =IFERROR(__xludf.DUMMYFUNCTION("""COMPUTED_VALUE"""),1) -> 1 | DD6: {=IF($B6:$B164="","",(IF(T6:T164="х"," ",$B6:$B164)))} -> 1
AZ7: {=INDEX(B6:V134,MATCH("Б2",V6:V134,0),MATCH("№ п/ж",B4:C4,0))} -> #N/A | BA7: {=INDEX(B6:V134,MATCH("А2",V6:V134,0),MATCH("№ п/ж",B4:C4,0))} -> #N/A | BB7: =IF(ISERROR(BD6),BA7,BA6) -> #N/A | BC7: {=INDEX(B6:V118,MATCH(AZ7,AX6:AX118,0),MATCH("№ п/ж",B4:C4,0))} -> #N/A | BD7: =INDEX(B$6:V$134,MATCH(BA7,AX$6:AX$134,0),MATCH("№ п/ж",B$4:C$4,0)) -> #N/A | BN7: 0 | BO7: =IF(BO6="","",BN6) -> 2 | BP7: 2 | BQ7: =IFERROR(__xludf.DUMMYFUNCTION("""COMPUTED_VALUE"""),2) -> 2 | BS7: 0 | BT7: =IF(BT6="","",BS6) -> 3 | BU7: 3 | BV7: =IFERROR(__xludf.DUMMYFUNCTION("""COMPUTED_VALUE"""),3) -> 3 | BX7: 0 | BY7: =IF(BY6="","",BX6) | BZ7: =IF(BY7="св",0,BY7) | CA7: =IFERROR(__xludf.DUMMYFUNCTION("""COMPUTED_VALUE"""),2) -> 2 | CB7: =IF(CA7=0,"св",CA7) -> 2 | CF7: 0 | CG7: =IF(CG6="","",CF6) | CI7: =IFERROR(__xludf.DUMMYFUNCTION("""COMPUTED_VALUE"""),2) -> 2 | CK7: 0 | CL7: =IF(CL6="","",CK6) | CN7: =IFERROR(__xludf.DUMMYFUNCTION("""COMPUTED_VALUE"""),2) -> 2 | CP7: 0 | CQ7: =IF(CQ6="","",CP6) | CS7: =IFERROR(__xludf.DUMMYFUNCTION("""COMPUTED_VALUE"""),2) -> 2 | CU7: 0 | CV7: =IF(CV6="","",CU6) | CX7: =IFERROR(__xludf.DUMMYFUNCTION("""COMPUTED_VALUE"""),2) -> 2 | CZ7: 0 | DA7: =IF(DA6="","",CZ6) | DC7: =IFERROR(__xludf.DUMMYFUNCTION("""COMPUTED_VALUE"""),2) -> 2
B8: 2 | C8: =(VLOOKUP($B8,Пр.взв!$D$6:$J$63,2,0)) -> ДЖУМАЕВА Яна | D8: =(VLOOKUP($B8,Пр.взв!$D$6:$J$63,5,0)) -> КМС | E8: =(VLOOKUP($B8,Пр.взв!$D$6:$M$63,8,0)) -> Свердловская | F8: 1 | H8: 4 | J8: =IF(H8="Х","Х",IF($AC8<6," ","Х")) | L8: =IF(J8="Х","Х",IF(K8<3," ",IF($AC8<6," ","Х"))) | N8: =IF(L8="Х","Х",IF(M8<3," ",IF($AC8<6," ","Х"))) | P8: =IF(N8="Х","Х",IF(O8<3," ",IF($AC8<6," ","Х"))) | R8: =IF(P8="Х","Х",IF(Q8<3," ",IF($AC8<6," ","Х"))) | T8: =IF(R8="Х","Х",IF(S8<3," ",IF($AC8<6," ","Х"))) | V8: =IF(T8="Х","Х",IF(U8<3," ",IF($AC8<6," ","Х"))) | X8: =IF(V8="А1",$AZ$7,IF(V8="Б2",$AZ$6,IF(V8="Б1",$BA$7,IF(V8="А2",$BA$6,IF(V8="Х","Х",IF(V8<6," "," ")))))) | Z8: =IF(V8="Х","Х",IF(ISBLANK(Y8),"",IF(Y8>2.5," ",IF(B8=BB$6,BB$7,BB$6)))) | AB8: =IF(H8="Х",F$5,IF(J8="Х",H$5,IF(L8="Х",J$5,IF(N8="Х",L$5,IF(P8="Х",N$5,IF(R8="Х",P$5,IF(T8="Х",R$5,IF(X8="Х",T$5,"")))))))) | AC8: =SUM(G8+I8+K8+M8+O8+Q8+S8+U8+Y8+AA8) -> 0 | AD8: =AF8 -> 1-22 | AE8: =AD8 -> 1-22 | AF8: =COUNTIF(AG$6:AG$148,">"&AG$6:AG$148)+1&REPT("-"&COUNTIF(AG$6:AG$148,">="&AG$6:AG$148),COUNTIF(AG$6:AG$148,AG8)>1) -> 1-22 | AG8: =(AR8*100)+(AP8*10)-AC8 -> 1280 | AH8: =IF(OR(F8="Х",F8="св")," ",IF(AND(G8>=0,G8<3),"1"," ")) -> 1 | AI8: =IF(OR(H8="Х",H8="св")," ",IF(AND(I8>=0,I8<3),"1"," ")) -> 1 | AJ8: =IF(OR(J8="Х",J8="св")," ",IF(AND(K8>=0,K8<3),"1"," ")) -> 1 | AK8: =IF(OR(L8="Х",L8="св")," ",IF(AND(M8>=0,M8<3),"1"," ")) -> 1 | AL8: =IF(OR(N8="Х",N8="св")," ",IF(AND(O8>=0,O8<3),"1"," ")) -> 1 | AM8: =IF(OR(P8="Х",P8="св")," ",IF(AND(Q8>=0,Q8<3),"1"," ")) -> 1 | AN8: =IF(OR(R8="Х",R8="св")," ",IF(AND(S8>=0,S8<3),"1"," ")) -> 1 | AO8: =IF(OR(T8="Х",T8="св")," ",IF(AND(U8>=0,U8<3),"1"," ")) -> 1 | AP8: =COUNTIF(AH8:AO9,1) -> 8 | AQ8: =AG8-AC8 -> 1280 | AR8: =IF(F8=0,0,IF(F8="Х",1,IF(H8="Х",2,IF(J8="Х",3,IF(L8="Х",4,IF(N8="Х",5,IF(P8="Х",6,IF(R8="Х",7,IF(T8="Х",8,IF(V8="Х",9,IF(Y8>2.5,10,IF(AA8>2.5,11,IF(AA8>=0,12,IF(AA8=" ",0,)))))))))))))) -> 12 | AS8: =COUNTIF(AG$6:AG$134,">"&AG$6:AG$134)+1&REPT("-"&COUNTIF(AG$6:AG$134,">="&AG$6:AG$134),COUNTIF(AG$6:AG$134,AG8)>1) -> 1-22 | AT8: =COUNTIF(AU$6:AU$134,">"&AU$6:AU$134)+1&REPT("-"&COUNTIF(AU$6:AU$134,">="&AU$6:AU$134),COUNTIF(AU$6:AU$134,AU8)>1) -> 1-64 | AU8: =COUNTIF(AV$6:AV$134,">"&AV$6:AV$134)+1&REPT("-"&COUNTIF(AV$6:AV$134,">="&AV$6:AV$134),COUNTIF(AV$6:AV$134,AV8)>1) -> 1-0 | AV8: =COUNTIF(AW$6:AW$134,">"&AW$6:AW$134)+1&REPT("-"&COUNTIF(AW$6:AW$134,">="&AW$6:AW$134),COUNTIF(AW$6:AW$134,AW8)>1) -> 1 | AW8: =COUNTIF(AX$6:AX$134,">"&AX$6:AX$134)+1&REPT("-"&COUNTIF(AX$6:AX$134,">="&AX$6:AX$134),COUNTIF(AX$6:AX$134,AX8)>1) -> 63 | AX8: =IF(X8="Х","Х",IF(Y8<3,B8,"Х")) -> 2 | AY8: =IF(AZ8<$AY$4,0,AZ8) -> 0 | AZ8: =SUM(AY2)*1/2*AY4*2/3 -> 0 | BA8: =IF(BB8<$AY$4,0,BB8) -> 0 | BB8: =SUM(AY2)*1/2*AY4*2/3*1/2 -> 0 | BC8: =IF(BD8<$AY$4,0,BD8) -> 0 | BD8: =SUM(AY2)*1/2*AY4*2/3*1/2*1/2 -> 0 | BE8: =IF(BF8<$AY$4,0,BF8) -> 0 | BF8: =SUM(AY2)*1/2*AY4*2/3*1/2*1/2*1/2 -> 0 | BM8: 2 | BN8: 1 | BO8: =IF(BM8<BN8,BM8,"") | BQ8: =IFERROR(__xludf.DUMMYFUNCTION("""COMPUTED_VALUE"""),3) -> 3 | BR8: 2 | BS8: 4 | BT8: =IF(BR8<BS8,BR8,"") -> 2 | BU8: 2 | BV8: =IFERROR(__xludf.DUMMYFUNCTION("""COMPUTED_VALUE"""),2) -> 2 | BW8: 2 | BY8: {=IF(BW8<BX8,BW8,"")} -> 2 | BZ8: =IF(BY8="св",0,BY8) -> 2 | CA8: =IFERROR(__xludf.DUMMYFUNCTION("""COMPUTED_VALUE"""),3) -> 3 | CB8: =IF(CA8=0,"св",CA8) -> 3 | CE8: 2 | CG8: {=IF(CE8<CF8,CE8,"")} -> 2 | CH8: 2 | CI8: =IFERROR(__xludf.DUMMYFUNCTION("""COMPUTED_VALUE"""),3) -> 3 | CJ8: 2 | CL8: {=IF(CJ8<CK8,CJ8,"")} -> 2 | CM8: 2 | CN8: =IFERROR(__xludf.DUMMYFUNCTION("""COMPUTED_VALUE"""),3) -> 3 | CO8: 2 | CQ8: {=IF(CO8<CP8,CO8,"")} -> 2 | CR8: 2 | CS8: =IFERROR(__xludf.DUMMYFUNCTION("""COMPUTED_VALUE"""),3) -> 3 | CT8: 2 | CV8: {=IF(CT8<CU8,CT8,"")} -> 2 | CW8: 2 | CX8: =IFERROR(__xludf.DUMMYFUNCTION("""COMPUTED_VALUE"""),3) -> 3 | CY8: 2 | DA8: {=IF(CY8<CZ8,CY8,"")} -> 2 | DB8: 2 | DC8: =IFERROR(__xludf.DUMMYFUNCTION("""COMPUTED_VALUE"""),3) -> 3 | DD8: 2
AY9: круг | BN9: 0 | BO9: =IF(BO8="","",BN8) | BQ9: =IFERROR(__xludf.DUMMYFUNCTION("""COMPUTED_VALUE"""),4) -> 4 | BS9: 0 | BT9: =IF(BT8="","",BS8) -> 4 | BU9: 4 | BV9: =IFERROR(__xludf.DUMMYFUNCTION("""COMPUTED_VALUE"""),4) -> 4 | BX9: 0 | BY9: =IF(BY8="","",BX8) | BZ9: =IF(BY9="св",0,BY9) | CA9: =IFERROR(__xludf.DUMMYFUNCTION("""COMPUTED_VALUE"""),4) -> 4 | CB9: =IF(CA9=0,"св",CA9) -> 4 | CF9: 0 | CG9: =IF(CG8="","",CF8) | CI9: =IFERROR(__xludf.DUMMYFUNCTION("""COMPUTED_VALUE"""),4) -> 4 | CK9: 0 | CL9: =IF(CL8="","",CK8) | CN9: =IFERROR(__xludf.DUMMYFUNCTION("""COMPUTED_VALUE"""),4) -> 4 | CP9: 0 | CQ9: =IF(CQ8="","",CP8) | CS9: =IFERROR(__xludf.DUMMYFUNCTION("""COMPUTED_VALUE"""),4) -> 4 | CU9: 0 | CV9: =IF(CV8="","",CU8) | CX9: =IFERROR(__xludf.DUMMYFUNCTION("""COMPUTED_VALUE"""),4) -> 4 | CZ9: 0 | DA9: =IF(DA8="","",CZ8) | DC9: =IFERROR(__xludf.DUMMYFUNCTION("""COMPUTED_VALUE"""),4) -> 4
B10: 3 | C10: =(VLOOKUP($B10,Пр.взв!$D$6:$J$63,2,0)) -> МАКАРЕНКО Екатерина | D10: =(VLOOKUP($B10,Пр.взв!$D$6:$J$63,5,0)) -> КМС | E10: =(VLOOKUP($B10,Пр.взв!$D$6:$M$63,8,0)) -> Калининградская | F10: 4 | H10: 1 | J10: =IF(H10="Х","Х",IF($AC10<6," ","Х")) | L10: =IF(J10="Х","Х",IF(K10<3," ",IF($AC10<6," ","Х"))) | N10: =IF(L10="Х","Х",IF(M10<3," ",IF($AC10<6," ","Х"))) | P10: =IF(N10="Х","Х",IF(O10<3," ",IF($AC10<6," ","Х"))) | R10: =IF(P10="Х","Х",IF(Q10<3," ",IF($AC10<6," ","Х"))) | T10: =IF(R10="Х","Х",IF(S10<3," ",IF($AC10<6," ","Х"))) | V10: =IF(T10="Х","Х",IF(U10<3," ",IF($AC10<6," ","Х"))) | X10: =IF(V10="А1",$AZ$7,IF(V10="Б2",$AZ$6,IF(V10="Б1",$BA$7,IF(V10="А2",$BA$6,IF(V10="Х","Х",IF(V10<6," "," ")))))) | Z10: =IF(V10="Х","Х",IF(ISBLANK(Y10),"",IF(Y10>2.5," ",IF(B10=BB$6,BB$7,BB$6)))) | AB10: =IF(H10="Х",F$5,IF(J10="Х",H$5,IF(L10="Х",J$5,IF(N10="Х",L$5,IF(P10="Х",N$5,IF(R10="Х",P$5,IF(T10="Х",R$5,IF(X10="Х",T$5,"")))))))) | AC10: =SUM(G10+I10+K10+M10+O10+Q10+S10+U10+Y10+AA10) -> 0 | AD10: =AF10 -> 1-22 | AE10: =AD10 -> 1-22 | AF10: =COUNTIF(AG$6:AG$148,">"&AG$6:AG$148)+1&REPT("-"&COUNTIF(AG$6:AG$148,">="&AG$6:AG$148),COUNTIF(AG$6:AG$148,AG10)>1) -> 1-22 | AG10: =(AR10*100)+(AP10*10)-AC10 -> 1280 | AH10: =IF(OR(F10="Х",F10="св")," ",IF(AND(G10>=0,G10<3),"1"," ")) -> 1 | AI10: =IF(OR(H10="Х",H10="св")," ",IF(AND(I10>=0,I10<3),"1"," ")) -> 1 | AJ10: =IF(OR(J10="Х",J10="св")," ",IF(AND(K10>=0,K10<3),"1"," ")) -> 1 | AK10: =IF(OR(L10="Х",L10="св")," ",IF(AND(M10>=0,M10<3),"1"," ")) -> 1 | AL10: =IF(OR(N10="Х",N10="св")," ",IF(AND(O10>=0,O10<3),"1"," ")) -> 1 | AM10: =IF(OR(P10="Х",P10="св")," ",IF(AND(Q10>=0,Q10<3),"1"," ")) -> 1 | AN10: =IF(OR(R10="Х",R10="св")," ",IF(AND(S10>=0,S10<3),"1"," ")) -> 1 | AO10: =IF(OR(T10="Х",T10="св")," ",IF(AND(U10>=0,U10<3),"1"," ")) -> 1 | AP10: =COUNTIF(AH10:AO11,1) -> 8 | AQ10: =AG10-AC10 -> 1280 | AR10: =IF(F10=0,0,IF(F10="Х",1,IF(H10="Х",2,IF(J10="Х",3,IF(L10="Х",4,IF(N10="Х",5,IF(P10="Х",6,IF(R10="Х",7,IF(T10="Х",8,IF(V10="Х",9,IF(Y10>2.5,10,IF(AA10>2.5,11,IF(AA10>=0,12,IF(AA10=" ",0,)))))))))))))) -> 12 | AS10: =COUNTIF(AG$6:AG$134,">"&AG$6:AG$134)+1&REPT("-"&COUNTIF(AG$6:AG$134,">="&AG$6:AG$134),COUNTIF(AG$6:AG$134,AG10)>1) -> 1-22 | AT10: =COUNTIF(AU$6:AU$134,">"&AU$6:AU$134)+1&REPT("-"&COUNTIF(AU$6:AU$134,">="&AU$6:AU$134),COUNTIF(AU$6:AU$134,AU10)>1) -> 1-64 | AU10: =COUNTIF(AV$6:AV$134,">"&AV$6:AV$134)+1&REPT("-"&COUNTIF(AV$6:AV$134,">="&AV$6:AV$134),COUNTIF(AV$6:AV$134,AV10)>1) -> 1-0 | AV10: =COUNTIF(AW$6:AW$134,">"&AW$6:AW$134)+1&REPT("-"&COUNTIF(AW$6:AW$134,">="&AW$6:AW$134),COUNTIF(AW$6:AW$134,AW10)>1) -> 1 | AW10: =COUNTIF(AX$6:AX$134,">"&AX$6:AX$134)+1&REPT("-"&COUNTIF(AX$6:AX$134,">="&AX$6:AX$134),COUNTIF(AX$6:AX$134,AX10)>1) -> 62 | AX10: =IF(X10="Х","Х",IF(Y10<3,B10,"Х")) -> 3 | AY10: 3 | BA10: 4 | BC10: 5 | BE10: 6 | BG10: 7 | BH10: 8 | BM10: 3 | BN10: 4 | BO10: =IF(BM10<BN10,BM10,"") -> 3 | BP10: 3 | BQ10: =IFERROR(__xludf.DUMMYFUNCTION("""COMPUTED_VALUE"""),5) -> 5 | BR10: 3 | BS10: 1 | BT10: =IF(BR10<BS10,BR10,"") | BV10: =IFERROR(__xludf.DUMMYFUNCTION("""COMPUTED_VALUE"""),5) -> 5 | BW10: 3 | BY10: {=IF(BW10<BX10,BW10,"")} -> 3 | BZ10: =IF(BY10="св",0,BY10) -> 3 | CA10: =IFERROR(__xludf.DUMMYFUNCTION("""COMPUTED_VALUE"""),5) -> 5 | CB10: =IF(CA10=0,"св",CA10) -> 5 | CE10: 3 | CG10: {=IF(CE10<CF10,CE10,"")} -> 3 | CH10: 3 | CI10: =IFERROR(__xludf.DUMMYFUNCTION("""COMPUTED_VALUE"""),5) -> 5 | CJ10: 3 | CL10: {=IF(CJ10<CK10,CJ10,"")} -> 3 | CM10: 3 | CN10: =IFERROR(__xludf.DUMMYFUNCTION("""COMPUTED_VALUE"""),5) -> 5 | CO10: 3 | CQ10: {=IF(CO10<CP10,CO10,"")} -> 3 | CR10: 3 | CS10: =IFERROR(__xludf.DUMMYFUNCTION("""COMPUTED_VALUE"""),5) -> 5 | CT10: 3 | CV10: {=IF(CT10<CU10,CT10,"")} -> 3 | CW10: 3 | CX10: =IFERROR(__xludf.DUMMYFUNCTION("""COMPUTED_VALUE"""),5) -> 5 | CY10: 3 | DA10: {=IF(CY10<CZ10,CY10,"")} -> 3 | DB10: 3 | DC10: =IFERROR(__xludf.DUMMYFUNCTION("""COMPUTED_VALUE"""),5) -> 5 | DD10: 3
AY11: {=IF(CA6:CA164>$AY$3,"",CA6:CA164)} | BA11: {=IF(CI6:CI164>$AY$3,"",CI6:CI164)} | BC11: {=IF(CN6:CN164>$AY$3,"",CN6:CN164)} | BD11: {=IF(BQ6:BQ164>$AY$3,"",BQ6:BQ164)} | BE11: {=IF(CS6:CS164>$AY$3,"",CS6:CS164)} | BF11: {=IF(BV6:BV164>$AY$3,"",BV6:BV164)} | BG11: {=IF(CX6:CX164>$AY$3,"",CX6:CX164)} | BH11: {=IF(CX6:CX164>$AY$3,"",CX6:CX164)} | BN11: 0 | BO11: =IF(BO10="","",BN10) -> 4 | BP11: 4 | BQ11: =IFERROR(__xludf.DUMMYFUNCTION("""COMPUTED_VALUE"""),6) -> 6 | BS11: 0 | BT11: =IF(BT10="","",BS10) | BV11: =IFERROR(__xludf.DUMMYFUNCTION("""COMPUTED_VALUE"""),7) -> 7 | BX11: 0 | BY11: =IF(BY10="","",BX10) | BZ11: =IF(BY11="св",0,BY11) | CA11: =IFERROR(__xludf.DUMMYFUNCTION("""COMPUTED_VALUE"""),6) -> 6 | CB11: =IF(CA11=0,"св",CA11) -> 6 | CF11: 0 | CG11: =IF(CG10="","",CF10) | CI11: =IFERROR(__xludf.DUMMYFUNCTION("""COMPUTED_VALUE"""),6) -> 6 | CK11: 0 | CL11: =IF(CL10="","",CK10) | CN11: =IFERROR(__xludf.DUMMYFUNCTION("""COMPUTED_VALUE"""),6) -> 6 | CP11: 0 | CQ11: =IF(CQ10="","",CP10) | CS11: =IFERROR(__xludf.DUMMYFUNCTION("""COMPUTED_VALUE"""),6) -> 6 | CU11: 0 | CV11: =IF(CV10="","",CU10) | CX11: =IFERROR(__xludf.DUMMYFUNCTION("""COMPUTED_VALUE"""),6) -> 6 | CZ11: 0 | DA11: =IF(DA10="","",CZ10) | DC11: =IFERROR(__xludf.DUMMYFUNCTION("""COMPUTED_VALUE"""),6) -> 6
B12: 4 | C12: =(VLOOKUP($B12,Пр.взв!$D$6:$J$63,2,0)) -> ИЛЮКОВА Карина | D12: =(VLOOKUP($B12,Пр.взв!$D$6:$J$63,5,0)) -> КМС | E12: =(VLOOKUP($B12,Пр.взв!$D$6:$M$63,8,0)) -> Москва | F12: 3 | H12: 2 | J12: =IF(H12="Х","Х",IF($AC12<6," ","Х")) | L12: =IF(J12="Х","Х",IF(K12<3," ",IF($AC12<6," ","Х"))) | N12: =IF(L12="Х","Х",IF(M12<3," ",IF($AC12<6," ","Х"))) | P12: =IF(N12="Х","Х",IF(O12<3," ",IF($AC12<6," ","Х"))) | R12: =IF(P12="Х","Х",IF(Q12<3," ",IF($AC12<6," ","Х"))) | T12: =IF(R12="Х","Х",IF(S12<3," ",IF($AC12<6," ","Х"))) | V12: =IF(T12="Х","Х",IF(U12<3," ",IF($AC12<6," ","Х"))) | X12: =IF(V12="А1",$AZ$7,IF(V12="Б2",$AZ$6,IF(V12="Б1",$BA$7,IF(V12="А2",$BA$6,IF(V12="Х","Х",IF(V12<6," "," ")))))) | Z12: =IF(V12="Х","Х",IF(ISBLANK(Y12),"",IF(Y12>2.5," ",IF(B12=BB$6,BB$7,BB$6)))) | AB12: =IF(H12="Х",F$5,IF(J12="Х",H$5,IF(L12="Х",J$5,IF(N12="Х",L$5,IF(P12="Х",N$5,IF(R12="Х",P$5,IF(T12="Х",R$5,IF(X12="Х",T$5,"")))))))) | AC12: =SUM(G12+I12+K12+M12+O12+Q12+S12+U12+Y12+AA12) -> 0 | AD12: =AF12 -> 1-22 | AE12: =AD12 -> 1-22 | AF12: =COUNTIF(AG$6:AG$148,">"&AG$6:AG$148)+1&REPT("-"&COUNTIF(AG$6:AG$148,">="&AG$6:AG$148),COUNTIF(AG$6:AG$148,AG12)>1) -> 1-22 | AG12: =(AR12*100)+(AP12*10)-AC12 -> 1280 | AH12: =IF(OR(F12="Х",F12="св")," ",IF(AND(G12>=0,G12<3),"1"," ")) -> 1 | AI12: =IF(OR(H12="Х",H12="св")," ",IF(AND(I12>=0,I12<3),"1"," ")) -> 1 | AJ12: =IF(OR(J12="Х",J12="св")," ",IF(AND(K12>=0,K12<3),"1"," ")) -> 1 | AK12: =IF(OR(L12="Х",L12="св")," ",IF(AND(M12>=0,M12<3),"1"," ")) -> 1 | AL12: =IF(OR(N12="Х",N12="св")," ",IF(AND(O12>=0,O12<3),"1"," ")) -> 1 | AM12: =IF(OR(P12="Х",P12="св")," ",IF(AND(Q12>=0,Q12<3),"1"," ")) -> 1 | AN12: =IF(OR(R12="Х",R12="св")," ",IF(AND(S12>=0,S12<3),"1"," ")) -> 1 | AO12: =IF(OR(T12="Х",T12="св")," ",IF(AND(U12>=0,U12<3),"1"," ")) -> 1 | AP12: =COUNTIF(AH12:AO13,1) -> 8 | AQ12: =AG12-AC12 -> 1280 | AR12: =IF(F12=0,0,IF(F12="Х",1,IF(H12="Х",2,IF(J12="Х",3,IF(L12="Х",4,IF(N12="Х",5,IF(P12="Х",6,IF(R12="Х",7,IF(T12="Х",8,IF(V12="Х",9,IF(Y12>2.5,10,IF(AA12>2.5,11,IF(AA12>=0,12,IF(AA12=" ",0,)))))))))))))) -> 12 | AS12: =COUNTIF(AG$6:AG$134,">"&AG$6:AG$134)+1&REPT("-"&COUNTIF(AG$6:AG$134,">="&AG$6:AG$134),COUNTIF(AG$6:AG$134,AG12)>1) -> 1-22 | AT12: =COUNTIF(AU$6:AU$134,">"&AU$6:AU$134)+1&REPT("-"&COUNTIF(AU$6:AU$134,">="&AU$6:AU$134),COUNTIF(AU$6:AU$134,AU12)>1) -> 1-64 | AU12: =COUNTIF(AV$6:AV$134,">"&AV$6:AV$134)+1&REPT("-"&COUNTIF(AV$6:AV$134,">="&AV$6:AV$134),COUNTIF(AV$6:AV$134,AV12)>1) -> 1-0 | AV12: =COUNTIF(AW$6:AW$134,">"&AW$6:AW$134)+1&REPT("-"&COUNTIF(AW$6:AW$134,">="&AW$6:AW$134),COUNTIF(AW$6:AW$134,AW12)>1) -> 1 | AW12: =COUNTIF(AX$6:AX$134,">"&AX$6:AX$134)+1&REPT("-"&COUNTIF(AX$6:AX$134,">="&AX$6:AX$134),COUNTIF(AX$6:AX$134,AX12)>1) -> 61 | AX12: =IF(X12="Х","Х",IF(Y12<3,B12,"Х")) -> 4 | BM12: 4 | BN12: 3 | BO12: =IF(BM12<BN12,BM12,"") | BQ12: =IFERROR(__xludf.DUMMYFUNCTION("""COMPUTED_VALUE"""),7) -> 7 | BR12: 4 | BS12: 2 | BT12: =IF(BR12<BS12,BR12,"") | BV12: =IFERROR(__xludf.DUMMYFUNCTION("""COMPUTED_VALUE"""),6) -> 6 | BW12: 4 | BY12: {=IF(BW12<BX12,BW12,"")} -> 4 | BZ12: =IF(BY12="св",0,BY12) -> 4 | CA12: =IFERROR(__xludf.DUMMYFUNCTION("""COMPUTED_VALUE"""),7) -> 7 | CB12: =IF(CA12=0,"св",CA12) -> 7 | CE12: 4 | CG12: {=IF(CE12<CF12,CE12,"")} -> 4 | CH12: 4 | CI12: =IFERROR(__xludf.DUMMYFUNCTION("""COMPUTED_VALUE"""),7) -> 7 | CJ12: 4 | CL12: {=IF(CJ12<CK12,CJ12,"")} -> 4 | CM12: 4 | CN12: =IFERROR(__xludf.DUMMYFUNCTION("""COMPUTED_VALUE"""),7) -> 7 | CO12: 4 | CQ12: {=IF(CO12<CP12,CO12,"")} -> 4 | CR12: 4 | CS12: =IFERROR(__xludf.DUMMYFUNCTION("""COMPUTED_VALUE"""),7) -> 7 | CT12: 4 | CV12: {=IF(CT12<CU12,CT12,"")} -> 4 | CW12: 4 | CX12: =IFERROR(__xludf.DUMMYFUNCTION("""COMPUTED_VALUE"""),7) -> 7 | CY12: 4 | DA12: {=IF(CY12<CZ12,CY12,"")} -> 4 | DB12: 4 | DC12: =IFERROR(__xludf.DUMMYFUNCTION("""COMPUTED_VALUE"""),7) -> 7 | DD12: 4
BN13: 0 | BO13: =IF(BO12="","",BN12) | BQ13: =IFERROR(__xludf.DUMMYFUNCTION("""COMPUTED_VALUE"""),8) -> 8 | BS13: 0 | BT13: =IF(BT12="","",BS12) | BV13: =IFERROR(__xludf.DUMMYFUNCTION("""COMPUTED_VALUE"""),8) -> 8 | BX13: 0 | BY13: =IF(BY12="","",BX12) | BZ13: =IF(BY13="св",0,BY13) | CA13: =IFERROR(__xludf.DUMMYFUNCTION("""COMPUTED_VALUE"""),8) -> 8 | CB13: =IF(CA13=0,"св",CA13) -> 8 | CF13: 0 | CG13: =IF(CG12="","",CF12) | CI13: =IFERROR(__xludf.DUMMYFUNCTION("""COMPUTED_VALUE"""),8) -> 8 | CK13: 0 | CL13: =IF(CL12="","",CK12) | CN13: =IFERROR(__xludf.DUMMYFUNCTION("""COMPUTED_VALUE"""),8) -> 8 | CP13: 0 | CQ13: =IF(CQ12="","",CP12) | CS13: =IFERROR(__xludf.DUMMYFUNCTION("""COMPUTED_VALUE"""),8) -> 8 | CU13: 0 | CV13: =IF(CV12="","",CU12) | CX13: =IFERROR(__xludf.DUMMYFUNCTION("""COMPUTED_VALUE"""),8) -> 8 | CZ13: 0 | DA13: =IF(DA12="","",CZ12) | DC13: =IFERROR(__xludf.DUMMYFUNCTION("""COMPUTED_VALUE"""),8) -> 8
B14: 5 | C14: =(VLOOKUP($B14,Пр.взв!$D$6:$J$63,2,0)) -> ГАЙДУЧОК Дарья | D14: =(VLOOKUP($B14,Пр.взв!$D$6:$J$63,5,0)) -> МС | E14: =(VLOOKUP($B14,Пр.взв!$D$6:$M$63,8,0)) -> Московская | F14: 6 | H14: 7 | J14: =IF(H14="Х","Х",IF($AC14<6," ","Х")) | L14: =IF(J14="Х","Х",IF(K14<3," ",IF($AC14<6," ","Х"))) | N14: =IF(L14="Х","Х",IF(M14<3," ",IF($AC14<6," ","Х"))) | P14: =IF(N14="Х","Х",IF(O14<3," ",IF($AC14<6," ","Х"))) | R14: =IF(P14="Х","Х",IF(Q14<3," ",IF($AC14<6," ","Х"))) | T14: =IF(R14="Х","Х",IF(S14<3," ",IF($AC14<6," ","Х"))) | V14: =IF(T14="Х","Х",IF(U14<3," ",IF($AC14<6," ","Х"))) | X14: =IF(V14="А1",$AZ$7,IF(V14="Б2",$AZ$6,IF(V14="Б1",$BA$7,IF(V14="А2",$BA$6,IF(V14="Х","Х",IF(V14<6," "," ")))))) | Z14: =IF(V14="Х","Х",IF(ISBLANK(Y14),"",IF(Y14>2.5," ",IF(B14=BB$6,BB$7,BB$6)))) | AB14: =IF(H14="Х",F$5,IF(J14="Х",H$5,IF(L14="Х",J$5,IF(N14="Х",L$5,IF(P14="Х",N$5,IF(R14="Х",P$5,IF(T14="Х",R$5,IF(X14="Х",T$5,"")))))))) | AC14: =SUM(G14+I14+K14+M14+O14+Q14+S14+U14+Y14+AA14) -> 0 | AD14: =AF14 -> 1-22 | AE14: =AD14 -> 1-22 | AF14: =COUNTIF(AG$6:AG$148,">"&AG$6:AG$148)+1&REPT("-"&COUNTIF(AG$6:AG$148,">="&AG$6:AG$148),COUNTIF(AG$6:AG$148,AG14)>1) -> 1-22 | AG14: =(AR14*100)+(AP14*10)-AC14 -> 1280 | AH14: =IF(OR(F14="Х",F14="св")," ",IF(AND(G14>=0,G14<3),"1"," ")) -> 1 | AI14: =IF(OR(H14="Х",H14="св")," ",IF(AND(I14>=0,I14<3),"1"," ")) -> 1 | AJ14: =IF(OR(J14="Х",J14="св")," ",IF(AND(K14>=0,K14<3),"1"," ")) -> 1 | AK14: =IF(OR(L14="Х",L14="св")," ",IF(AND(M14>=0,M14<3),"1"," ")) -> 1 | AL14: =IF(OR(N14="Х",N14="св")," ",IF(AND(O14>=0,O14<3),"1"," ")) -> 1 | AM14: =IF(OR(P14="Х",P14="св")," ",IF(AND(Q14>=0,Q14<3),"1"," ")) -> 1 | AN14: =IF(OR(R14="Х",R14="св")," ",IF(AND(S14>=0,S14<3),"1"," ")) -> 1 | AO14: =IF(OR(T14="Х",T14="св")," ",IF(AND(U14>=0,U14<3),"1"," ")) -> 1 | AP14: =COUNTIF(AH14:AO15,1) -> 8 | AQ14: =AG14-AC14 -> 1280 | AR14: =IF(F14=0,0,IF(F14="Х",1,IF(H14="Х",2,IF(J14="Х",3,IF(L14="Х",4,IF(N14="Х",5,IF(P14="Х",6,IF(R14="Х",7,IF(T14="Х",8,IF(V14="Х",9,IF(Y14>2.5,10,IF(AA14>2.5,11,IF(AA14>=0,12,IF(AA14=" ",0,)))))))))))))) -> 12 | AS14: =COUNTIF(AG$6:AG$134,">"&AG$6:AG$134)+1&REPT("-"&COUNTIF(AG$6:AG$134,">="&AG$6:AG$134),COUNTIF(AG$6:AG$134,AG14)>1) -> 1-22 | AT14: =COUNTIF(AU$6:AU$134,">"&AU$6:AU$134)+1&REPT("-"&COUNTIF(AU$6:AU$134,">="&AU$6:AU$134),COUNTIF(AU$6:AU$134,AU14)>1) -> 1-64 | AU14: =COUNTIF(AV$6:AV$134,">"&AV$6:AV$134)+1&REPT("-"&COUNTIF(AV$6:AV$134,">="&AV$6:AV$134),COUNTIF(AV$6:AV$134,AV14)>1) -> 1-0 | AV14: =COUNTIF(AW$6:AW$134,">"&AW$6:AW$134)+1&REPT("-"&COUNTIF(AW$6:AW$134,">="&AW$6:AW$134),COUNTIF(AW$6:AW$134,AW14)>1) -> 1 | AW14: =COUNTIF(AX$6:AX$134,">"&AX$6:AX$134)+1&REPT("-"&COUNTIF(AX$6:AX$134,">="&AX$6:AX$134),COUNTIF(AX$6:AX$134,AX14)>1) -> 60 | AX14: =IF(X14="Х","Х",IF(Y14<3,B14,"Х")) -> 5 | BM14: 5 | BN14: 6 | BO14: =IF(BM14<BN14,BM14,"") -> 5 | BP14: 5 | BQ14: =IFERROR(__xludf.DUMMYFUNCTION("""COMPUTED_VALUE"""),9) -> 9 | BR14: 5 | BS14: 7 | BT14: =IF(BR14<BS14,BR14,"") -> 5 | BU14: 5 | BV14: =IFERROR(__xludf.DUMMYFUNCTION("""COMPUTED_VALUE"""),9) -> 9 | BW14: 5 | BY14: {=IF(BW14<BX14,BW14,"")} -> 5 | BZ14: =IF(BY14="св",0,BY14) -> 5 | CA14: =IFERROR(__xludf.DUMMYFUNCTION("""COMPUTED_VALUE"""),9) -> 9 | CB14: =IF(CA14=0,"св",CA14) -> 9 | CE14: 5 | CG14: {=IF(CE14<CF14,CE14,"")} -> 5 | CH14: 5 | CI14: =IFERROR(__xludf.DUMMYFUNCTION("""COMPUTED_VALUE"""),9) -> 9 | CJ14: 5 | CL14: {=IF(CJ14<CK14,CJ14,"")} -> 5 | CM14: 5 | CN14: =IFERROR(__xludf.DUMMYFUNCTION("""COMPUTED_VALUE"""),9) -> 9 | CO14: 5 | CQ14: {=IF(CO14<CP14,CO14,"")} -> 5 | CR14: 5 | CS14: =IFERROR(__xludf.DUMMYFUNCTION("""COMPUTED_VALUE"""),9) -> 9 | CT14: 5 | CV14: {=IF(CT14<CU14,CT14,"")} -> 5 | CW14: 5 | CX14: =IFERROR(__xludf.DUMMYFUNCTION("""COMPUTED_VALUE"""),9) -> 9 | CY14: 5 | DA14: {=IF(CY14<CZ14,CY14,"")} -> 5 | DB14: 5 | DC14: =IFERROR(__xludf.DUMMYFUNCTION("""COMPUTED_VALUE"""),9) -> 9 | DD14: 5
BN15: 0 | BO15: =IF(BO14="","",BN14) -> 6 | BP15: 6 | BQ15: =IFERROR(__xludf.DUMMYFUNCTION("""COMPUTED_VALUE"""),10) -> 10 | BS15: 0 | BT15: =IF(BT14="","",BS14) -> 7 | BU15: 7 | BV15: =IFERROR(__xludf.DUMMYFUNCTION("""COMPUTED_VALUE"""),11) -> 11 | BX15: 0 | BY15: =IF(BY14="","",BX14) | BZ15: =IF(BY15="св",0,BY15) | CA15: =IFERROR(__xludf.DUMMYFUNCTION("""COMPUTED_VALUE"""),10) -> 10 | CB15: =IF(CA15=0,"св",CA15) -> 10 | CF15: 0 | CG15: =IF(CG14="","",CF14) | CI15: =IFERROR(__xludf.DUMMYFUNCTION("""COMPUTED_VALUE"""),10) -> 10 | CK15: 0 | CL15: =IF(CL14="","",CK14) | CN15: =IFERROR(__xludf.DUMMYFUNCTION("""COMPUTED_VALUE"""),10) -> 10 | CP15: 0 | CQ15: =IF(CQ14="","",CP14) | CS15: =IFERROR(__xludf.DUMMYFUNCTION("""COMPUTED_VALUE"""),10) -> 10 | CU15: 0 | CV15: =IF(CV14="","",CU14) | CX15: =IFERROR(__xludf.DUMMYFUNCTION("""COMPUTED_VALUE"""),10) -> 10 | CZ15: 0 | DA15: =IF(DA14="","",CZ14) | DC15: =IFERROR(__xludf.DUMMYFUNCTION("""COMPUTED_VALUE"""),10) -> 10
B16: 6 | C16: =(VLOOKUP($B16,Пр.взв!$D$6:$J$63,2,0)) -> БУБЯКИНА Ольга | D16: =(VLOOKUP($B16,Пр.взв!$D$6:$J$63,5,0)) -> КМС | E16: =(VLOOKUP($B16,Пр.взв!$D$6:$M$63,8,0)) -> Амурская | F16: 5 | H16: 8 | J16: =IF(H16="Х","Х",IF($AC16<6," ","Х")) | L16: =IF(J16="Х","Х",IF(K16<3," ",IF($AC16<6," ","Х"))) | N16: =IF(L16="Х","Х",IF(M16<3," ",IF($AC16<6," ","Х"))) | P16: =IF(N16="Х","Х",IF(O16<3," ",IF($AC16<6," ","Х"))) | R16: =IF(P16="Х","Х",IF(Q16<3," ",IF($AC16<6," ","Х"))) | T16: =IF(R16="Х","Х",IF(S16<3," ",IF($AC16<6," ","Х"))) | V16: =IF(T16="Х","Х",IF(U16<3," ",IF($AC16<6," ","Х"))) | X16: =IF(V16="А1",$AZ$7,IF(V16="Б2",$AZ$6,IF(V16="Б1",$BA$7,IF(V16="А2",$BA$6,IF(V16="Х","Х",IF(V16<6," "," ")))))) | Z16: =IF(V16="Х","Х",IF(ISBLANK(Y16),"",IF(Y16>2.5," ",IF(B16=BB$6,BB$7,BB$6)))) | AB16: =IF(H16="Х",F$5,IF(J16="Х",H$5,IF(L16="Х",J$5,IF(N16="Х",L$5,IF(P16="Х",N$5,IF(R16="Х",P$5,IF(T16="Х",R$5,IF(X16="Х",T$5,"")))))))) | AC16: =SUM(G16+I16+K16+M16+O16+Q16+S16+U16+Y16+AA16) -> 0 | AD16: =AF16 -> 1-22 | AE16: =AD16 -> 1-22 | AF16: =COUNTIF(AG$6:AG$148,">"&AG$6:AG$148)+1&REPT("-"&COUNTIF(AG$6:AG$148,">="&AG$6:AG$148),COUNTIF(AG$6:AG$148,AG16)>1) -> 1-22 | AG16: =(AR16*100)+(AP16*10)-AC16 -> 1280 | AH16: =IF(OR(F16="Х",F16="св")," ",IF(AND(G16>=0,G16<3),"1"," ")) -> 1 | AI16: =IF(OR(H16="Х",H16="св")," ",IF(AND(I16>=0,I16<3),"1"," ")) -> 1 | AJ16: =IF(OR(J16="Х",J16="св")," ",IF(AND(K16>=0,K16<3),"1"," ")) -> 1 | AK16: =IF(OR(L16="Х",L16="св")," ",IF(AND(M16>=0,M16<3),"1"," ")) -> 1 | AL16: =IF(OR(N16="Х",N16="св")," ",IF(AND(O16>=0,O16<3),"1"," ")) -> 1 | AM16: =IF(OR(P16="Х",P16="св")," ",IF(AND(Q16>=0,Q16<3),"1"," ")) -> 1 | AN16: =IF(OR(R16="Х",R16="св")," ",IF(AND(S16>=0,S16<3),"1"," ")) -> 1 | AO16: =IF(OR(T16="Х",T16="св")," ",IF(AND(U16>=0,U16<3),"1"," ")) -> 1 | AP16: =COUNTIF(AH16:AO17,1) -> 8 | AQ16: =AG16-AC16 -> 1280 | AR16: =IF(F16=0,0,IF(F16="Х",1,IF(H16="Х",2,IF(J16="Х",3,IF(L16="Х",4,IF(N16="Х",5,IF(P16="Х",6,IF(R16="Х",7,IF(T16="Х",8,IF(V16="Х",9,IF(Y16>2.5,10,IF(AA16>2.5,11,IF(AA16>=0,12,IF(AA16=" ",0,)))))))))))))) -> 12 | AS16: =COUNTIF(AG$6:AG$134,">"&AG$6:AG$134)+1&REPT("-"&COUNTIF(AG$6:AG$134,">="&AG$6:AG$134),COUNTIF(AG$6:AG$134,AG16)>1) -> 1-22 | AT16: =COUNTIF(AU$6:AU$134,">"&AU$6:AU$134)+1&REPT("-"&COUNTIF(AU$6:AU$134,">="&AU$6:AU$134),COUNTIF(AU$6:AU$134,AU16)>1) -> 1-64 | AU16: =COUNTIF(AV$6:AV$134,">"&AV$6:AV$134)+1&REPT("-"&COUNTIF(AV$6:AV$134,">="&AV$6:AV$134),COUNTIF(AV$6:AV$134,AV16)>1) -> 1-0 | AV16: =COUNTIF(AW$6:AW$134,">"&AW$6:AW$134)+1&REPT("-"&COUNTIF(AW$6:AW$134,">="&AW$6:AW$134),COUNTIF(AW$6:AW$134,AW16)>1) -> 1 | AW16: =COUNTIF(AX$6:AX$134,">"&AX$6:AX$134)+1&REPT("-"&COUNTIF(AX$6:AX$134,">="&AX$6:AX$134),COUNTIF(AX$6:AX$134,AX16)>1) -> 59 | AX16: =IF(X16="Х","Х",IF(Y16<3,B16,"Х")) -> 6 | BM16: 6 | BN16: 5 | BO16: =IF(BM16<BN16,BM16,"") | BQ16: =IFERROR(__xludf.DUMMYFUNCTION("""COMPUTED_VALUE"""),11) -> 11 | BR16: 6 | BS16: 8 | BT16: =IF(BR16<BS16,BR16,"") -> 6 | BU16: 6 | BV16: =IFERROR(__xludf.DUMMYFUNCTION("""COMPUTED_VALUE"""),10) -> 10 | BW16: 6 | BY16: {=IF(BW16<BX16,BW16,"")} -> 6 | BZ16: =IF(BY16="св",0,BY16) -> 6 | CA16: =IFERROR(__xludf.DUMMYFUNCTION("""COMPUTED_VALUE"""),11) -> 11 | CB16: =IF(CA16=0,"св",CA16) -> 11 | CE16: 6 | CG16: {=IF(CE16<CF16,CE16,"")} -> 6 | CH16: 6 | CI16: =IFERROR(__xludf.DUMMYFUNCTION("""COMPUTED_VALUE"""),11) -> 11 | CJ16: 6 | CL16: {=IF(CJ16<CK16,CJ16,"")} -> 6 | CM16: 6 | CN16: =IFERROR(__xludf.DUMMYFUNCTION("""COMPUTED_VALUE"""),11) -> 11 | CO16: 6 | CQ16: {=IF(CO16<CP16,CO16,"")} -> 6 | CR16: 6 | CS16: =IFERROR(__xludf.DUMMYFUNCTION("""COMPUTED_VALUE"""),11) -> 11 | CT16: 6 | CV16: {=IF(CT16<CU16,CT16,"")} -> 6 | CW16: 6 | CX16: =IFERROR(__xludf.DUMMYFUNCTION("""COMPUTED_VALUE"""),11) -> 11 | CY16: 6 | DA16: {=IF(CY16<CZ16,CY16,"")} -> 6 | DB16: 6 | DC16: =IFERROR(__xludf.DUMMYFUNCTION("""COMPUTED_VALUE"""),11) -> 11 | DD16: 6
BN17: 0 | BO17: =IF(BO16="","",BN16) | BQ17: =IFERROR(__xludf.DUMMYFUNCTION("""COMPUTED_VALUE"""),12) -> 12 | BS17: 0 | BT17: =IF(BT16="","",BS16) -> 8 | BU17: 8 | BV17: =IFERROR(__xludf.DUMMYFUNCTION("""COMPUTED_VALUE"""),13) -> 13 | BX17: 0 | BY17: =IF(BY16="","",BX16) | BZ17: =IF(BY17="св",0,BY17) | CA17: =IFERROR(__xludf.DUMMYFUNCTION("""COMPUTED_VALUE"""),12) -> 12 | CB17: =IF(CA17=0,"св",CA17) -> 12 | CF17: 0 | CG17: =IF(CG16="","",CF16) | CI17: =IFERROR(__xludf.DUMMYFUNCTION("""COMPUTED_VALUE"""),12) -> 12 | CK17: 0 | CL17: =IF(CL16="","",CK16) | CN17: =IFERROR(__xludf.DUMMYFUNCTION("""COMPUTED_VALUE"""),12) -> 12 | CP17: 0 | CQ17: =IF(CQ16="","",CP16) | CS17: =IFERROR(__xludf.DUMMYFUNCTION("""COMPUTED_VALUE"""),12) -> 12 | CU17: 0 | CV17: =IF(CV16="","",CU16) | CX17: =IFERROR(__xludf.DUMMYFUNCTION("""COMPUTED_VALUE"""),12) -> 12 | CZ17: 0 | DA17: =IF(DA16="","",CZ16) | DC17: =IFERROR(__xludf.DUMMYFUNCTION("""COMPUTED_VALUE"""),12) -> 12
B18: 7 | C18: =(VLOOKUP($B18,Пр.взв!$D$6:$J$63,2,0)) -> МЕЛАДЗЕ Дарья | D18: =(VLOOKUP($B18,Пр.взв!$D$6:$J$63,5,0)) -> КМС | E18: =(VLOOKUP($B18,Пр.взв!$D$6:$M$63,8,0)) -> Свердловская | F18: 8 | H18: 5 | J18: =IF(H18="Х","Х",IF($AC18<6," ","Х")) | L18: =IF(J18="Х","Х",IF(K18<3," ",IF($AC18<6," ","Х"))) | N18: =IF(L18="Х","Х",IF(M18<3," ",IF($AC18<6," ","Х"))) | P18: =IF(N18="Х","Х",IF(O18<3," ",IF($AC18<6," ","Х"))) | R18: =IF(P18="Х","Х",IF(Q18<3," ",IF($AC18<6," ","Х"))) | T18: =IF(R18="Х","Х",IF(S18<3," ",IF($AC18<6," ","Х"))) | V18: =IF(T18="Х","Х",IF(U18<3," ",IF($AC18<6," ","Х"))) | X18: =IF(V18="А1",$AZ$7,IF(V18="Б2",$AZ$6,IF(V18="Б1",$BA$7,IF(V18="А2",$BA$6,IF(V18="Х","Х",IF(V18<6," "," ")))))) | Z18: =IF(V18="Х","Х",IF(ISBLANK(Y18),"",IF(Y18>2.5," ",IF(B18=BB$6,BB$7,BB$6)))) | AB18: =IF(H18="Х",F$5,IF(J18="Х",H$5,IF(L18="Х",J$5,IF(N18="Х",L$5,IF(P18="Х",N$5,IF(R18="Х",P$5,IF(T18="Х",R$5,IF(X18="Х",T$5,"")))))))) | AC18: =SUM(G18+I18+K18+M18+O18+Q18+S18+U18+Y18+AA18) -> 0 | AD18: =AF18 -> 1-22 | AE18: =AD18 -> 1-22 | AF18: =COUNTIF(AG$6:AG$148,">"&AG$6:AG$148)+1&REPT("-"&COUNTIF(AG$6:AG$148,">="&AG$6:AG$148),COUNTIF(AG$6:AG$148,AG18)>1) -> 1-22 | AG18: =(AR18*100)+(AP18*10)-AC18 -> 1280 | AH18: =IF(OR(F18="Х",F18="св")," ",IF(AND(G18>=0,G18<3),"1"," ")) -> 1 | AI18: =IF(OR(H18="Х",H18="св")," ",IF(AND(I18>=0,I18<3),"1"," ")) -> 1 | AJ18: =IF(OR(J18="Х",J18="св")," ",IF(AND(K18>=0,K18<3),"1"," ")) -> 1 | AK18: =IF(OR(L18="Х",L18="св")," ",IF(AND(M18>=0,M18<3),"1"," ")) -> 1 | AL18: =IF(OR(N18="Х",N18="св")," ",IF(AND(O18>=0,O18<3),"1"," ")) -> 1 | AM18: =IF(OR(P18="Х",P18="св")," ",IF(AND(Q18>=0,Q18<3),"1"," ")) -> 1 | AN18: =IF(OR(R18="Х",R18="св")," ",IF(AND(S18>=0,S18<3),"1"," ")) -> 1 | AO18: =IF(OR(T18="Х",T18="св")," ",IF(AND(U18>=0,U18<3),"1"," ")) -> 1 | AP18: =COUNTIF(AH18:AO19,1) -> 8 | AQ18: =AG18-AC18 -> 1280 | AR18: =IF(F18=0,0,IF(F18="Х",1,IF(H18="Х",2,IF(J18="Х",3,IF(L18="Х",4,IF(N18="Х",5,IF(P18="Х",6,IF(R18="Х",7,IF(T18="Х",8,IF(V18="Х",9,IF(Y18>2.5,10,IF(AA18>2.5,11,IF(AA18>=0,12,IF(AA18=" ",0,)))))))))))))) -> 12 | AS18: =COUNTIF(AG$6:AG$134,">"&AG$6:AG$134)+1&REPT("-"&COUNTIF(AG$6:AG$134,">="&AG$6:AG$134),COUNTIF(AG$6:AG$134,AG18)>1) -> 1-22 | AT18: =COUNTIF(AU$6:AU$134,">"&AU$6:AU$134)+1&REPT("-"&COUNTIF(AU$6:AU$134,">="&AU$6:AU$134),COUNTIF(AU$6:AU$134,AU18)>1) -> 1-64 | AU18: =COUNTIF(AV$6:AV$134,">"&AV$6:AV$134)+1&REPT("-"&COUNTIF(AV$6:AV$134,">="&AV$6:AV$134),COUNTIF(AV$6:AV$134,AV18)>1) -> 1-0 | AV18: =COUNTIF(AW$6:AW$134,">"&AW$6:AW$134)+1&REPT("-"&COUNTIF(AW$6:AW$134,">="&AW$6:AW$134),COUNTIF(AW$6:AW$134,AW18)>1) -> 1 | AW18: =COUNTIF(AX$6:AX$134,">"&AX$6:AX$134)+1&REPT("-"&COUNTIF(AX$6:AX$134,">="&AX$6:AX$134),COUNTIF(AX$6:AX$134,AX18)>1) -> 58 | AX18: =IF(X18="Х","Х",IF(Y18<3,B18,"Х")) -> 7 | BM18: 7 | BN18: 8 | BO18: =IF(BM18<BN18,BM18,"") -> 7 | BP18: 7 | BQ18: =IFERROR(__xludf.DUMMYFUNCTION("""COMPUTED_VALUE"""),13) -> 13 | BR18: 7 | BS18: 5 | BT18: =IF(BR18<BS18,BR18,"") | BV18: =IFERROR(__xludf.DUMMYFUNCTION("""COMPUTED_VALUE"""),12) -> 12 | BW18: 7 | BY18: {=IF(BW18<BX18,BW18,"")} -> 7 | BZ18: =IF(BY18="св",0,BY18) -> 7 | CA18: =IFERROR(__xludf.DUMMYFUNCTION("""COMPUTED_VALUE"""),13) -> 13 | CB18: =IF(CA18=0,"св",CA18) -> 13 | CE18: 7 | CG18: {=IF(CE18<CF18,CE18,"")} -> 7 | CH18: 7 | CI18: =IFERROR(__xludf.DUMMYFUNCTION("""COMPUTED_VALUE"""),13) -> 13 | CJ18: 7 | CL18: {=IF(CJ18<CK18,CJ18,"")} -> 7 | CM18: 7 | CN18: =IFERROR(__xludf.DUMMYFUNCTION("""COMPUTED_VALUE"""),13) -> 13 | CO18: 7 | CQ18: {=IF(CO18<CP18,CO18,"")} -> 7 | CR18: 7 | CS18: =IFERROR(__xludf.DUMMYFUNCTION("""COMPUTED_VALUE"""),13) -> 13 | CT18: 7 | CV18: {=IF(CT18<CU18,CT18,"")} -> 7 | CW18: 7 | CX18: =IFERROR(__xludf.DUMMYFUNCTION("""COMPUTED_VALUE"""),13) -> 13 | CY18: 7 | DA18: {=IF(CY18<CZ18,CY18,"")} -> 7 | DB18: 7 | DC18: =IFERROR(__xludf.DUMMYFUNCTION("""COMPUTED_VALUE"""),13) -> 13 | DD18: 7
BN19: 0 | BO19: =IF(BO18="","",BN18) -> 8 | BP19: 8 | BQ19: =IFERROR(__xludf.DUMMYFUNCTION("""COMPUTED_VALUE"""),0) -> 0 | BS19: 0 | BT19: =IF(BT18="","",BS18) | BV19: =IFERROR(__xludf.DUMMYFUNCTION("""COMPUTED_VALUE"""),0) -> 0 | BX19: 0 | BY19: =IF(BY18="","",BX18) | BZ19: =IF(BY19="св",0,BY19) | CA19: =IFERROR(__xludf.DUMMYFUNCTION("""COMPUTED_VALUE"""),14) -> 14 | CB19: =IF(CA19=0,"св",CA19) -> 14 | CF19: 0 | CG19: =IF(CG18="","",CF18) | CI19: =IFERROR(__xludf.DUMMYFUNCTION("""COMPUTED_VALUE"""),14) -> 14 | CK19: 0 | CL19: =IF(CL18="","",CK18) | CN19: =IFERROR(__xludf.DUMMYFUNCTION("""COMPUTED_VALUE"""),14) -> 14 | CP19: 0 | CQ19: =IF(CQ18="","",CP18) | CS19: =IFERROR(__xludf.DUMMYFUNCTION("""COMPUTED_VALUE"""),14) -> 14 | CU19: 0 | CV19: =IF(CV18="","",CU18) | CX19: =IFERROR(__xludf.DUMMYFUNCTION("""COMPUTED_VALUE"""),14) -> 14 | CZ19: 0 | DA19: =IF(DA18="","",CZ18) | DC19: =IFERROR(__xludf.DUMMYFUNCTION("""COMPUTED_VALUE"""),14) -> 14
B20: 8 | C20: =(VLOOKUP($B20,Пр.взв!$D$6:$J$63,2,0)) -> ЗЕНЧЕНКО Алина | D20: =(VLOOKUP($B20,Пр.взв!$D$6:$J$63,5,0)) -> КМС | E20: =(VLOOKUP($B20,Пр.взв!$D$6:$M$63,8,0)) -> Москва | F20: 7 | H20: 6 | J20: =IF(H20="Х","Х",IF($AC20<6," ","Х")) | L20: =IF(J20="Х","Х",IF(K20<3," ",IF($AC20<6," ","Х"))) | N20: =IF(L20="Х","Х",IF(M20<3," ",IF($AC20<6," ","Х"))) | P20: =IF(N20="Х","Х",IF(O20<3," ",IF($AC20<6," ","Х"))) | R20: =IF(P20="Х","Х",IF(Q20<3," ",IF($AC20<6," ","Х"))) | T20: =IF(R20="Х","Х",IF(S20<3," ",IF($AC20<6," ","Х"))) | V20: =IF(T20="Х","Х",IF(U20<3," ",IF($AC20<6," ","Х"))) | X20: =IF(V20="А1",$AZ$7,IF(V20="Б2",$AZ$6,IF(V20="Б1",$BA$7,IF(V20="А2",$BA$6,IF(V20="Х","Х",IF(V20<6," "," ")))))) | Z20: =IF(V20="Х","Х",IF(ISBLANK(Y20),"",IF(Y20>2.5," ",IF(B20=BB$6,BB$7,BB$6)))) | AB20: =IF(H20="Х",F$5,IF(J20="Х",H$5,IF(L20="Х",J$5,IF(N20="Х",L$5,IF(P20="Х",N$5,IF(R20="Х",P$5,IF(T20="Х",R$5,IF(X20="Х",T$5,"")))))))) | AC20: =SUM(G20+I20+K20+M20+O20+Q20+S20+U20+Y20+AA20) -> 0 | AD20: =AF20 -> 1-22 | AE20: =AD20 -> 1-22 | AF20: =COUNTIF(AG$6:AG$148,">"&AG$6:AG$148)+1&REPT("-"&COUNTIF(AG$6:AG$148,">="&AG$6:AG$148),COUNTIF(AG$6:AG$148,AG20)>1) -> 1-22 | AG20: =(AR20*100)+(AP20*10)-AC20 -> 1280 | AH20: =IF(OR(F20="Х",F20="св")," ",IF(AND(G20>=0,G20<3),"1"," ")) -> 1 | AI20: =IF(OR(H20="Х",H20="св")," ",IF(AND(I20>=0,I20<3),"1"," ")) -> 1 | AJ20: =IF(OR(J20="Х",J20="св")," ",IF(AND(K20>=0,K20<3),"1"," ")) -> 1 | AK20: =IF(OR(L20="Х",L20="св")," ",IF(AND(M20>=0,M20<3),"1"," ")) -> 1 | AL20: =IF(OR(N20="Х",N20="св")," ",IF(AND(O20>=0,O20<3),"1"," ")) -> 1 | AM20: =IF(OR(P20="Х",P20="св")," ",IF(AND(Q20>=0,Q20<3),"1"," ")) -> 1 | AN20: =IF(OR(R20="Х",R20="св")," ",IF(AND(S20>=0,S20<3),"1"," ")) -> 1 | AO20: =IF(OR(T20="Х",T20="св")," ",IF(AND(U20>=0,U20<3),"1"," ")) -> 1 | AP20: =COUNTIF(AH20:AO21,1) -> 8 | AQ20: =AG20-AC20 -> 1280 | AR20: =IF(F20=0,0,IF(F20="Х",1,IF(H20="Х",2,IF(J20="Х",3,IF(L20="Х",4,IF(N20="Х",5,IF(P20="Х",6,IF(R20="Х",7,IF(T20="Х",8,IF(V20="Х",9,IF(Y20>2.5,10,IF(AA20>2.5,11,IF(AA20>=0,12,IF(AA20=" ",0,)))))))))))))) -> 12 | AS20: =COUNTIF(AG$6:AG$134,">"&AG$6:AG$134)+1&REPT("-"&COUNTIF(AG$6:AG$134,">="&AG$6:AG$134),COUNTIF(AG$6:AG$134,AG20)>1) -> 1-22 | AT20: =COUNTIF(AU$6:AU$134,">"&AU$6:AU$134)+1&REPT("-"&COUNTIF(AU$6:AU$134,">="&AU$6:AU$134),COUNTIF(AU$6:AU$134,AU20)>1) -> 1-64 | AU20: =COUNTIF(AV$6:AV$134,">"&AV$6:AV$134)+1&REPT("-"&COUNTIF(AV$6:AV$134,">="&AV$6:AV$134),COUNTIF(AV$6:AV$134,AV20)>1) -> 1-0 | AV20: =COUNTIF(AW$6:AW$134,">"&AW$6:AW$134)+1&REPT("-"&COUNTIF(AW$6:AW$134,">="&AW$6:AW$134),COUNTIF(AW$6:AW$134,AW20)>1) -> 1 | AW20: =COUNTIF(AX$6:AX$134,">"&AX$6:AX$134)+1&REPT("-"&COUNTIF(AX$6:AX$134,">="&AX$6:AX$134),COUNTIF(AX$6:AX$134,AX20)>1) -> 57 | AX20: =IF(X20="Х","Х",IF(Y20<3,B20,"Х")) -> 8 | BM20: 8 | BN20: 7 | BO20: =IF(BM20<BN20,BM20,"") | BQ20: =IFERROR(__xludf.DUMMYFUNCTION("""COMPUTED_VALUE"""),14) -> 14 | BR20: 8 | BS20: 6 | BT20: =IF(BR20<BS20,BR20,"") | BV20: =IFERROR(__xludf.DUMMYFUNCTION("""COMPUTED_VALUE"""),14) -> 14 | BW20: 8 | BY20: {=IF(BW20<BX20,BW20,"")} -> 8 | BZ20: =IF(BY20="св",0,BY20) -> 8 | CA20: =IFERROR(__xludf.DUMMYFUNCTION("""COMPUTED_VALUE"""),15) -> 15 | CB20: =IF(CA20=0,"св",CA20) -> 15 | CE20: 8 | CG20: {=IF(CE20<CF20,CE20,"")} -> 8 | CH20: 8 | CI20: =IFERROR(__xludf.DUMMYFUNCTION("""COMPUTED_VALUE"""),15) -> 15 | CJ20: 8 | CL20: {=IF(CJ20<CK20,CJ20,"")} -> 8 | CM20: 8 | CN20: =IFERROR(__xludf.DUMMYFUNCTION("""COMPUTED_VALUE"""),15) -> 15 | CO20: 8 | CQ20: {=IF(CO20<CP20,CO20,"")} -> 8 | CR20: 8 | CS20: =IFERROR(__xludf.DUMMYFUNCTION("""COMPUTED_VALUE"""),15) -> 15 | CT20: 8 | CV20: {=IF(CT20<CU20,CT20,"")} -> 8 | CW20: 8 | CX20: =IFERROR(__xludf.DUMMYFUNCTION("""COMPUTED_VALUE"""),15) -> 15 | CY20: 8 | DA20: {=IF(CY20<CZ20,CY20,"")} -> 8 | DB20: 8 | DC20: =IFERROR(__xludf.DUMMYFUNCTION("""COMPUTED_VALUE"""),15) -> 15 | DD20: 8
BN21: 0 | BO21: =IF(BO20="","",BN20) | BQ21: =IFERROR(__xludf.DUMMYFUNCTION("""COMPUTED_VALUE"""),15) -> 15 | BS21: 0 | BT21: =IF(BT20="","",BS20) | BV21: =IFERROR(__xludf.DUMMYFUNCTION("""COMPUTED_VALUE"""),16) -> 16 | BX21: 0 | BY21: =IF(BY20="","",BX20) | BZ21: =IF(BY21="св",0,BY21) | CA21: =IFERROR(__xludf.DUMMYFUNCTION("""COMPUTED_VALUE"""),16) -> 16 | CB21: =IF(CA21=0,"св",CA21) -> 16 | CF21: 0 | CG21: =IF(CG20="","",CF20) | CI21: =IFERROR(__xludf.DUMMYFUNCTION("""COMPUTED_VALUE"""),16) -> 16 | CK21: 0 | CL21: =IF(CL20="","",CK20) | CN21: =IFERROR(__xludf.DUMMYFUNCTION("""COMPUTED_VALUE"""),16) -> 16 | CP21: 0 | CQ21: =IF(CQ20="","",CP20) | CS21: =IFERROR(__xludf.DUMMYFUNCTION("""COMPUTED_VALUE"""),16) -> 16 | CU21: 0 | CV21: =IF(CV20="","",CU20) | CX21: =IFERROR(__xludf.DUMMYFUNCTION("""COMPUTED_VALUE"""),16) -> 16 | CZ21: 0 | DA21: =IF(DA20="","",CZ20) | DC21: =IFERROR(__xludf.DUMMYFUNCTION("""COMPUTED_VALUE"""),16) -> 16
B22: 9 | C22: =(VLOOKUP($B22,Пр.взв!$D$6:$J$63,2,0)) -> ГАЛИЕВА Алина | D22: =(VLOOKUP($B22,Пр.взв!$D$6:$J$63,5,0)) -> КМС | E22: =(VLOOKUP($B22,Пр.взв!$D$6:$M$63,8,0)) -> Р.Башкортостан | F22: 10 | H22: 11 | J22: =IF(H22="Х","Х",IF($AC22<6," ","Х")) | L22: =IF(J22="Х","Х",IF(K22<3," ",IF($AC22<6," ","Х"))) | N22: =IF(L22="Х","Х",IF(M22<3," ",IF($AC22<6," ","Х"))) | P22: =IF(N22="Х","Х",IF(O22<3," ",IF($AC22<6," ","Х"))) | R22: =IF(P22="Х","Х",IF(Q22<3," ",IF($AC22<6," ","Х"))) | T22: =IF(R22="Х","Х",IF(S22<3," ",IF($AC22<6," ","Х"))) | V22: =IF(T22="Х","Х",IF(U22<3," ",IF($AC22<6," ","Х"))) | X22: =IF(V22="А1",$AZ$7,IF(V22="Б2",$AZ$6,IF(V22="Б1",$BA$7,IF(V22="А2",$BA$6,IF(V22="Х","Х",IF(V22<6," "," ")))))) | Z22: =IF(V22="Х","Х",IF(ISBLANK(Y22),"",IF(Y22>2.5," ",IF(B22=BB$6,BB$7,BB$6)))) | AB22: =IF(H22="Х",F$5,IF(J22="Х",H$5,IF(L22="Х",J$5,IF(N22="Х",L$5,IF(P22="Х",N$5,IF(R22="Х",P$5,IF(T22="Х",R$5,IF(X22="Х",T$5,"")))))))) | AC22: =SUM(G22+I22+K22+M22+O22+Q22+S22+U22+Y22+AA22) -> 0 | AD22: =AF22 -> 1-22 | AE22: =AD22 -> 1-22 | AF22: =COUNTIF(AG$6:AG$148,">"&AG$6:AG$148)+1&REPT("-"&COUNTIF(AG$6:AG$148,">="&AG$6:AG$148),COUNTIF(AG$6:AG$148,AG22)>1) -> 1-22 | AG22: =(AR22*100)+(AP22*10)-AC22 -> 1280 | AH22: =IF(OR(F22="Х",F22="св")," ",IF(AND(G22>=0,G22<3),"1"," ")) -> 1 | AI22: =IF(OR(H22="Х",H22="св")," ",IF(AND(I22>=0,I22<3),"1"," ")) -> 1 | AJ22: =IF(OR(J22="Х",J22="св")," ",IF(AND(K22>=0,K22<3),"1"," ")) -> 1 | AK22: =IF(OR(L22="Х",L22="св")," ",IF(AND(M22>=0,M22<3),"1"," ")) -> 1 | AL22: =IF(OR(N22="Х",N22="св")," ",IF(AND(O22>=0,O22<3),"1"," ")) -> 1 | AM22: =IF(OR(P22="Х",P22="св")," ",IF(AND(Q22>=0,Q22<3),"1"," ")) -> 1 | AN22: =IF(OR(R22="Х",R22="св")," ",IF(AND(S22>=0,S22<3),"1"," ")) -> 1 | AO22: =IF(OR(T22="Х",T22="св")," ",IF(AND(U22>=0,U22<3),"1"," ")) -> 1 | AP22: =COUNTIF(AH22:AO23,1) -> 8 | AQ22: =AG22-AC22 -> 1280 | AR22: =IF(F22=0,0,IF(F22="Х",1,IF(H22="Х",2,IF(J22="Х",3,IF(L22="Х",4,IF(N22="Х",5,IF(P22="Х",6,IF(R22="Х",7,IF(T22="Х",8,IF(V22="Х",9,IF(Y22>2.5,10,IF(AA22>2.5,11,IF(AA22>=0,12,IF(AA22=" ",0,)))))))))))))) -> 12 | AS22: =COUNTIF(AG$6:AG$134,">"&AG$6:AG$134)+1&REPT("-"&COUNTIF(AG$6:AG$134,">="&AG$6:AG$134),COUNTIF(AG$6:AG$134,AG22)>1) -> 1-22 | AT22: =COUNTIF(AU$6:AU$134,">"&AU$6:AU$134)+1&REPT("-"&COUNTIF(AU$6:AU$134,">="&AU$6:AU$134),COUNTIF(AU$6:AU$134,AU22)>1) -> 1-64 | AU22: =COUNTIF(AV$6:AV$134,">"&AV$6:AV$134)+1&REPT("-"&COUNTIF(AV$6:AV$134,">="&AV$6:AV$134),COUNTIF(AV$6:AV$134,AV22)>1) -> 1-0 | AV22: =COUNTIF(AW$6:AW$134,">"&AW$6:AW$134)+1&REPT("-"&COUNTIF(AW$6:AW$134,">="&AW$6:AW$134),COUNTIF(AW$6:AW$134,AW22)>1) -> 1 | AW22: =COUNTIF(AX$6:AX$134,">"&AX$6:AX$134)+1&REPT("-"&COUNTIF(AX$6:AX$134,">="&AX$6:AX$134),COUNTIF(AX$6:AX$134,AX22)>1) -> 56 | AX22: =IF(X22="Х","Х",IF(Y22<3,B22,"Х")) -> 9 | BM22: 9 | BN22: 10 | BO22: =IF(BM22<BN22,BM22,"") -> 9 | BP22: 9 | BQ22: =IFERROR(__xludf.DUMMYFUNCTION("""COMPUTED_VALUE"""),16) -> 16 | BR22: 9 | BS22: 11 | BT22: =IF(BR22<BS22,BR22,"") -> 9 | BU22: 9 | BV22: =IFERROR(__xludf.DUMMYFUNCTION("""COMPUTED_VALUE"""),15) -> 15 | BW22: 9 | BY22: {=IF(BW22<BX22,BW22,"")} -> 9 | BZ22: =IF(BY22="св",0,BY22) -> 9 | CA22: =IFERROR(__xludf.DUMMYFUNCTION("""COMPUTED_VALUE"""),17) -> 17 | CB22: =IF(CA22=0,"св",CA22) -> 17 | CE22: 9 | CG22: {=IF(CE22<CF22,CE22,"")} -> 9 | CH22: 9 | CI22: =IFERROR(__xludf.DUMMYFUNCTION("""COMPUTED_VALUE"""),17) -> 17 | CJ22: 9 | CL22: {=IF(CJ22<CK22,CJ22,"")} -> 9 | CM22: 9 | CN22: =IFERROR(__xludf.DUMMYFUNCTION("""COMPUTED_VALUE"""),17) -> 17 | CO22: 9 | CQ22: {=IF(CO22<CP22,CO22,"")} -> 9 | CR22: 9 | CS22: =IFERROR(__xludf.DUMMYFUNCTION("""COMPUTED_VALUE"""),17) -> 17 | CT22: 9 | CV22: {=IF(CT22<CU22,CT22,"")} -> 9 | CW22: 9 | CX22: =IFERROR(__xludf.DUMMYFUNCTION("""COMPUTED_VALUE"""),17) -> 17 | CY22: 9 | DA22: {=IF(CY22<CZ22,CY22,"")} -> 9 | DB22: 9 | DC22: =IFERROR(__xludf.DUMMYFUNCTION("""COMPUTED_VALUE"""),17) -> 17 | DD22: 9
BN23: 0 | BO23: =IF(BO22="","",BN22) -> 10 | BP23: 10 | BQ23: =IFERROR(__xludf.DUMMYFUNCTION("""COMPUTED_VALUE"""),17) -> 17 | BS23: 0 | BT23: =IF(BT22="","",BS22) -> 11 | BU23: 11 | BV23: =IFERROR(__xludf.DUMMYFUNCTION("""COMPUTED_VALUE"""),17) -> 17 | BX23: 0 | BY23: =IF(BY22="","",BX22) | BZ23: =IF(BY23="св",0,BY23) | CA23: =IFERROR(__xludf.DUMMYFUNCTION("""COMPUTED_VALUE"""),18) -> 18 | CB23: =IF(CA23=0,"св",CA23) -> 18 | CF23: 0 | CG23: =IF(CG22="","",CF22) | CI23: =IFERROR(__xludf.DUMMYFUNCTION("""COMPUTED_VALUE"""),18) -> 18 | CK23: 0 | CL23: =IF(CL22="","",CK22) | CN23: =IFERROR(__xludf.DUMMYFUNCTION("""COMPUTED_VALUE"""),18) -> 18 | CP23: 0 | CQ23: =IF(CQ22="","",CP22) | CS23: =IFERROR(__xludf.DUMMYFUNCTION("""COMPUTED_VALUE"""),18) -> 18 | CU23: 0 | CV23: =IF(CV22="","",CU22) | CX23: =IFERROR(__xludf.DUMMYFUNCTION("""COMPUTED_VALUE"""),18) -> 18 | CZ23: 0 | DA23: =IF(DA22="","",CZ22) | DC23: =IFERROR(__xludf.DUMMYFUNCTION("""COMPUTED_VALUE"""),18) -> 18
B24: 10 | C24: =(VLOOKUP($B24,Пр.взв!$D$6:$J$63,2,0)) -> АЛЁХИНА Алёна | D24: =(VLOOKUP($B24,Пр.взв!$D$6:$J$63,5,0)) -> КМС | E24: =(VLOOKUP($B24,Пр.взв!$D$6:$M$63,8,0)) -> Свердловская | F24: 9 | H24: 13 | J24: =IF(H24="Х","Х",IF($AC24<6," ","Х")) | L24: =IF(J24="Х","Х",IF(K24<3," ",IF($AC24<6," ","Х"))) | N24: =IF(L24="Х","Х",IF(M24<3," ",IF($AC24<6," ","Х"))) | P24: =IF(N24="Х","Х",IF(O24<3," ",IF($AC24<6," ","Х"))) | R24: =IF(P24="Х","Х",IF(Q24<3," ",IF($AC24<6," ","Х"))) | T24: =IF(R24="Х","Х",IF(S24<3," ",IF($AC24<6," ","Х"))) | V24: =IF(T24="Х","Х",IF(U24<3," ",IF($AC24<6," ","Х"))) | X24: =IF(V24="А1",$AZ$7,IF(V24="Б2",$AZ$6,IF(V24="Б1",$BA$7,IF(V24="А2",$BA$6,IF(V24="Х","Х",IF(V24<6," "," ")))))) | Z24: =IF(V24="Х","Х",IF(ISBLANK(Y24),"",IF(Y24>2.5," ",IF(B24=BB$6,BB$7,BB$6)))) | AB24: =IF(H24="Х",F$5,IF(J24="Х",H$5,IF(L24="Х",J$5,IF(N24="Х",L$5,IF(P24="Х",N$5,IF(R24="Х",P$5,IF(T24="Х",R$5,IF(X24="Х",T$5,"")))))))) | AC24: =SUM(G24+I24+K24+M24+O24+Q24+S24+U24+Y24+AA24) -> 0 | AD24: =AF24 -> 1-22 | AE24: =AD24 -> 1-22 | AF24: =COUNTIF(AG$6:AG$148,">"&AG$6:AG$148)+1&REPT("-"&COUNTIF(AG$6:AG$148,">="&AG$6:AG$148),COUNTIF(AG$6:AG$148,AG24)>1) -> 1-22 | AG24: =(AR24*100)+(AP24*10)-AC24 -> 1280 | AH24: =IF(OR(F24="Х",F24="св")," ",IF(AND(G24>=0,G24<3),"1"," ")) -> 1 | AI24: =IF(OR(H24="Х",H24="св")," ",IF(AND(I24>=0,I24<3),"1"," ")) -> 1 | AJ24: =IF(OR(J24="Х",J24="св")," ",IF(AND(K24>=0,K24<3),"1"," ")) -> 1 | AK24: =IF(OR(L24="Х",L24="св")," ",IF(AND(M24>=0,M24<3),"1"," ")) -> 1 | AL24: =IF(OR(N24="Х",N24="св")," ",IF(AND(O24>=0,O24<3),"1"," ")) -> 1 | AM24: =IF(OR(P24="Х",P24="св")," ",IF(AND(Q24>=0,Q24<3),"1"," ")) -> 1 | AN24: =IF(OR(R24="Х",R24="св")," ",IF(AND(S24>=0,S24<3),"1"," ")) -> 1 | AO24: =IF(OR(T24="Х",T24="св")," ",IF(AND(U24>=0,U24<3),"1"," ")) -> 1 | AP24: =COUNTIF(AH24:AO25,1) -> 8 | AQ24: =AG24-AC24 -> 1280 | AR24: =IF(F24=0,0,IF(F24="Х",1,IF(H24="Х",2,IF(J24="Х",3,IF(L24="Х",4,IF(N24="Х",5,IF(P24="Х",6,IF(R24="Х",7,IF(T24="Х",8,IF(V24="Х",9,IF(Y24>2.5,10,IF(AA24>2.5,11,IF(AA24>=0,12,IF(AA24=" ",0,)))))))))))))) -> 12 | AS24: =COUNTIF(AG$6:AG$134,">"&AG$6:AG$134)+1&REPT("-"&COUNTIF(AG$6:AG$134,">="&AG$6:AG$134),COUNTIF(AG$6:AG$134,AG24)>1) -> 1-22 | AT24: =COUNTIF(AU$6:AU$134,">"&AU$6:AU$134)+1&REPT("-"&COUNTIF(AU$6:AU$134,">="&AU$6:AU$134),COUNTIF(AU$6:AU$134,AU24)>1) -> 1-64 | AU24: =COUNTIF(AV$6:AV$134,">"&AV$6:AV$134)+1&REPT("-"&COUNTIF(AV$6:AV$134,">="&AV$6:AV$134),COUNTIF(AV$6:AV$134,AV24)>1) -> 1-0 | AV24: =COUNTIF(AW$6:AW$134,">"&AW$6:AW$134)+1&REPT("-"&COUNTIF(AW$6:AW$134,">="&AW$6:AW$134),COUNTIF(AW$6:AW$134,AW24)>1) -> 1 | AW24: =COUNTIF(AX$6:AX$134,">"&AX$6:AX$134)+1&REPT("-"&COUNTIF(AX$6:AX$134,">="&AX$6:AX$134),COUNTIF(AX$6:AX$134,AX24)>1) -> 55 | AX24: =IF(X24="Х","Х",IF(Y24<3,B24,"Х")) -> 10 | BD24: 0 | BF24: 0 | BM24: 10 | BN24: 9 | BO24: =IF(BM24<BN24,BM24,"") | BQ24: =IFERROR(__xludf.DUMMYFUNCTION("""COMPUTED_VALUE"""),18) -> 18 | BR24: 10 | BS24: 13 | BT24: =IF(BR24<BS24,BR24,"") -> 10 | BU24: 10 | BV24: =IFERROR(__xludf.DUMMYFUNCTION("""COMPUTED_VALUE"""),18) -> 18 | BW24: 10 | BY24: {=IF(BW24<BX24,BW24,"")} -> 10 | BZ24: =IF(BY24="св",0,BY24) -> 10 | CA24: =IFERROR(__xludf.DUMMYFUNCTION("""COMPUTED_VALUE"""),19) -> 19 | CB24: =IF(CA24=0,"св",CA24) -> 19 | CE24: 10 | CG24: {=IF(CE24<CF24,CE24,"")} -> 10 | CH24: 10 | CI24: =IFERROR(__xludf.DUMMYFUNCTION("""COMPUTED_VALUE"""),19) -> 19 | CJ24: 10 | CL24: {=IF(CJ24<CK24,CJ24,"")} -> 10 | CM24: 10 | CN24: =IFERROR(__xludf.DUMMYFUNCTION("""COMPUTED_VALUE"""),19) -> 19 | CO24: 10 | CQ24: {=IF(CO24<CP24,CO24,"")} -> 10 | CR24: 10 | CS24: =IFERROR(__xludf.DUMMYFUNCTION("""COMPUTED_VALUE"""),19) -> 19 | CT24: 10 | CV24: {=IF(CT24<CU24,CT24,"")} -> 10 | CW24: 10 | CX24: =IFERROR(__xludf.DUMMYFUNCTION("""COMPUTED_VALUE"""),19) -> 19 | CY24: 10 | DA24: {=IF(CY24<CZ24,CY24,"")} -> 10 | DB24: 10 | DC24: =IFERROR(__xludf.DUMMYFUNCTION("""COMPUTED_VALUE"""),19) -> 19 | DD24: 10
