Workbook
Name KR: Пр.хода!$BY$5:$BY$164

Sheet Пр.взв
A1: select Col1,Col3,Col4,Col5,Col6,Col10,Col12,Col13,Col14,Col15,Col16,Col17 WHERE Col1>1 | C1: ПРОТОКОЛ ВЗВЕШИВАНИЯ | N1: https://docs.google.com/spreadsheets/d/1-mr44NXoxiCFwZh6G4EyfPc7CemDD3qxAv_tXDHZBQk/edit?usp=share_link | O1: =IF(O2="80+",81,O2) -> 59
C2: =IFERROR(__xludf.DUMMYFUNCTION("IMPORTRANGE(N1,""Реквизиты!A1"")"),"Первенство России по самбо юниорки 18-20 лет (отбор на Первенство Мира и Европы) ЕКП № 23752") -> Первенство России по самбо юниорки 18-20 лет (отбор на Первенство Мира и Европы) ЕКП № 23752 | O2: 59 | P2: В.к. | Q2: кг
C3: =IFERROR(__xludf.DUMMYFUNCTION("IMPORTRANGE(N1,""Реквизиты!A3"")"),"13.02 - 17.02.2022 г. г. В-Пышма") -> 13.02 - 17.02.2022 г. г. В-Пышма | O3: =COUNT(B6:B991) -> 0 | P3: участников
G4: =P2&" "&O2&" "&Q2 -> В.к. 59 кг | J4: ЮНИОРКИ
A5: ВК | B5: ВК | C5: № п/п | D5: № п/ж | E5: Ф.И.О. | F5: Ф.И.О. | G5: Дата рожд., разряд | H5: Разряд | I5: Округ, субъект, город, ведомство | K5: Субъект | L5: № карточки | M5: Тренер
A6: =IF(B6=81,"80+",B6) -> #REF! | B6: =IFERROR(__xludf.DUMMYFUNCTION("QUERY(IMPORTRANGE(N1,""Рег.!A2:Q""),""select Col1,Col3,Col4,Col5,Col6,Col10,Col12,Col13,Col14,Col15,Col16,Col17 WHERE Col1 contains '""&O1&""'order by Col13,Col15"")"),"#REF!") -> #REF! | C6: 41 | D6: 6 | E6: БУБЯКИНА Ольга | F6: БУБЯКИНА Ольга Павловна | G6: 28.08.04, КМС | H6: КМС | I6: ДВФО | J6: Амурская обл., Благовещенск, МАОУ ДО ДЮСШ 5 | K6: Амурская | M6: Богодист Д.И., Бубякин П.В. | N6: 47 | O6: БУБЯКИНА
A7: =IF(B7=81,"80+",B7) -> 0 | C7: 22 | D7: 23 | E7: ТИХОНОВА Юлия | F7: ТИХОНОВА Юлия Алексеевна | G7: 16.03.05, 1р | H7: 1р | I7: ДВФО | J7: Забайкальский край, Чита, Детский юношеский центр | K7: Забайкальский | M7: Курбатов Владимир Сергеевич | N7: 50 | O7: ТИХОНОВА
A8: =IF(B8=81,"80+",B8) -> 0 | C8: 40 | D8: 8 | E8: ЗЕНЧЕНКО Алина | F8: ЗЕНЧЕНКО Алина Руслановна | G8: 06.03.05, КМС | H8: КМС | I8: МОС | J8: г. Москва, Москва, МГФСО | K8: Москва | M8: Мартынов М.Г, Терешок В.А | N8: 54 | O8: 58
A9: =IF(B9=81,"80+",B9) -> 0 | C9: 40 | D9: 4 | E9: ИЛЮКОВА Карина | F9: ИЛЮКОВА Карина Евгеньевна | G9: 22.09.04, КМС | H9: КМС | I9: МОС | J9: г. Москва, Москва, МССУОР 1 | K9: Москва | M9: Коржавин Николай Васильевич | N9: 59 | O9: 64
A10: =IF(B10=81,"80+",B10) -> 0 | C10: 40 | D10: 15 | E10: МАЙОРСКАЯ Виктория | F10: МАЙОРСКАЯ Виктория Станиславовна | G10: 26.01.04, КМС | H10: КМС | I10: МОС | J10: г. Москва, Москва, Самбо-70 | K10: Москва | M10: Гусаров А.А.,Клецков Н.В. | N10: 65 | O10: 71
A11: =IF(B11=81,"80+",B11) -> 0 | C11: 30 | D11: 9 | E11: ГАЛИЕВА Алина | F11: ГАЛИЕВА Алина Романовна | G11: 09.09.04, КМС | H11: КМС | I11: ПФО | J11: Респ. Башкортостан, Уфа, СШОР «Геркулес» | K11: Р.Башкортостан | M11: Бикташев.М.Р Шерстабитов.Ю.А Яркеев.В.А | N11: 72 | O11: 79
A12: =IF(B12=81,"80+",B12) -> 0 | C12: 10 | D12: 18 | E12: АРТАМОНОВА Лина | F12: АРТАМОНОВА Лина Алексеевна | G12: 15.01.05, КМС | H12: КМС | I12: ПФО | J12: Саратовская обл., Энгельс, МБУ Юность | K12: Саратовская | M12: Гусев М.С | N12: 80 | O12: 88
A13: =IF(B13=81,"80+",B13) -> 0 | C13: 32 | D13: 3 | E13: МАКАРЕНКО Екатерина | F13: МАКАРЕНКО Екатерина Викторовна | G13: 31.01.05, КМС | H13: КМС | I13: СЗФО | J13: Калининградская обл., Калининград, ГБПОУ КО УОР | K13: Калининградская | M13: Мкртчян С.Р, Дуев М.А, Ковалев А.А | N13: 80+ | O13: 98
A14: =IF(B14=81,"80+",B14) -> 0 | C14: 6 | D14: 22 | E14: ТАЛПА Елизавета | F14: ТАЛПА Елизавета Валерьевна | G14: 15.08.05, КМС | H14: КМС | I14: СЗФО | J14: Респ. Коми, Воркута, СШ «СМЕНА» | K14: Р.Коми | M14: Алехин В.В. | N14: 98+ | O14: 98+
A15: =IF(B15=81,"80+",B15) -> 0 | C15: 3 | D15: 13 | E15: КАРАТАЕВА Анастасия | F15: КАРАТАЕВА Анастасия Ивановна | G15: 09.12.04, КМС | H15: КМС | I15: СФО | J15: Алтайский край, Бийск, ДЮСШ Зонального района | K15: Алтайский | M15: Шуликов Е.С | N15: <3
A16: =IF(B16=81,"80+",B16) -> 0 | C16: 15 | D16: 24 | E16: АНТОНЮК Яна | F16: АНТОНЮК Яна Сергеевна | G16: 07.09.04, МС | H16: МС | I16: СФО | J16: Иркутская обл., Иркутск, ГКУИО | K16: Иркутская | M16: Томский А
A17: =IF(B17=81,"80+",B17) -> 0 | C17: 13 | D17: 17 | E17: БОЧКАРЕВА Маргарита | F17: БОЧКАРЕВА Маргарита Сергеевна | G17: 13.11.03, КМС | H17: КМС | I17: СФО | J17: Р.Алтай, Горно-Алтайск, Д | K17: Р.Алтай | M17: Тайпинов В. Л.
A18: =IF(B18=81,"80+",B18) -> 0 | C18: 35 | D18: 10 | E18: АЛЁХИНА Алёна | F18: АЛЁХИНА Алёна Александровна | G18: 03.01.05, КМС | H18: КМС | I18: УФО | J18: Свердловская обл., Екатеринбург, ГАУ СО « СШОР по самбо и дзюдо» | K18: Свердловская | M18: Федосеев М.Е., Воронов В.В
A19: =IF(B19=81,"80+",B19) -> 0 | C19: 35 | D19: 12 | E19: МУРАШОВА Марина | F19: МУРАШОВА Марина Андреевна | G19: 08.11.04, 1р | H19: 1р | I19: УФО | J19: Свердловская обл., Екатеринбург, ГАУ СШОР | K19: Свердловская | M19: Черникова.М.И
A20: =IF(B20=81,"80+",B20) -> 0 | C20: 35 | D20: 2 | E20: ДЖУМАЕВА Яна | F20: ДЖУМАЕВА Яна Хидирназаровна | G20: 25.11.03, КМС | H20: КМС | I20: УФО | J20: Свердловская обл., Екатеринбург, Ск Родина | K20: Свердловская | M20: Федосеев М.Е Селянина О.В
A21: =IF(B21=81,"80+",B21) -> 0 | C21: 35 | D21: 16 | E21: ШТЕНЦОВА Валентина | F21: ШТЕНЦОВА Валентина Михайловна | G21: 10.06.04, МС | H21: МС | I21: УФО | J21: Свердловская обл., Екатеринбург, СШОР ПО САМБО И ДЗЮДО | K21: Свердловская | M21: Куликов С.С ; Савинский В.С
A22: =IF(B22=99,"98+",B22) -> 0 | C22: 35 | D22: 26 | E22: КОМАРДИНА Олеся | F22: КОМАРДИНА Олеся Алексеевна | G22: 17.04.03, КМС | H22: КМС | I22: УФО | J22: Свердловская обл., Екатеринбург, Уор №1 | K22: Свердловская | M22: Федосеев М.Е; Селянина О.В
A23: =IF(B23=99,"98+",B23) -> 0 | C23: 35 | D23: 7 | E23: МЕЛАДЗЕ Дарья | F23: МЕЛАДЗЕ Дарья Николаевна | G23: 21.12.03, КМС | H23: КМС | I23: УФО | J23: Свердловская обл., Ирбит, Ирбитская ДЮСШ | K23: Свердловская | M23: Шевчук П.Н. Дымшаков М.И.
A24: =IF(B24=99,"98+",B24) -> 0 | C24: 35 | D24: 21 | E24: МУХИНА Ольга | F24: МУХИНА Ольга Дмитриевна | G24: 10.08.04, КМС | H24: КМС | I24: УФО | J24: Свердловская, Екатеринбург , МС | K24: Свердловская | M24: Львов ЕВ
A25: =IF(B25=99,"98+",B25) -> 0 | C25: 25 | D25: 11 | E25: КОЛОСОВА Карина | F25: КОЛОСОВА Карина Юрьевна | G25: 28.01.04, КМС | H25: КМС | I25: ЦФО | J25: Воронежская обл., Нововоронеж, Нововоронежская ДЮСШ | K25: Воронежская | M25: Маклецова Т. Е.
A26: =IF(B26=99,"98+",B26) -> 0 | C26: 34 | D26: 5 | E26: ГАЙДУЧОК Дарья | F26: ГАЙДУЧОК Дарья Сергеевна | G26: 03.07.03, МС | H26: МС | I26: ЦФО | J26: Московская, Можайск, МО | K26: Московская | M26: Степанов И.М., Нагулин А.В.
A27: =IF(B27=99,"98+",B27) -> 0 | C27: 34 | D27: 14 | E27: ИЗМАЛКОВА Анастасия | F27: ИЗМАЛКОВА Анастасия Кирилловна | G27: 29.05.05, КМС | H27: КМС | I27: ЦФО | J27: Московская, Можайск, МО | K27: Московская | M27: Анохин В.Н
A28: =IF(B28=99,"98+",B28) -> 0 | C28: 27 | D28: 19 | E28: ВОРОШИЛОВА Мария | F28: ВОРОШИЛОВА Мария Александровна | G28: 14.12.05, КМС | H28: КМС | I28: ЦФО | J28: Смоленская обл., Смоленск, СДЮШОР 2 | K28: Смоленская | M28: Ермаченков Сергей Александрович Гореленков Сергей Анатольевич
A29: =IF(B29=99,"98+",B29) -> 0 | C29: 17 | D29: 20 | E29: МАКСИМОВА Василиса | F29: МАКСИМОВА Василиса Игоревна | G29: 06.05.04, КМС | H29: КМС | I29: ЮФО | J29: Астраханская, Астрахань, МО | K29: Астраханская | M29: Гольберг Е. М
A30: =IF(B30=99,"98+",B30) -> 0 | C30: 38 | D30: 25 | E30: САВИНОВА Ольга | F30: САВИНОВА Ольга Григорьевна | G30: 22.01.04, КМС | H30: КМС | I30: ЮФО | J30: Краснодарский край, Краснодар, Спортивная школа 5 | K30: Краснодарский | M30: Коваленко Сергей Владимирович
A31: =IF(B31=99,"98+",B31) -> 0 | C31: 24 | D31: 1 | E31: ДАВЫДЮК Дарья | F31: ДАВЫДЮК Дарья Вячеславовна | G31: 05.05.05, КМС | H31: КМС | I31: ЮФО | J31: Респ. Крым, Ялта-Керчь, МБУ "СШ самбо им. И.С.Павленко" | K31: Р.Крым | M31: Красов В.В.,Мурашкин А.О.
A32: =IF(B32=99,"98+",B32) -> 0
A33: =IF(B33=99,"98+",B33) -> 0
A34: =IF(B34=99,"98+",B34) -> 0
A35: =IF(B35=99,"98+",B35) -> 0
A36: =IF(B36=99,"98+",B36) -> 0
A37: =IF(B37=99,"98+",B37) -> 0
A38: =IF(B38=99,"98+",B38) -> 0
A39: =IF(B39=99,"98+",B39) -> 0
A40: =IF(B40=99,"98+",B40) -> 0
A41: =IF(B41=99,"98+",B41) -> 0
A42: =IF(B42=99,"98+",B42) -> 0
A43: =IF(B43=99,"98+",B43) -> 0
... A85: =IF(B85=99,"98+",B85) -> 0

Sheet Пр.хода
B1: ВСЕРОССИЙСКАЯ ФЕДЕРАЦИЯ САМБО | X1: sambo.ru.com
B2: ПРОТОКОЛ ХОДА ЮНИОРКИ | E2: =Пр.взв!C2 -> Первенство России по самбо юниорки 18-20 лет (отбор на Первенство Мира и Европы) ЕКП № 23752 | AY2: =Пр.взв!O3 -> 0
B3: 13.02 - 17.02.2022 г. г. В-Пышма | Q3: =AY3&" "&AZ3 -> 0 участников | Z3: =Пр.взв!G4 -> В.к. 59 кг | AY3: =AY2 -> 0 | AZ3: участников | BC3: =AY2/2+0.5 -> 0.5
B4: № п/ж | C4: Ф.И.О. | D4: Разряд | E4: Субъект | F4: Круги | AB4: Круг выбытия | AC4: очки | AD4: место | AF4: место | AH4: 1 | AI4: 2 | AJ4: 3 | AK4: 4 | AL4: 5 | AM4: 6 | AN4: 7 | AO4: 8 | AP4: победы | AQ4: оч | AR4: круги | AS4: место | AY4: 5 | AZ4: мин | BC4: время | BE4: =SUM(AY4*AY2,AY8,BA8,BC8,BE8) -> 0 | BG4: мин | BI4: мин | BR4: 2кр | BW4: 3кр | CE4: 4кр | CJ4: 5кр | CO4: 6KP | CT4: 7KP | CY4: 8kp
F5: 1 | H5: 2 | J5: 3 | L5: 4 | N5: 5 | P5: 6 | R5: 7 | T5: 8 | V5: № | X5: пф | Z5: фин | AZ5: 1пф | BA5: 2пф | BB5: фин | BP5: 1 | BQ5: =IFERROR(__xludf.DUMMYFUNCTION("QUERY(BP5:BP164,""select BP where BP is not null"")"),1) -> 1 | BU5: 1 | BV5: =IFERROR(__xludf.DUMMYFUNCTION("QUERY(BU5:BU164,""select BU where BU is not null"")"),1) -> 1 | BZ5: 1 | CA5: =IFERROR(__xludf.DUMMYFUNCTION("QUERY(BZ5:BZ164,""select BZ where BZ is not null"")"),1) -> 1 | CH5: 1 | CI5: =IFERROR(__xludf.DUMMYFUNCTION("QUERY(CH5:CH164,""select CH where CH is not null"")"),1) -> 1 | CM5: 1 | CN5: =IFERROR(__xludf.DUMMYFUNCTION("QUERY(CM5:CM164,""select CM where CM is not null"")"),1) -> 1 | CR5: 1 | CS5: =IFERROR(__xludf.DUMMYFUNCTION("QUERY(CR5:CR164,""select CR where CR is not null"")"),1) -> 1 | CW5: 1 | CX5: =IFERROR(__xludf.DUMMYFUNCTION("QUERY(CW5:CW164,""select CW where CW is not null"")"),1) -> 1 | DB5: 1 | DC5: =IFERROR(__xludf.DUMMYFUNCTION("QUERY(DB5:DB164,""select DB where DB is not null"")"),1) -> 1
B6: 1 | C6: =(VLOOKUP($B6,Пр.взв!$D$6:$J$63,2,0)) -> ДАВЫДЮК Дарья | D6: =(VLOOKUP($B6,Пр.взв!$D$6:$J$63,5,0)) -> КМС | E6: =(VLOOKUP($B6,Пр.взв!$D$6:$M$63,8,0)) -> Р.Крым | F6: 2 | H6: 3 | J6: =IF(H6="Х","Х",IF($AC6<6," ","Х")) | L6: =IF(J6="Х","Х",IF(K6<3," ",IF($AC6<6," ","Х"))) | N6: =IF(L6="Х","Х",IF(M6<3," ",IF($AC6<6," ","Х"))) | P6: =IF(N6="Х","Х",IF(O6<3," ",IF($AC6<6," ","Х"))) | R6: =IF(P6="Х","Х",IF(Q6<3," ",IF($AC6<6," ","Х"))) | T6: =IF(R6="Х","Х",IF(S6<3," ",IF($AC6<6," ","Х"))) | V6: =IF(T6="Х","Х",IF(U6<3," ",IF($AC6<6," ","Х"))) | X6: =IF(V6="А1",$AZ$7,IF(V6="Б2",$AZ$6,IF(V6="Б1",$BA$7,IF(V6="А2",$BA$6,IF(V6="Х","Х",IF(V6<6," "," ")))))) | Z6: =IF(V6="Х","Х",IF(ISBLANK(Y6),"",IF(Y6>2.5," ",IF(B6=BB$6,BB$7,BB$6)))) | AB6: =IF(H6="Х",F$5,IF(J6="Х",H$5,IF(L6="Х",J$5,IF(N6="Х",L$5,IF(P6="Х",N$5,IF(R6="Х",P$5,IF(T6="Х",R$5,IF(X6="Х",T$5,"")))))))) | AC6: =SUM(G6+I6+K6+M6+O6+Q6+S6+U6+Y6+AA6) -> 0 | AD6: =AF6 -> 1-22 | AE6: =AD6 -> 1-22 | AF6: =COUNTIF(AG$6:AG$148,">"&AG$6:AG$148)+1&REPT("-"&COUNTIF(AG$6:AG$148,">="&AG$6:AG$148),COUNTIF(AG$6:AG$148,AG6)>1) -> 1-22 | AG6: =(AR6*100)+(AP6*10)-AC6 -> 1280 | AH6: =IF(OR(F6="Х",F6="св")," ",IF(AND(G6>=0,G6<3),"1"," ")) -> 1 | AI6: =IF(OR(H6="Х",H6="св")," ",IF(AND(I6>=0,I6<3),"1"," ")) -> 1 | AJ6: =IF(OR(J6="Х",J6="св")," ",IF(AND(K6>=0,K6<3),"1"," ")) -> 1 | AK6: =IF(OR(L6="Х",L6="св")," ",IF(AND(M6>=0,M6<3),"1"," ")) -> 1 | AL6: =IF(OR(N6="Х",N6="св")," ",IF(AND(O6>=0,O6<3),"1"," ")) -> 1 | AM6: =IF(OR(P6="Х",P6="св")," ",IF(AND(Q6>=0,Q6<3),"1"," ")) -> 1 | AN6: =IF(OR(R6="Х",R6="св")," ",IF(AND(S6>=0,S6<3),"1"," ")) -> 1 | AO6: =IF(OR(T6="Х",T6="св")," ",IF(AND(U6>=0,U6<3),"1"," ")) -> 1 | AP6: =COUNTIF(AH6:AO7,1) -> 8 | AQ6: =AG6-AC6 -> 1280 | AR6: =IF(F6=0,0,IF(F6="Х",1,IF(H6="Х",2,IF(J6="Х",3,IF(L6="Х",4,IF(N6="Х",5,IF(P6="Х",6,IF(R6="Х",7,IF(T6="Х",8,IF(V6="Х",9,IF(Y6>2.5,10,IF(AA6>2.5,11,IF(AA6>=0,12,IF(AA6=" ",0,)))))))))))))) -> 12 | AS6: =COUNTIF(AG$6:AG$134,">"&AG$6:AG$134)+1&REPT("-"&COUNTIF(AG$6:AG$134,">="&AG$6:AG$134),COUNTIF(AG$6:AG$134,AG6)>1) -> 1-22 | AT6: =COUNTIF(AU$6:AU$134,">"&AU$6:AU$134)+1&REPT("-"&COUNTIF(AU$6:AU$134,">="&AU$6:AU$134),COUNTIF(AU$6:AU$134,AU6)>1) -> 1-64 | AU6: =COUNTIF(AV$6:AV$134,">"&AV$6:AV$134)+1&REPT("-"&COUNTIF(AV$6:AV$134,">="&AV$6:AV$134),COUNTIF(AV$6:AV$134,AV6)>1) -> 1-0 | AV6: =COUNTIF(AW$6:AW$134,">"&AW$6:AW$134)+1&REPT("-"&COUNTIF(AW$6:AW$134,">="&AW$6:AW$134),COUNTIF(AW$6:AW$134,AW6)>1) -> 1 | AW6: =COUNTIF(AX$6:AX$134,">"&AX$6:AX$134)+1&REPT("-"&COUNTIF(AX$6:AX$134,">="&AX$6:AX$134),COUNTIF(AX$6:AX$134,AX6)>1) -> 64 | AX6: =IF(X6="Х","Х",IF(Y6<3,B6,"Х")) -> 1 | AZ6: {=INDEX(B6:V134,MATCH("А1",V6:V134,0),MATCH("№ п/ж",B4:C4,0))} -> #N/A | BA6: {=INDEX(B6:V134,MATCH("Б1",V6:V134,0),MATCH("№ п/ж",B4:C4,0))} -> #N/A | BB6: =IF(ISERROR(BC6),AZ7,AZ6) -> #N/A | BC6: {=INDEX(B$6:V$134,MATCH(AZ6,AX$6:AX$134,0),MATCH("№ п/ж",B$4:C$4,0))} -> #N/A | BD6: =INDEX(B$6:V$134,MATCH(BA6,AX$6:AX$134,0),MATCH("№ п/ж",B$4:C$4,0)) -> #N/A | BM6: {=IF($B6:$B164="","",(IF(F6:F164="х"," ",$B6:$B164)))} -> 1 | BN6: {=IF(BR6:BR164=" "," ",F6:F164)} -> 2 | BO6: =IF(BM6<BN6,BM6,"") -> 1 | BP6: {=IF(BO6:BO164="св",0,BO6:BO164)} -> 1 | BQ6: =IFERROR(__xludf.DUMMYFUNCTION("""COMPUTED_VALUE"""),1) -> 1 | BR6: {=IF($H6:$H164="","",(IF(H6:H164="х"," ",$B6:$B164)))} -> 1 | BS6: {=IF(BR6:BR164=" "," ",H6:H164)} -> 3 | BT6: =IF(BR6<BS6,BR6,"") -> 1 | BU6: {=IF(BT6:BT164="св",0,BT6:BT164)} -> 1 | BV6: =IFERROR(__xludf.DUMMYFUNCTION("""COMPUTED_VALUE"""),1) -> 1 | BW6: {=IF($J6:$J164="","",(IF(J6:J164="х"," ",$B6:$B164)))} -> 1 | BX6: {=IF(BW6:BW164=" "," ",J6:J164)} | BY6: {=IF(BW6<BX6,BW6,"")} -> 1 | BZ6: =IF(BY6="св",0,BY6) -> 1 | CA6: =IFERROR(__xludf.DUMMYFUNCTION("""COMPUTED_VALUE"""),1) -> 1 | CB6: =IF(CA6=0,"св",CA6) -> 1 | CC6: =IFERROR(__xludf.DUMMYFUNCTION("QUERY(BY6:BZ164,""select BW,BX where BX is not null"")"),"#VALUE!") -> #VALUE! | CE6: {=IF($B6:$B164="","",(IF(L6:L164="х"," ",$B6:$B164)))} -> 1 | CF6: {=IF(CE6:CE164=" "," ",L6:L164)} | CG6: {=IF(CE6<CF6,CE6,"")} -> 1 | CH6: {=IF(CG6:CG164="св",0,CG6:CG164)} -> 1 | CI6: =IFERROR(__xludf.DUMMYFUNCTION("""COMPUTED_VALUE"""),1) -> 1 | CJ6: {=IF($B6:$B164="","",(IF(N6:N164="х"," ",$B6:$B164)))} -> 1 | CK6: {=IF(CJ6:CJ164=" "," ",N6:N164)} | CL6: {=IF(CJ6<CK6,CJ6,"")} -> 1 | CM6: {=IF(CL6:CL164="св",0,CL6:CL164)} -> 1 | CN6: =IFERROR(__xludf.DUMMYFUNCTION("""COMPUTED_VALUE"""),1) -> 1 | CO6: {=IF($B6:$B164="","",(IF(P6:P164="х"," ",$B6:$B164)))} -> 1 | CP6: {=IF(CO6:CO164=" "," ",P6:P164)} | CQ6: {=IF(CO6<CP6,CO6,"")} -> 1 | CR6: {=IF(CQ6:CQ164="св",0,CQ6:CQ164)} -> 1 | CS6: =IFERROR(__xludf.DUMMYFUNCTION("""COMPUTED_VALUE"""),1) -> 1 | CT6: {=IF($B6:$B164="","",(IF(R6:R164="х"," ",$B6:$B164)))} -> 1 | CU6: {=IF(CT6:CT164=" "," ",R6:R164)} | CV6: {=IF(CT6<CU6,CT6,"")} -> 1 | CW6: {=IF(CV6:CV164="св",0,CV6:CV164)} -> 1 | CX6: =IFERROR(__xludf.DUMMYFUNCTION("""COMPUTED_VALUE"""),1) -> 1 | CY6: {=IF($B6:$B164="","",(IF(T6:T164="х"," ",$B6:$B164)))} -> 1 | CZ6: {=IF(CY6:CY164=" "," ",T6:T164)} | DA6: {=IF(CY6<CZ6,CY6,"")} -> 1 | DB6: {=IF(DA6:DA164="св",0,DA6:DA164)} -> 1 | DC6: =IFERROR(__xludf.DUMMYFUNCTION("""COMPUTED_VALUE"""),1) -> 1 | DD6: {=IF($B6:$B164="","",(IF(T6:T164="х"," ",$B6:$B164)))} -> 1
AZ7: {=INDEX(B6:V134,MATCH("Б2",V6:V134,0),MATCH("№ п/ж",B4:C4,0))} -> #N/A | BA7: {=INDEX(B6:V134,MATCH("А2",V6:V134,0),MATCH("№ п/ж",B4:C4,0))} -> #N/A | BB7: =IF(ISERROR(BD6),BA7,BA6) -> #N/A | BC7: {=INDEX(B6:V118,MATCH(AZ7,AX6:AX118,0),MATCH("№ п/ж",B4:C4,0))} -> #N/A | BD7: =INDEX(B$6:V$134,MATCH(BA7,AX$6:AX$134,0),MATCH("№ п/ж",B$4:C$4,0)) -> #N/A | BN7: 0 | BO7: =IF(BO6="","",BN6) -> 2 | BP7: 2 | BQ7: =IFERROR(__xludf.DUMMYFUNCTION("""COMPUTED_VALUE"""),2) -> 2 | BS7: 0 | BT7: =IF(BT6="","",BS6) -> 3 | BU7: 3 | BV7: =IFERROR(__xludf.DUMMYFUNCTION("""COMPUTED_VALUE"""),3) -> 3 | BX7: 0 | BY7: =IF(BY6="","",BX6) | BZ7: =IF(BY7="св",0,BY7) | CA7: =IFERROR(__xludf.DUMMYFUNCTION("""COMPUTED_VALUE"""),2) -> 2 | CB7: =IF(CA7=0,"св",CA7) -> 2 | CF7: 0 | CG7: =IF(CG6="","",CF6) | CI7: =IFERROR(__xludf.DUMMYFUNCTION("""COMPUTED_VALUE"""),2) -> 2 | CK7: 0 | CL7: =IF(CL6="","",CK6) | CN7: =IFERROR(__xludf.DUMMYFUNCTION("""COMPUTED_VALUE"""),2) -> 2 | CP7: 0 | CQ7: =IF(CQ6="","",CP6) | CS7: =IFERROR(__xludf.DUMMYFUNCTION("""COMPUTED_VALUE"""),2) -> 2 | CU7: 0 | CV7: =IF(CV6="","",CU6) | CX7: =IFERROR(__xludf.DUMMYFUNCTION("""COMPUTED_VALUE"""),2) -> 2 | CZ7: 0 | DA7: =IF(DA6="","",CZ6) | DC7: =IFERROR(__xludf.DUMMYFUNCTION("""COMPUTED_VALUE"""),2) -> 2
B8: 2 | C8: =(VLOOKUP($B8,Пр.взв!$D$6:$J$63,2,0)) -> ДЖУМАЕВА Яна | D8: =(VLOOKUP($B8,Пр.взв!$D$6:$J$63,5,0)) -> КМС | E8: =(VLOOKUP($B8,Пр.взв!$D$6:$M$63,8,0)) -> Свердловская | F8: 1 | H8: 4 | J8: =IF(H8="Х","Х",IF($AC8<6," ","Х")) | L8: =IF(J8="Х","Х",IF(K8<3," ",IF($AC8<6," ","Х"))) | N8: =IF(L8="Х","Х",IF(M8<3," ",IF($AC8<6," ","Х"))) | P8: =IF(N8="Х","Х",IF(O8<3," ",IF($AC8<6," ","Х"))) | R8: =IF(P8="Х","Х",IF(Q8<3," ",IF($AC8<6," ","Х"))) | T8: =IF(R8="Х","Х",IF(S8<3," ",IF($AC8<6," ","Х"))) | V8: =IF(T8="Х","Х",IF(U8<3," ",IF($AC8<6," ","Х"))) | X8: =IF(V8="А1",$AZ$7,IF(V8="Б2",$AZ$6,IF(V8="Б1",$BA$7,IF(V8="А2",$BA$6,IF(V8="Х","Х",IF(V8<6," "," ")))))) | Z8: =IF(V8="Х","Х",IF(ISBLANK(Y8),"",IF(Y8>2.5," ",IF(B8=BB$6,BB$7,BB$6)))) | AB8: =IF(H8="Х",F$5,IF(J8="Х",H$5,IF(L8="Х",J$5,IF(N8="Х",L$5,IF(P8="Х",N$5,IF(R8="Х",P$5,IF(T8="Х",R$5,IF(X8="Х",T$5,"")))))))) | AC8: =SUM(G8+I8+K8+M8+O8+Q8+S8+U8+Y8+AA8) -> 0 | AD8: =AF8 -> 1-22 | AE8: =AD8 -> 1-22 | AF8: =COUNTIF(AG$6:AG$148,">"&AG$6:AG$148)+1&REPT("-"&COUNTIF(AG$6:AG$148,">="&AG$6:AG$148),COUNTIF(AG$6:AG$148,AG8)>1) -> 1-22 | AG8: =(AR8*100)+(AP8*10)-AC8 -> 1280 | AH8: =IF(OR(F8="Х",F8="св")," ",IF(AND(G8>=0,G8<3),"1"," ")) -> 1 | AI8: =IF(OR(H8="Х",H8="св")," ",IF(AND(I8>=0,I8<3),"1"," ")) -> 1 | AJ8: =IF(OR(J8="Х",J8="св")," ",IF(AND(K8>=0,K8<3),"1"," ")) -> 1 | AK8: =IF(OR(L8="Х",L8="св")," ",IF(AND(M8>=0,M8<3),"1"," ")) -> 1 | AL8: =IF(OR(N8="Х",N8="св")," ",IF(AND(O8>=0,O8<3),"1"," ")) -> 1 | AM8: =IF(OR(P8="Х",P8="св")," ",IF(AND(Q8>=0,Q8<3),"1"," ")) -> 1 | AN8: =IF(OR(R8="Х",R8="св")," ",IF(AND(S8>=0,S8<3),"1"," ")) -> 1 | AO8: =IF(OR(T8="Х",T8="св")," ",IF(AND(U8>=0,U8<3),"1"," ")) -> 1 | AP8: =COUNTIF(AH8:AO9,1) -> 8 | AQ8: =AG8-AC8 -> 1280 | AR8: =IF(F8=0,0,IF(F8="Х",1,IF(H8="Х",2,IF(J8="Х",3,IF(L8="Х",4,IF(N8="Х",5,IF(P8="Х",6,IF(R8="Х",7,IF(T8="Х",8,IF(V8="Х",9,IF(Y8>2.5,10,IF(AA8>2.5,11,IF(AA8>=0,12,IF(AA8=" ",0,)))))))))))))) -> 12 | AS8: =COUNTIF(AG$6:AG$134,">"&AG$6:AG$134)+1&REPT("-"&COUNTIF(AG$6:AG$134,">="&AG$6:AG$134),COUNTIF(AG$6:AG$134,AG8)>1) -> 1-22 | AT8: =COUNTIF(AU$6:AU$134,">"&AU$6:AU$134)+1&REPT("-"&COUNTIF(AU$6:AU$134,">="&AU$6:AU$134),COUNTIF(AU$6:AU$134,AU8)>1) -> 1-64 | AU8: =COUNTIF(AV$6:AV$134,">"&AV$6:AV$134)+1&REPT("-"&COUNTIF(AV$6:AV$134,">="&AV$6:AV$134),COUNTIF(AV$6:AV$134,AV8)>1) -> 1-0 | AV8: =COUNTIF(AW$6:AW$134,">"&AW$6:AW$134)+1&REPT("-"&COUNTIF(AW$6:AW$134,">="&AW$6:AW$134),COUNTIF(AW$6:AW$134,AW8)>1) -> 1 | AW8: =COUNTIF(AX$6:AX$134,">"&AX$6:AX$134)+1&REPT("-"&COUNTIF(AX$6:AX$134,">="&AX$6:AX$134),COUNTIF(AX$6:AX$134,AX8)>1) -> 63 | AX8: =IF(X8="Х","Х",IF(Y8<3,B8,"Х")) -> 2 | AY8: =IF(AZ8<$AY$4,0,AZ8) -> 0 | AZ8: =SUM(AY2)*1/2*AY4*2/3 -> 0 | BA8: =IF(BB8<$AY$4,0,BB8) -> 0 | BB8: =SUM(AY2)*1/2*AY4*2/3*1/2 -> 0 | BC8: =IF(BD8<$AY$4,0,BD8) -> 0 | BD8: =SUM(AY2)*1/2*AY4*2/3*1/2*1/2 -> 0 | BE8: =IF(BF8<$AY$4,0,BF8) -> 0 | BF8: =SUM(AY2)*1/2*AY4*2/3*1/2*1/2*1/2 -> 0 | BM8: 2 | BN8: 1 | BO8: =IF(BM8<BN8,BM8,"") | BQ8: =IFERROR(__xludf.DUMMYFUNCTION("""COMPUTED_VALUE"""),3) -> 3 | BR8: 2 | BS8: 4 | BT8: =IF(BR8<BS8,BR8,"") -> 2 | BU8: 2 | BV8: =IFERROR(__xludf.DUMMYFUNCTION("""COMPUTED_VALUE"""),2) -> 2 | BW8: 2 | BY8: {=IF(BW8<BX8,BW8,"")} -> 2 | BZ8: =IF(BY8="св",0,BY8) -> 2 | CA8: =IFERROR(__xludf.DUMMYFUNCTION("""COMPUTED_VALUE"""),3) -> 3 | CB8: =IF(CA8=0,"св",CA8) -> 3 | CE8: 2 | CG8: {=IF(CE8<CF8,CE8,"")} -> 2 | CH8: 2 | CI8: =IFERROR(__xludf.DUMMYFUNCTION("""COMPUTED_VALUE"""),3) -> 3 | CJ8: 2 | CL8: {=IF(CJ8<CK8,CJ8,"")} -> 2 | CM8: 2 | CN8: =IFERROR(__xludf.DUMMYFUNCTION("""COMPUTED_VALUE"""),3) -> 3 | CO8: 2 | CQ8: {=IF(CO8<CP8,CO8,"")} -> 2 | CR8: 2 | CS8: =IFERROR(__xludf.DUMMYFUNCTION("""COMPUTED_VALUE"""),3) -> 3 | CT8: 2 | CV8: {=IF(CT8<CU8,CT8,"")} -> 2 | CW8: 2 | CX8: =IFERROR(__xludf.DUMMYFUNCTION("""COMPUTED_VALUE"""),3) -> 3 | CY8: 2 | DA8: {=IF(CY8<CZ8,CY8,"")} -> 2 | DB8: 2 | DC8: =IFERROR(__xludf.DUMMYFUNCTION("""COMPUTED_VALUE"""),3) -> 3 | DD8: 2
AY9: круг | BN9: 0 | BO9: =IF(BO8="","",BN8) | BQ9: =IFERROR(__xludf.DUMMYFUNCTION("""COMPUTED_VALUE"""),4) -> 4 | BS9: 0 | BT9: =IF(BT8="","",BS8) -> 4 | BU9: 4 | BV9: =IFERROR(__xludf.DUMMYFUNCTION("""COMPUTED_VALUE"""),4) -> 4 | BX9: 0 | BY9: =IF(BY8="","",BX8) | BZ9: =IF(BY9="св",0,BY9) | CA9: =IFERROR(__xludf.DUMMYFUNCTION("""COMPUTED_VALUE"""),4) -> 4 | CB9: =IF(CA9=0,"св",CA9) -> 4 | CF9: 0 | CG9: =IF(CG8="","",CF8) | CI9: =IFERROR(__xludf.DUMMYFUNCTION("""COMPUTED_VALUE"""),4) -> 4 | CK9: 0 | CL9: =IF(CL8="","",CK8) | CN9: =IFERROR(__xludf.DUMMYFUNCTION("""COMPUTED_VALUE"""),4) -> 4 | CP9: 0 | CQ9: =IF(CQ8="","",CP8) | CS9: =IFERROR(__xludf.DUMMYFUNCTION("""COMPUTED_VALUE"""),4) -> 4 | CU9: 0 | CV9: =IF(CV8="","",CU8) | CX9: =IFERROR(__xludf.DUMMYFUNCTION("""COMPUTED_VALUE"""),4) -> 4 | CZ9: 0 | DA9: =IF(DA8="","",CZ8) | DC9: =IFERROR(__xludf.DUMMYFUNCTION("""COMPUTED_VALUE"""),4) -> 4
B10: 3 | C10: =(VLOOKUP($B10,Пр.взв!$D$6:$J$63,2,0)) -> МАКАРЕНКО Екатерина | D10: =(VLOOKUP($B10,Пр.взв!$D$6:$J$63,5,0)) -> КМС | E10: =(VLOOKUP($B10,Пр.взв!$D$6:$M$63,8,0)) -> Калининградская | F10: 4 | H10: 1 | J10: =IF(H10="Х","Х",IF($AC10<6," ","Х")) | L10: =IF(J10="Х","Х",IF(K10<3," ",IF($AC10<6," ","Х"))) | N10: =IF(L10="Х","Х",IF(M10<3," ",IF($AC10<6," ","Х"))) | P10: =IF(N10="Х","Х",IF(O10<3," ",IF($AC10<6," ","Х"))) | R10: =IF(P10="Х","Х",IF(Q10<3," ",IF($AC10<6," ","Х"))) | T10: =IF(R10="Х","Х",IF(S10<3," ",IF($AC10<6," ","Х"))) | V10: =IF(T10="Х","Х",IF(U10<3," ",IF($AC10<6," ","Х"))) | X10: =IF(V10="А1",$AZ$7,IF(V10="Б2",$AZ$6,IF(V10="Б1",$BA$7,IF(V10="А2",$BA$6,IF(V10="Х","Х",IF(V10<6," "," ")))))) | Z10: =IF(V10="Х","Х",IF(ISBLANK(Y10),"",IF(Y10>2.5," ",IF(B10=BB$6,BB$7,BB$6)))) | AB10: =IF(H10="Х",F$5,IF(J10="Х",H$5,IF(L10="Х",J$5,IF(N10="Х",L$5,IF(P10="Х",N$5,IF(R10="Х",P$5,IF(T10="Х",R$5,IF(X10="Х",T$5,"")))))))) | AC10: =SUM(G10+I10+K10+M10+O10+Q10+S10+U10+Y10+AA10) -> 0 | AD10: =AF10 -> 1-22 | AE10: =AD10 -> 1-22 | AF10: =COUNTIF(AG$6:AG$148,">"&AG$6:AG$148)+1&REPT("-"&COUNTIF(AG$6:AG$148,">="&AG$6:AG$148),COUNTIF(AG$6:AG$148,AG10)>1) -> 1-22 | AG10: =(AR10*100)+(AP10*10)-AC10 -> 1280 | AH10: =IF(OR(F10="Х",F10="св")," ",IF(AND(G10>=0,G10<3),"1"," ")) -> 1 | AI10: =IF(OR(H10="Х",H10="св")," ",IF(AND(I10>=0,I10<3),"1"," ")) -> 1 | AJ10: =IF(OR(J10="Х",J10="св")," ",IF(AND(K10>=0,K10<3),"1"," ")) -> 1 | AK10: =IF(OR(L10="Х",L10="св")," ",IF(AND(M10>=0,M10<3),"1"," ")) -> 1 | AL10: =IF(OR(N10="Х",N10="св")," ",IF(AND(O10>=0,O10<3),"1"," ")) -> 1 | AM10: =IF(OR(P10="Х",P10="св")," ",IF(AND(Q10>=0,Q10<3),"1"," ")) -> 1 | AN10: =IF(OR(R10="Х",R10="св")," ",IF(AND(S10>=0,S10<3),"1"," ")) -> 1 | AO10: =IF(OR(T10="Х",T10="св")," ",IF(AND(U10>=0,U10<3),"1"," ")) -> 1 | AP10: =COUNTIF(AH10:AO11,1) -> 8 | AQ10: =AG10-AC10 -> 1280 | AR10: =IF(F10=0,0,IF(F10="Х",1,IF(H10="Х",2,IF(J10="Х",3,IF(L10="Х",4,IF(N10="Х",5,IF(P10="Х",6,IF(R10="Х",7,IF(T10="Х",8,IF(V10="Х",9,IF(Y10>2.5,10,IF(AA10>2.5,11,IF(AA10>=0,12,IF(AA10=" ",0,)))))))))))))) -> 12 | AS10: =COUNTIF(AG$6:AG$134,">"&AG$6:AG$134)+1&REPT("-"&COUNTIF(AG$6:AG$134,">="&AG$6:AG$134),COUNTIF(AG$6:AG$134,AG10)>1) -> 1-22 | AT10: =COUNTIF(AU$6:AU$134,">"&AU$6:AU$134)+1&REPT("-"&COUNTIF(AU$6:AU$134,">="&AU$6:AU$134),COUNTIF(AU$6:AU$134,AU10)>1) -> 1-64 | AU10: =COUNTIF(AV$6:AV$134,">"&AV$6:AV$134)+1&REPT("-"&COUNTIF(AV$6:AV$134,">="&AV$6:AV$134),COUNTIF(AV$6:AV$134,AV10)>1) -> 1-0 | AV10: =COUNTIF(AW$6:AW$134,">"&AW$6:AW$134)+1&REPT("-"&COUNTIF(AW$6:AW$134,">="&AW$6:AW$134),COUNTIF(AW$6:AW$134,AW10)>1) -> 1 | AW10: =COUNTIF(AX$6:AX$134,">"&AX$6:AX$134)+1&REPT("-"&COUNTIF(AX$6:AX$134,">="&AX$6:AX$134),COUNTIF(AX$6:AX$134,AX10)>1) -> 62 | AX10: =IF(X10="Х","Х",IF(Y10<3,B10,"Х")) -> 3 | AY10: 3 | BA10: 4 | BC10: 5 | BE10: 6 | BG10: 7 | BH10: 8 | BM10: 3 | BN10: 4 | BO10: =IF(BM10<BN10,BM10,"") -> 3 | BP10: 3 | BQ10: =IFERROR(__xludf.DUMMYFUNCTION("""COMPUTED_VALUE"""),5) -> 5 | BR10: 3 | BS10: 1 | BT10: =IF(BR10<BS10,BR10,"") | BV10: =IFERROR(__xludf.DUMMYFUNCTION("""COMPUTED_VALUE"""),5) -> 5 | BW10: 3 | BY10: {=IF(BW10<BX10,BW10,"")} -> 3 | BZ10: =IF(BY10="св",0,BY10) -> 3 | CA10: =IFERROR(__xludf.DUMMYFUNCTION("""COMPUTED_VALUE"""),5) -> 5 | CB10: =IF(CA10=0,"св",CA10) -> 5 | CE10: 3 | CG10: {=IF(CE10<CF10,CE10,"")} -> 3 | CH10: 3 | CI10: =IFERROR(__xludf.DUMMYFUNCTION("""COMPUTED_VALUE"""),5) -> 5 | CJ10: 3 | CL10: {=IF(CJ10<CK10,CJ10,"")} -> 3 | CM10: 3 | CN10: =IFERROR(__xludf.DUMMYFUNCTION("""COMPUTED_VALUE"""),5) -> 5 | CO10: 3 | CQ10: {=IF(CO10<CP10,CO10,"")} -> 3 | CR10: 3 | CS10: =IFERROR(__xludf.DUMMYFUNCTION("""COMPUTED_VALUE"""),5) -> 5 | CT10: 3 | CV10: {=IF(CT10<CU10,CT10,"")} -> 3 | CW10: 3 | CX10: =IFERROR(__xludf.DUMMYFUNCTION("""COMPUTED_VALUE"""),5) -> 5 | CY10: 3 | DA10: {=IF(CY10<CZ10,CY10,"")} -> 3 | DB10: 3 | DC10: =IFERROR(__xludf.DUMMYFUNCTION("""COMPUTED_VALUE"""),5) -> 5 | DD10: 3
AY11: {=IF(CA6:CA164>$AY$3,"",CA6:CA164)} | BA11: {=IF(CI6:CI164>$AY$3,"",CI6:CI164)} | BC11: {=IF(CN6:CN164>$AY$3,"",CN6:CN164)} | BD11: {=IF(BQ6:BQ164>$AY$3,"",BQ6:BQ164)} | BE11: {=IF(CS6:CS164>$AY$3,"",CS6:CS164)} | BF11: {=IF(BV6:BV164>$AY$3,"",BV6:BV164)} | BG11: {=IF(CX6:CX164>$AY$3,"",CX6:CX164)} | BH11: {=IF(CX6:CX164>$AY$3,"",CX6:CX164)} | BN11: 0 | BO11: =IF(BO10="","",BN10) -> 4 | BP11: 4 | BQ11: =IFERROR(__xludf.DUMMYFUNCTION("""COMPUTED_VALUE"""),6) -> 6 | BS11: 0 | BT11: =IF(BT10="","",BS10) | BV11: =IFERROR(__xludf.DUMMYFUNCTION("""COMPUTED_VALUE"""),7) -> 7 | BX11: 0 | BY11: =IF(BY10="","",BX10) | BZ11: =IF(BY11="св",0,BY11) | CA11: =IFERROR(__xludf.DUMMYFUNCTION("""COMPUTED_VALUE"""),6) -> 6 | CB11: =IF(CA11=0,"св",CA11) -> 6 | CF11: 0 | CG11: =IF(CG10="","",CF10) | CI11: =IFERROR(__xludf.DUMMYFUNCTION("""COMPUTED_VALUE"""),6) -> 6 | CK11: 0 | CL11: =IF(CL10="","",CK10) | CN11: =IFERROR(__xludf.DUMMYFUNCTION("""COMPUTED_VALUE"""),6) -> 6 | CP11: 0 | CQ11: =IF(CQ10="","",CP10) | CS11: =IFERROR(__xludf.DUMMYFUNCTION("""COMPUTED_VALUE"""),6) -> 6 | CU11: 0 | CV11: =IF(CV10="","",CU10) | CX11: =IFERROR(__xludf.DUMMYFUNCTION("""COMPUTED_VALUE"""),6) -> 6 | CZ11: 0 | DA11: =IF(DA10="","",CZ10) | DC11: =IFERROR(__xludf.DUMMYFUNCTION("""COMPUTED_VALUE"""),6) -> 6
B12: 4 | C12: =(VLOOKUP($B12,Пр.взв!$D$6:$J$63,2,0)) -> ИЛЮКОВА Карина | D12: =(VLOOKUP($B12,Пр.взв!$D$6:$J$63,5,0)) -> КМС | E12: =(VLOOKUP($B12,Пр.взв!$D$6:$M$63,8,0)) -> Москва | F12: 3 | H12: 2 | J12: =IF(H12="Х","Х",IF($AC12<6," ","Х")) | L12: =IF(J12="Х","Х",IF(K12<3," ",IF($AC12<6," ","Х"))) | N12: =IF(L12="Х","Х",IF(M12<3," ",IF($AC12<6," ","Х"))) | P12: =IF(N12="Х","Х",IF(O12<3," ",IF($AC12<6," ","Х"))) | R12: =IF(P12="Х","Х",IF(Q12<3," ",IF($AC12<6," ","Х"))) | T12: =IF(R12="Х","Х",IF(S12<3," ",IF($AC12<6," ","Х"))) | V12: =IF(T12="Х","Х",IF(U12<3," ",IF($AC12<6," ","Х"))) | X12: =IF(V12="А1",$AZ$7,IF(V12="Б2",$AZ$6,IF(V12="Б1",$BA$7,IF(V12="А2",$BA$6,IF(V12="Х","Х",IF(V12<6," "," ")))))) | Z12: =IF(V12="Х","Х",IF(ISBLANK(Y12),"",IF(Y12>2.5," ",IF(B12=BB$6,BB$7,BB$6)))) | AB12: =IF(H12="Х",F$5,IF(J12="Х",H$5,IF(L12="Х",J$5,IF(N12="Х",L$5,IF(P12="Х",N$5,IF(R12="Х",P$5,IF(T12="Х",R$5,IF(X12="Х",T$5,"")))))))) | AC12: =SUM(G12+I12+K12+M12+O12+Q12+S12+U12+Y12+AA12) -> 0 | AD12: =AF12 -> 1-22 | AE12: =AD12 -> 1-22 | AF12: =COUNTIF(AG$6:AG$148,">"&AG$6:AG$148)+1&REPT("-"&COUNTIF(AG$6:AG$148,">="&AG$6:AG$148),COUNTIF(AG$6:AG$148,AG12)>1) -> 1-22 | AG12: =(AR12*100)+(AP12*10)-AC12 -> 1280 | AH12: =IF(OR(F12="Х",F12="св")," ",IF(AND(G12>=0,G12<3),"1"," ")) -> 1 | AI12: =IF(OR(H12="Х",H12="св")," ",IF(AND(I12>=0,I12<3),"1"," ")) -> 1 | AJ12: =IF(OR(J12="Х",J12="св")," ",IF(AND(K12>=0,K12<3),"1"," ")) -> 1 | AK12: =IF(OR(L12="Х",L12="св")," ",IF(AND(M12>=0,M12<3),"1"," ")) -> 1 | AL12: =IF(OR(N12="Х",N12="св")," ",IF(AND(O12>=0,O12<3),"1"," ")) -> 1 | AM12: =IF(OR(P12="Х",P12="св")," ",IF(AND(Q12>=0,Q12<3),"1"," ")) -> 1 | AN12: =IF(OR(R12="Х",R12="св")," ",IF(AND(S12>=0,S12<3),"1"," ")) -> 1 | AO12: =IF(OR(T12="Х",T12="св")," ",IF(AND(U12>=0,U12<3),"1"," ")) -> 1 | AP12: =COUNTIF(AH12:AO13,1) -> 8 | AQ12: =AG12-AC12 -> 1280 | AR12: =IF(F12=0,0,IF(F12="Х",1,IF(H12="Х",2,IF(J12="Х",3,IF(L12="Х",4,IF(N12="Х",5,IF(P12="Х",6,IF(R12="Х",7,IF(T12="Х",8,IF(V12="Х",9,IF(Y12>2.5,10,IF(AA12>2.5,11,IF(AA12>=0,12,IF(AA12=" ",0,)))))))))))))) -> 12 | AS12: =COUNTIF(AG$6:AG$134,">"&AG$6:AG$134)+1&REPT("-"&COUNTIF(AG$6:AG$134,">="&AG$6:AG$134),COUNTIF(AG$6:AG$134,AG12)>1) -> 1-22 | AT12: =COUNTIF(AU$6:AU$134,">"&AU$6:AU$134)+1&REPT("-"&COUNTIF(AU$6:AU$134,">="&AU$6:AU$134),COUNTIF(AU$6:AU$134,AU12)>1) -> 1-64 | AU12: =COUNTIF(AV$6:AV$134,">"&AV$6:AV$134)+1&REPT("-"&COUNTIF(AV$6:AV$134,">="&AV$6:AV$134),COUNTIF(AV$6:AV$134,AV12)>1) -> 1-0 | AV12: =COUNTIF(AW$6:AW$134,">"&AW$6:AW$134)+1&REPT("-"&COUNTIF(AW$6:AW$134,">="&AW$6:AW$134),COUNTIF(AW$6:AW$134,AW12)>1) -> 1 | AW12: =COUNTIF(AX$6:AX$134,">"&AX$6:AX$134)+1&REPT("-"&COUNTIF(AX$6:AX$134,">="&AX$6:AX$134),COUNTIF(AX$6:AX$134,AX12)>1) -> 61 | AX12: =IF(X12="Х","Х",IF(Y12<3,B12,"Х")) -> 4 | BM12: 4 | BN12: 3 | BO12: =IF(BM12<BN12,BM12,"") | BQ12: =IFERROR(__xludf.DUMMYFUNCTION("""COMPUTED_VALUE"""),7) -> 7 | BR12: 4 | BS12: 2 | BT12: =IF(BR12<BS12,BR12,"") | BV12: =IFERROR(__xludf.DUMMYFUNCTION("""COMPUTED_VALUE"""),6) -> 6 | BW12: 4 | BY12: {=IF(BW12<BX12,BW12,"")} -> 4 | BZ12: =IF(BY12="св",0,BY12) -> 4 | CA12: =IFERROR(__xludf.DUMMYFUNCTION("""COMPUTED_VALUE"""),7) -> 7 | CB12: =IF(CA12=0,"св",CA12) -> 7 | CE12: 4 | CG12: {=IF(CE12<CF12,CE12,"")} -> 4 | CH12: 4 | CI12: =IFERROR(__xludf.DUMMYFUNCTION("""COMPUTED_VALUE"""),7) -> 7 | CJ12: 4 | CL12: {=IF(CJ12<CK12,CJ12,"")} -> 4 | CM12: 4 | CN12: =IFERROR(__xludf.DUMMYFUNCTION("""COMPUTED_VALUE"""),7) -> 7 | CO12: 4 | CQ12: {=IF(CO12<CP12,CO12,"")} -> 4 | CR12: 4 | CS12: =IFERROR(__xludf.DUMMYFUNCTION("""COMPUTED_VALUE"""),7) -> 7 | CT12: 4 | CV12: {=IF(CT12<CU12,CT12,"")} -> 4 | CW12: 4 | CX12: =IFERROR(__xludf.DUMMYFUNCTION("""COMPUTED_VALUE"""),7) -> 7 | CY12: 4 | DA12: {=IF(CY12<CZ12,CY12,"")} -> 4 | DB12: 4 | DC12: =IFERROR(__xludf.DUMMYFUNCTION("""COMPUTED_VALUE"""),7) -> 7 | DD12: 4
BN13: 0 | BO13: =IF(BO12="","",BN12) | BQ13: =IFERROR(__xludf.DUMMYFUNCTION("""COMPUTED_VALUE"""),8) -> 8 | BS13: 0 | BT13: =IF(BT12="","",BS12) | BV13: =IFERROR(__xludf.DUMMYFUNCTION("""COMPUTED_VALUE"""),8) -> 8 | BX13: 0 | BY13: =IF(BY12="","",BX12) | BZ13: =IF(BY13="св",0,BY13) | CA13: =IFERROR(__xludf.DUMMYFUNCTION("""COMPUTED_VALUE"""),8) -> 8 | CB13: =IF(CA13=0,"св",CA13) -> 8 | CF13: 0 | CG13: =IF(CG12="","",CF12) | CI13: =IFERROR(__xludf.DUMMYFUNCTION("""COMPUTED_VALUE"""),8) -> 8 | CK13: 0 | CL13: =IF(CL12="","",CK12) | CN13: =IFERROR(__xludf.DUMMYFUNCTION("""COMPUTED_VALUE"""),8) -> 8 | CP13: 0 | CQ13: =IF(CQ12="","",CP12) | CS13: =IFERROR(__xludf.DUMMYFUNCTION("""COMPUTED_VALUE"""),8) -> 8 | CU13: 0 | CV13: =IF(CV12="","",CU12) | CX13: =IFERROR(__xludf.DUMMYFUNCTION("""COMPUTED_VALUE"""),8) -> 8 | CZ13: 0 | DA13: =IF(DA12="","",CZ12) | DC13: =IFERROR(__xludf.DUMMYFUNCTION("""COMPUTED_VALUE"""),8) -> 8
B14: 5 | C14: =(VLOOKUP($B14,Пр.взв!$D$6:$J$63,2,0)) -> ГАЙДУЧОК Дарья | D14: =(VLOOKUP($B14,Пр.взв!$D$6:$J$63,5,0)) -> МС | E14: =(VLOOKUP($B14,Пр.взв!$D$6:$M$63,8,0)) -> Московская | F14: 6 | H14: 7 | J14: =IF(H14="Х","Х",IF($AC14<6," ","Х")) | L14: =IF(J14="Х","Х",IF(K14<3," ",IF($AC14<6," ","Х"))) | N14: =IF(L14="Х","Х",IF(M14<3," ",IF($AC14<6," ","Х"))) | P14: =IF(N14="Х","Х",IF(O14<3," ",IF($AC14<6," ","Х"))) | R14: =IF(P14="Х","Х",IF(Q14<3," ",IF($AC14<6," ","Х"))) | T14: =IF(R14="Х","Х",IF(S14<3," ",IF($AC14<6," ","Х"))) | V14: =IF(T14="Х","Х",IF(U14<3," ",IF($AC14<6," ","Х"))) | X14: =IF(V14="А1",$AZ$7,IF(V14="Б2",$AZ$6,IF(V14="Б1",$BA$7,IF(V14="А2",$BA$6,IF(V14="Х","Х",IF(V14<6," "," ")))))) | Z14: =IF(V14="Х","Х",IF(ISBLANK(Y14),"",IF(Y14>2.5," ",IF(B14=BB$6,BB$7,BB$6)))) | AB14: =IF(H14="Х",F$5,IF(J14="Х",H$5,IF(L14="Х",J$5,IF(N14="Х",L$5,IF(P14="Х",N$5,IF(R14="Х",P$5,IF(T14="Х",R$5,IF(X14="Х",T$5,"")))))))) | AC14: =SUM(G14+I14+K14+M14+O14+Q14+S14+U14+Y14+AA14) -> 0 | AD14: =AF14 -> 1-22 | AE14: =AD14 -> 1-22 | AF14: =COUNTIF(AG$6:AG$148,">"&AG$6:AG$148)+1&REPT("-"&COUNTIF(AG$6:AG$148,">="&AG$6:AG$148),COUNTIF(AG$6:AG$148,AG14)>1) -> 1-22 | AG14: =(AR14*100)+(AP14*10)-AC14 -> 1280 | AH14: =IF(OR(F14="Х",F14="св")," ",IF(AND(G14>=0,G14<3),"1"," ")) -> 1 | AI14: =IF(OR(H14="Х",H14="св")," ",IF(AND(I14>=0,I14<3),"1"," ")) -> 1 | AJ14: =IF(OR(J14="Х",J14="св")," ",IF(AND(K14>=0,K14<3),"1"," ")) -> 1 | AK14: =IF(OR(L14="Х",L14="св")," ",IF(AND(M14>=0,M14<3),"1"," ")) -> 1 | AL14: =IF(OR(N14="Х",N14="св")," ",IF(AND(O14>=0,O14<3),"1"," ")) -> 1 | AM14: =IF(OR(P14="Х",P14="св")," ",IF(AND(Q14>=0,Q14<3),"1"," ")) -> 1 | AN14: =IF(OR(R14="Х",R14="св")," ",IF(AND(S14>=0,S14<3),"1"," ")) -> 1 | AO14: =IF(OR(T14="Х",T14="св")," ",IF(AND(U14>=0,U14<3),"1"," ")) -> 1 | AP14: =COUNTIF(AH14:AO15,1) -> 8 | AQ14: =AG14-AC14 -> 1280 | AR14: =IF(F14=0,0,IF(F14="Х",1,IF(H14="Х",2,IF(J14="Х",3,IF(L14="Х",4,IF(N14="Х",5,IF(P14="Х",6,IF(R14="Х",7,IF(T14="Х",8,IF(V14="Х",9,IF(Y14>2.5,10,IF(AA14>2.5,11,IF(AA14>=0,12,IF(AA14=" ",0,)))))))))))))) -> 12 | AS14: =COUNTIF(AG$6:AG$134,">"&AG$6:AG$134)+1&REPT("-"&COUNTIF(AG$6:AG$134,">="&AG$6:AG$134),COUNTIF(AG$6:AG$134,AG14)>1) -> 1-22 | AT14: =COUNTIF(AU$6:AU$134,">"&AU$6:AU$134)+1&REPT("-"&COUNTIF(AU$6:AU$134,">="&AU$6:AU$134),COUNTIF(AU$6:AU$134,AU14)>1) -> 1-64 | AU14: =COUNTIF(AV$6:AV$134,">"&AV$6:AV$134)+1&REPT("-"&COUNTIF(AV$6:AV$134,">="&AV$6:AV$134),COUNTIF(AV$6:AV$134,AV14)>1) -> 1-0 | AV14: =COUNTIF(AW$6:AW$134,">"&AW$6:AW$134)+1&REPT("-"&COUNTIF(AW$6:AW$134,">="&AW$6:AW$134),COUNTIF(AW$6:AW$134,AW14)>1) -> 1 | AW14: =COUNTIF(AX$6:AX$134,">"&AX$6:AX$134)+1&REPT("-"&COUNTIF(AX$6:AX$134,">="&AX$6:AX$134),COUNTIF(AX$6:AX$134,AX14)>1) -> 60 | AX14: =IF(X14="Х","Х",IF(Y14<3,B14,"Х")) -> 5 | BM14: 5 | BN14: 6 | BO14: =IF(BM14<BN14,BM14,"") -> 5 | BP14: 5 | BQ14: =IFERROR(__xludf.DUMMYFUNCTION("""COMPUTED_VALUE"""),9) -> 9 | BR14: 5 | BS14: 7 | BT14: =IF(BR14<BS14,BR14,"") -> 5 | BU14: 5 | BV14: =IFERROR(__xludf.DUMMYFUNCTION("""COMPUTED_VALUE"""),9) -> 9 | BW14: 5 | BY14: {=IF(BW14<BX14,BW14,"")} -> 5 | BZ14: =IF(BY14="св",0,BY14) -> 5 | CA14: =IFERROR(__xludf.DUMMYFUNCTION("""COMPUTED_VALUE"""),9) -> 9 | CB14: =IF(CA14=0,"св",CA14) -> 9 | CE14: 5 | CG14: {=IF(CE14<CF14,CE14,"")} -> 5 | CH14: 5 | CI14: =IFERROR(__xludf.DUMMYFUNCTION("""COMPUTED_VALUE"""),9) -> 9 | CJ14: 5 | CL14: {=IF(CJ14<CK14,CJ14,"")} -> 5 | CM14: 5 | CN14: =IFERROR(__xludf.DUMMYFUNCTION("""COMPUTED_VALUE"""),9) -> 9 | CO14: 5 | CQ14: {=IF(CO14<CP14,CO14,"")} -> 5 | CR14: 5 | CS14: =IFERROR(__xludf.DUMMYFUNCTION("""COMPUTED_VALUE"""),9) -> 9 | CT14: 5 | CV14: {=IF(CT14<CU14,CT14,"")} -> 5 | CW14: 5 | CX14: =IFERROR(__xludf.DUMMYFUNCTION("""COMPUTED_VALUE"""),9) -> 9 | CY14: 5 | DA14: {=IF(CY14<CZ14,CY14,"")} -> 5 | DB14: 5 | DC14: =IFERROR(__xludf.DUMMYFUNCTION("""COMPUTED_VALUE"""),9) -> 9 | DD14: 5
BN15: 0 | BO15: =IF(BO14="","",BN14) -> 6 | BP15: 6 | BQ15: =IFERROR(__xludf.DUMMYFUNCTION("""COMPUTED_VALUE"""),10) -> 10 | BS15: 0 | BT15: =IF(BT14="","",BS14) -> 7 | BU15: 7 | BV15: =IFERROR(__xludf.DUMMYFUNCTION("""COMPUTED_VALUE"""),11) -> 11 | BX15: 0 | BY15: =IF(BY14="","",BX14) | BZ15: =IF(BY15="св",0,BY15) | CA15: =IFERROR(__xludf.DUMMYFUNCTION("""COMPUTED_VALUE"""),10) -> 10 | CB15: =IF(CA15=0,"св",CA15) -> 10 | CF15: 0 | CG15: =IF(CG14="","",CF14) | CI15: =IFERROR(__xludf.DUMMYFUNCTION("""COMPUTED_VALUE"""),10) -> 10 | CK15: 0 | CL15: =IF(CL14="","",CK14) | CN15: =IFERROR(__xludf.DUMMYFUNCTION("""COMPUTED_VALUE"""),10) -> 10 | CP15: 0 | CQ15: =IF(CQ14="","",CP14) | CS15: =IFERROR(__xludf.DUMMYFUNCTION("""COMPUTED_VALUE"""),10) -> 10 | CU15: 0 | CV15: =IF(CV14="","",CU14) | CX15: =IFERROR(__xludf.DUMMYFUNCTION("""COMPUTED_VALUE"""),10) -> 10 | CZ15: 0 | DA15: =IF(DA14="","",CZ14) | DC15: =IFERROR(__xludf.DUMMYFUNCTION("""COMPUTED_VALUE"""),10) -> 10
B16: 6 | C16: =(VLOOKUP($B16,Пр.взв!$D$6:$J$63,2,0)) -> БУБЯКИНА Ольга | D16: =(VLOOKUP($B16,Пр.взв!$D$6:$J$63,5,0)) -> КМС | E16: =(VLOOKUP($B16,Пр.взв!$D$6:$M$63,8,0)) -> Амурская | F16: 5 | H16: 8 | J16: =IF(H16="Х","Х",IF($AC16<6," ","Х")) | L16: =IF(J16="Х","Х",IF(K16<3," ",IF($AC16<6," ","Х"))) | N16: =IF(L16="Х","Х",IF(M16<3," ",IF($AC16<6," ","Х"))) | P16: =IF(N16="Х","Х",IF(O16<3," ",IF($AC16<6," ","Х"))) | R16: =IF(P16="Х","Х",IF(Q16<3," ",IF($AC16<6," ","Х"))) | T16: =IF(R16="Х","Х",IF(S16<3," ",IF($AC16<6," ","Х"))) | V16: =IF(T16="Х","Х",IF(U16<3," ",IF($AC16<6," ","Х"))) | X16: =IF(V16="А1",$AZ$7,IF(V16="Б2",$AZ$6,IF(V16="Б1",$BA$7,IF(V16="А2",$BA$6,IF(V16="Х","Х",IF(V16<6," "," ")))))) | Z16: =IF(V16="Х","Х",IF(ISBLANK(Y16),"",IF(Y16>2.5," ",IF(B16=BB$6,BB$7,BB$6)))) | AB16: =IF(H16="Х",F$5,IF(J16="Х",H$5,IF(L16="Х",J$5,IF(N16="Х",L$5,IF(P16="Х",N$5,IF(R16="Х",P$5,IF(T16="Х",R$5,IF(X16="Х",T$5,"")))))))) | AC16: =SUM(G16+I16+K16+M16+O16+Q16+S16+U16+Y16+AA16) -> 0 | AD16: =AF16 -> 1-22 | AE16: =AD16 -> 1-22 | AF16: =COUNTIF(AG$6:AG$148,">"&AG$6:AG$148)+1&REPT("-"&COUNTIF(AG$6:AG$148,">="&AG$6:AG$148),COUNTIF(AG$6:AG$148,AG16)>1) -> 1-22 | AG16: =(AR16*100)+(AP16*10)-AC16 -> 1280 | AH16: =IF(OR(F16="Х",F16="св")," ",IF(AND(G16>=0,G16<3),"1"," ")) -> 1 | AI16: =IF(OR(H16="Х",H16="св")," ",IF(AND(I16>=0,I16<3),"1"," ")) -> 1 | AJ16: =IF(OR(J16="Х",J16="св")," ",IF(AND(K16>=0,K16<3),"1"," ")) -> 1 | AK16: =IF(OR(L16="Х",L16="св")," ",IF(AND(M16>=0,M16<3),"1"," ")) -> 1 | AL16: =IF(OR(N16="Х",N16="св")," ",IF(AND(O16>=0,O16<3),"1"," ")) -> 1 | AM16: =IF(OR(P16="Х",P16="св")," ",IF(AND(Q16>=0,Q16<3),"1"," ")) -> 1 | AN16: =IF(OR(R16="Х",R16="св")," ",IF(AND(S16>=0,S16<3),"1"," ")) -> 1 | AO16: =IF(OR(T16="Х",T16="св")," ",IF(AND(U16>=0,U16<3),"1"," ")) -> 1 | AP16: =COUNTIF(AH16:AO17,1) -> 8 | AQ16: =AG16-AC16 -> 1280 | AR16: =IF(F16=0,0,IF(F16="Х",1,IF(H16="Х",2,IF(J16="Х",3,IF(L16="Х",4,IF(N16="Х",5,IF(P16="Х",6,IF(R16="Х",7,IF(T16="Х",8,IF(V16="Х",9,IF(Y16>2.5,10,IF(AA16>2.5,11,IF(AA16>=0,12,IF(AA16=" ",0,)))))))))))))) -> 12 | AS16: =COUNTIF(AG$6:AG$134,">"&AG$6:AG$134)+1&REPT("-"&COUNTIF(AG$6:AG$134,">="&AG$6:AG$134),COUNTIF(AG$6:AG$134,AG16)>1) -> 1-22 | AT16: =COUNTIF(AU$6:AU$134,">"&AU$6:AU$134)+1&REPT("-"&COUNTIF(AU$6:AU$134,">="&AU$6:AU$134),COUNTIF(AU$6:AU$134,AU16)>1) -> 1-64 | AU16: =COUNTIF(AV$6:AV$134,">"&AV$6:AV$134)+1&REPT("-"&COUNTIF(AV$6:AV$134,">="&AV$6:AV$134),COUNTIF(AV$6:AV$134,AV16)>1) -> 1-0 | AV16: =COUNTIF(AW$6:AW$134,">"&AW$6:AW$134)+1&REPT("-"&COUNTIF(AW$6:AW$134,">="&AW$6:AW$134),COUNTIF(AW$6:AW$134,AW16)>1) -> 1 | AW16: =COUNTIF(AX$6:AX$134,">"&AX$6:AX$134)+1&REPT("-"&COUNTIF(AX$6:AX$134,">="&AX$6:AX$134),COUNTIF(AX$6:AX$134,AX16)>1) -> 59 | AX16: =IF(X16="Х","Х",IF(Y16<3,B16,"Х")) -> 6 | BM16: 6 | BN16: 5 | BO16: =IF(BM16<BN16,BM16,"") | BQ16: =IFERROR(__xludf.DUMMYFUNCTION("""COMPUTED_VALUE"""),11) -> 11 | BR16: 6 | BS16: 8 | BT16: =IF(BR16<BS16,BR16,"") -> 6 | BU16: 6 | BV16: =IFERROR(__xludf.DUMMYFUNCTION("""COMPUTED_VALUE"""),10) -> 10 | BW16: 6 | BY16: {=IF(BW16<BX16,BW16,"")} -> 6 | BZ16: =IF(BY16="св",0,BY16) -> 6 | CA16: =IFERROR(__xludf.DUMMYFUNCTION("""COMPUTED_VALUE"""),11) -> 11 | CB16: =IF(CA16=0,"св",CA16) -> 11 | CE16: 6 | CG16: {=IF(CE16<CF16,CE16,"")} -> 6 | CH16: 6 | CI16: =IFERROR(__xludf.DUMMYFUNCTION("""COMPUTED_VALUE"""),11) -> 11 | CJ16: 6 | CL16: {=IF(CJ16<CK16,CJ16,"")} -> 6 | CM16: 6 | CN16: =IFERROR(__xludf.DUMMYFUNCTION("""COMPUTED_VALUE"""),11) -> 11 | CO16: 6 | CQ16: {=IF(CO16<CP16,CO16,"")} -> 6 | CR16: 6 | CS16: =IFERROR(__xludf.DUMMYFUNCTION("""COMPUTED_VALUE"""),11) -> 11 | CT16: 6 | CV16: {=IF(CT16<CU16,CT16,"")} -> 6 | CW16: 6 | CX16: =IFERROR(__xludf.DUMMYFUNCTION("""COMPUTED_VALUE"""),11) -> 11 | CY16: 6 | DA16: {=IF(CY16<CZ16,CY16,"")} -> 6 | DB16: 6 | DC16: =IFERROR(__xludf.DUMMYFUNCTION("""COMPUTED_VALUE"""),11) -> 11 | DD16: 6
BN17: 0 | BO17: =IF(BO16="","",BN16) | BQ17: =IFERROR(__xludf.DUMMYFUNCTION("""COMPUTED_VALUE"""),12) -> 12 | BS17: 0 | BT17: =IF(BT16="","",BS16) -> 8 | BU17: 8 | BV17: =IFERROR(__xludf.DUMMYFUNCTION("""COMPUTED_VALUE"""),13) -> 13 | BX17: 0 | BY17: =IF(BY16="","",BX16) | BZ17: =IF(BY17="св",0,BY17) | CA17: =IFERROR(__xludf.DUMMYFUNCTION("""COMPUTED_VALUE"""),12) -> 12 | CB17: =IF(CA17=0,"св",CA17) -> 12 | CF17: 0 | CG17: =IF(CG16="","",CF16) | CI17: =IFERROR(__xludf.DUMMYFUNCTION("""COMPUTED_VALUE"""),12) -> 12 | CK17: 0 | CL17: =IF(CL16="","",CK16) | CN17: =IFERROR(__xludf.DUMMYFUNCTION("""COMPUTED_VALUE"""),12) -> 12 | CP17: 0 | CQ17: =IF(CQ16="","",CP16) | CS17: =IFERROR(__xludf.DUMMYFUNCTION("""COMPUTED_VALUE"""),12) -> 12 | CU17: 0 | CV17: =IF(CV16="","",CU16) | CX17: =IFERROR(__xludf.DUMMYFUNCTION("""COMPUTED_VALUE"""),12) -> 12 | CZ17: 0 | DA17: =IF(DA16="","",CZ16) | DC17: =IFERROR(__xludf.DUMMYFUNCTION("""COMPUTED_VALUE"""),12) -> 12
B18: 7 | C18: =(VLOOKUP($B18,Пр.взв!$D$6:$J$63,2,0)) -> МЕЛАДЗЕ Дарья | D18: =(VLOOKUP($B18,Пр.взв!$D$6:$J$63,5,0)) -> КМС | E18: =(VLOOKUP($B18,Пр.взв!$D$6:$M$63,8,0)) -> Свердловская | F18: 8 | H18: 5 | J18: =IF(H18="Х","Х",IF($AC18<6," ","Х")) | L18: =IF(J18="Х","Х",IF(K18<3," ",IF($AC18<6," ","Х"))) | N18: =IF(L18="Х","Х",IF(M18<3," ",IF($AC18<6," ","Х"))) | P18: =IF(N18="Х","Х",IF(O18<3," ",IF($AC18<6," ","Х"))) | R18: =IF(P18="Х","Х",IF(Q18<3," ",IF($AC18<6," ","Х"))) | T18: =IF(R18="Х","Х",IF(S18<3," ",IF($AC18<6," ","Х"))) | V18: =IF(T18="Х","Х",IF(U18<3," ",IF($AC18<6," ","Х"))) | X18: =IF(V18="А1",$AZ$7,IF(V18="Б2",$AZ$6,IF(V18="Б1",$BA$7,IF(V18="А2",$BA$6,IF(V18="Х","Х",IF(V18<6," "," ")))))) | Z18: =IF(V18="Х","Х",IF(ISBLANK(Y18),"",IF(Y18>2.5," ",IF(B18=BB$6,BB$7,BB$6)))) | AB18: =IF(H18="Х",F$5,IF(J18="Х",H$5,IF(L18="Х",J$5,IF(N18="Х",L$5,IF(P18="Х",N$5,IF(R18="Х",P$5,IF(T18="Х",R$5,IF(X18="Х",T$5,"")))))))) | AC18: =SUM(G18+I18+K18+M18+O18+Q18+S18+U18+Y18+AA18) -> 0 | AD18: =AF18 -> 1-22 | AE18: =AD18 -> 1-22 | AF18: =COUNTIF(AG$6:AG$148,">"&AG$6:AG$148)+1&REPT("-"&COUNTIF(AG$6:AG$148,">="&AG$6:AG$148),COUNTIF(AG$6:AG$148,AG18)>1) -> 1-22 | AG18: =(AR18*100)+(AP18*10)-AC18 -> 1280 | AH18: =IF(OR(F18="Х",F18="св")," ",IF(AND(G18>=0,G18<3),"1"," ")) -> 1 | AI18: =IF(OR(H18="Х",H18="св")," ",IF(AND(I18>=0,I18<3),"1"," ")) -> 1 | AJ18: =IF(OR(J18="Х",J18="св")," ",IF(AND(K18>=0,K18<3),"1"," ")) -> 1 | AK18: =IF(OR(L18="Х",L18="св")," ",IF(AND(M18>=0,M18<3),"1"," ")) -> 1 | AL18: =IF(OR(N18="Х",N18="св")," ",IF(AND(O18>=0,O18<3),"1"," ")) -> 1 | AM18: =IF(OR(P18="Х",P18="св")," ",IF(AND(Q18>=0,Q18<3),"1"," ")) -> 1 | AN18: =IF(OR(R18="Х",R18="св")," ",IF(AND(S18>=0,S18<3),"1"," ")) -> 1 | AO18: =IF(OR(T18="Х",T18="св")," ",IF(AND(U18>=0,U18<3),"1"," ")) -> 1 | AP18: =COUNTIF(AH18:AO19,1) -> 8 | AQ18: =AG18-AC18 -> 1280 | AR18: =IF(F18=0,0,IF(F18="Х",1,IF(H18="Х",2,IF(J18="Х",3,IF(L18="Х",4,IF(N18="Х",5,IF(P18="Х",6,IF(R18="Х",7,IF(T18="Х",8,IF(V18="Х",9,IF(Y18>2.5,10,IF(AA18>2.5,11,IF(AA18>=0,12,IF(AA18=" ",0,)))))))))))))) -> 12 | AS18: =COUNTIF(AG$6:AG$134,">"&AG$6:AG$134)+1&REPT("-"&COUNTIF(AG$6:AG$134,">="&AG$6:AG$134),COUNTIF(AG$6:AG$134,AG18)>1) -> 1-22 | AT18: =COUNTIF(AU$6:AU$134,">"&AU$6:AU$134)+1&REPT("-"&COUNTIF(AU$6:AU$134,">="&AU$6:AU$134),COUNTIF(AU$6:AU$134,AU18)>1) -> 1-64 | AU18: =COUNTIF(AV$6:AV$134,">"&AV$6:AV$134)+1&REPT("-"&COUNTIF(AV$6:AV$134,">="&AV$6:AV$134),COUNTIF(AV$6:AV$134,AV18)>1) -> 1-0 | AV18: =COUNTIF(AW$6:AW$134,">"&AW$6:AW$134)+1&REPT("-"&COUNTIF(AW$6:AW$134,">="&AW$6:AW$134),COUNTIF(AW$6:AW$134,AW18)>1) -> 1 | AW18: =COUNTIF(AX$6:AX$134,">"&AX$6:AX$134)+1&REPT("-"&COUNTIF(AX$6:AX$134,">="&AX$6:AX$134),COUNTIF(AX$6:AX$134,AX18)>1) -> 58 | AX18: =IF(X18="Х","Х",IF(Y18<3,B18,"Х")) -> 7 | BM18: 7 | BN18: 8 | BO18: =IF(BM18<BN18,BM18,"") -> 7 | BP18: 7 | BQ18: =IFERROR(__xludf.DUMMYFUNCTION("""COMPUTED_VALUE"""),13) -> 13 | BR18: 7 | BS18: 5 | BT18: =IF(BR18<BS18,BR18,"") | BV18: =IFERROR(__xludf.DUMMYFUNCTION("""COMPUTED_VALUE"""),12) -> 12 | BW18: 7 | BY18: {=IF(BW18<BX18,BW18,"")} -> 7 | BZ18: =IF(BY18="св",0,BY18) -> 7 | CA18: =IFERROR(__xludf.DUMMYFUNCTION("""COMPUTED_VALUE"""),13) -> 13 | CB18: =IF(CA18=0,"св",CA18) -> 13 | CE18: 7 | CG18: {=IF(CE18<CF18,CE18,"")} -> 7 | CH18: 7 | CI18: =IFERROR(__xludf.DUMMYFUNCTION("""COMPUTED_VALUE"""),13) -> 13 | CJ18: 7 | CL18: {=IF(CJ18<CK18,CJ18,"")} -> 7 | CM18: 7 | CN18: =IFERROR(__xludf.DUMMYFUNCTION("""COMPUTED_VALUE"""),13) -> 13 | CO18: 7 | CQ18: {=IF(CO18<CP18,CO18,"")} -> 7 | CR18: 7 | CS18: =IFERROR(__xludf.DUMMYFUNCTION("""COMPUTED_VALUE"""),13) -> 13 | CT18: 7 | CV18: {=IF(CT18<CU18,CT18,"")} -> 7 | CW18: 7 | CX18: =IFERROR(__xludf.DUMMYFUNCTION("""COMPUTED_VALUE"""),13) -> 13 | CY18: 7 | DA18: {=IF(CY18<CZ18,CY18,"")} -> 7 | DB18: 7 | DC18: =IFERROR(__xludf.DUMMYFUNCTION("""COMPUTED_VALUE"""),13) -> 13 | DD18: 7
BN19: 0 | BO19: =IF(BO18="","",BN18) -> 8 | BP19: 8 | BQ19: =IFERROR(__xludf.DUMMYFUNCTION("""COMPUTED_VALUE"""),0) -> 0 | BS19: 0 | BT19: =IF(BT18="","",BS18) | BV19: =IFERROR(__xludf.DUMMYFUNCTION("""COMPUTED_VALUE"""),0) -> 0 | BX19: 0 | BY19: =IF(BY18="","",BX18) | BZ19: =IF(BY19="св",0,BY19) | CA19: =IFERROR(__xludf.DUMMYFUNCTION("""COMPUTED_VALUE"""),14) -> 14 | CB19: =IF(CA19=0,"св",CA19) -> 14 | CF19: 0 | CG19: =IF(CG18="","",CF18) | CI19: =IFERROR(__xludf.DUMMYFUNCTION("""COMPUTED_VALUE"""),14) -> 14 | CK19: 0 | CL19: =IF(CL18="","",CK18) | CN19: =IFERROR(__xludf.DUMMYFUNCTION("""COMPUTED_VALUE"""),14) -> 14 | CP19: 0 | CQ19: =IF(CQ18="","",CP18) | CS19: =IFERROR(__xludf.DUMMYFUNCTION("""COMPUTED_VALUE"""),14) -> 14 | CU19: 0 | CV19: =IF(CV18="","",CU18) | CX19: =IFERROR(__xludf.DUMMYFUNCTION("""COMPUTED_VALUE"""),14) -> 14 | CZ19: 0 | DA19: =IF(DA18="","",CZ18) | DC19: =IFERROR(__xludf.DUMMYFUNCTION("""COMPUTED_VALUE"""),14) -> 14
B20: 8 | C20: =(VLOOKUP($B20,Пр.взв!$D$6:$J$63,2,0)) -> ЗЕНЧЕНКО Алина | D20: =(VLOOKUP($B20,Пр.взв!$D$6:$J$63,5,0)) -> КМС | E20: =(VLOOKUP($B20,Пр.взв!$D$6:$M$63,8,0)) -> Москва | F20: 7 | H20: 6 | J20: =IF(H20="Х","Х",IF($AC20<6," ","Х")) | L20: =IF(J20="Х","Х",IF(K20<3," ",IF($AC20<6," ","Х"))) | N20: =IF(L20="Х","Х",IF(M20<3," ",IF($AC20<6," ","Х"))) | P20: =IF(N20="Х","Х",IF(O20<3," ",IF($AC20<6," ","Х"))) | R20: =IF(P20="Х","Х",IF(Q20<3," ",IF($AC20<6," ","Х"))) | T20: =IF(R20="Х","Х",IF(S20<3," ",IF($AC20<6," ","Х"))) | V20: =IF(T20="Х","Х",IF(U20<3," ",IF($AC20<6," ","Х"))) | X20: =IF(V20="А1",$AZ$7,IF(V20="Б2",$AZ$6,IF(V20="Б1",$BA$7,IF(V20="А2",$BA$6,IF(V20="Х","Х",IF(V20<6," "," ")))))) | Z20: =IF(V20="Х","Х",IF(ISBLANK(Y20),"",IF(Y20>2.5," ",IF(B20=BB$6,BB$7,BB$6)))) | AB20: =IF(H20="Х",F$5,IF(J20="Х",H$5,IF(L20="Х",J$5,IF(N20="Х",L$5,IF(P20="Х",N$5,IF(R20="Х",P$5,IF(T20="Х",R$5,IF(X20="Х",T$5,"")))))))) | AC20: =SUM(G20+I20+K20+M20+O20+Q20+S20+U20+Y20+AA20) -> 0 | AD20: =AF20 -> 1-22 | AE20: =AD20 -> 1-22 | AF20: =COUNTIF(AG$6:AG$148,">"&AG$6:AG$148)+1&REPT("-"&COUNTIF(AG$6:AG$148,">="&AG$6:AG$148),COUNTIF(AG$6:AG$148,AG20)>1) -> 1-22 | AG20: =(AR20*100)+(AP20*10)-AC20 -> 1280 | AH20: =IF(OR(F20="Х",F20="св")," ",IF(AND(G20>=0,G20<3),"1"," ")) -> 1 | AI20: =IF(OR(H20="Х",H20="св")," ",IF(AND(I20>=0,I20<3),"1"," ")) -> 1 | AJ20: =IF(OR(J20="Х",J20="св")," ",IF(AND(K20>=0,K20<3),"1"," ")) -> 1 | AK20: =IF(OR(L20="Х",L20="св")," ",IF(AND(M20>=0,M20<3),"1"," ")) -> 1 | AL20: =IF(OR(N20="Х",N20="св")," ",IF(AND(O20>=0,O20<3),"1"," ")) -> 1 | AM20: =IF(OR(P20="Х",P20="св")," ",IF(AND(Q20>=0,Q20<3),"1"," ")) -> 1 | AN20: =IF(OR(R20="Х",R20="св")," ",IF(AND(S20>=0,S20<3),"1"," ")) -> 1 | AO20: =IF(OR(T20="Х",T20="св")," ",IF(AND(U20>=0,U20<3),"1"," ")) -> 1 | AP20: =COUNTIF(AH20:AO21,1) -> 8 | AQ20: =AG20-AC20 -> 1280 | AR20: =IF(F20=0,0,IF(F20="Х",1,IF(H20="Х",2,IF(J20="Х",3,IF(L20="Х",4,IF(N20="Х",5,IF(P20="Х",6,IF(R20="Х",7,IF(T20="Х",8,IF(V20="Х",9,IF(Y20>2.5,10,IF(AA20>2.5,11,IF(AA20>=0,12,IF(AA20=" ",0,)))))))))))))) -> 12 | AS20: =COUNTIF(AG$6:AG$134,">"&AG$6:AG$134)+1&REPT("-"&COUNTIF(AG$6:AG$134,">="&AG$6:AG$134),COUNTIF(AG$6:AG$134,AG20)>1) -> 1-22 | AT20: =COUNTIF(AU$6:AU$134,">"&AU$6:AU$134)+1&REPT("-"&COUNTIF(AU$6:AU$134,">="&AU$6:AU$134),COUNTIF(AU$6:AU$134,AU20)>1) -> 1-64 | AU20: =COUNTIF(AV$6:AV$134,">"&AV$6:AV$134)+1&REPT("-"&COUNTIF(AV$6:AV$134,">="&AV$6:AV$134),COUNTIF(AV$6:AV$134,AV20)>1) -> 1-0 | AV20: =COUNTIF(AW$6:AW$134,">"&AW$6:AW$134)+1&REPT("-"&COUNTIF(AW$6:AW$134,">="&AW$6:AW$134),COUNTIF(AW$6:AW$134,AW20)>1) -> 1 | AW20: =COUNTIF(AX$6:AX$134,">"&AX$6:AX$134)+1&REPT("-"&COUNTIF(AX$6:AX$134,">="&AX$6:AX$134),COUNTIF(AX$6:AX$134,AX20)>1) -> 57 | AX20: =IF(X20="Х","Х",IF(Y20<3,B20,"Х")) -> 8 | BM20: 8 | BN20: 7 | BO20: =IF(BM20<BN20,BM20,"") | BQ20: =IFERROR(__xludf.DUMMYFUNCTION("""COMPUTED_VALUE"""),14) -> 14 | BR20: 8 | BS20: 6 | BT20: =IF(BR20<BS20,BR20,"") | BV20: =IFERROR(__xludf.DUMMYFUNCTION("""COMPUTED_VALUE"""),14) -> 14 | BW20: 8 | BY20: {=IF(BW20<BX20,BW20,"")} -> 8 | BZ20: =IF(BY20="св",0,BY20) -> 8 | CA20: =IFERROR(__xludf.DUMMYFUNCTION("""COMPUTED_VALUE"""),15) -> 15 | CB20: =IF(CA20=0,"св",CA20) -> 15 | CE20: 8 | CG20: {=IF(CE20<CF20,CE20,"")} -> 8 | CH20: 8 | CI20: =IFERROR(__xludf.DUMMYFUNCTION("""COMPUTED_VALUE"""),15) -> 15 | CJ20: 8 | CL20: {=IF(CJ20<CK20,CJ20,"")} -> 8 | CM20: 8 | CN20: =IFERROR(__xludf.DUMMYFUNCTION("""COMPUTED_VALUE"""),15) -> 15 | CO20: 8 | CQ20: {=IF(CO20<CP20,CO20,"")} -> 8 | CR20: 8 | CS20: =IFERROR(__xludf.DUMMYFUNCTION("""COMPUTED_VALUE"""),15) -> 15 | CT20: 8 | CV20: {=IF(CT20<CU20,CT20,"")} -> 8 | CW20: 8 | CX20: =IFERROR(__xludf.DUMMYFUNCTION("""COMPUTED_VALUE"""),15) -> 15 | CY20: 8 | DA20: {=IF(CY20<CZ20,CY20,"")} -> 8 | DB20: 8 | DC20: =IFERROR(__xludf.DUMMYFUNCTION("""COMPUTED_VALUE"""),15) -> 15 | DD20: 8
BN21: 0 | BO21: =IF(BO20="","",BN20) | BQ21: =IFERROR(__xludf.DUMMYFUNCTION("""COMPUTED_VALUE"""),15) -> 15 | BS21: 0 | BT21: =IF(BT20="","",BS20) | BV21: =IFERROR(__xludf.DUMMYFUNCTION("""COMPUTED_VALUE"""),16) -> 16 | BX21: 0 | BY21: =IF(BY20="","",BX20) | BZ21: =IF(BY21="св",0,BY21) | CA21: =IFERROR(__xludf.DUMMYFUNCTION("""COMPUTED_VALUE"""),16) -> 16 | CB21: =IF(CA21=0,"св",CA21) -> 16 | CF21: 0 | CG21: =IF(CG20="","",CF20) | CI21: =IFERROR(__xludf.DUMMYFUNCTION("""COMPUTED_VALUE"""),16) -> 16 | CK21: 0 | CL21: =IF(CL20="","",CK20) | CN21: =IFERROR(__xludf.DUMMYFUNCTION("""COMPUTED_VALUE"""),16) -> 16 | CP21: 0 | CQ21: =IF(CQ20="","",CP20) | CS21: =IFERROR(__xludf.DUMMYFUNCTION("""COMPUTED_VALUE"""),16) -> 16 | CU21: 0 | CV21: =IF(CV20="","",CU20) | CX21: =IFERROR(__xludf.DUMMYFUNCTION("""COMPUTED_VALUE"""),16) -> 16 | CZ21: 0 | DA21: =IF(DA20="","",CZ20) | DC21: =IFERROR(__xludf.DUMMYFUNCTION("""COMPUTED_VALUE"""),16) -> 16
B22: 9 | C22: =(VLOOKUP($B22,Пр.взв!$D$6:$J$63,2,0)) -> ГАЛИЕВА Алина | D22: =(VLOOKUP($B22,Пр.взв!$D$6:$J$63,5,0)) -> КМС | E22: =(VLOOKUP($B22,Пр.взв!$D$6:$M$63,8,0)) -> Р.Башкортостан | F22: 10 | H22: 11 | J22: =IF(H22="Х","Х",IF($AC22<6," ","Х")) | L22: =IF(J22="Х","Х",IF(K22<3," ",IF($AC22<6," ","Х"))) | N22: =IF(L22="Х","Х",IF(M22<3," ",IF($AC22<6," ","Х"))) | P22: =IF(N22="Х","Х",IF(O22<3," ",IF($AC22<6," ","Х"))) | R22: =IF(P22="Х","Х",IF(Q22<3," ",IF($AC22<6," ","Х"))) | T22: =IF(R22="Х","Х",IF(S22<3," ",IF($AC22<6," ","Х"))) | V22: =IF(T22="Х","Х",IF(U22<3," ",IF($AC22<6," ","Х"))) | X22: =IF(V22="А1",$AZ$7,IF(V22="Б2",$AZ$6,IF(V22="Б1",$BA$7,IF(V22="А2",$BA$6,IF(V22="Х","Х",IF(V22<6," "," ")))))) | Z22: =IF(V22="Х","Х",IF(ISBLANK(Y22),"",IF(Y22>2.5," ",IF(B22=BB$6,BB$7,BB$6)))) | AB22: =IF(H22="Х",F$5,IF(J22="Х",H$5,IF(L22="Х",J$5,IF(N22="Х",L$5,IF(P22="Х",N$5,IF(R22="Х",P$5,IF(T22="Х",R$5,IF(X22="Х",T$5,"")))))))) | AC22: =SUM(G22+I22+K22+M22+O22+Q22+S22+U22+Y22+AA22) -> 0 | AD22: =AF22 -> 1-22 | AE22: =AD22 -> 1-22 | AF22: =COUNTIF(AG$6:AG$148,">"&AG$6:AG$148)+1&REPT("-"&COUNTIF(AG$6:AG$148,">="&AG$6:AG$148),COUNTIF(AG$6:AG$148,AG22)>1) -> 1-22 | AG22: =(AR22*100)+(AP22*10)-AC22 -> 1280 | AH22: =IF(OR(F22="Х",F22="св")," ",IF(AND(G22>=0,G22<3),"1"," ")) -> 1 | AI22: =IF(OR(H22="Х",H22="св")," ",IF(AND(I22>=0,I22<3),"1"," ")) -> 1 | AJ22: =IF(OR(J22="Х",J22="св")," ",IF(AND(K22>=0,K22<3),"1"," ")) -> 1 | AK22: =IF(OR(L22="Х",L22="св")," ",IF(AND(M22>=0,M22<3),"1"," ")) -> 1 | AL22: =IF(OR(N22="Х",N22="св")," ",IF(AND(O22>=0,O22<3),"1"," ")) -> 1 | AM22: =IF(OR(P22="Х",P22="св")," ",IF(AND(Q22>=0,Q22<3),"1"," ")) -> 1 | AN22: =IF(OR(R22="Х",R22="св")," ",IF(AND(S22>=0,S22<3),"1"," ")) -> 1 | AO22: =IF(OR(T22="Х",T22="св")," ",IF(AND(U22>=0,U22<3),"1"," ")) -> 1 | AP22: =COUNTIF(AH22:AO23,1) -> 8 | AQ22: =AG22-AC22 -> 1280 | AR22: =IF(F22=0,0,IF(F22="Х",1,IF(H22="Х",2,IF(J22="Х",3,IF(L22="Х",4,IF(N22="Х",5,IF(P22="Х",6,IF(R22="Х",7,IF(T22="Х",8,IF(V22="Х",9,IF(Y22>2.5,10,IF(AA22>2.5,11,IF(AA22>=0,12,IF(AA22=" ",0,)))))))))))))) -> 12 | AS22: =COUNTIF(AG$6:AG$134,">"&AG$6:AG$134)+1&REPT("-"&COUNTIF(AG$6:AG$134,">="&AG$6:AG$134),COUNTIF(AG$6:AG$134,AG22)>1) -> 1-22 | AT22: =COUNTIF(AU$6:AU$134,">"&AU$6:AU$134)+1&REPT("-"&COUNTIF(AU$6:AU$134,">="&AU$6:AU$134),COUNTIF(AU$6:AU$134,AU22)>1) -> 1-64 | AU22: =COUNTIF(AV$6:AV$134,">"&AV$6:AV$134)+1&REPT("-"&COUNTIF(AV$6:AV$134,">="&AV$6:AV$134),COUNTIF(AV$6:AV$134,AV22)>1) -> 1-0 | AV22: =COUNTIF(AW$6:AW$134,">"&AW$6:AW$134)+1&REPT("-"&COUNTIF(AW$6:AW$134,">="&AW$6:AW$134),COUNTIF(AW$6:AW$134,AW22)>1) -> 1 | AW22: =COUNTIF(AX$6:AX$134,">"&AX$6:AX$134)+1&REPT("-"&COUNTIF(AX$6:AX$134,">="&AX$6:AX$134),COUNTIF(AX$6:AX$134,AX22)>1) -> 56 | AX22: =IF(X22="Х","Х",IF(Y22<3,B22,"Х")) -> 9 | BM22: 9 | BN22: 10 | BO22: =IF(BM22<BN22,BM22,"") -> 9 | BP22: 9 | BQ22: =IFERROR(__xludf.DUMMYFUNCTION("""COMPUTED_VALUE"""),16) -> 16 | BR22: 9 | BS22: 11 | BT22: =IF(BR22<BS22,BR22,"") -> 9 | BU22: 9 | BV22: =IFERROR(__xludf.DUMMYFUNCTION("""COMPUTED_VALUE"""),15) -> 15 | BW22: 9 | BY22: {=IF(BW22<BX22,BW22,"")} -> 9 | BZ22: =IF(BY22="св",0,BY22) -> 9 | CA22: =IFERROR(__xludf.DUMMYFUNCTION("""COMPUTED_VALUE"""),17) -> 17 | CB22: =IF(CA22=0,"св",CA22) -> 17 | CE22: 9 | CG22: {=IF(CE22<CF22,CE22,"")} -> 9 | CH22: 9 | CI22: =IFERROR(__xludf.DUMMYFUNCTION("""COMPUTED_VALUE"""),17) -> 17 | CJ22: 9 | CL22: {=IF(CJ22<CK22,CJ22,"")} -> 9 | CM22: 9 | CN22: =IFERROR(__xludf.DUMMYFUNCTION("""COMPUTED_VALUE"""),17) -> 17 | CO22: 9 | CQ22: {=IF(CO22<CP22,CO22,"")} -> 9 | CR22: 9 | CS22: =IFERROR(__xludf.DUMMYFUNCTION("""COMPUTED_VALUE"""),17) -> 17 | CT22: 9 | CV22: {=IF(CT22<CU22,CT22,"")} -> 9 | CW22: 9 | CX22: =IFERROR(__xludf.DUMMYFUNCTION("""COMPUTED_VALUE"""),17) -> 17 | CY22: 9 | DA22: {=IF(CY22<CZ22,CY22,"")} -> 9 | DB22: 9 | DC22: =IFERROR(__xludf.DUMMYFUNCTION("""COMPUTED_VALUE"""),17) -> 17 | DD22: 9
BN23: 0 | BO23: =IF(BO22="","",BN22) -> 10 | BP23: 10 | BQ23: =IFERROR(__xludf.DUMMYFUNCTION("""COMPUTED_VALUE"""),17) -> 17 | BS23: 0 | BT23: =IF(BT22="","",BS22) -> 11 | BU23: 11 | BV23: =IFERROR(__xludf.DUMMYFUNCTION("""COMPUTED_VALUE"""),17) -> 17 | BX23: 0 | BY23: =IF(BY22="","",BX22) | BZ23: =IF(BY23="св",0,BY23) | CA23: =IFERROR(__xludf.DUMMYFUNCTION("""COMPUTED_VALUE"""),18) -> 18 | CB23: =IF(CA23=0,"св",CA23) -> 18 | CF23: 0 | CG23: =IF(CG22="","",CF22) | CI23: =IFERROR(__xludf.DUMMYFUNCTION("""COMPUTED_VALUE"""),18) -> 18 | CK23: 0 | CL23: =IF(CL22="","",CK22) | CN23: =IFERROR(__xludf.DUMMYFUNCTION("""COMPUTED_VALUE"""),18) -> 18 | CP23: 0 | CQ23: =IF(CQ22="","",CP22) | CS23: =IFERROR(__xludf.DUMMYFUNCTION("""COMPUTED_VALUE"""),18) -> 18 | CU23: 0 | CV23: =IF(CV22="","",CU22) | CX23: =IFERROR(__xludf.DUMMYFUNCTION("""COMPUTED_VALUE"""),18) -> 18 | CZ23: 0 | DA23: =IF(DA22="","",CZ22) | DC23: =IFERROR(__xludf.DUMMYFUNCTION("""COMPUTED_VALUE"""),18) -> 18
B24: 10 | C24: =(VLOOKUP($B24,Пр.взв!$D$6:$J$63,2,0)) -> АЛЁХИНА Алёна | D24: =(VLOOKUP($B24,Пр.взв!$D$6:$J$63,5,0)) -> КМС | E24: =(VLOOKUP($B24,Пр.взв!$D$6:$M$63,8,0)) -> Свердловская | F24: 9 | H24: 13 | J24: =IF(H24="Х","Х",IF($AC24<6," ","Х")) | L24: =IF(J24="Х","Х",IF(K24<3," ",IF($AC24<6," ","Х"))) | N24: =IF(L24="Х","Х",IF(M24<3," ",IF($AC24<6," ","Х"))) | P24: =IF(N24="Х","Х",IF(O24<3," ",IF($AC24<6," ","Х"))) | R24: =IF(P24="Х","Х",IF(Q24<3," ",IF($AC24<6," ","Х"))) | T24: =IF(R24="Х","Х",IF(S24<3," ",IF($AC24<6," ","Х"))) | V24: =IF(T24="Х","Х",IF(U24<3," ",IF($AC24<6," ","Х"))) | X24: =IF(V24="А1",$AZ$7,IF(V24="Б2",$AZ$6,IF(V24="Б1",$BA$7,IF(V24="А2",$BA$6,IF(V24="Х","Х",IF(V24<6," "," ")))))) | Z24: =IF(V24="Х","Х",IF(ISBLANK(Y24),"",IF(Y24>2.5," ",IF(B24=BB$6,BB$7,BB$6)))) | AB24: =IF(H24="Х",F$5,IF(J24="Х",H$5,IF(L24="Х",J$5,IF(N24="Х",L$5,IF(P24="Х",N$5,IF(R24="Х",P$5,IF(T24="Х",R$5,IF(X24="Х",T$5,"")))))))) | AC24: =SUM(G24+I24+K24+M24+O24+Q24+S24+U24+Y24+AA24) -> 0 | AD24: =AF24 -> 1-22 | AE24: =AD24 -> 1-22 | AF24: =COUNTIF(AG$6:AG$148,">"&AG$6:AG$148)+1&REPT("-"&COUNTIF(AG$6:AG$148,">="&AG$6:AG$148),COUNTIF(AG$6:AG$148,AG24)>1) -> 1-22 | AG24: =(AR24*100)+(AP24*10)-AC24 -> 1280 | AH24: =IF(OR(F24="Х",F24="св")," ",IF(AND(G24>=0,G24<3),"1"," ")) -> 1 | AI24: =IF(OR(H24="Х",H24="св")," ",IF(AND(I24>=0,I24<3),"1"," ")) -> 1 | AJ24: =IF(OR(J24="Х",J24="св")," ",IF(AND(K24>=0,K24<3),"1"," ")) -> 1 | AK24: =IF(OR(L24="Х",L24="св")," ",IF(AND(M24>=0,M24<3),"1"," ")) -> 1 | AL24: =IF(OR(N24="Х",N24="св")," ",IF(AND(O24>=0,O24<3),"1"," ")) -> 1 | AM24: =IF(OR(P24="Х",P24="св")," ",IF(AND(Q24>=0,Q24<3),"1"," ")) -> 1 | AN24: =IF(OR(R24="Х",R24="св")," ",IF(AND(S24>=0,S24<3),"1"," ")) -> 1 | AO24: =IF(OR(T24="Х",T24="св")," ",IF(AND(U24>=0,U24<3),"1"," ")) -> 1 | AP24: =COUNTIF(AH24:AO25,1) -> 8 | AQ24: =AG24-AC24 -> 1280 | AR24: =IF(F24=0,0,IF(F24="Х",1,IF(H24="Х",2,IF(J24="Х",3,IF(L24="Х",4,IF(N24="Х",5,IF(P24="Х",6,IF(R24="Х",7,IF(T24="Х",8,IF(V24="Х",9,IF(Y24>2.5,10,IF(AA24>2.5,11,IF(AA24>=0,12,IF(AA24=" ",0,)))))))))))))) -> 12 | AS24: =COUNTIF(AG$6:AG$134,">"&AG$6:AG$134)+1&REPT("-"&COUNTIF(AG$6:AG$134,">="&AG$6:AG$134),COUNTIF(AG$6:AG$134,AG24)>1) -> 1-22 | AT24: =COUNTIF(AU$6:AU$134,">"&AU$6:AU$134)+1&REPT("-"&COUNTIF(AU$6:AU$134,">="&AU$6:AU$134),COUNTIF(AU$6:AU$134,AU24)>1) -> 1-64 | AU24: =COUNTIF(AV$6:AV$134,">"&AV$6:AV$134)+1&REPT("-"&COUNTIF(AV$6:AV$134,">="&AV$6:AV$134),COUNTIF(AV$6:AV$134,AV24)>1) -> 1-0 | AV24: =COUNTIF(AW$6:AW$134,">"&AW$6:AW$134)+1&REPT("-"&COUNTIF(AW$6:AW$134,">="&AW$6:AW$134),COUNTIF(AW$6:AW$134,AW24)>1) -> 1 | AW24: =COUNTIF(AX$6:AX$134,">"&AX$6:AX$134)+1&REPT("-"&COUNTIF(AX$6:AX$134,">="&AX$6:AX$134),COUNTIF(AX$6:AX$134,AX24)>1) -> 55 | AX24: =IF(X24="Х","Х",IF(Y24<3,B24,"Х")) -> 10 | BD24: 0 | BF24: 0 | BM24: 10 | BN24: 9 | BO24: =IF(BM24<BN24,BM24,"") | BQ24: =IFERROR(__xludf.DUMMYFUNCTION("""COMPUTED_VALUE"""),18) -> 18 | BR24: 10 | BS24: 13 | BT24: =IF(BR24<BS24,BR24,"") -> 10 | BU24: 10 | BV24: =IFERROR(__xludf.DUMMYFUNCTION("""COMPUTED_VALUE"""),18) -> 18 | BW24: 10 | BY24: {=IF(BW24<BX24,BW24,"")} -> 10 | BZ24: =IF(BY24="св",0,BY24) -> 10 | CA24: =IFERROR(__xludf.DUMMYFUNCTION("""COMPUTED_VALUE"""),19) -> 19 | CB24: =IF(CA24=0,"св",CA24) -> 19 | CE24: 10 | CG24: {=IF(CE24<CF24,CE24,"")} -> 10 | CH24: 10 | CI24: =IFERROR(__xludf.DUMMYFUNCTION("""COMPUTED_VALUE"""),19) -> 19 | CJ24: 10 | CL24: {=IF(CJ24<CK24,CJ24,"")} -> 10 | CM24: 10 | CN24: =IFERROR(__xludf.DUMMYFUNCTION("""COMPUTED_VALUE"""),19) -> 19 | CO24: 10 | CQ24: {=IF(CO24<CP24,CO24,"")} -> 10 | CR24: 10 | CS24: =IFERROR(__xludf.DUMMYFUNCTION("""COMPUTED_VALUE"""),19) -> 19 | CT24: 10 | CV24: {=IF(CT24<CU24,CT24,"")} -> 10 | CW24: 10 | CX24: =IFERROR(__xludf.DUMMYFUNCTION("""COMPUTED_VALUE"""),19) -> 19 | CY24: 10 | DA24: {=IF(CY24<CZ24,CY24,"")} -> 10 | DB24: 10 | DC24: =IFERROR(__xludf.DUMMYFUNCTION("""COMPUTED_VALUE"""),19) -> 19 | DD24: 10
BN25: 0 | BO25: =IF(BO24="","",BN24) | BQ25: =IFERROR(__xludf.DUMMYFUNCTION("""COMPUTED_VALUE"""),19) -> 19 | BS25: 0 | BT25: =IF(BT24="","",BS24) -> 13 | BU25: 13 | BV25: =IFERROR(__xludf.DUMMYFUNCTION("""COMPUTED_VALUE"""),20) -> 20 | BX25: 0 | BY25: =IF(BY24="","",BX24) | BZ25: =IF(BY25="св",0,BY25) | CA25: =IFERROR(__xludf.DUMMYFUNCTION("""COMPUTED_VALUE"""),20) -> 20 | CB25: =IF(CA25=0,"св",CA25) -> 20 | CF25: 0 | CG25: =IF(CG24="","",CF24) | CI25: =IFERROR(__xludf.DUMMYFUNCTION("""COMPUTED_VALUE"""),20) -> 20 | CK25: 0 | CL25: =IF(CL24="","",CK24) | CN25: =IFERROR(__xludf.DUMMYFUNCTION("""COMPUTED_VALUE"""),20) -> 20 | CP25: 0 | CQ25: =IF(CQ24="","",CP24) | CS25: =IFERROR(__xludf.DUMMYFUNCTION("""COMPUTED_VALUE"""),20) -> 20 | CU25: 0 | CV25: =IF(CV24="","",CU24) | CX25: =IFERROR(__xludf.DUMMYFUNCTION("""COMPUTED_VALUE"""),20) -> 20 | CZ25: 0 | DA25: =IF(DA24="","",CZ24) | DC25: =IFERROR(__xludf.DUMMYFUNCTION("""COMPUTED_VALUE"""),20) -> 20
B26: 11 | C26: =(VLOOKUP($B26,Пр.взв!$D$6:$J$63,2,0)) -> КОЛОСОВА Карина | D26: =(VLOOKUP($B26,Пр.взв!$D$6:$J$63,5,0)) -> КМС | E26: =(VLOOKUP($B26,Пр.взв!$D$6:$M$63,8,0)) -> Воронежская | F26: 12 | H26: 9 | J26: =IF(H26="Х","Х",IF($AC26<6," ","Х")) | L26: =IF(J26="Х","Х",IF(K26<3," ",IF($AC26<6," ","Х"))) | N26: =IF(L26="Х","Х",IF(M26<3," ",IF($AC26<6," ","Х"))) | P26: =IF(N26="Х","Х",IF(O26<3," ",IF($AC26<6," ","Х"))) | R26: =IF(P26="Х","Х",IF(Q26<3," ",IF($AC26<6," ","Х"))) | T26: =IF(R26="Х","Х",IF(S26<3," ",IF($AC26<6," ","Х"))) | V26: =IF(T26="Х","Х",IF(U26<3," ",IF($AC26<6," ","Х"))) | X26: =IF(V26="А1",$AZ$7,IF(V26="Б2",$AZ$6,IF(V26="Б1",$BA$7,IF(V26="А2",$BA$6,IF(V26="Х","Х",IF(V26<6," "," ")))))) | Z26: =IF(V26="Х","Х",IF(ISBLANK(Y26),"",IF(Y26>2.5," ",IF(B26=BB$6,BB$7,BB$6)))) | AB26: =IF(H26="Х",F$5,IF(J26="Х",H$5,IF(L26="Х",J$5,IF(N26="Х",L$5,IF(P26="Х",N$5,IF(R26="Х",P$5,IF(T26="Х",R$5,IF(X26="Х",T$5,"")))))))) | AC26: =SUM(G26+I26+K26+M26+O26+Q26+S26+U26+Y26+AA26) -> 0 | AD26: =AF26 -> 1-22 | AE26: =AD26 -> 1-22 | AF26: =COUNTIF(AG$6:AG$148,">"&AG$6:AG$148)+1&REPT("-"&COUNTIF(AG$6:AG$148,">="&AG$6:AG$148),COUNTIF(AG$6:AG$148,AG26)>1) -> 1-22 | AG26: =(AR26*100)+(AP26*10)-AC26 -> 1280 | AH26: =IF(OR(F26="Х",F26="св")," ",IF(AND(G26>=0,G26<3),"1"," ")) -> 1 | AI26: =IF(OR(H26="Х",H26="св")," ",IF(AND(I26>=0,I26<3),"1"," ")) -> 1 | AJ26: =IF(OR(J26="Х",J26="св")," ",IF(AND(K26>=0,K26<3),"1"," ")) -> 1 | AK26: =IF(OR(L26="Х",L26="св")," ",IF(AND(M26>=0,M26<3),"1"," ")) -> 1 | AL26: =IF(OR(N26="Х",N26="св")," ",IF(AND(O26>=0,O26<3),"1"," ")) -> 1 | AM26: =IF(OR(P26="Х",P26="св")," ",IF(AND(Q26>=0,Q26<3),"1"," ")) -> 1 | AN26: =IF(OR(R26="Х",R26="св")," ",IF(AND(S26>=0,S26<3),"1"," ")) -> 1 | AO26: =IF(OR(T26="Х",T26="св")," ",IF(AND(U26>=0,U26<3),"1"," ")) -> 1 | AP26: =COUNTIF(AH26:AO27,1) -> 8 | AQ26: =AG26-AC26 -> 1280 | AR26: =IF(F26=0,0,IF(F26="Х",1,IF(H26="Х",2,IF(J26="Х",3,IF(L26="Х",4,IF(N26="Х",5,IF(P26="Х",6,IF(R26="Х",7,IF(T26="Х",8,IF(V26="Х",9,IF(Y26>2.5,10,IF(AA26>2.5,11,IF(AA26>=0,12,IF(AA26=" ",0,)))))))))))))) -> 12 | AS26: =COUNTIF(AG$6:AG$134,">"&AG$6:AG$134)+1&REPT("-"&COUNTIF(AG$6:AG$134,">="&AG$6:AG$134),COUNTIF(AG$6:AG$134,AG26)>1) -> 1-22 | AT26: =COUNTIF(AU$6:AU$134,">"&AU$6:AU$134)+1&REPT("-"&COUNTIF(AU$6:AU$134,">="&AU$6:AU$134),COUNTIF(AU$6:AU$134,AU26)>1) -> 1-64 | AU26: =COUNTIF(AV$6:AV$134,">"&AV$6:AV$134)+1&REPT("-"&COUNTIF(AV$6:AV$134,">="&AV$6:AV$134),COUNTIF(AV$6:AV$134,AV26)>1) -> 1-0 | AV26: =COUNTIF(AW$6:AW$134,">"&AW$6:AW$134)+1&REPT("-"&COUNTIF(AW$6:AW$134,">="&AW$6:AW$134),COUNTIF(AW$6:AW$134,AW26)>1) -> 1 | AW26: =COUNTIF(AX$6:AX$134,">"&AX$6:AX$134)+1&REPT("-"&COUNTIF(AX$6:AX$134,">="&AX$6:AX$134),COUNTIF(AX$6:AX$134,AX26)>1) -> 54 | AX26: =IF(X26="Х","Х",IF(Y26<3,B26,"Х")) -> 11 | BM26: 11 | BN26: 12 | BO26: =IF(BM26<BN26,BM26,"") -> 11 | BP26: 11 | BQ26: =IFERROR(__xludf.DUMMYFUNCTION("""COMPUTED_VALUE"""),20) -> 20 | BR26: 11 | BS26: 9 | BT26: =IF(BR26<BS26,BR26,"") | BV26: =IFERROR(__xludf.DUMMYFUNCTION("""COMPUTED_VALUE"""),19) -> 19 | BW26: 11 | BY26: {=IF(BW26<BX26,BW26,"")} -> 11 | BZ26: =IF(BY26="св",0,BY26) -> 11 | CA26: =IFERROR(__xludf.DUMMYFUNCTION("""COMPUTED_VALUE"""),21) -> 21 | CB26: =IF(CA26=0,"св",CA26) -> 21 | CE26: 11 | CG26: {=IF(CE26<CF26,CE26,"")} -> 11 | CH26: 11 | CI26: =IFERROR(__xludf.DUMMYFUNCTION("""COMPUTED_VALUE"""),21) -> 21 | CJ26: 11 | CL26: {=IF(CJ26<CK26,CJ26,"")} -> 11 | CM26: 11 | CN26: =IFERROR(__xludf.DUMMYFUNCTION("""COMPUTED_VALUE"""),21) -> 21 | CO26: 11 | CQ26: {=IF(CO26<CP26,CO26,"")} -> 11 | CR26: 11 | CS26: =IFERROR(__xludf.DUMMYFUNCTION("""COMPUTED_VALUE"""),21) -> 21 | CT26: 11 | CV26: {=IF(CT26<CU26,CT26,"")} -> 11 | CW26: 11 | CX26: =IFERROR(__xludf.DUMMYFUNCTION("""COMPUTED_VALUE"""),21) -> 21 | CY26: 11 | DA26: {=IF(CY26<CZ26,CY26,"")} -> 11 | DB26: 11 | DC26: =IFERROR(__xludf.DUMMYFUNCTION("""COMPUTED_VALUE"""),21) -> 21 | DD26: 11
BN27: 0 | BO27: =IF(BO26="","",BN26) -> 12 | BP27: 12 | BQ27: =IFERROR(__xludf.DUMMYFUNCTION("""COMPUTED_VALUE"""),21) -> 21 | BS27: 0 | BT27: =IF(BT26="","",BS26) | BV27: =IFERROR(__xludf.DUMMYFUNCTION("""COMPUTED_VALUE"""),21) -> 21 | BX27: 0 | BY27: =IF(BY26="","",BX26) | BZ27: =IF(BY27="св",0,BY27) | CA27: =IFERROR(__xludf.DUMMYFUNCTION("""COMPUTED_VALUE"""),22) -> 22 | CB27: =IF(CA27=0,"св",CA27) -> 22 | CF27: 0 | CG27: =IF(CG26="","",CF26) | CI27: =IFERROR(__xludf.DUMMYFUNCTION("""COMPUTED_VALUE"""),22) -> 22 | CK27: 0 | CL27: =IF(CL26="","",CK26) | CN27: =IFERROR(__xludf.DUMMYFUNCTION("""COMPUTED_VALUE"""),22) -> 22 | CP27: 0 | CQ27: =IF(CQ26="","",CP26) | CS27: =IFERROR(__xludf.DUMMYFUNCTION("""COMPUTED_VALUE"""),22) -> 22 | CU27: 0 | CV27: =IF(CV26="","",CU26) | CX27: =IFERROR(__xludf.DUMMYFUNCTION("""COMPUTED_VALUE"""),22) -> 22 | CZ27: 0 | DA27: =IF(DA26="","",CZ26) | DC27: =IFERROR(__xludf.DUMMYFUNCTION("""COMPUTED_VALUE"""),22) -> 22
B28: 12 | C28: =(VLOOKUP($B28,Пр.взв!$D$6:$J$63,2,0)) -> МУРАШОВА Марина | D28: =(VLOOKUP($B28,Пр.взв!$D$6:$J$63,5,0)) -> 1р | E28: =(VLOOKUP($B28,Пр.взв!$D$6:$M$63,8,0)) -> Свердловская | F28: 11 | H28: св | J28: =IF(H28="Х","Х",IF($AC28<6," ","Х")) | L28: =IF(J28="Х","Х",IF(K28<3," ",IF($AC28<6," ","Х"))) | N28: =IF(L28="Х","Х",IF(M28<3," ",IF($AC28<6," ","Х"))) | P28: =IF(N28="Х","Х",IF(O28<3," ",IF($AC28<6," ","Х"))) | R28: =IF(P28="Х","Х",IF(Q28<3," ",IF($AC28<6," ","Х"))) | T28: =IF(R28="Х","Х",IF(S28<3," ",IF($AC28<6," ","Х"))) | V28: =IF(T28="Х","Х",IF(U28<3," ",IF($AC28<6," ","Х"))) | X28: =IF(V28="А1",$AZ$7,IF(V28="Б2",$AZ$6,IF(V28="Б1",$BA$7,IF(V28="А2",$BA$6,IF(V28="Х","Х",IF(V28<6," "," ")))))) | Z28: =IF(V28="Х","Х",IF(ISBLANK(Y28),"",IF(Y28>2.5," ",IF(B28=BB$6,BB$7,BB$6)))) | AB28: =IF(H28="Х",F$5,IF(J28="Х",H$5,IF(L28="Х",J$5,IF(N28="Х",L$5,IF(P28="Х",N$5,IF(R28="Х",P$5,IF(T28="Х",R$5,IF(X28="Х",T$5,"")))))))) | AC28: =SUM(G28+I28+K28+M28+O28+Q28+S28+U28+Y28+AA28) -> 0 | AD28: =AF28 -> 23-26 | AE28: =AD28 -> 23-26 | AF28: =COUNTIF(AG$6:AG$148,">"&AG$6:AG$148)+1&REPT("-"&COUNTIF(AG$6:AG$148,">="&AG$6:AG$148),COUNTIF(AG$6:AG$148,AG28)>1) -> 23-26 | AG28: =(AR28*100)+(AP28*10)-AC28 -> 1270 | AH28: =IF(OR(F28="Х",F28="св")," ",IF(AND(G28>=0,G28<3),"1"," ")) -> 1 | AI28: =IF(OR(H28="Х",H28="св")," ",IF(AND(I28>=0,I28<3),"1"," ")) | AJ28: =IF(OR(J28="Х",J28="св")," ",IF(AND(K28>=0,K28<3),"1"," ")) -> 1 | AK28: =IF(OR(L28="Х",L28="св")," ",IF(AND(M28>=0,M28<3),"1"," ")) -> 1 | AL28: =IF(OR(N28="Х",N28="св")," ",IF(AND(O28>=0,O28<3),"1"," ")) -> 1 | AM28: =IF(OR(P28="Х",P28="св")," ",IF(AND(Q28>=0,Q28<3),"1"," ")) -> 1 | AN28: =IF(OR(R28="Х",R28="св")," ",IF(AND(S28>=0,S28<3),"1"," ")) -> 1 | AO28: =IF(OR(T28="Х",T28="св")," ",IF(AND(U28>=0,U28<3),"1"," ")) -> 1 | AP28: =COUNTIF(AH28:AO29,1) -> 7 | AQ28: =AG28-AC28 -> 1270 | AR28: =IF(F28=0,0,IF(F28="Х",1,IF(H28="Х",2,IF(J28="Х",3,IF(L28="Х",4,IF(N28="Х",5,IF(P28="Х",6,IF(R28="Х",7,IF(T28="Х",8,IF(V28="Х",9,IF(Y28>2.5,10,IF(AA28>2.5,11,IF(AA28>=0,12,IF(AA28=" ",0,)))))))))))))) -> 12 | AS28: =COUNTIF(AG$6:AG$134,">"&AG$6:AG$134)+1&REPT("-"&COUNTIF(AG$6:AG$134,">="&AG$6:AG$134),COUNTIF(AG$6:AG$134,AG28)>1) -> 23-26 | AT28: =COUNTIF(AU$6:AU$134,">"&AU$6:AU$134)+1&REPT("-"&COUNTIF(AU$6:AU$134,">="&AU$6:AU$134),COUNTIF(AU$6:AU$134,AU28)>1) -> 1-64 | AU28: =COUNTIF(AV$6:AV$134,">"&AV$6:AV$134)+1&REPT("-"&COUNTIF(AV$6:AV$134,">="&AV$6:AV$134),COUNTIF(AV$6:AV$134,AV28)>1) -> 1-0 | AV28: =COUNTIF(AW$6:AW$134,">"&AW$6:AW$134)+1&REPT("-"&COUNTIF(AW$6:AW$134,">="&AW$6:AW$134),COUNTIF(AW$6:AW$134,AW28)>1) -> 1 | AW28: =COUNTIF(AX$6:AX$134,">"&AX$6:AX$134)+1&REPT("-"&COUNTIF(AX$6:AX$134,">="&AX$6:AX$134),COUNTIF(AX$6:AX$134,AX28)>1) -> 53 | AX28: =IF(X28="Х","Х",IF(Y28<3,B28,"Х")) -> 12 | BM28: 12 | BN28: 11 | BO28: =IF(BM28<BN28,BM28,"") | BQ28: =IFERROR(__xludf.DUMMYFUNCTION("""COMPUTED_VALUE"""),22) -> 22 | BR28: 12 | BS28: св | BT28: =IF(BR28<BS28,BR28,"") -> 12 | BU28: 12 | BV28: =IFERROR(__xludf.DUMMYFUNCTION("""COMPUTED_VALUE"""),22) -> 22 | BW28: 12 | BY28: {=IF(BW28<BX28,BW28,"")} -> 12 | BZ28: =IF(BY28="св",0,BY28) -> 12 | CA28: =IFERROR(__xludf.DUMMYFUNCTION("""COMPUTED_VALUE"""),23) -> 23 | CB28: =IF(CA28=0,"св",CA28) -> 23 | CE28: 12 | CG28: {=IF(CE28<CF28,CE28,"")} -> 12 | CH28: 12 | CI28: =IFERROR(__xludf.DUMMYFUNCTION("""COMPUTED_VALUE"""),23) -> 23 | CJ28: 12 | CL28: {=IF(CJ28<CK28,CJ28,"")} -> 12 | CM28: 12 | CN28: =IFERROR(__xludf.DUMMYFUNCTION("""COMPUTED_VALUE"""),23) -> 23 | CO28: 12 | CQ28: {=IF(CO28<CP28,CO28,"")} -> 12 | CR28: 12 | CS28: =IFERROR(__xludf.DUMMYFUNCTION("""COMPUTED_VALUE"""),23) -> 23 | CT28: 12 | CV28: {=IF(CT28<CU28,CT28,"")} -> 12 | CW28: 12 | CX28: =IFERROR(__xludf.DUMMYFUNCTION("""COMPUTED_VALUE"""),23) -> 23 | CY28: 12 | DA28: {=IF(CY28<CZ28,CY28,"")} -> 12 | DB28: 12 | DC28: =IFERROR(__xludf.DUMMYFUNCTION("""COMPUTED_VALUE"""),23) -> 23 | DD28: 12
BN29: 0 | BO29: =IF(BO28="","",BN28) | BQ29: =IFERROR(__xludf.DUMMYFUNCTION("""COMPUTED_VALUE"""),23) -> 23 | BS29: 0 | BT29: =IF(BT28="","",BS28) -> св | BU29: 0 | BV29: =IFERROR(__xludf.DUMMYFUNCTION("""COMPUTED_VALUE"""),24) -> 24 | BX29: 0 | BY29: =IF(BY28="","",BX28) | BZ29: =IF(BY29="св",0,BY29) | CA29: =IFERROR(__xludf.DUMMYFUNCTION("""COMPUTED_VALUE"""),24) -> 24 | CB29: =IF(CA29=0,"св",CA29) -> 24 | CF29: 0 | CG29: =IF(CG28="","",CF28) | CI29: =IFERROR(__xludf.DUMMYFUNCTION("""COMPUTED_VALUE"""),24) -> 24 | CK29: 0 | CL29: =IF(CL28="","",CK28) | CN29: =IFERROR(__xludf.DUMMYFUNCTION("""COMPUTED_VALUE"""),24) -> 24 | CP29: 0 | CQ29: =IF(CQ28="","",CP28) | CS29: =IFERROR(__xludf.DUMMYFUNCTION("""COMPUTED_VALUE"""),24) -> 24 | CU29: 0 | CV29: =IF(CV28="","",CU28) | CX29: =IFERROR(__xludf.DUMMYFUNCTION("""COMPUTED_VALUE"""),24) -> 24 | CZ29: 0 | DA29: =IF(DA28="","",CZ28) | DC29: =IFERROR(__xludf.DUMMYFUNCTION("""COMPUTED_VALUE"""),24) -> 24
B30: 13 | C30: =(VLOOKUP($B30,Пр.взв!$D$6:$J$63,2,0)) -> КАРАТАЕВА Анастасия | D30: =(VLOOKUP($B30,Пр.взв!$D$6:$J$63,5,0)) -> КМС | E30: =(VLOOKUP($B30,Пр.взв!$D$6:$M$63,8,0)) -> Алтайский | F30: св | H30: 10 | J30: =IF(H30="Х","Х",IF($AC30<6," ","Х")) | L30: =IF(J30="Х","Х",IF(K30<3," ",IF($AC30<6," ","Х"))) | N30: =IF(L30="Х","Х",IF(M30<3," ",IF($AC30<6," ","Х"))) | P30: =IF(N30="Х","Х",IF(O30<3," ",IF($AC30<6," ","Х"))) | R30: =IF(P30="Х","Х",IF(Q30<3," ",IF($AC30<6," ","Х"))) | T30: =IF(R30="Х","Х",IF(S30<3," ",IF($AC30<6," ","Х"))) | V30: =IF(T30="Х","Х",IF(U30<3," ",IF($AC30<6," ","Х"))) | X30: =IF(V30="А1",$AZ$7,IF(V30="Б2",$AZ$6,IF(V30="Б1",$BA$7,IF(V30="А2",$BA$6,IF(V30="Х","Х",IF(V30<6," "," ")))))) | Z30: =IF(V30="Х","Х",IF(ISBLANK(Y30),"",IF(Y30>2.5," ",IF(B30=BB$6,BB$7,BB$6)))) | AB30: =IF(H30="Х",F$5,IF(J30="Х",H$5,IF(L30="Х",J$5,IF(N30="Х",L$5,IF(P30="Х",N$5,IF(R30="Х",P$5,IF(T30="Х",R$5,IF(X30="Х",T$5,"")))))))) | AC30: =SUM(G30+I30+K30+M30+O30+Q30+S30+U30+Y30+AA30) -> 0 | AD30: =AF30 -> 23-26 | AE30: =AD30 -> 23-26 | AF30: =COUNTIF(AG$6:AG$148,">"&AG$6:AG$148)+1&REPT("-"&COUNTIF(AG$6:AG$148,">="&AG$6:AG$148),COUNTIF(AG$6:AG$148,AG30)>1) -> 23-26 | AG30: =(AR30*100)+(AP30*10)-AC30 -> 1270 | AH30: =IF(OR(F30="Х",F30="св")," ",IF(AND(G30>=0,G30<3),"1"," ")) | AI30: =IF(OR(H30="Х",H30="св")," ",IF(AND(I30>=0,I30<3),"1"," ")) -> 1 | AJ30: =IF(OR(J30="Х",J30="св")," ",IF(AND(K30>=0,K30<3),"1"," ")) -> 1 | AK30: =IF(OR(L30="Х",L30="св")," ",IF(AND(M30>=0,M30<3),"1"," ")) -> 1 | AL30: =IF(OR(N30="Х",N30="св")," ",IF(AND(O30>=0,O30<3),"1"," ")) -> 1 | AM30: =IF(OR(P30="Х",P30="св")," ",IF(AND(Q30>=0,Q30<3),"1"," ")) -> 1 | AN30: =IF(OR(R30="Х",R30="св")," ",IF(AND(S30>=0,S30<3),"1"," ")) -> 1 | AO30: =IF(OR(T30="Х",T30="св")," ",IF(AND(U30>=0,U30<3),"1"," ")) -> 1 | AP30: =COUNTIF(AH30:AO31,1) -> 7 | AQ30: =AG30-AC30 -> 1270 | AR30: =IF(F30=0,0,IF(F30="Х",1,IF(H30="Х",2,IF(J30="Х",3,IF(L30="Х",4,IF(N30="Х",5,IF(P30="Х",6,IF(R30="Х",7,IF(T30="Х",8,IF(V30="Х",9,IF(Y30>2.5,10,IF(AA30>2.5,11,IF(AA30>=0,12,IF(AA30=" ",0,)))))))))))))) -> 12 | AS30: =COUNTIF(AG$6:AG$134,">"&AG$6:AG$134)+1&REPT("-"&COUNTIF(AG$6:AG$134,">="&AG$6:AG$134),COUNTIF(AG$6:AG$134,AG30)>1) -> 23-26 | AT30: =COUNTIF(AU$6:AU$134,">"&AU$6:AU$134)+1&REPT("-"&COUNTIF(AU$6:AU$134,">="&AU$6:AU$134),COUNTIF(AU$6:AU$134,AU30)>1) -> 1-64 | AU30: =COUNTIF(AV$6:AV$134,">"&AV$6:AV$134)+1&REPT("-"&COUNTIF(AV$6:AV$134,">="&AV$6:AV$134),COUNTIF(AV$6:AV$134,AV30)>1) -> 1-0 | AV30: =COUNTIF(AW$6:AW$134,">"&AW$6:AW$134)+1&REPT("-"&COUNTIF(AW$6:AW$134,">="&AW$6:AW$134),COUNTIF(AW$6:AW$134,AW30)>1) -> 1 | AW30: =COUNTIF(AX$6:AX$134,">"&AX$6:AX$134)+1&REPT("-"&COUNTIF(AX$6:AX$134,">="&AX$6:AX$134),COUNTIF(AX$6:AX$134,AX30)>1) -> 52 | AX30: =IF(X30="Х","Х",IF(Y30<3,B30,"Х")) -> 13 | BM30: 13 | BN30: св | BO30: =IF(BM30<BN30,BM30,"") -> 13 | BP30: 13 | BQ30: =IFERROR(__xludf.DUMMYFUNCTION("""COMPUTED_VALUE"""),24) -> 24 | BR30: 13 | BS30: 10 | BT30: =IF(BR30<BS30,BR30,"") | BV30: =IFERROR(__xludf.DUMMYFUNCTION("""COMPUTED_VALUE"""),23) -> 23 | BW30: 13 | BY30: {=IF(BW30<BX30,BW30,"")} -> 13 | BZ30: =IF(BY30="св",0,BY30) -> 13 | CA30: =IFERROR(__xludf.DUMMYFUNCTION("""COMPUTED_VALUE"""),25) -> 25 | CB30: =IF(CA30=0,"св",CA30) -> 25 | CE30: 13 | CG30: {=IF(CE30<CF30,CE30,"")} -> 13 | CH30: 13 | CI30: =IFERROR(__xludf.DUMMYFUNCTION("""COMPUTED_VALUE"""),25) -> 25 | CJ30: 13 | CL30: {=IF(CJ30<CK30,CJ30,"")} -> 13 | CM30: 13 | CN30: =IFERROR(__xludf.DUMMYFUNCTION("""COMPUTED_VALUE"""),25) -> 25 | CO30: 13 | CQ30: {=IF(CO30<CP30,CO30,"")} -> 13 | CR30: 13 | CS30: =IFERROR(__xludf.DUMMYFUNCTION("""COMPUTED_VALUE"""),25) -> 25 | CT30: 13 | CV30: {=IF(CT30<CU30,CT30,"")} -> 13 | CW30: 13 | CX30: =IFERROR(__xludf.DUMMYFUNCTION("""COMPUTED_VALUE"""),25) -> 25 | CY30: 13 | DA30: {=IF(CY30<CZ30,CY30,"")} -> 13 | DB30: 13 | DC30: =IFERROR(__xludf.DUMMYFUNCTION("""COMPUTED_VALUE"""),25) -> 25 | DD30: 13
BN31: 0 | BO31: =IF(BO30="","",BN30) -> св | BP31: 0 | BQ31: =IFERROR(__xludf.DUMMYFUNCTION("""COMPUTED_VALUE"""),25) -> 25 | BS31: 0 | BT31: =IF(BT30="","",BS30) | BV31: =IFERROR(__xludf.DUMMYFUNCTION("""COMPUTED_VALUE"""),26) -> 26 | BX31: 0 | BY31: =IF(BY30="","",BX30) | BZ31: =IF(BY31="св",0,BY31) | CA31: =IFERROR(__xludf.DUMMYFUNCTION("""COMPUTED_VALUE"""),26) -> 26 | CB31: =IF(CA31=0,"св",CA31) -> 26 | CF31: 0 | CG31: =IF(CG30="","",CF30) | CI31: =IFERROR(__xludf.DUMMYFUNCTION("""COMPUTED_VALUE"""),26) -> 26 | CK31: 0 | CL31: =IF(CL30="","",CK30) | CN31: =IFERROR(__xludf.DUMMYFUNCTION("""COMPUTED_VALUE"""),26) -> 26 | CP31: 0 | CQ31: =IF(CQ30="","",CP30) | CS31: =IFERROR(__xludf.DUMMYFUNCTION("""COMPUTED_VALUE"""),26) -> 26 | CU31: 0 | CV31: =IF(CV30="","",CU30) | CX31: =IFERROR(__xludf.DUMMYFUNCTION("""COMPUTED_VALUE"""),26) -> 26 | CZ31: 0 | DA31: =IF(DA30="","",CZ30) | DC31: =IFERROR(__xludf.DUMMYFUNCTION("""COMPUTED_VALUE"""),26) -> 26
BN32: 0 | BP32: 0 | BQ32: =IFERROR(__xludf.DUMMYFUNCTION("""COMPUTED_VALUE"""),26) -> 26 | BS32: 0 | BU32: 0 | BV32: =IFERROR(__xludf.DUMMYFUNCTION("""COMPUTED_VALUE"""),25) -> 25 | BX32: 0 | CA32: =IFERROR(__xludf.DUMMYFUNCTION("""COMPUTED_VALUE"""),27) -> 27 | CF32: 0 | CH32: 0 | CI32: =IFERROR(__xludf.DUMMYFUNCTION("""COMPUTED_VALUE"""),27) -> 27 | CK32: 0 | CM32: 0 | CN32: =IFERROR(__xludf.DUMMYFUNCTION("""COMPUTED_VALUE"""),27) -> 27 | CP32: 0 | CR32: 0 | CS32: =IFERROR(__xludf.DUMMYFUNCTION("""COMPUTED_VALUE"""),27) -> 27 | CU32: 0 | CW32: 0 | CX32: =IFERROR(__xludf.DUMMYFUNCTION("""COMPUTED_VALUE"""),27) -> 27 | CZ32: 0 | DB32: 0 | DC32: =IFERROR(__xludf.DUMMYFUNCTION("""COMPUTED_VALUE"""),27) -> 27
B33: 14 | C33: =(VLOOKUP($B33,Пр.взв!$D$6:$J$63,2,0)) -> ИЗМАЛКОВА Анастасия | D33: =(VLOOKUP($B33,Пр.взв!$D$6:$J$63,5,0)) -> КМС | E33: =(VLOOKUP($B33,Пр.взв!$D$6:$M$63,8,0)) -> Московская | F33: 15 | H33: 16 | J33: =IF(H33="Х","Х",IF($AC33<6," ","Х")) | L33: =IF(J33="Х","Х",IF(K33<3," ",IF($AC33<6," ","Х"))) | N33: =IF(L33="Х","Х",IF(M33<3," ",IF($AC33<6," ","Х"))) | P33: =IF(N33="Х","Х",IF(O33<3," ",IF($AC33<6," ","Х"))) | R33: =IF(P33="Х","Х",IF(Q33<3," ",IF($AC33<6," ","Х"))) | T33: =IF(R33="Х","Х",IF(S33<3," ",IF($AC33<6," ","Х"))) | V33: =IF(T33="Х","Х",IF(U33<3," ",IF($AC33<6," ","Х"))) | X33: =IF(V33="А1",$AZ$7,IF(V33="Б2",$AZ$6,IF(V33="Б1",$BA$7,IF(V33="А2",$BA$6,IF(V33="Х","Х",IF(V33<6," "," ")))))) | Z33: =IF(V33="Х","Х",IF(ISBLANK(Y33),"",IF(Y33>2.5," ",IF(B33=BB$6,BB$7,BB$6)))) | AB33: =IF(H33="Х",F$5,IF(J33="Х",H$5,IF(L33="Х",J$5,IF(N33="Х",L$5,IF(P33="Х",N$5,IF(R33="Х",P$5,IF(T33="Х",R$5,IF(X33="Х",T$5,"")))))))) | AC33: =SUM(G33+I33+K33+M33+O33+Q33+S33+U33+Y33+AA33) -> 0 | AD33: =AF33 -> 1-22 | AE33: =AD33 -> 1-22 | AF33: =COUNTIF(AG$6:AG$148,">"&AG$6:AG$148)+1&REPT("-"&COUNTIF(AG$6:AG$148,">="&AG$6:AG$148),COUNTIF(AG$6:AG$148,AG33)>1) -> 1-22 | AG33: =(AR33*100)+(AP33*10)-AC33 -> 1280 | AH33: =IF(OR(F33="Х",F33="св")," ",IF(AND(G33>=0,G33<3),"1"," ")) -> 1 | AI33: =IF(OR(H33="Х",H33="св")," ",IF(AND(I33>=0,I33<3),"1"," ")) -> 1 | AJ33: =IF(OR(J33="Х",J33="св")," ",IF(AND(K33>=0,K33<3),"1"," ")) -> 1 | AK33: =IF(OR(L33="Х",L33="св")," ",IF(AND(M33>=0,M33<3),"1"," ")) -> 1 | AL33: =IF(OR(N33="Х",N33="св")," ",IF(AND(O33>=0,O33<3),"1"," ")) -> 1 | AM33: =IF(OR(P33="Х",P33="св")," ",IF(AND(Q33>=0,Q33<3),"1"," ")) -> 1 | AN33: =IF(OR(R33="Х",R33="св")," ",IF(AND(S33>=0,S33<3),"1"," ")) -> 1 | AO33: =IF(OR(T33="Х",T33="св")," ",IF(AND(U33>=0,U33<3),"1"," ")) -> 1 | AP33: =COUNTIF(AH33:AO34,1) -> 8 | AQ33: =AG33-AC33 -> 1280 | AR33: =IF(F33=0,0,IF(F33="Х",1,IF(H33="Х",2,IF(J33="Х",3,IF(L33="Х",4,IF(N33="Х",5,IF(P33="Х",6,IF(R33="Х",7,IF(T33="Х",8,IF(V33="Х",9,IF(Y33>2.5,10,IF(AA33>2.5,11,IF(AA33>=0,12,IF(AA33=" ",0,)))))))))))))) -> 12 | AS33: =COUNTIF(AG$6:AG$134,">"&AG$6:AG$134)+1&REPT("-"&COUNTIF(AG$6:AG$134,">="&AG$6:AG$134),COUNTIF(AG$6:AG$134,AG33)>1) -> 1-22 | AT33: =COUNTIF(AU$6:AU$134,">"&AU$6:AU$134)+1&REPT("-"&COUNTIF(AU$6:AU$134,">="&AU$6:AU$134),COUNTIF(AU$6:AU$134,AU33)>1) -> 1-64 | AU33: =COUNTIF(AV$6:AV$134,">"&AV$6:AV$134)+1&REPT("-"&COUNTIF(AV$6:AV$134,">="&AV$6:AV$134),COUNTIF(AV$6:AV$134,AV33)>1) -> 1-0 | AV33: =COUNTIF(AW$6:AW$134,">"&AW$6:AW$134)+1&REPT("-"&COUNTIF(AW$6:AW$134,">="&AW$6:AW$134),COUNTIF(AW$6:AW$134,AW33)>1) -> 1 | AW33: =COUNTIF(AX$6:AX$134,">"&AX$6:AX$134)+1&REPT("-"&COUNTIF(AX$6:AX$134,">="&AX$6:AX$134),COUNTIF(AX$6:AX$134,AX33)>1) -> 51 | AX33: =IF(X33="Х","Х",IF(Y33<3,B33,"Х")) -> 14 | BM33: 14 | BN33: 15 | BO33: =IF(BM33<BN33,BM33,"") -> 14 | BP33: 14 | BQ33: =IFERROR(__xludf.DUMMYFUNCTION("""COMPUTED_VALUE"""),0) -> 0 | BR33: 14 | BS33: 16 | BT33: =IF(BR33<BS33,BR33,"") -> 14 | BU33: 14 | BV33: =IFERROR(__xludf.DUMMYFUNCTION("""COMPUTED_VALUE"""),0) -> 0 | BW33: 14 | BY33: {=IF(BW33<BX33,BW33,"")} -> 14 | BZ33: =IF(BY33="св",0,BY33) -> 14 | CA33: =IFERROR(__xludf.DUMMYFUNCTION("""COMPUTED_VALUE"""),28) -> 28 | CB33: =IF(CA33=0,"св",CA33) -> 28 | CE33: 14 | CG33: {=IF(CE33<CF33,CE33,"")} -> 14 | CH33: 14 | CI33: =IFERROR(__xludf.DUMMYFUNCTION("""COMPUTED_VALUE"""),28) -> 28 | CJ33: 14 | CL33: {=IF(CJ33<CK33,CJ33,"")} -> 14 | CM33: 14 | CN33: =IFERROR(__xludf.DUMMYFUNCTION("""COMPUTED_VALUE"""),28) -> 28 | CO33: 14 | CQ33: {=IF(CO33<CP33,CO33,"")} -> 14 | CR33: 14 | CS33: =IFERROR(__xludf.DUMMYFUNCTION("""COMPUTED_VALUE"""),28) -> 28 | CT33: 14 | CV33: {=IF(CT33<CU33,CT33,"")} -> 14 | CW33: 14 | CX33: =IFERROR(__xludf.DUMMYFUNCTION("""COMPUTED_VALUE"""),28) -> 28 | CY33: 14 | DA33: {=IF(CY33<CZ33,CY33,"")} -> 14 | DB33: 14 | DC33: =IFERROR(__xludf.DUMMYFUNCTION("""COMPUTED_VALUE"""),28) -> 28 | DD33: 14
BN34: 0 | BO34: =IF(BO33="","",BN33) -> 15 | BP34: 15 | BS34: 0 | BT34: =IF(BT33="","",BS33) -> 16 | BU34: 16 | BX34: 0 | BY34: =IF(BY33="","",BX33) | BZ34: =IF(BY34="св",0,BY34) | CA34: =IFERROR(__xludf.DUMMYFUNCTION("""COMPUTED_VALUE"""),29) -> 29 | CB34: =IF(CA34=0,"св",CA34) -> 29 | CF34: 0 | CG34: =IF(CG33="","",CF33) | CI34: =IFERROR(__xludf.DUMMYFUNCTION("""COMPUTED_VALUE"""),29) -> 29 | CK34: 0 | CL34: =IF(CL33="","",CK33) | CN34: =IFERROR(__xludf.DUMMYFUNCTION("""COMPUTED_VALUE"""),29) -> 29 | CP34: 0 | CQ34: =IF(CQ33="","",CP33) | CS34: =IFERROR(__xludf.DUMMYFUNCTION("""COMPUTED_VALUE"""),29) -> 29 | CU34: 0 | CV34: =IF(CV33="","",CU33) | CX34: =IFERROR(__xludf.DUMMYFUNCTION("""COMPUTED_VALUE"""),29) -> 29 | CZ34: 0 | DA34: =IF(DA33="","",CZ33) | DC34: =IFERROR(__xludf.DUMMYFUNCTION("""COMPUTED_VALUE"""),29) -> 29
B35: 15 | C35: =(VLOOKUP($B35,Пр.взв!$D$6:$J$63,2,0)) -> МАЙОРСКАЯ Виктория | D35: =(VLOOKUP($B35,Пр.взв!$D$6:$J$63,5,0)) -> КМС | E35: =(VLOOKUP($B35,Пр.взв!$D$6:$M$63,8,0)) -> Москва | F35: 14 | H35: 17 | J35: =IF(H35="Х","Х",IF($AC35<6," ","Х")) | L35: =IF(J35="Х","Х",IF(K35<3," ",IF($AC35<6," ","Х"))) | N35: =IF(L35="Х","Х",IF(M35<3," ",IF($AC35<6," ","Х"))) | P35: =IF(N35="Х","Х",IF(O35<3," ",IF($AC35<6," ","Х"))) | R35: =IF(P35="Х","Х",IF(Q35<3," ",IF($AC35<6," ","Х"))) | T35: =IF(R35="Х","Х",IF(S35<3," ",IF($AC35<6," ","Х"))) | V35: =IF(T35="Х","Х",IF(U35<3," ",IF($AC35<6," ","Х"))) | X35: =IF(V35="А1",$AZ$7,IF(V35="Б2",$AZ$6,IF(V35="Б1",$BA$7,IF(V35="А2",$BA$6,IF(V35="Х","Х",IF(V35<6," "," ")))))) | Z35: =IF(V35="Х","Х",IF(ISBLANK(Y35),"",IF(Y35>2.5," ",IF(B35=BB$6,BB$7,BB$6)))) | AB35: =IF(H35="Х",F$5,IF(J35="Х",H$5,IF(L35="Х",J$5,IF(N35="Х",L$5,IF(P35="Х",N$5,IF(R35="Х",P$5,IF(T35="Х",R$5,IF(X35="Х",T$5,"")))))))) | AC35: =SUM(G35+I35+K35+M35+O35+Q35+S35+U35+Y35+AA35) -> 0 | AD35: =AF35 -> 1-22 | AE35: =AD35 -> 1-22 | AF35: =COUNTIF(AG$6:AG$148,">"&AG$6:AG$148)+1&REPT("-"&COUNTIF(AG$6:AG$148,">="&AG$6:AG$148),COUNTIF(AG$6:AG$148,AG35)>1) -> 1-22 | AG35: =(AR35*100)+(AP35*10)-AC35 -> 1280 | AH35: =IF(OR(F35="Х",F35="св")," ",IF(AND(G35>=0,G35<3),"1"," ")) -> 1 | AI35: =IF(OR(H35="Х",H35="св")," ",IF(AND(I35>=0,I35<3),"1"," ")) -> 1 | AJ35: =IF(OR(J35="Х",J35="св")," ",IF(AND(K35>=0,K35<3),"1"," ")) -> 1 | AK35: =IF(OR(L35="Х",L35="св")," ",IF(AND(M35>=0,M35<3),"1"," ")) -> 1 | AL35: =IF(OR(N35="Х",N35="св")," ",IF(AND(O35>=0,O35<3),"1"," ")) -> 1 | AM35: =IF(OR(P35="Х",P35="св")," ",IF(AND(Q35>=0,Q35<3),"1"," ")) -> 1 | AN35: =IF(OR(R35="Х",R35="св")," ",IF(AND(S35>=0,S35<3),"1"," ")) -> 1 | AO35: =IF(OR(T35="Х",T35="св")," ",IF(AND(U35>=0,U35<3),"1"," ")) -> 1 | AP35: =COUNTIF(AH35:AO36,1) -> 8 | AQ35: =AG35-AC35 -> 1280 | AR35: =IF(F35=0,0,IF(F35="Х",1,IF(H35="Х",2,IF(J35="Х",3,IF(L35="Х",4,IF(N35="Х",5,IF(P35="Х",6,IF(R35="Х",7,IF(T35="Х",8,IF(V35="Х",9,IF(Y35>2.5,10,IF(AA35>2.5,11,IF(AA35>=0,12,IF(AA35=" ",0,)))))))))))))) -> 12 | AS35: =COUNTIF(AG$6:AG$134,">"&AG$6:AG$134)+1&REPT("-"&COUNTIF(AG$6:AG$134,">="&AG$6:AG$134),COUNTIF(AG$6:AG$134,AG35)>1) -> 1-22 | AT35: =COUNTIF(AU$6:AU$134,">"&AU$6:AU$134)+1&REPT("-"&COUNTIF(AU$6:AU$134,">="&AU$6:AU$134),COUNTIF(AU$6:AU$134,AU35)>1) -> 1-64 | AU35: =COUNTIF(AV$6:AV$134,">"&AV$6:AV$134)+1&REPT("-"&COUNTIF(AV$6:AV$134,">="&AV$6:AV$134),COUNTIF(AV$6:AV$134,AV35)>1) -> 1-0 | AV35: =COUNTIF(AW$6:AW$134,">"&AW$6:AW$134)+1&REPT("-"&COUNTIF(AW$6:AW$134,">="&AW$6:AW$134),COUNTIF(AW$6:AW$134,AW35)>1) -> 1 | AW35: =COUNTIF(AX$6:AX$134,">"&AX$6:AX$134)+1&REPT("-"&COUNTIF(AX$6:AX$134,">="&AX$6:AX$134),COUNTIF(AX$6:AX$134,AX35)>1) -> 50 | AX35: =IF(X35="Х","Х",IF(Y35<3,B35,"Х")) -> 15 | BM35: 15 | BN35: 14 | BO35: =IF(BM35<BN35,BM35,"") | BR35: 15 | BS35: 17 | BT35: =IF(BR35<BS35,BR35,"") -> 15 | BU35: 15 | BW35: 15 | BY35: {=IF(BW35<BX35,BW35,"")} -> 15 | BZ35: =IF(BY35="св",0,BY35) -> 15 | CA35: =IFERROR(__xludf.DUMMYFUNCTION("""COMPUTED_VALUE"""),30) -> 30 | CB35: =IF(CA35=0,"св",CA35) -> 30 | CE35: 15 | CG35: {=IF(CE35<CF35,CE35,"")} -> 15 | CH35: 15 | CI35: =IFERROR(__xludf.DUMMYFUNCTION("""COMPUTED_VALUE"""),30) -> 30 | CJ35: 15 | CL35: {=IF(CJ35<CK35,CJ35,"")} -> 15 | CM35: 15 | CN35: =IFERROR(__xludf.DUMMYFUNCTION("""COMPUTED_VALUE"""),30) -> 30 | CO35: 15 | CQ35: {=IF(CO35<CP35,CO35,"")} -> 15 | CR35: 15 | CS35: =IFERROR(__xludf.DUMMYFUNCTION("""COMPUTED_VALUE"""),30) -> 30 | CT35: 15 | CV35: {=IF(CT35<CU35,CT35,"")} -> 15 | CW35: 15 | CX35: =IFERROR(__xludf.DUMMYFUNCTION("""COMPUTED_VALUE"""),30) -> 30 | CY35: 15 | DA35: {=IF(CY35<CZ35,CY35,"")} -> 15 | DB35: 15 | DC35: =IFERROR(__xludf.DUMMYFUNCTION("""COMPUTED_VALUE"""),30) -> 30 | DD35: 15
BN36: 0 | BO36: =IF(BO35="","",BN35) | BS36: 0 | BT36: =IF(BT35="","",BS35) -> 17 | BU36: 17 | BX36: 0 | BY36: =IF(BY35="","",BX35) | BZ36: =IF(BY36="св",0,BY36) | CA36: =IFERROR(__xludf.DUMMYFUNCTION("""COMPUTED_VALUE"""),31) -> 31 | CB36: =IF(CA36=0,"св",CA36) -> 31 | CF36: 0 | CG36: =IF(CG35="","",CF35) | CI36: =IFERROR(__xludf.DUMMYFUNCTION("""COMPUTED_VALUE"""),31) -> 31 | CK36: 0 | CL36: =IF(CL35="","",CK35) | CN36: =IFERROR(__xludf.DUMMYFUNCTION("""COMPUTED_VALUE"""),31) -> 31 | CP36: 0 | CQ36: =IF(CQ35="","",CP35) | CS36: =IFERROR(__xludf.DUMMYFUNCTION("""COMPUTED_VALUE"""),31) -> 31 | CU36: 0 | CV36: =IF(CV35="","",CU35) | CX36: =IFERROR(__xludf.DUMMYFUNCTION("""COMPUTED_VALUE"""),31) -> 31 | CZ36: 0 | DA36: =IF(DA35="","",CZ35) | DC36: =IFERROR(__xludf.DUMMYFUNCTION("""COMPUTED_VALUE"""),31) -> 31
B37: 16 | C37: =(VLOOKUP($B37,Пр.взв!$D$6:$J$63,2,0)) -> ШТЕНЦОВА Валентина | D37: =(VLOOKUP($B37,Пр.взв!$D$6:$J$63,5,0)) -> МС | E37: =(VLOOKUP($B37,Пр.взв!$D$6:$M$63,8,0)) -> Свердловская | F37: 17 | H37: 14 | J37: =IF(H37="Х","Х",IF($AC37<6," ","Х")) | L37: =IF(J37="Х","Х",IF(K37<3," ",IF($AC37<6," ","Х"))) | N37: =IF(L37="Х","Х",IF(M37<3," ",IF($AC37<6," ","Х"))) | P37: =IF(N37="Х","Х",IF(O37<3," ",IF($AC37<6," ","Х"))) | R37: =IF(P37="Х","Х",IF(Q37<3," ",IF($AC37<6," ","Х"))) | T37: =IF(R37="Х","Х",IF(S37<3," ",IF($AC37<6," ","Х"))) | V37: =IF(T37="Х","Х",IF(U37<3," ",IF($AC37<6," ","Х"))) | X37: =IF(V37="А1",$AZ$7,IF(V37="Б2",$AZ$6,IF(V37="Б1",$BA$7,IF(V37="А2",$BA$6,IF(V37="Х","Х",IF(V37<6," "," ")))))) | Z37: =IF(V37="Х","Х",IF(ISBLANK(Y37),"",IF(Y37>2.5," ",IF(B37=BB$6,BB$7,BB$6)))) | AB37: =IF(H37="Х",F$5,IF(J37="Х",H$5,IF(L37="Х",J$5,IF(N37="Х",L$5,IF(P37="Х",N$5,IF(R37="Х",P$5,IF(T37="Х",R$5,IF(X37="Х",T$5,"")))))))) | AC37: =SUM(G37+I37+K37+M37+O37+Q37+S37+U37+Y37+AA37) -> 0 | AD37: =AF37 -> 1-22 | AE37: =AD37 -> 1-22 | AF37: =COUNTIF(AG$6:AG$148,">"&AG$6:AG$148)+1&REPT("-"&COUNTIF(AG$6:AG$148,">="&AG$6:AG$148),COUNTIF(AG$6:AG$148,AG37)>1) -> 1-22 | AG37: =(AR37*100)+(AP37*10)-AC37 -> 1280 | AH37: =IF(OR(F37="Х",F37="св")," ",IF(AND(G37>=0,G37<3),"1"," ")) -> 1 | AI37: =IF(OR(H37="Х",H37="св")," ",IF(AND(I37>=0,I37<3),"1"," ")) -> 1 | AJ37: =IF(OR(J37="Х",J37="св")," ",IF(AND(K37>=0,K37<3),"1"," ")) -> 1 | AK37: =IF(OR(L37="Х",L37="св")," ",IF(AND(M37>=0,M37<3),"1"," ")) -> 1 | AL37: =IF(OR(N37="Х",N37="св")," ",IF(AND(O37>=0,O37<3),"1"," ")) -> 1 | AM37: =IF(OR(P37="Х",P37="св")," ",IF(AND(Q37>=0,Q37<3),"1"," ")) -> 1 | AN37: =IF(OR(R37="Х",R37="св")," ",IF(AND(S37>=0,S37<3),"1"," ")) -> 1 | AO37: =IF(OR(T37="Х",T37="св")," ",IF(AND(U37>=0,U37<3),"1"," ")) -> 1 | AP37: =COUNTIF(AH37:AO38,1) -> 8 | AQ37: =AG37-AC37 -> 1280 | AR37: =IF(F37=0,0,IF(F37="Х",1,IF(H37="Х",2,IF(J37="Х",3,IF(L37="Х",4,IF(N37="Х",5,IF(P37="Х",6,IF(R37="Х",7,IF(T37="Х",8,IF(V37="Х",9,IF(Y37>2.5,10,IF(AA37>2.5,11,IF(AA37>=0,12,IF(AA37=" ",0,)))))))))))))) -> 12 | AS37: =COUNTIF(AG$6:AG$134,">"&AG$6:AG$134)+1&REPT("-"&COUNTIF(AG$6:AG$134,">="&AG$6:AG$134),COUNTIF(AG$6:AG$134,AG37)>1) -> 1-22 | AT37: =COUNTIF(AU$6:AU$134,">"&AU$6:AU$134)+1&REPT("-"&COUNTIF(AU$6:AU$134,">="&AU$6:AU$134),COUNTIF(AU$6:AU$134,AU37)>1) -> 1-64 | AU37: =COUNTIF(AV$6:AV$134,">"&AV$6:AV$134)+1&REPT("-"&COUNTIF(AV$6:AV$134,">="&AV$6:AV$134),COUNTIF(AV$6:AV$134,AV37)>1) -> 1-0 | AV37: =COUNTIF(AW$6:AW$134,">"&AW$6:AW$134)+1&REPT("-"&COUNTIF(AW$6:AW$134,">="&AW$6:AW$134),COUNTIF(AW$6:AW$134,AW37)>1) -> 1 | AW37: =COUNTIF(AX$6:AX$134,">"&AX$6:AX$134)+1&REPT("-"&COUNTIF(AX$6:AX$134,">="&AX$6:AX$134),COUNTIF(AX$6:AX$134,AX37)>1) -> 49 | AX37: =IF(X37="Х","Х",IF(Y37<3,B37,"Х")) -> 16 | BM37: 16 | BN37: 17 | BO37: =IF(BM37<BN37,BM37,"") -> 16 | BP37: 16 | BR37: 16 | BS37: 14 | BT37: =IF(BR37<BS37,BR37,"") | BW37: 16 | BY37: {=IF(BW37<BX37,BW37,"")} -> 16 | BZ37: =IF(BY37="св",0,BY37) -> 16 | CA37: =IFERROR(__xludf.DUMMYFUNCTION("""COMPUTED_VALUE"""),32) -> 32 | CB37: =IF(CA37=0,"св",CA37) -> 32 | CE37: 16 | CG37: {=IF(CE37<CF37,CE37,"")} -> 16 | CH37: 16 | CI37: =IFERROR(__xludf.DUMMYFUNCTION("""COMPUTED_VALUE"""),32) -> 32 | CJ37: 16 | CL37: {=IF(CJ37<CK37,CJ37,"")} -> 16 | CM37: 16 | CN37: =IFERROR(__xludf.DUMMYFUNCTION("""COMPUTED_VALUE"""),32) -> 32 | CO37: 16 | CQ37: {=IF(CO37<CP37,CO37,"")} -> 16 | CR37: 16 | CS37: =IFERROR(__xludf.DUMMYFUNCTION("""COMPUTED_VALUE"""),32) -> 32 | CT37: 16 | CV37: {=IF(CT37<CU37,CT37,"")} -> 16 | CW37: 16 | CX37: =IFERROR(__xludf.DUMMYFUNCTION("""COMPUTED_VALUE"""),32) -> 32 | CY37: 16 | DA37: {=IF(CY37<CZ37,CY37,"")} -> 16 | DB37: 16 | DC37: =IFERROR(__xludf.DUMMYFUNCTION("""COMPUTED_VALUE"""),32) -> 32 | DD37: 16
BD38: 0 | BF38: 0 | BN38: 0 | BO38: =IF(BO37="","",BN37) -> 17 | BP38: 17 | BS38: 0 | BT38: =IF(BT37="","",BS37) | BX38: 0 | BY38: =IF(BY37="","",BX37) | BZ38: =IF(BY38="св",0,BY38) | CA38: =IFERROR(__xludf.DUMMYFUNCTION("""COMPUTED_VALUE"""),33) -> 33 | CB38: =IF(CA38=0,"св",CA38) -> 33 | CF38: 0 | CG38: =IF(CG37="","",CF37) | CI38: =IFERROR(__xludf.DUMMYFUNCTION("""COMPUTED_VALUE"""),33) -> 33 | CK38: 0 | CL38: =IF(CL37="","",CK37) | CN38: =IFERROR(__xludf.DUMMYFUNCTION("""COMPUTED_VALUE"""),33) -> 33 | CP38: 0 | CQ38: =IF(CQ37="","",CP37) | CS38: =IFERROR(__xludf.DUMMYFUNCTION("""COMPUTED_VALUE"""),33) -> 33 | CU38: 0 | CV38: =IF(CV37="","",CU37) | CX38: =IFERROR(__xludf.DUMMYFUNCTION("""COMPUTED_VALUE"""),33) -> 33 | CZ38: 0 | DA38: =IF(DA37="","",CZ37) | DC38: =IFERROR(__xludf.DUMMYFUNCTION("""COMPUTED_VALUE"""),33) -> 33
B39: 17 | C39: =(VLOOKUP($B39,Пр.взв!$D$6:$J$63,2,0)) -> БОЧКАРЕВА Маргарита | D39: =(VLOOKUP($B39,Пр.взв!$D$6:$J$63,5,0)) -> КМС | E39: =(VLOOKUP($B39,Пр.взв!$D$6:$M$63,8,0)) -> Р.Алтай | F39: 16 | H39: 15 | J39: =IF(H39="Х","Х",IF($AC39<6," ","Х")) | L39: =IF(J39="Х","Х",IF(K39<3," ",IF($AC39<6," ","Х"))) | N39: =IF(L39="Х","Х",IF(M39<3," ",IF($AC39<6," ","Х"))) | P39: =IF(N39="Х","Х",IF(O39<3," ",IF($AC39<6," ","Х"))) | R39: =IF(P39="Х","Х",IF(Q39<3," ",IF($AC39<6," ","Х"))) | T39: =IF(R39="Х","Х",IF(S39<3," ",IF($AC39<6," ","Х"))) | V39: =IF(T39="Х","Х",IF(U39<3," ",IF($AC39<6," ","Х"))) | X39: =IF(V39="А1",$AZ$7,IF(V39="Б2",$AZ$6,IF(V39="Б1",$BA$7,IF(V39="А2",$BA$6,IF(V39="Х","Х",IF(V39<6," "," ")))))) | Z39: =IF(V39="Х","Х",IF(ISBLANK(Y39),"",IF(Y39>2.5," ",IF(B39=BB$6,BB$7,BB$6)))) | AB39: =IF(H39="Х",F$5,IF(J39="Х",H$5,IF(L39="Х",J$5,IF(N39="Х",L$5,IF(P39="Х",N$5,IF(R39="Х",P$5,IF(T39="Х",R$5,IF(X39="Х",T$5,"")))))))) | AC39: =SUM(G39+I39+K39+M39+O39+Q39+S39+U39+Y39+AA39) -> 0 | AD39: =AF39 -> 1-22 | AE39: =AD39 -> 1-22 | AF39: =COUNTIF(AG$6:AG$148,">"&AG$6:AG$148)+1&REPT("-"&COUNTIF(AG$6:AG$148,">="&AG$6:AG$148),COUNTIF(AG$6:AG$148,AG39)>1) -> 1-22 | AG39: =(AR39*100)+(AP39*10)-AC39 -> 1280 | AH39: =IF(OR(F39="Х",F39="св")," ",IF(AND(G39>=0,G39<3),"1"," ")) -> 1 | AI39: =IF(OR(H39="Х",H39="св")," ",IF(AND(I39>=0,I39<3),"1"," ")) -> 1 | AJ39: =IF(OR(J39="Х",J39="св")," ",IF(AND(K39>=0,K39<3),"1"," ")) -> 1 | AK39: =IF(OR(L39="Х",L39="св")," ",IF(AND(M39>=0,M39<3),"1"," ")) -> 1 | AL39: =IF(OR(N39="Х",N39="св")," ",IF(AND(O39>=0,O39<3),"1"," ")) -> 1 | AM39: =IF(OR(P39="Х",P39="св")," ",IF(AND(Q39>=0,Q39<3),"1"," ")) -> 1 | AN39: =IF(OR(R39="Х",R39="св")," ",IF(AND(S39>=0,S39<3),"1"," ")) -> 1 | AO39: =IF(OR(T39="Х",T39="св")," ",IF(AND(U39>=0,U39<3),"1"," ")) -> 1 | AP39: =COUNTIF(AH39:AO40,1) -> 8 | AQ39: =AG39-AC39 -> 1280 | AR39: =IF(F39=0,0,IF(F39="Х",1,IF(H39="Х",2,IF(J39="Х",3,IF(L39="Х",4,IF(N39="Х",5,IF(P39="Х",6,IF(R39="Х",7,IF(T39="Х",8,IF(V39="Х",9,IF(Y39>2.5,10,IF(AA39>2.5,11,IF(AA39>=0,12,IF(AA39=" ",0,)))))))))))))) -> 12 | AS39: =COUNTIF(AG$6:AG$134,">"&AG$6:AG$134)+1&REPT("-"&COUNTIF(AG$6:AG$134,">="&AG$6:AG$134),COUNTIF(AG$6:AG$134,AG39)>1) -> 1-22 | AT39: =COUNTIF(AU$6:AU$134,">"&AU$6:AU$134)+1&REPT("-"&COUNTIF(AU$6:AU$134,">="&AU$6:AU$134),COUNTIF(AU$6:AU$134,AU39)>1) -> 1-64 | AU39: =COUNTIF(AV$6:AV$134,">"&AV$6:AV$134)+1&REPT("-"&COUNTIF(AV$6:AV$134,">="&AV$6:AV$134),COUNTIF(AV$6:AV$134,AV39)>1) -> 1-0 | AV39: =COUNTIF(AW$6:AW$134,">"&AW$6:AW$134)+1&REPT("-"&COUNTIF(AW$6:AW$134,">="&AW$6:AW$134),COUNTIF(AW$6:AW$134,AW39)>1) -> 1 | AW39: =COUNTIF(AX$6:AX$134,">"&AX$6:AX$134)+1&REPT("-"&COUNTIF(AX$6:AX$134,">="&AX$6:AX$134),COUNTIF(AX$6:AX$134,AX39)>1) -> 48 | AX39: =IF(X39="Х","Х",IF(Y39<3,B39,"Х")) -> 17 | BD39: 0 | BF39: 0 | BM39: 17 | BN39: 16 | BO39: =IF(BM39<BN39,BM39,"") | BR39: 17 | BS39: 15 | BT39: =IF(BR39<BS39,BR39,"") | BW39: 17 | BY39: {=IF(BW39<BX39,BW39,"")} -> 17 | BZ39: =IF(BY39="св",0,BY39) -> 17 | CA39: =IFERROR(__xludf.DUMMYFUNCTION("""COMPUTED_VALUE"""),34) -> 34 | CB39: =IF(CA39=0,"св",CA39) -> 34 | CE39: 17 | CG39: {=IF(CE39<CF39,CE39,"")} -> 17 | CH39: 17 | CI39: =IFERROR(__xludf.DUMMYFUNCTION("""COMPUTED_VALUE"""),34) -> 34 | CJ39: 17 | CL39: {=IF(CJ39<CK39,CJ39,"")} -> 17 | CM39: 17 | CN39: =IFERROR(__xludf.DUMMYFUNCTION("""COMPUTED_VALUE"""),34) -> 34 | CO39: 17 | CQ39: {=IF(CO39<CP39,CO39,"")} -> 17 | CR39: 17 | CS39: =IFERROR(__xludf.DUMMYFUNCTION("""COMPUTED_VALUE"""),34) -> 34 | CT39: 17 | CV39: {=IF(CT39<CU39,CT39,"")} -> 17 | CW39: 17 | CX39: =IFERROR(__xludf.DUMMYFUNCTION("""COMPUTED_VALUE"""),34) -> 34 | CY39: 17 | DA39: {=IF(CY39<CZ39,CY39,"")} -> 17 | DB39: 17 | DC39: =IFERROR(__xludf.DUMMYFUNCTION("""COMPUTED_VALUE"""),34) -> 34 | DD39: 17
BD40: 0 | BF40: 0 | BN40: 0 | BO40: =IF(BO39="","",BN39) | BS40: 0 | BT40: =IF(BT39="","",BS39) | BX40: 0 | BY40: =IF(BY39="","",BX39) | BZ40: =IF(BY40="св",0,BY40) | CA40: =IFERROR(__xludf.DUMMYFUNCTION("""COMPUTED_VALUE"""),35) -> 35 | CB40: =IF(CA40=0,"св",CA40) -> 35 | CF40: 0 | CG40: =IF(CG39="","",CF39) | CI40: =IFERROR(__xludf.DUMMYFUNCTION("""COMPUTED_VALUE"""),35) -> 35 | CK40: 0 | CL40: =IF(CL39="","",CK39) | CN40: =IFERROR(__xludf.DUMMYFUNCTION("""COMPUTED_VALUE"""),35) -> 35 | CP40: 0 | CQ40: =IF(CQ39="","",CP39) | CS40: =IFERROR(__xludf.DUMMYFUNCTION("""COMPUTED_VALUE"""),35) -> 35 | CU40: 0 | CV40: =IF(CV39="","",CU39) | CX40: =IFERROR(__xludf.DUMMYFUNCTION("""COMPUTED_VALUE"""),35) -> 35 | CZ40: 0 | DA40: =IF(DA39="","",CZ39) | DC40: =IFERROR(__xludf.DUMMYFUNCTION("""COMPUTED_VALUE"""),35) -> 35
B41: 18 | C41: =(VLOOKUP($B41,Пр.взв!$D$6:$J$63,2,0)) -> АРТАМОНОВА Лина | D41: =(VLOOKUP($B41,Пр.взв!$D$6:$J$63,5,0)) -> КМС | E41: =(VLOOKUP($B41,Пр.взв!$D$6:$M$63,8,0)) -> Саратовская | F41: 19 | H41: 20 | J41: =IF(H41="Х","Х",IF($AC41<6," ","Х")) | L41: =IF(J41="Х","Х",IF(K41<3," ",IF($AC41<6," ","Х"))) | N41: =IF(L41="Х","Х",IF(M41<3," ",IF($AC41<6," ","Х"))) | P41: =IF(N41="Х","Х",IF(O41<3," ",IF($AC41<6," ","Х"))) | R41: =IF(P41="Х","Х",IF(Q41<3," ",IF($AC41<6," ","Х"))) | T41: =IF(R41="Х","Х",IF(S41<3," ",IF($AC41<6," ","Х"))) | V41: =IF(T41="Х","Х",IF(U41<3," ",IF($AC41<6," ","Х"))) | X41: =IF(V41="А1",$AZ$7,IF(V41="Б2",$AZ$6,IF(V41="Б1",$BA$7,IF(V41="А2",$BA$6,IF(V41="Х","Х",IF(V41<6," "," ")))))) | Z41: =IF(V41="Х","Х",IF(ISBLANK(Y41),"",IF(Y41>2.5," ",IF(B41=BB$6,BB$7,BB$6)))) | AB41: =IF(H41="Х",F$5,IF(J41="Х",H$5,IF(L41="Х",J$5,IF(N41="Х",L$5,IF(P41="Х",N$5,IF(R41="Х",P$5,IF(T41="Х",R$5,IF(X41="Х",T$5,"")))))))) | AC41: =SUM(G41+I41+K41+M41+O41+Q41+S41+U41+Y41+AA41) -> 0 | AD41: =AF41 -> 1-22 | AE41: =AD41 -> 1-22 | AF41: =COUNTIF(AG$6:AG$148,">"&AG$6:AG$148)+1&REPT("-"&COUNTIF(AG$6:AG$148,">="&AG$6:AG$148),COUNTIF(AG$6:AG$148,AG41)>1) -> 1-22 | AG41: =(AR41*100)+(AP41*10)-AC41 -> 1280 | AH41: =IF(OR(F41="Х",F41="св")," ",IF(AND(G41>=0,G41<3),"1"," ")) -> 1 | AI41: =IF(OR(H41="Х",H41="св")," ",IF(AND(I41>=0,I41<3),"1"," ")) -> 1 | AJ41: =IF(OR(J41="Х",J41="св")," ",IF(AND(K41>=0,K41<3),"1"," ")) -> 1 | AK41: =IF(OR(L41="Х",L41="св")," ",IF(AND(M41>=0,M41<3),"1"," ")) -> 1 | AL41: =IF(OR(N41="Х",N41="св")," ",IF(AND(O41>=0,O41<3),"1"," ")) -> 1 | AM41: =IF(OR(P41="Х",P41="св")," ",IF(AND(Q41>=0,Q41<3),"1"," ")) -> 1 | AN41: =IF(OR(R41="Х",R41="св")," ",IF(AND(S41>=0,S41<3),"1"," ")) -> 1 | AO41: =IF(OR(T41="Х",T41="св")," ",IF(AND(U41>=0,U41<3),"1"," ")) -> 1 | AP41: =COUNTIF(AH41:AO42,1) -> 8 | AQ41: =AG41-AC41 -> 1280 | AR41: =IF(F41=0,0,IF(F41="Х",1,IF(H41="Х",2,IF(J41="Х",3,IF(L41="Х",4,IF(N41="Х",5,IF(P41="Х",6,IF(R41="Х",7,IF(T41="Х",8,IF(V41="Х",9,IF(Y41>2.5,10,IF(AA41>2.5,11,IF(AA41>=0,12,IF(AA41=" ",0,)))))))))))))) -> 12 | AS41: =COUNTIF(AG$6:AG$134,">"&AG$6:AG$134)+1&REPT("-"&COUNTIF(AG$6:AG$134,">="&AG$6:AG$134),COUNTIF(AG$6:AG$134,AG41)>1) -> 1-22 | AT41: =COUNTIF(AU$6:AU$134,">"&AU$6:AU$134)+1&REPT("-"&COUNTIF(AU$6:AU$134,">="&AU$6:AU$134),COUNTIF(AU$6:AU$134,AU41)>1) -> 1-64 | AU41: =COUNTIF(AV$6:AV$134,">"&AV$6:AV$134)+1&REPT("-"&COUNTIF(AV$6:AV$134,">="&AV$6:AV$134),COUNTIF(AV$6:AV$134,AV41)>1) -> 1-0 | AV41: =COUNTIF(AW$6:AW$134,">"&AW$6:AW$134)+1&REPT("-"&COUNTIF(AW$6:AW$134,">="&AW$6:AW$134),COUNTIF(AW$6:AW$134,AW41)>1) -> 1 | AW41: =COUNTIF(AX$6:AX$134,">"&AX$6:AX$134)+1&REPT("-"&COUNTIF(AX$6:AX$134,">="&AX$6:AX$134),COUNTIF(AX$6:AX$134,AX41)>1) -> 47 | AX41: =IF(X41="Х","Х",IF(Y41<3,B41,"Х")) -> 18 | BD41: 0 | BF41: 0 | BM41: 18 | BN41: 19 | BO41: =IF(BM41<BN41,BM41,"") -> 18 | BP41: 18 | BR41: 18 | BS41: 20 | BT41: =IF(BR41<BS41,BR41,"") -> 18 | BU41: 18 | BW41: 18 | BY41: {=IF(BW41<BX41,BW41,"")} -> 18 | BZ41: =IF(BY41="св",0,BY41) -> 18 | CA41: =IFERROR(__xludf.DUMMYFUNCTION("""COMPUTED_VALUE"""),36) -> 36 | CB41: =IF(CA41=0,"св",CA41) -> 36 | CE41: 18 | CG41: {=IF(CE41<CF41,CE41,"")} -> 18 | CH41: 18 | CI41: =IFERROR(__xludf.DUMMYFUNCTION("""COMPUTED_VALUE"""),36) -> 36 | CJ41: 18 | CL41: {=IF(CJ41<CK41,CJ41,"")} -> 18 | CM41: 18 | CN41: =IFERROR(__xludf.DUMMYFUNCTION("""COMPUTED_VALUE"""),36) -> 36 | CO41: 18 | CQ41: {=IF(CO41<CP41,CO41,"")} -> 18 | CR41: 18 | CS41: =IFERROR(__xludf.DUMMYFUNCTION("""COMPUTED_VALUE"""),36) -> 36 | CT41: 18 | CV41: {=IF(CT41<CU41,CT41,"")} -> 18 | CW41: 18 | CX41: =IFERROR(__xludf.DUMMYFUNCTION("""COMPUTED_VALUE"""),36) -> 36 | CY41: 18 | DA41: {=IF(CY41<CZ41,CY41,"")} -> 18 | DB41: 18 | DC41: =IFERROR(__xludf.DUMMYFUNCTION("""COMPUTED_VALUE"""),36) -> 36 | DD41: 18
BD42: 0 | BF42: 0 | BN42: 0 | BO42: =IF(BO41="","",BN41) -> 19 | BP42: 19 | BS42: 0 | BT42: =IF(BT41="","",BS41) -> 20 | BU42: 20 | BX42: 0 | BY42: =IF(BY41="","",BX41) | BZ42: =IF(BY42="св",0,BY42) | CA42: =IFERROR(__xludf.DUMMYFUNCTION("""COMPUTED_VALUE"""),37) -> 37 | CB42: =IF(CA42=0,"св",CA42) -> 37 | CF42: 0 | CG42: =IF(CG41="","",CF41) | CI42: =IFERROR(__xludf.DUMMYFUNCTION("""COMPUTED_VALUE"""),37) -> 37 | CK42: 0 | CL42: =IF(CL41="","",CK41) | CN42: =IFERROR(__xludf.DUMMYFUNCTION("""COMPUTED_VALUE"""),37) -> 37 | CP42: 0 | CQ42: =IF(CQ41="","",CP41) | CS42: =IFERROR(__xludf.DUMMYFUNCTION("""COMPUTED_VALUE"""),37) -> 37 | CU42: 0 | CV42: =IF(CV41="","",CU41) | CX42: =IFERROR(__xludf.DUMMYFUNCTION("""COMPUTED_VALUE"""),37) -> 37 | CZ42: 0 | DA42: =IF(DA41="","",CZ41) | DC42: =IFERROR(__xludf.DUMMYFUNCTION("""COMPUTED_VALUE"""),37) -> 37
B43: 19 | C43: =(VLOOKUP($B43,Пр.взв!$D$6:$J$63,2,0)) -> ВОРОШИЛОВА Мария | D43: =(VLOOKUP($B43,Пр.взв!$D$6:$J$63,5,0)) -> КМС | E43: =(VLOOKUP($B43,Пр.взв!$D$6:$M$63,8,0)) -> Смоленская | F43: 18 | H43: 21 | J43: =IF(H43="Х","Х",IF($AC43<6," ","Х")) | L43: =IF(J43="Х","Х",IF(K43<3," ",IF($AC43<6," ","Х"))) | N43: =IF(L43="Х","Х",IF(M43<3," ",IF($AC43<6," ","Х"))) | P43: =IF(N43="Х","Х",IF(O43<3," ",IF($AC43<6," ","Х"))) | R43: =IF(P43="Х","Х",IF(Q43<3," ",IF($AC43<6," ","Х"))) | T43: =IF(R43="Х","Х",IF(S43<3," ",IF($AC43<6," ","Х"))) | V43: =IF(T43="Х","Х",IF(U43<3," ",IF($AC43<6," ","Х"))) | X43: =IF(V43="А1",$AZ$7,IF(V43="Б2",$AZ$6,IF(V43="Б1",$BA$7,IF(V43="А2",$BA$6,IF(V43="Х","Х",IF(V43<6," "," ")))))) | Z43: =IF(V43="Х","Х",IF(ISBLANK(Y43),"",IF(Y43>2.5," ",IF(B43=BB$6,BB$7,BB$6)))) | AB43: =IF(H43="Х",F$5,IF(J43="Х",H$5,IF(L43="Х",J$5,IF(N43="Х",L$5,IF(P43="Х",N$5,IF(R43="Х",P$5,IF(T43="Х",R$5,IF(X43="Х",T$5,"")))))))) | AC43: =SUM(G43+I43+K43+M43+O43+Q43+S43+U43+Y43+AA43) -> 0 | AD43: =AF43 -> 1-22 | AE43: =AD43 -> 1-22 | AF43: =COUNTIF(AG$6:AG$148,">"&AG$6:AG$148)+1&REPT("-"&COUNTIF(AG$6:AG$148,">="&AG$6:AG$148),COUNTIF(AG$6:AG$148,AG43)>1) -> 1-22 | AG43: =(AR43*100)+(AP43*10)-AC43 -> 1280 | AH43: =IF(OR(F43="Х",F43="св")," ",IF(AND(G43>=0,G43<3),"1"," ")) -> 1 | AI43: =IF(OR(H43="Х",H43="св")," ",IF(AND(I43>=0,I43<3),"1"," ")) -> 1 | AJ43: =IF(OR(J43="Х",J43="св")," ",IF(AND(K43>=0,K43<3),"1"," ")) -> 1 | AK43: =IF(OR(L43="Х",L43="св")," ",IF(AND(M43>=0,M43<3),"1"," ")) -> 1 | AL43: =IF(OR(N43="Х",N43="св")," ",IF(AND(O43>=0,O43<3),"1"," ")) -> 1 | AM43: =IF(OR(P43="Х",P43="св")," ",IF(AND(Q43>=0,Q43<3),"1"," ")) -> 1 | AN43: =IF(OR(R43="Х",R43="св")," ",IF(AND(S43>=0,S43<3),"1"," ")) -> 1 | AO43: =IF(OR(T43="Х",T43="св")," ",IF(AND(U43>=0,U43<3),"1"," ")) -> 1 | AP43: =COUNTIF(AH43:AO44,1) -> 8 | AQ43: =AG43-AC43 -> 1280 | AR43: =IF(F43=0,0,IF(F43="Х",1,IF(H43="Х",2,IF(J43="Х",3,IF(L43="Х",4,IF(N43="Х",5,IF(P43="Х",6,IF(R43="Х",7,IF(T43="Х",8,IF(V43="Х",9,IF(Y43>2.5,10,IF(AA43>2.5,11,IF(AA43>=0,12,IF(AA43=" ",0,)))))))))))))) -> 12 | AS43: =COUNTIF(AG$6:AG$134,">"&AG$6:AG$134)+1&REPT("-"&COUNTIF(AG$6:AG$134,">="&AG$6:AG$134),COUNTIF(AG$6:AG$134,AG43)>1) -> 1-22 | AT43: =COUNTIF(AU$6:AU$134,">"&AU$6:AU$134)+1&REPT("-"&COUNTIF(AU$6:AU$134,">="&AU$6:AU$134),COUNTIF(AU$6:AU$134,AU43)>1) -> 1-64 | AU43: =COUNTIF(AV$6:AV$134,">"&AV$6:AV$134)+1&REPT("-"&COUNTIF(AV$6:AV$134,">="&AV$6:AV$134),COUNTIF(AV$6:AV$134,AV43)>1) -> 1-0 | AV43: =COUNTIF(AW$6:AW$134,">"&AW$6:AW$134)+1&REPT("-"&COUNTIF(AW$6:AW$134,">="&AW$6:AW$134),COUNTIF(AW$6:AW$134,AW43)>1) -> 1 | AW43: =COUNTIF(AX$6:AX$134,">"&AX$6:AX$134)+1&REPT("-"&COUNTIF(AX$6:AX$134,">="&AX$6:AX$134),COUNTIF(AX$6:AX$134,AX43)>1) -> 46 | AX43: =IF(X43="Х","Х",IF(Y43<3,B43,"Х")) -> 19 | BD43: 0 | BF43: 0 | BM43: 19 | BN43: 18 | BO43: =IF(BM43<BN43,BM43,"") | BR43: 19 | BS43: 21 | BT43: =IF(BR43<BS43,BR43,"") -> 19 | BU43: 19 | BW43: 19 | BY43: {=IF(BW43<BX43,BW43,"")} -> 19 | BZ43: =IF(BY43="св",0,BY43) -> 19 | CA43: =IFERROR(__xludf.DUMMYFUNCTION("""COMPUTED_VALUE"""),38) -> 38 | CB43: =IF(CA43=0,"св",CA43) -> 38 | CE43: 19 | CG43: {=IF(CE43<CF43,CE43,"")} -> 19 | CH43: 19 | CI43: =IFERROR(__xludf.DUMMYFUNCTION("""COMPUTED_VALUE"""),38) -> 38 | CJ43: 19 | CL43: {=IF(CJ43<CK43,CJ43,"")} -> 19 | CM43: 19 | CN43: =IFERROR(__xludf.DUMMYFUNCTION("""COMPUTED_VALUE"""),38) -> 38 | CO43: 19 | CQ43: {=IF(CO43<CP43,CO43,"")} -> 19 | CR43: 19 | CS43: =IFERROR(__xludf.DUMMYFUNCTION("""COMPUTED_VALUE"""),38) -> 38 | CT43: 19 | CV43: {=IF(CT43<CU43,CT43,"")} -> 19 | CW43: 19 | CX43: =IFERROR(__xludf.DUMMYFUNCTION("""COMPUTED_VALUE"""),38) -> 38 | CY43: 19 | DA43: {=IF(CY43<CZ43,CY43,"")} -> 19 | DB43: 19 | DC43: =IFERROR(__xludf.DUMMYFUNCTION("""COMPUTED_VALUE"""),38) -> 38 | DD43: 19
BD44: 0 | BF44: 0 | BN44: 0 | BO44: =IF(BO43="","",BN43) | BS44: 0 | BT44: =IF(BT43="","",BS43) -> 21 | BU44: 21 | BX44: 0 | BY44: =IF(BY43="","",BX43) | BZ44: =IF(BY44="св",0,BY44) | CA44: =IFERROR(__xludf.DUMMYFUNCTION("""COMPUTED_VALUE"""),39) -> 39 | CB44: =IF(CA44=0,"св",CA44) -> 39 | CF44: 0 | CG44: =IF(CG43="","",CF43) | CI44: =IFERROR(__xludf.DUMMYFUNCTION("""COMPUTED_VALUE"""),39) -> 39 | CK44: 0 | CL44: =IF(CL43="","",CK43) | CN44: =IFERROR(__xludf.DUMMYFUNCTION("""COMPUTED_VALUE"""),39) -> 39 | CP44: 0 | CQ44: =IF(CQ43="","",CP43) | CS44: =IFERROR(__xludf.DUMMYFUNCTION("""COMPUTED_VALUE"""),39) -> 39 | CU44: 0 | CV44: =IF(CV43="","",CU43) | CX44: =IFERROR(__xludf.DUMMYFUNCTION("""COMPUTED_VALUE"""),39) -> 39 | CZ44: 0 | DA44: =IF(DA43="","",CZ43) | DC44: =IFERROR(__xludf.DUMMYFUNCTION("""COMPUTED_VALUE"""),39) -> 39
B45: 20 | C45: =(VLOOKUP($B45,Пр.взв!$D$6:$J$63,2,0)) -> МАКСИМОВА Василиса | D45: =(VLOOKUP($B45,Пр.взв!$D$6:$J$63,5,0)) -> КМС | E45: =(VLOOKUP($B45,Пр.взв!$D$6:$M$63,8,0)) -> Астраханская | F45: 21 | H45: 18 | J45: =IF(H45="Х","Х",IF($AC45<6," ","Х")) | L45: =IF(J45="Х","Х",IF(K45<3," ",IF($AC45<6," ","Х"))) | N45: =IF(L45="Х","Х",IF(M45<3," ",IF($AC45<6," ","Х"))) | P45: =IF(N45="Х","Х",IF(O45<3," ",IF($AC45<6," ","Х"))) | R45: =IF(P45="Х","Х",IF(Q45<3," ",IF($AC45<6," ","Х"))) | T45: =IF(R45="Х","Х",IF(S45<3," ",IF($AC45<6," ","Х"))) | V45: =IF(T45="Х","Х",IF(U45<3," ",IF($AC45<6," ","Х"))) | X45: =IF(V45="А1",$AZ$7,IF(V45="Б2",$AZ$6,IF(V45="Б1",$BA$7,IF(V45="А2",$BA$6,IF(V45="Х","Х",IF(V45<6," "," ")))))) | Z45: =IF(V45="Х","Х",IF(ISBLANK(Y45),"",IF(Y45>2.5," ",IF(B45=BB$6,BB$7,BB$6)))) | AB45: =IF(H45="Х",F$5,IF(J45="Х",H$5,IF(L45="Х",J$5,IF(N45="Х",L$5,IF(P45="Х",N$5,IF(R45="Х",P$5,IF(T45="Х",R$5,IF(X45="Х",T$5,"")))))))) | AC45: =SUM(G45+I45+K45+M45+O45+Q45+S45+U45+Y45+AA45) -> 0 | AD45: =AF45 -> 1-22 | AE45: =AD45 -> 1-22 | AF45: =COUNTIF(AG$6:AG$148,">"&AG$6:AG$148)+1&REPT("-"&COUNTIF(AG$6:AG$148,">="&AG$6:AG$148),COUNTIF(AG$6:AG$148,AG45)>1) -> 1-22 | AG45: =(AR45*100)+(AP45*10)-AC45 -> 1280 | AH45: =IF(OR(F45="Х",F45="св")," ",IF(AND(G45>=0,G45<3),"1"," ")) -> 1 | AI45: =IF(OR(H45="Х",H45="св")," ",IF(AND(I45>=0,I45<3),"1"," ")) -> 1 | AJ45: =IF(OR(J45="Х",J45="св")," ",IF(AND(K45>=0,K45<3),"1"," ")) -> 1 | AK45: =IF(OR(L45="Х",L45="св")," ",IF(AND(M45>=0,M45<3),"1"," ")) -> 1 | AL45: =IF(OR(N45="Х",N45="св")," ",IF(AND(O45>=0,O45<3),"1"," ")) -> 1 | AM45: =IF(OR(P45="Х",P45="св")," ",IF(AND(Q45>=0,Q45<3),"1"," ")) -> 1 | AN45: =IF(OR(R45="Х",R45="св")," ",IF(AND(S45>=0,S45<3),"1"," ")) -> 1 | AO45: =IF(OR(T45="Х",T45="св")," ",IF(AND(U45>=0,U45<3),"1"," ")) -> 1 | AP45: =COUNTIF(AH45:AO46,1) -> 8 | AQ45: =AG45-AC45 -> 1280 | AR45: =IF(F45=0,0,IF(F45="Х",1,IF(H45="Х",2,IF(J45="Х",3,IF(L45="Х",4,IF(N45="Х",5,IF(P45="Х",6,IF(R45="Х",7,IF(T45="Х",8,IF(V45="Х",9,IF(Y45>2.5,10,IF(AA45>2.5,11,IF(AA45>=0,12,IF(AA45=" ",0,)))))))))))))) -> 12 | AS45: =COUNTIF(AG$6:AG$134,">"&AG$6:AG$134)+1&REPT("-"&COUNTIF(AG$6:AG$134,">="&AG$6:AG$134),COUNTIF(AG$6:AG$134,AG45)>1) -> 1-22 | AT45: =COUNTIF(AU$6:AU$134,">"&AU$6:AU$134)+1&REPT("-"&COUNTIF(AU$6:AU$134,">="&AU$6:AU$134),COUNTIF(AU$6:AU$134,AU45)>1) -> 1-64 | AU45: =COUNTIF(AV$6:AV$134,">"&AV$6:AV$134)+1&REPT("-"&COUNTIF(AV$6:AV$134,">="&AV$6:AV$134),COUNTIF(AV$6:AV$134,AV45)>1) -> 1-0 | AV45: =COUNTIF(AW$6:AW$134,">"&AW$6:AW$134)+1&REPT("-"&COUNTIF(AW$6:AW$134,">="&AW$6:AW$134),COUNTIF(AW$6:AW$134,AW45)>1) -> 1 | AW45: =COUNTIF(AX$6:AX$134,">"&AX$6:AX$134)+1&REPT("-"&COUNTIF(AX$6:AX$134,">="&AX$6:AX$134),COUNTIF(AX$6:AX$134,AX45)>1) -> 45 | AX45: =IF(X45="Х","Х",IF(Y45<3,B45,"Х")) -> 20 | BD45: 0 | BF45: 0 | BM45: 20 | BN45: 21 | BO45: =IF(BM45<BN45,BM45,"") -> 20 | BP45: 20 | BR45: 20 | BS45: 18 | BT45: =IF(BR45<BS45,BR45,"") | BW45: 20 | BY45: {=IF(BW45<BX45,BW45,"")} -> 20 | BZ45: =IF(BY45="св",0,BY45) -> 20 | CA45: =IFERROR(__xludf.DUMMYFUNCTION("""COMPUTED_VALUE"""),40) -> 40 | CB45: =IF(CA45=0,"св",CA45) -> 40 | CE45: 20 | CG45: {=IF(CE45<CF45,CE45,"")} -> 20 | CH45: 20 | CI45: =IFERROR(__xludf.DUMMYFUNCTION("""COMPUTED_VALUE"""),40) -> 40 | CJ45: 20 | CL45: {=IF(CJ45<CK45,CJ45,"")} -> 20 | CM45: 20 | CN45: =IFERROR(__xludf.DUMMYFUNCTION("""COMPUTED_VALUE"""),40) -> 40 | CO45: 20 | CQ45: {=IF(CO45<CP45,CO45,"")} -> 20 | CR45: 20 | CS45: =IFERROR(__xludf.DUMMYFUNCTION("""COMPUTED_VALUE"""),40) -> 40 | CT45: 20 | CV45: {=IF(CT45<CU45,CT45,"")} -> 20 | CW45: 20 | CX45: =IFERROR(__xludf.DUMMYFUNCTION("""COMPUTED_VALUE"""),40) -> 40 | CY45: 20 | DA45: {=IF(CY45<CZ45,CY45,"")} -> 20 | DB45: 20 | DC45: =IFERROR(__xludf.DUMMYFUNCTION("""COMPUTED_VALUE"""),40) -> 40 | DD45: 20
BD46: 0 | BF46: 0 | BN46: 0 | BO46: =IF(BO45="","",BN45) -> 21 | BP46: 21 | BS46: 0 | BT46: =IF(BT45="","",BS45) | BX46: 0 | BY46: =IF(BY45="","",BX45) | BZ46: =IF(BY46="св",0,BY46) | CA46: =IFERROR(__xludf.DUMMYFUNCTION("""COMPUTED_VALUE"""),41) -> 41 | CB46: =IF(CA46=0,"св",CA46) -> 41 | CF46: 0 | CG46: =IF(CG45="","",CF45) | CI46: =IFERROR(__xludf.DUMMYFUNCTION("""COMPUTED_VALUE"""),41) -> 41 | CK46: 0 | CL46: =IF(CL45="","",CK45) | CN46: =IFERROR(__xludf.DUMMYFUNCTION("""COMPUTED_VALUE"""),41) -> 41 | CP46: 0 | CQ46: =IF(CQ45="","",CP45) | CS46: =IFERROR(__xludf.DUMMYFUNCTION("""COMPUTED_VALUE"""),41) -> 41 | CU46: 0 | CV46: =IF(CV45="","",CU45) | CX46: =IFERROR(__xludf.DUMMYFUNCTION("""COMPUTED_VALUE"""),41) -> 41 | CZ46: 0 | DA46: =IF(DA45="","",CZ45) | DC46: =IFERROR(__xludf.DUMMYFUNCTION("""COMPUTED_VALUE"""),41) -> 41
B47: 21 | C47: =(VLOOKUP($B47,Пр.взв!$D$6:$J$63,2,0)) -> МУХИНА Ольга | D47: =(VLOOKUP($B47,Пр.взв!$D$6:$J$63,5,0)) -> КМС | E47: =(VLOOKUP($B47,Пр.взв!$D$6:$M$63,8,0)) -> Свердловская | F47: 20 | H47: 19 | J47: =IF(H47="Х","Х",IF($AC47<6," ","Х")) | L47: =IF(J47="Х","Х",IF(K47<3," ",IF($AC47<6," ","Х"))) | N47: =IF(L47="Х","Х",IF(M47<3," ",IF($AC47<6," ","Х"))) | P47: =IF(N47="Х","Х",IF(O47<3," ",IF($AC47<6," ","Х"))) | R47: =IF(P47="Х","Х",IF(Q47<3," ",IF($AC47<6," ","Х"))) | T47: =IF(R47="Х","Х",IF(S47<3," ",IF($AC47<6," ","Х"))) | V47: =IF(T47="Х","Х",IF(U47<3," ",IF($AC47<6," ","Х"))) | X47: =IF(V47="А1",$AZ$7,IF(V47="Б2",$AZ$6,IF(V47="Б1",$BA$7,IF(V47="А2",$BA$6,IF(V47="Х","Х",IF(V47<6," "," ")))))) | Z47: =IF(V47="Х","Х",IF(ISBLANK(Y47),"",IF(Y47>2.5," ",IF(B47=BB$6,BB$7,BB$6)))) | AB47: =IF(H47="Х",F$5,IF(J47="Х",H$5,IF(L47="Х",J$5,IF(N47="Х",L$5,IF(P47="Х",N$5,IF(R47="Х",P$5,IF(T47="Х",R$5,IF(X47="Х",T$5,"")))))))) | AC47: =SUM(G47+I47+K47+M47+O47+Q47+S47+U47+Y47+AA47) -> 0 | AD47: =AF47 -> 1-22 | AE47: =AD47 -> 1-22 | AF47: =COUNTIF(AG$6:AG$148,">"&AG$6:AG$148)+1&REPT("-"&COUNTIF(AG$6:AG$148,">="&AG$6:AG$148),COUNTIF(AG$6:AG$148,AG47)>1) -> 1-22 | AG47: =(AR47*100)+(AP47*10)-AC47 -> 1280 | AH47: =IF(OR(F47="Х",F47="св")," ",IF(AND(G47>=0,G47<3),"1"," ")) -> 1 | AI47: =IF(OR(H47="Х",H47="св")," ",IF(AND(I47>=0,I47<3),"1"," ")) -> 1 | AJ47: =IF(OR(J47="Х",J47="св")," ",IF(AND(K47>=0,K47<3),"1"," ")) -> 1 | AK47: =IF(OR(L47="Х",L47="св")," ",IF(AND(M47>=0,M47<3),"1"," ")) -> 1 | AL47: =IF(OR(N47="Х",N47="св")," ",IF(AND(O47>=0,O47<3),"1"," ")) -> 1 | AM47: =IF(OR(P47="Х",P47="св")," ",IF(AND(Q47>=0,Q47<3),"1"," ")) -> 1 | AN47: =IF(OR(R47="Х",R47="св")," ",IF(AND(S47>=0,S47<3),"1"," ")) -> 1 | AO47: =IF(OR(T47="Х",T47="св")," ",IF(AND(U47>=0,U47<3),"1"," ")) -> 1 | AP47: =COUNTIF(AH47:AO48,1) -> 8 | AQ47: =AG47-AC47 -> 1280 | AR47: =IF(F47=0,0,IF(F47="Х",1,IF(H47="Х",2,IF(J47="Х",3,IF(L47="Х",4,IF(N47="Х",5,IF(P47="Х",6,IF(R47="Х",7,IF(T47="Х",8,IF(V47="Х",9,IF(Y47>2.5,10,IF(AA47>2.5,11,IF(AA47>=0,12,IF(AA47=" ",0,)))))))))))))) -> 12 | AS47: =COUNTIF(AG$6:AG$134,">"&AG$6:AG$134)+1&REPT("-"&COUNTIF(AG$6:AG$134,">="&AG$6:AG$134),COUNTIF(AG$6:AG$134,AG47)>1) -> 1-22 | AT47: =COUNTIF(AU$6:AU$134,">"&AU$6:AU$134)+1&REPT("-"&COUNTIF(AU$6:AU$134,">="&AU$6:AU$134),COUNTIF(AU$6:AU$134,AU47)>1) -> 1-64 | AU47: =COUNTIF(AV$6:AV$134,">"&AV$6:AV$134)+1&REPT("-"&COUNTIF(AV$6:AV$134,">="&AV$6:AV$134),COUNTIF(AV$6:AV$134,AV47)>1) -> 1-0 | AV47: =COUNTIF(AW$6:AW$134,">"&AW$6:AW$134)+1&REPT("-"&COUNTIF(AW$6:AW$134,">="&AW$6:AW$134),COUNTIF(AW$6:AW$134,AW47)>1) -> 1 | AW47: =COUNTIF(AX$6:AX$134,">"&AX$6:AX$134)+1&REPT("-"&COUNTIF(AX$6:AX$134,">="&AX$6:AX$134),COUNTIF(AX$6:AX$134,AX47)>1) -> 44 | AX47: =IF(X47="Х","Х",IF(Y47<3,B47,"Х")) -> 21 | BD47: 0 | BF47: 0 | BM47: 21 | BN47: 20 | BO47: =IF(BM47<BN47,BM47,"") | BR47: 21 | BS47: 19 | BT47: =IF(BR47<BS47,BR47,"") | BW47: 21 | BY47: {=IF(BW47<BX47,BW47,"")} -> 21 | BZ47: =IF(BY47="св",0,BY47) -> 21 | CA47: =IFERROR(__xludf.DUMMYFUNCTION("""COMPUTED_VALUE"""),42) -> 42 | CB47: =IF(CA47=0,"св",CA47) -> 42 | CE47: 21 | CG47: {=IF(CE47<CF47,CE47,"")} -> 21 | CH47: 21 | CI47: =IFERROR(__xludf.DUMMYFUNCTION("""COMPUTED_VALUE"""),42) -> 42 | CJ47: 21 | CL47: {=IF(CJ47<CK47,CJ47,"")} -> 21 | CM47: 21 | CN47: =IFERROR(__xludf.DUMMYFUNCTION("""COMPUTED_VALUE"""),42) -> 42 | CO47: 21 | CQ47: {=IF(CO47<CP47,CO47,"")} -> 21 | CR47: 21 | CS47: =IFERROR(__xludf.DUMMYFUNCTION("""COMPUTED_VALUE"""),42) -> 42 | CT47: 21 | CV47: {=IF(CT47<CU47,CT47,"")} -> 21 | CW47: 21 | CX47: =IFERROR(__xludf.DUMMYFUNCTION("""COMPUTED_VALUE"""),42) -> 42 | CY47: 21 | DA47: {=IF(CY47<CZ47,CY47,"")} -> 21 | DB47: 21 | DC47: =IFERROR(__xludf.DUMMYFUNCTION("""COMPUTED_VALUE"""),42) -> 42 | DD47: 21
BD48: 0 | BF48: 0 | BN48: 0 | BO48: =IF(BO47="","",BN47) | BS48: 0 | BT48: =IF(BT47="","",BS47) | BX48: 0 | BY48: =IF(BY47="","",BX47) | BZ48: =IF(BY48="св",0,BY48) | CA48: =IFERROR(__xludf.DUMMYFUNCTION("""COMPUTED_VALUE"""),43) -> 43 | CB48: =IF(CA48=0,"св",CA48) -> 43 | CF48: 0 | CG48: =IF(CG47="","",CF47) | CI48: =IFERROR(__xludf.DUMMYFUNCTION("""COMPUTED_VALUE"""),43) -> 43 | CK48: 0 | CL48: =IF(CL47="","",CK47) | CN48: =IFERROR(__xludf.DUMMYFUNCTION("""COMPUTED_VALUE"""),43) -> 43 | CP48: 0 | CQ48: =IF(CQ47="","",CP47) | CS48: =IFERROR(__xludf.DUMMYFUNCTION("""COMPUTED_VALUE"""),43) -> 43 | CU48: 0 | CV48: =IF(CV47="","",CU47) | CX48: =IFERROR(__xludf.DUMMYFUNCTION("""COMPUTED_VALUE"""),43) -> 43 | CZ48: 0 | DA48: =IF(DA47="","",CZ47) | DC48: =IFERROR(__xludf.DUMMYFUNCTION("""COMPUTED_VALUE"""),43) -> 43
B49: 22 | C49: =(VLOOKUP($B49,Пр.взв!$D$6:$J$63,2,0)) -> ТАЛПА Елизавета | D49: =(VLOOKUP($B49,Пр.взв!$D$6:$J$63,5,0)) -> КМС | E49: =(VLOOKUP($B49,Пр.взв!$D$6:$M$63,8,0)) -> Р.Коми | F49: 23 | H49: 24 | J49: =IF(H49="Х","Х",IF($AC49<6," ","Х")) | L49: =IF(J49="Х","Х",IF(K49<3," ",IF($AC49<6," ","Х"))) | N49: =IF(L49="Х","Х",IF(M49<3," ",IF($AC49<6," ","Х"))) | P49: =IF(N49="Х","Х",IF(O49<3," ",IF($AC49<6," ","Х"))) | R49: =IF(P49="Х","Х",IF(Q49<3," ",IF($AC49<6," ","Х"))) | T49: =IF(R49="Х","Х",IF(S49<3," ",IF($AC49<6," ","Х"))) | V49: =IF(T49="Х","Х",IF(U49<3," ",IF($AC49<6," ","Х"))) | X49: =IF(V49="А1",$AZ$7,IF(V49="Б2",$AZ$6,IF(V49="Б1",$BA$7,IF(V49="А2",$BA$6,IF(V49="Х","Х",IF(V49<6," "," ")))))) | Z49: =IF(V49="Х","Х",IF(ISBLANK(Y49),"",IF(Y49>2.5," ",IF(B49=BB$6,BB$7,BB$6)))) | AB49: =IF(H49="Х",F$5,IF(J49="Х",H$5,IF(L49="Х",J$5,IF(N49="Х",L$5,IF(P49="Х",N$5,IF(R49="Х",P$5,IF(T49="Х",R$5,IF(X49="Х",T$5,"")))))))) | AC49: =SUM(G49+I49+K49+M49+O49+Q49+S49+U49+Y49+AA49) -> 0 | AD49: =AF49 -> 1-22 | AE49: =AD49 -> 1-22 | AF49: =COUNTIF(AG$6:AG$148,">"&AG$6:AG$148)+1&REPT("-"&COUNTIF(AG$6:AG$148,">="&AG$6:AG$148),COUNTIF(AG$6:AG$148,AG49)>1) -> 1-22 | AG49: =(AR49*100)+(AP49*10)-AC49 -> 1280 | AH49: =IF(OR(F49="Х",F49="св")," ",IF(AND(G49>=0,G49<3),"1"," ")) -> 1 | AI49: =IF(OR(H49="Х",H49="св")," ",IF(AND(I49>=0,I49<3),"1"," ")) -> 1 | AJ49: =IF(OR(J49="Х",J49="св")," ",IF(AND(K49>=0,K49<3),"1"," ")) -> 1 | AK49: =IF(OR(L49="Х",L49="св")," ",IF(AND(M49>=0,M49<3),"1"," ")) -> 1 | AL49: =IF(OR(N49="Х",N49="св")," ",IF(AND(O49>=0,O49<3),"1"," ")) -> 1 | AM49: =IF(OR(P49="Х",P49="св")," ",IF(AND(Q49>=0,Q49<3),"1"," ")) -> 1 | AN49: =IF(OR(R49="Х",R49="св")," ",IF(AND(S49>=0,S49<3),"1"," ")) -> 1 | AO49: =IF(OR(T49="Х",T49="св")," ",IF(AND(U49>=0,U49<3),"1"," ")) -> 1 | AP49: =COUNTIF(AH49:AO50,1) -> 8 | AQ49: =AG49-AC49 -> 1280 | AR49: =IF(F49=0,0,IF(F49="Х",1,IF(H49="Х",2,IF(J49="Х",3,IF(L49="Х",4,IF(N49="Х",5,IF(P49="Х",6,IF(R49="Х",7,IF(T49="Х",8,IF(V49="Х",9,IF(Y49>2.5,10,IF(AA49>2.5,11,IF(AA49>=0,12,IF(AA49=" ",0,)))))))))))))) -> 12 | AS49: =COUNTIF(AG$6:AG$134,">"&AG$6:AG$134)+1&REPT("-"&COUNTIF(AG$6:AG$134,">="&AG$6:AG$134),COUNTIF(AG$6:AG$134,AG49)>1) -> 1-22 | AT49: =COUNTIF(AU$6:AU$134,">"&AU$6:AU$134)+1&REPT("-"&COUNTIF(AU$6:AU$134,">="&AU$6:AU$134),COUNTIF(AU$6:AU$134,AU49)>1) -> 1-64 | AU49: =COUNTIF(AV$6:AV$134,">"&AV$6:AV$134)+1&REPT("-"&COUNTIF(AV$6:AV$134,">="&AV$6:AV$134),COUNTIF(AV$6:AV$134,AV49)>1) -> 1-0 | AV49: =COUNTIF(AW$6:AW$134,">"&AW$6:AW$134)+1&REPT("-"&COUNTIF(AW$6:AW$134,">="&AW$6:AW$134),COUNTIF(AW$6:AW$134,AW49)>1) -> 1 | AW49: =COUNTIF(AX$6:AX$134,">"&AX$6:AX$134)+1&REPT("-"&COUNTIF(AX$6:AX$134,">="&AX$6:AX$134),COUNTIF(AX$6:AX$134,AX49)>1) -> 43 | AX49: =IF(X49="Х","Х",IF(Y49<3,B49,"Х")) -> 22 | BD49: 0 | BF49: 0 | BM49: 22 | BN49: 23 | BO49: =IF(BM49<BN49,BM49,"") -> 22 | BP49: 22 | BR49: 22 | BS49: 24 | BT49: =IF(BR49<BS49,BR49,"") -> 22 | BU49: 22 | BW49: 22 | BY49: {=IF(BW49<BX49,BW49,"")} -> 22 | BZ49: =IF(BY49="св",0,BY49) -> 22 | CA49: =IFERROR(__xludf.DUMMYFUNCTION("""COMPUTED_VALUE"""),44) -> 44 | CB49: =IF(CA49=0,"св",CA49) -> 44 | CE49: 22 | CG49: {=IF(CE49<CF49,CE49,"")} -> 22 | CH49: 22 | CI49: =IFERROR(__xludf.DUMMYFUNCTION("""COMPUTED_VALUE"""),44) -> 44 | CJ49: 22 | CL49: {=IF(CJ49<CK49,CJ49,"")} -> 22 | CM49: 22 | CN49: =IFERROR(__xludf.DUMMYFUNCTION("""COMPUTED_VALUE"""),44) -> 44 | CO49: 22 | CQ49: {=IF(CO49<CP49,CO49,"")} -> 22 | CR49: 22 | CS49: =IFERROR(__xludf.DUMMYFUNCTION("""COMPUTED_VALUE"""),44) -> 44 | CT49: 22 | CV49: {=IF(CT49<CU49,CT49,"")} -> 22 | CW49: 22 | CX49: =IFERROR(__xludf.DUMMYFUNCTION("""COMPUTED_VALUE"""),44) -> 44 | CY49: 22 | DA49: {=IF(CY49<CZ49,CY49,"")} -> 22 | DB49: 22 | DC49: =IFERROR(__xludf.DUMMYFUNCTION("""COMPUTED_VALUE"""),44) -> 44 | DD49: 22
BD50: 0 | BF50: 0 | BN50: 0 | BO50: =IF(BO49="","",BN49) -> 23 | BP50: 23 | BS50: 0 | BT50: =IF(BT49="","",BS49) -> 24 | BU50: 24 | BX50: 0 | BY50: =IF(BY49="","",BX49) | BZ50: =IF(BY50="св",0,BY50) | CA50: =IFERROR(__xludf.DUMMYFUNCTION("""COMPUTED_VALUE"""),45) -> 45 | CB50: =IF(CA50=0,"св",CA50) -> 45 | CF50: 0 | CG50: =IF(CG49="","",CF49) | CI50: =IFERROR(__xludf.DUMMYFUNCTION("""COMPUTED_VALUE"""),45) -> 45 | CK50: 0 | CL50: =IF(CL49="","",CK49) | CN50: =IFERROR(__xludf.DUMMYFUNCTION("""COMPUTED_VALUE"""),45) -> 45 | CP50: 0 | CQ50: =IF(CQ49="","",CP49) | CS50: =IFERROR(__xludf.DUMMYFUNCTION("""COMPUTED_VALUE"""),45) -> 45 | CU50: 0 | CV50: =IF(CV49="","",CU49) | CX50: =IFERROR(__xludf.DUMMYFUNCTION("""COMPUTED_VALUE"""),45) -> 45 | CZ50: 0 | DA50: =IF(DA49="","",CZ49) | DC50: =IFERROR(__xludf.DUMMYFUNCTION("""COMPUTED_VALUE"""),45) -> 45
B51: 23 | C51: =(VLOOKUP($B51,Пр.взв!$D$6:$J$63,2,0)) -> ТИХОНОВА Юлия | D51: =(VLOOKUP($B51,Пр.взв!$D$6:$J$63,5,0)) -> 1р | E51: =(VLOOKUP($B51,Пр.взв!$D$6:$M$63,8,0)) -> Забайкальский | F51: 22 | H51: 26 | J51: =IF(H51="Х","Х",IF($AC51<6," ","Х")) | L51: =IF(J51="Х","Х",IF(K51<3," ",IF($AC51<6," ","Х"))) | N51: =IF(L51="Х","Х",IF(M51<3," ",IF($AC51<6," ","Х"))) | P51: =IF(N51="Х","Х",IF(O51<3," ",IF($AC51<6," ","Х"))) | R51: =IF(P51="Х","Х",IF(Q51<3," ",IF($AC51<6," ","Х"))) | T51: =IF(R51="Х","Х",IF(S51<3," ",IF($AC51<6," ","Х"))) | V51: =IF(T51="Х","Х",IF(U51<3," ",IF($AC51<6," ","Х"))) | X51: =IF(V51="А1",$AZ$7,IF(V51="Б2",$AZ$6,IF(V51="Б1",$BA$7,IF(V51="А2",$BA$6,IF(V51="Х","Х",IF(V51<6," "," ")))))) | Z51: =IF(V51="Х","Х",IF(ISBLANK(Y51),"",IF(Y51>2.5," ",IF(B51=BB$6,BB$7,BB$6)))) | AB51: =IF(H51="Х",F$5,IF(J51="Х",H$5,IF(L51="Х",J$5,IF(N51="Х",L$5,IF(P51="Х",N$5,IF(R51="Х",P$5,IF(T51="Х",R$5,IF(X51="Х",T$5,"")))))))) | AC51: =SUM(G51+I51+K51+M51+O51+Q51+S51+U51+Y51+AA51) -> 0 | AD51: =AF51 -> 1-22 | AE51: =AD51 -> 1-22 | AF51: =COUNTIF(AG$6:AG$148,">"&AG$6:AG$148)+1&REPT("-"&COUNTIF(AG$6:AG$148,">="&AG$6:AG$148),COUNTIF(AG$6:AG$148,AG51)>1) -> 1-22 | AG51: =(AR51*100)+(AP51*10)-AC51 -> 1280 | AH51: =IF(OR(F51="Х",F51="св")," ",IF(AND(G51>=0,G51<3),"1"," ")) -> 1 | AI51: =IF(OR(H51="Х",H51="св")," ",IF(AND(I51>=0,I51<3),"1"," ")) -> 1 | AJ51: =IF(OR(J51="Х",J51="св")," ",IF(AND(K51>=0,K51<3),"1"," ")) -> 1 | AK51: =IF(OR(L51="Х",L51="св")," ",IF(AND(M51>=0,M51<3),"1"," ")) -> 1 | AL51: =IF(OR(N51="Х",N51="св")," ",IF(AND(O51>=0,O51<3),"1"," ")) -> 1 | AM51: =IF(OR(P51="Х",P51="св")," ",IF(AND(Q51>=0,Q51<3),"1"," ")) -> 1 | AN51: =IF(OR(R51="Х",R51="св")," ",IF(AND(S51>=0,S51<3),"1"," ")) -> 1 | AO51: =IF(OR(T51="Х",T51="св")," ",IF(AND(U51>=0,U51<3),"1"," ")) -> 1 | AP51: =COUNTIF(AH51:AO52,1) -> 8 | AQ51: =AG51-AC51 -> 1280 | AR51: =IF(F51=0,0,IF(F51="Х",1,IF(H51="Х",2,IF(J51="Х",3,IF(L51="Х",4,IF(N51="Х",5,IF(P51="Х",6,IF(R51="Х",7,IF(T51="Х",8,IF(V51="Х",9,IF(Y51>2.5,10,IF(AA51>2.5,11,IF(AA51>=0,12,IF(AA51=" ",0,)))))))))))))) -> 12 | AS51: =COUNTIF(AG$6:AG$134,">"&AG$6:AG$134)+1&REPT("-"&COUNTIF(AG$6:AG$134,">="&AG$6:AG$134),COUNTIF(AG$6:AG$134,AG51)>1) -> 1-22 | AT51: =COUNTIF(AU$6:AU$134,">"&AU$6:AU$134)+1&REPT("-"&COUNTIF(AU$6:AU$134,">="&AU$6:AU$134),COUNTIF(AU$6:AU$134,AU51)>1) -> 1-64 | AU51: =COUNTIF(AV$6:AV$134,">"&AV$6:AV$134)+1&REPT("-"&COUNTIF(AV$6:AV$134,">="&AV$6:AV$134),COUNTIF(AV$6:AV$134,AV51)>1) -> 1-0 | AV51: =COUNTIF(AW$6:AW$134,">"&AW$6:AW$134)+1&REPT("-"&COUNTIF(AW$6:AW$134,">="&AW$6:AW$134),COUNTIF(AW$6:AW$134,AW51)>1) -> 1 | AW51: =COUNTIF(AX$6:AX$134,">"&AX$6:AX$134)+1&REPT("-"&COUNTIF(AX$6:AX$134,">="&AX$6:AX$134),COUNTIF(AX$6:AX$134,AX51)>1) -> 42 | AX51: =IF(X51="Х","Х",IF(Y51<3,B51,"Х")) -> 23 | BD51: 0 | BF51: 0 | BM51: 23 | BN51: 22 | BO51: =IF(BM51<BN51,BM51,"") | BR51: 23 | BS51: 26 | BT51: =IF(BR51<BS51,BR51,"") -> 23 | BU51: 23 | BW51: 23 | BY51: {=IF(BW51<BX51,BW51,"")} -> 23 | BZ51: =IF(BY51="св",0,BY51) -> 23 | CA51: =IFERROR(__xludf.DUMMYFUNCTION("""COMPUTED_VALUE"""),46) -> 46 | CB51: =IF(CA51=0,"св",CA51) -> 46 | CE51: 23 | CG51: {=IF(CE51<CF51,CE51,"")} -> 23 | CH51: 23 | CI51: =IFERROR(__xludf.DUMMYFUNCTION("""COMPUTED_VALUE"""),46) -> 46 | CJ51: 23 | CL51: {=IF(CJ51<CK51,CJ51,"")} -> 23 | CM51: 23 | CN51: =IFERROR(__xludf.DUMMYFUNCTION("""COMPUTED_VALUE"""),46) -> 46 | CO51: 23 | CQ51: {=IF(CO51<CP51,CO51,"")} -> 23 | CR51: 23 | CS51: =IFERROR(__xludf.DUMMYFUNCTION("""COMPUTED_VALUE"""),46) -> 46 | CT51: 23 | CV51: {=IF(CT51<CU51,CT51,"")} -> 23 | CW51: 23 | CX51: =IFERROR(__xludf.DUMMYFUNCTION("""COMPUTED_VALUE"""),46) -> 46 | CY51: 23 | DA51: {=IF(CY51<CZ51,CY51,"")} -> 23 | DB51: 23 | DC51: =IFERROR(__xludf.DUMMYFUNCTION("""COMPUTED_VALUE"""),46) -> 46 | DD51: 23
BD52: 0 | BF52: 0 | BN52: 0 | BO52: =IF(BO51="","",BN51) | BS52: 0 | BT52: =IF(BT51="","",BS51) -> 26 | BU52: 26 | BX52: 0 | BY52: =IF(BY51="","",BX51) | BZ52: =IF(BY52="св",0,BY52) | CA52: =IFERROR(__xludf.DUMMYFUNCTION("""COMPUTED_VALUE"""),47) -> 47 | CB52: =IF(CA52=0,"св",CA52) -> 47 | CF52: 0 | CG52: =IF(CG51="","",CF51) | CI52: =IFERROR(__xludf.DUMMYFUNCTION("""COMPUTED_VALUE"""),47) -> 47 | CK52: 0 | CL52: =IF(CL51="","",CK51) | CN52: =IFERROR(__xludf.DUMMYFUNCTION("""COMPUTED_VALUE"""),47) -> 47 | CP52: 0 | CQ52: =IF(CQ51="","",CP51) | CS52: =IFERROR(__xludf.DUMMYFUNCTION("""COMPUTED_VALUE"""),47) -> 47 | CU52: 0 | CV52: =IF(CV51="","",CU51) | CX52: =IFERROR(__xludf.DUMMYFUNCTION("""COMPUTED_VALUE"""),47) -> 47 | CZ52: 0 | DA52: =IF(DA51="","",CZ51) | DC52: =IFERROR(__xludf.DUMMYFUNCTION("""COMPUTED_VALUE"""),47) -> 47
B53: 24 | C53: =(VLOOKUP($B53,Пр.взв!$D$6:$J$63,2,0)) -> АНТОНЮК Яна | D53: =(VLOOKUP($B53,Пр.взв!$D$6:$J$63,5,0)) -> МС | E53: =(VLOOKUP($B53,Пр.взв!$D$6:$M$63,8,0)) -> Иркутская | F53: 25 | H53: 22 | J53: =IF(H53="Х","Х",IF($AC53<6," ","Х")) | L53: =IF(J53="Х","Х",IF(K53<3," ",IF($AC53<6," ","Х"))) | N53: =IF(L53="Х","Х",IF(M53<3," ",IF($AC53<6," ","Х"))) | P53: =IF(N53="Х","Х",IF(O53<3," ",IF($AC53<6," ","Х"))) | R53: =IF(P53="Х","Х",IF(Q53<3," ",IF($AC53<6," ","Х"))) | T53: =IF(R53="Х","Х",IF(S53<3," ",IF($AC53<6," ","Х"))) | V53: =IF(T53="Х","Х",IF(U53<3," ",IF($AC53<6," ","Х"))) | X53: =IF(V53="А1",$AZ$7,IF(V53="Б2",$AZ$6,IF(V53="Б1",$BA$7,IF(V53="А2",$BA$6,IF(V53="Х","Х",IF(V53<6," "," ")))))) | Z53: =IF(V53="Х","Х",IF(ISBLANK(Y53),"",IF(Y53>2.5," ",IF(B53=BB$6,BB$7,BB$6)))) | AB53: =IF(H53="Х",F$5,IF(J53="Х",H$5,IF(L53="Х",J$5,IF(N53="Х",L$5,IF(P53="Х",N$5,IF(R53="Х",P$5,IF(T53="Х",R$5,IF(X53="Х",T$5,"")))))))) | AC53: =SUM(G53+I53+K53+M53+O53+Q53+S53+U53+Y53+AA53) -> 0 | AD53: =AF53 -> 1-22 | AE53: =AD53 -> 1-22 | AF53: =COUNTIF(AG$6:AG$148,">"&AG$6:AG$148)+1&REPT("-"&COUNTIF(AG$6:AG$148,">="&AG$6:AG$148),COUNTIF(AG$6:AG$148,AG53)>1) -> 1-22 | AG53: =(AR53*100)+(AP53*10)-AC53 -> 1280 | AH53: =IF(OR(F53="Х",F53="св")," ",IF(AND(G53>=0,G53<3),"1"," ")) -> 1 | AI53: =IF(OR(H53="Х",H53="св")," ",IF(AND(I53>=0,I53<3),"1"," ")) -> 1 | AJ53: =IF(OR(J53="Х",J53="св")," ",IF(AND(K53>=0,K53<3),"1"," ")) -> 1 | AK53: =IF(OR(L53="Х",L53="св")," ",IF(AND(M53>=0,M53<3),"1"," ")) -> 1 | AL53: =IF(OR(N53="Х",N53="св")," ",IF(AND(O53>=0,O53<3),"1"," ")) -> 1 | AM53: =IF(OR(P53="Х",P53="св")," ",IF(AND(Q53>=0,Q53<3),"1"," ")) -> 1 | AN53: =IF(OR(R53="Х",R53="св")," ",IF(AND(S53>=0,S53<3),"1"," ")) -> 1 | AO53: =IF(OR(T53="Х",T53="св")," ",IF(AND(U53>=0,U53<3),"1"," ")) -> 1 | AP53: =COUNTIF(AH53:AO54,1) -> 8 | AQ53: =AG53-AC53 -> 1280 | AR53: =IF(F53=0,0,IF(F53="Х",1,IF(H53="Х",2,IF(J53="Х",3,IF(L53="Х",4,IF(N53="Х",5,IF(P53="Х",6,IF(R53="Х",7,IF(T53="Х",8,IF(V53="Х",9,IF(Y53>2.5,10,IF(AA53>2.5,11,IF(AA53>=0,12,IF(AA53=" ",0,)))))))))))))) -> 12 | AS53: =COUNTIF(AG$6:AG$134,">"&AG$6:AG$134)+1&REPT("-"&COUNTIF(AG$6:AG$134,">="&AG$6:AG$134),COUNTIF(AG$6:AG$134,AG53)>1) -> 1-22 | AT53: =COUNTIF(AU$6:AU$134,">"&AU$6:AU$134)+1&REPT("-"&COUNTIF(AU$6:AU$134,">="&AU$6:AU$134),COUNTIF(AU$6:AU$134,AU53)>1) -> 1-64 | AU53: =COUNTIF(AV$6:AV$134,">"&AV$6:AV$134)+1&REPT("-"&COUNTIF(AV$6:AV$134,">="&AV$6:AV$134),COUNTIF(AV$6:AV$134,AV53)>1) -> 1-0 | AV53: =COUNTIF(AW$6:AW$134,">"&AW$6:AW$134)+1&REPT("-"&COUNTIF(AW$6:AW$134,">="&AW$6:AW$134),COUNTIF(AW$6:AW$134,AW53)>1) -> 1 | AW53: =COUNTIF(AX$6:AX$134,">"&AX$6:AX$134)+1&REPT("-"&COUNTIF(AX$6:AX$134,">="&AX$6:AX$134),COUNTIF(AX$6:AX$134,AX53)>1) -> 41 | AX53: =IF(X53="Х","Х",IF(Y53<3,B53,"Х")) -> 24 | BD53: 0 | BF53: 0 | BM53: 24 | BN53: 25 | BO53: =IF(BM53<BN53,BM53,"") -> 24 | BP53: 24 | BR53: 24 | BS53: 22 | BT53: =IF(BR53<BS53,BR53,"") | BW53: 24 | BY53: {=IF(BW53<BX53,BW53,"")} -> 24 | BZ53: =IF(BY53="св",0,BY53) -> 24 | CA53: =IFERROR(__xludf.DUMMYFUNCTION("""COMPUTED_VALUE"""),48) -> 48 | CB53: =IF(CA53=0,"св",CA53) -> 48 | CE53: 24 | CG53: {=IF(CE53<CF53,CE53,"")} -> 24 | CH53: 24 | CI53: =IFERROR(__xludf.DUMMYFUNCTION("""COMPUTED_VALUE"""),48) -> 48 | CJ53: 24 | CL53: {=IF(CJ53<CK53,CJ53,"")} -> 24 | CM53: 24 | CN53: =IFERROR(__xludf.DUMMYFUNCTION("""COMPUTED_VALUE"""),48) -> 48 | CO53: 24 | CQ53: {=IF(CO53<CP53,CO53,"")} -> 24 | CR53: 24 | CS53: =IFERROR(__xludf.DUMMYFUNCTION("""COMPUTED_VALUE"""),48) -> 48 | CT53: 24 | CV53: {=IF(CT53<CU53,CT53,"")} -> 24 | CW53: 24 | CX53: =IFERROR(__xludf.DUMMYFUNCTION("""COMPUTED_VALUE"""),48) -> 48 | CY53: 24 | DA53: {=IF(CY53<CZ53,CY53,"")} -> 24 | DB53: 24 | DC53: =IFERROR(__xludf.DUMMYFUNCTION("""COMPUTED_VALUE"""),48) -> 48 | DD53: 24
BD54: 0 | BF54: 0 | BN54: 0 | BO54: =IF(BO53="","",BN53) -> 25 | BP54: 25 | BS54: 0 | BT54: =IF(BT53="","",BS53) | BX54: 0 | BY54: =IF(BY53="","",BX53) | BZ54: =IF(BY54="св",0,BY54) | CA54: =IFERROR(__xludf.DUMMYFUNCTION("""COMPUTED_VALUE"""),49) -> 49 | CB54: =IF(CA54=0,"св",CA54) -> 49 | CF54: 0 | CG54: =IF(CG53="","",CF53) | CI54: =IFERROR(__xludf.DUMMYFUNCTION("""COMPUTED_VALUE"""),49) -> 49 | CK54: 0 | CL54: =IF(CL53="","",CK53) | CN54: =IFERROR(__xludf.DUMMYFUNCTION("""COMPUTED_VALUE"""),49) -> 49 | CP54: 0 | CQ54: =IF(CQ53="","",CP53) | CS54: =IFERROR(__xludf.DUMMYFUNCTION("""COMPUTED_VALUE"""),49) -> 49 | CU54: 0 | CV54: =IF(CV53="","",CU53) | CX54: =IFERROR(__xludf.DUMMYFUNCTION("""COMPUTED_VALUE"""),49) -> 49 | CZ54: 0 | DA54: =IF(DA53="","",CZ53) | DC54: =IFERROR(__xludf.DUMMYFUNCTION("""COMPUTED_VALUE"""),49) -> 49
B55: 25 | C55: =(VLOOKUP($B55,Пр.взв!$D$6:$J$63,2,0)) -> САВИНОВА Ольга | D55: =(VLOOKUP($B55,Пр.взв!$D$6:$J$63,5,0)) -> КМС | E55: =(VLOOKUP($B55,Пр.взв!$D$6:$M$63,8,0)) -> Краснодарский | F55: 24 | H55: св | J55: =IF(H55="Х","Х",IF($AC55<6," ","Х")) | L55: =IF(J55="Х","Х",IF(K55<3," ",IF($AC55<6," ","Х"))) | N55: =IF(L55="Х","Х",IF(M55<3," ",IF($AC55<6," ","Х"))) | P55: =IF(N55="Х","Х",IF(O55<3," ",IF($AC55<6," ","Х"))) | R55: =IF(P55="Х","Х",IF(Q55<3," ",IF($AC55<6," ","Х"))) | T55: =IF(R55="Х","Х",IF(S55<3," ",IF($AC55<6," ","Х"))) | V55: =IF(T55="Х","Х",IF(U55<3," ",IF($AC55<6," ","Х"))) | X55: =IF(V55="А1",$AZ$7,IF(V55="Б2",$AZ$6,IF(V55="Б1",$BA$7,IF(V55="А2",$BA$6,IF(V55="Х","Х",IF(V55<6," "," ")))))) | Z55: =IF(V55="Х","Х",IF(ISBLANK(Y55),"",IF(Y55>2.5," ",IF(B55=BB$6,BB$7,BB$6)))) | AB55: =IF(H55="Х",F$5,IF(J55="Х",H$5,IF(L55="Х",J$5,IF(N55="Х",L$5,IF(P55="Х",N$5,IF(R55="Х",P$5,IF(T55="Х",R$5,IF(X55="Х",T$5,"")))))))) | AC55: =SUM(G55+I55+K55+M55+O55+Q55+S55+U55+Y55+AA55) -> 0 | AD55: =AF55 -> 23-26 | AE55: =AD55 -> 23-26 | AF55: =COUNTIF(AG$6:AG$148,">"&AG$6:AG$148)+1&REPT("-"&COUNTIF(AG$6:AG$148,">="&AG$6:AG$148),COUNTIF(AG$6:AG$148,AG55)>1) -> 23-26 | AG55: =(AR55*100)+(AP55*10)-AC55 -> 1270 | AH55: =IF(OR(F55="Х",F55="св")," ",IF(AND(G55>=0,G55<3),"1"," ")) -> 1 | AI55: =IF(OR(H55="Х",H55="св")," ",IF(AND(I55>=0,I55<3),"1"," ")) | AJ55: =IF(OR(J55="Х",J55="св")," ",IF(AND(K55>=0,K55<3),"1"," ")) -> 1 | AK55: =IF(OR(L55="Х",L55="св")," ",IF(AND(M55>=0,M55<3),"1"," ")) -> 1 | AL55: =IF(OR(N55="Х",N55="св")," ",IF(AND(O55>=0,O55<3),"1"," ")) -> 1 | AM55: =IF(OR(P55="Х",P55="св")," ",IF(AND(Q55>=0,Q55<3),"1"," ")) -> 1 | AN55: =IF(OR(R55="Х",R55="св")," ",IF(AND(S55>=0,S55<3),"1"," ")) -> 1 | AO55: =IF(OR(T55="Х",T55="св")," ",IF(AND(U55>=0,U55<3),"1"," ")) -> 1 | AP55: =COUNTIF(AH55:AO56,1) -> 7 | AQ55: =AG55-AC55 -> 1270 | AR55: =IF(F55=0,0,IF(F55="Х",1,IF(H55="Х",2,IF(J55="Х",3,IF(L55="Х",4,IF(N55="Х",5,IF(P55="Х",6,IF(R55="Х",7,IF(T55="Х",8,IF(V55="Х",9,IF(Y55>2.5,10,IF(AA55>2.5,11,IF(AA55>=0,12,IF(AA55=" ",0,)))))))))))))) -> 12 | AS55: =COUNTIF(AG$6:AG$134,">"&AG$6:AG$134)+1&REPT("-"&COUNTIF(AG$6:AG$134,">="&AG$6:AG$134),COUNTIF(AG$6:AG$134,AG55)>1) -> 23-26 | AT55: =COUNTIF(AU$6:AU$134,">"&AU$6:AU$134)+1&REPT("-"&COUNTIF(AU$6:AU$134,">="&AU$6:AU$134),COUNTIF(AU$6:AU$134,AU55)>1) -> 1-64 | AU55: =COUNTIF(AV$6:AV$134,">"&AV$6:AV$134)+1&REPT("-"&COUNTIF(AV$6:AV$134,">="&AV$6:AV$134),COUNTIF(AV$6:AV$134,AV55)>1) -> 1-0 | AV55: =COUNTIF(AW$6:AW$134,">"&AW$6:AW$134)+1&REPT("-"&COUNTIF(AW$6:AW$134,">="&AW$6:AW$134),COUNTIF(AW$6:AW$134,AW55)>1) -> 1 | AW55: =COUNTIF(AX$6:AX$134,">"&AX$6:AX$134)+1&REPT("-"&COUNTIF(AX$6:AX$134,">="&AX$6:AX$134),COUNTIF(AX$6:AX$134,AX55)>1) -> 40 | AX55: =IF(X55="Х","Х",IF(Y55<3,B55,"Х")) -> 25 | BD55: 0 | BF55: 0 | BM55: 25 | BN55: 24 | BO55: =IF(BM55<BN55,BM55,"") | BR55: 25 | BS55: св | BT55: =IF(BR55<BS55,BR55,"") -> 25 | BU55: 25 | BW55: 25 | BY55: {=IF(BW55<BX55,BW55,"")} -> 25 | BZ55: =IF(BY55="св",0,BY55) -> 25 | CA55: =IFERROR(__xludf.DUMMYFUNCTION("""COMPUTED_VALUE"""),50) -> 50 | CB55: =IF(CA55=0,"св",CA55) -> 50 | CE55: 25 | CG55: {=IF(CE55<CF55,CE55,"")} -> 25 | CH55: 25 | CI55: =IFERROR(__xludf.DUMMYFUNCTION("""COMPUTED_VALUE"""),50) -> 50 | CJ55: 25 | CL55: {=IF(CJ55<CK55,CJ55,"")} -> 25 | CM55: 25 | CN55: =IFERROR(__xludf.DUMMYFUNCTION("""COMPUTED_VALUE"""),50) -> 50 | CO55: 25 | CQ55: {=IF(CO55<CP55,CO55,"")} -> 25 | CR55: 25 | CS55: =IFERROR(__xludf.DUMMYFUNCTION("""COMPUTED_VALUE"""),50) -> 50 | CT55: 25 | CV55: {=IF(CT55<CU55,CT55,"")} -> 25 | CW55: 25 | CX55: =IFERROR(__xludf.DUMMYFUNCTION("""COMPUTED_VALUE"""),50) -> 50 | CY55: 25 | DA55: {=IF(CY55<CZ55,CY55,"")} -> 25 | DB55: 25 | DC55: =IFERROR(__xludf.DUMMYFUNCTION("""COMPUTED_VALUE"""),50) -> 50 | DD55: 25
BD56: 0 | BF56: 0 | BN56: 0 | BO56: =IF(BO55="","",BN55) | BS56: 0 | BT56: =IF(BT55="","",BS55) -> св | BU56: 0 | BX56: 0 | BY56: =IF(BY55="","",BX55) | BZ56: =IF(BY56="св",0,BY56) | CA56: =IFERROR(__xludf.DUMMYFUNCTION("""COMPUTED_VALUE"""),51) -> 51 | CB56: =IF(CA56=0,"св",CA56) -> 51 | CF56: 0 | CG56: =IF(CG55="","",CF55) | CI56: =IFERROR(__xludf.DUMMYFUNCTION("""COMPUTED_VALUE"""),51) -> 51 | CK56: 0 | CL56: =IF(CL55="","",CK55) | CN56: =IFERROR(__xludf.DUMMYFUNCTION("""COMPUTED_VALUE"""),51) -> 51 | CP56: 0 | CQ56: =IF(CQ55="","",CP55) | CS56: =IFERROR(__xludf.DUMMYFUNCTION("""COMPUTED_VALUE"""),51) -> 51 | CU56: 0 | CV56: =IF(CV55="","",CU55) | CX56: =IFERROR(__xludf.DUMMYFUNCTION("""COMPUTED_VALUE"""),51) -> 51 | CZ56: 0 | DA56: =IF(DA55="","",CZ55) | DC56: =IFERROR(__xludf.DUMMYFUNCTION("""COMPUTED_VALUE"""),51) -> 51
B57: 26 | C57: =(VLOOKUP($B57,Пр.взв!$D$6:$J$63,2,0)) -> КОМАРДИНА Олеся | D57: =(VLOOKUP($B57,Пр.взв!$D$6:$J$63,5,0)) -> КМС | E57: =(VLOOKUP($B57,Пр.взв!$D$6:$M$63,8,0)) -> Свердловская | F57: св | H57: 23 | J57: =IF(H57="Х","Х",IF($AC57<6," ","Х")) | L57: =IF(J57="Х","Х",IF(K57<3," ",IF($AC57<6," ","Х"))) | N57: =IF(L57="Х","Х",IF(M57<3," ",IF($AC57<6," ","Х"))) | P57: =IF(N57="Х","Х",IF(O57<3," ",IF($AC57<6," ","Х"))) | R57: =IF(P57="Х","Х",IF(Q57<3," ",IF($AC57<6," ","Х"))) | T57: =IF(R57="Х","Х",IF(S57<3," ",IF($AC57<6," ","Х"))) | V57: =IF(T57="Х","Х",IF(U57<3," ",IF($AC57<6," ","Х"))) | X57: =IF(V57="А1",$AZ$7,IF(V57="Б2",$AZ$6,IF(V57="Б1",$BA$7,IF(V57="А2",$BA$6,IF(V57="Х","Х",IF(V57<6," "," ")))))) | Z57: =IF(V57="Х","Х",IF(ISBLANK(Y57),"",IF(Y57>2.5," ",IF(B57=BB$6,BB$7,BB$6)))) | AB57: =IF(H57="Х",F$5,IF(J57="Х",H$5,IF(L57="Х",J$5,IF(N57="Х",L$5,IF(P57="Х",N$5,IF(R57="Х",P$5,IF(T57="Х",R$5,IF(X57="Х",T$5,"")))))))) | AC57: =SUM(G57+I57+K57+M57+O57+Q57+S57+U57+Y57+AA57) -> 0 | AD57: =AF57 -> 23-26 | AE57: =AD57 -> 23-26 | AF57: =COUNTIF(AG$6:AG$148,">"&AG$6:AG$148)+1&REPT("-"&COUNTIF(AG$6:AG$148,">="&AG$6:AG$148),COUNTIF(AG$6:AG$148,AG57)>1) -> 23-26 | AG57: =(AR57*100)+(AP57*10)-AC57 -> 1270 | AH57: =IF(OR(F57="Х",F57="св")," ",IF(AND(G57>=0,G57<3),"1"," ")) | AI57: =IF(OR(H57="Х",H57="св")," ",IF(AND(I57>=0,I57<3),"1"," ")) -> 1 | AJ57: =IF(OR(J57="Х",J57="св")," ",IF(AND(K57>=0,K57<3),"1"," ")) -> 1 | AK57: =IF(OR(L57="Х",L57="св")," ",IF(AND(M57>=0,M57<3),"1"," ")) -> 1 | AL57: =IF(OR(N57="Х",N57="св")," ",IF(AND(O57>=0,O57<3),"1"," ")) -> 1 | AM57: =IF(OR(P57="Х",P57="св")," ",IF(AND(Q57>=0,Q57<3),"1"," ")) -> 1 | AN57: =IF(OR(R57="Х",R57="св")," ",IF(AND(S57>=0,S57<3),"1"," ")) -> 1 | AO57: =IF(OR(T57="Х",T57="св")," ",IF(AND(U57>=0,U57<3),"1"," ")) -> 1 | AP57: =COUNTIF(AH57:AO58,1) -> 7 | AQ57: =AG57-AC57 -> 1270 | AR57: =IF(F57=0,0,IF(F57="Х",1,IF(H57="Х",2,IF(J57="Х",3,IF(L57="Х",4,IF(N57="Х",5,IF(P57="Х",6,IF(R57="Х",7,IF(T57="Х",8,IF(V57="Х",9,IF(Y57>2.5,10,IF(AA57>2.5,11,IF(AA57>=0,12,IF(AA57=" ",0,)))))))))))))) -> 12 | AS57: =COUNTIF(AG$6:AG$134,">"&AG$6:AG$134)+1&REPT("-"&COUNTIF(AG$6:AG$134,">="&AG$6:AG$134),COUNTIF(AG$6:AG$134,AG57)>1) -> 23-26 | AT57: =COUNTIF(AU$6:AU$134,">"&AU$6:AU$134)+1&REPT("-"&COUNTIF(AU$6:AU$134,">="&AU$6:AU$134),COUNTIF(AU$6:AU$134,AU57)>1) -> 1-64 | AU57: =COUNTIF(AV$6:AV$134,">"&AV$6:AV$134)+1&REPT("-"&COUNTIF(AV$6:AV$134,">="&AV$6:AV$134),COUNTIF(AV$6:AV$134,AV57)>1) -> 1-0 | AV57: =COUNTIF(AW$6:AW$134,">"&AW$6:AW$134)+1&REPT("-"&COUNTIF(AW$6:AW$134,">="&AW$6:AW$134),COUNTIF(AW$6:AW$134,AW57)>1) -> 1 | AW57: =COUNTIF(AX$6:AX$134,">"&AX$6:AX$134)+1&REPT("-"&COUNTIF(AX$6:AX$134,">="&AX$6:AX$134),COUNTIF(AX$6:AX$134,AX57)>1) -> 39 | AX57: =IF(X57="Х","Х",IF(Y57<3,B57,"Х")) -> 26 | BD57: 0 | BF57: 0 | BM57: 26 | BN57: св | BO57: =IF(BM57<BN57,BM57,"") -> 26 | BP57: 26 | BR57: 26 | BS57: 23 | BT57: =IF(BR57<BS57,BR57,"") | BW57: 26 | BY57: {=IF(BW57<BX57,BW57,"")} -> 26 | BZ57: =IF(BY57="св",0,BY57) -> 26 | CA57: =IFERROR(__xludf.DUMMYFUNCTION("""COMPUTED_VALUE"""),52) -> 52 | CB57: =IF(CA57=0,"св",CA57) -> 52 | CE57: 26 | CG57: {=IF(CE57<CF57,CE57,"")} -> 26 | CH57: 26 | CI57: =IFERROR(__xludf.DUMMYFUNCTION("""COMPUTED_VALUE"""),52) -> 52 | CJ57: 26 | CL57: {=IF(CJ57<CK57,CJ57,"")} -> 26 | CM57: 26 | CN57: =IFERROR(__xludf.DUMMYFUNCTION("""COMPUTED_VALUE"""),52) -> 52 | CO57: 26 | CQ57: {=IF(CO57<CP57,CO57,"")} -> 26 | CR57: 26 | CS57: =IFERROR(__xludf.DUMMYFUNCTION("""COMPUTED_VALUE"""),52) -> 52 | CT57: 26 | CV57: {=IF(CT57<CU57,CT57,"")} -> 26 | CW57: 26 | CX57: =IFERROR(__xludf.DUMMYFUNCTION("""COMPUTED_VALUE"""),52) -> 52 | CY57: 26 | DA57: {=IF(CY57<CZ57,CY57,"")} -> 26 | DB57: 26 | DC57: =IFERROR(__xludf.DUMMYFUNCTION("""COMPUTED_VALUE"""),52) -> 52 | DD57: 26
BD58: 0 | BF58: 0 | BN58: 0 | BO58: =IF(BO57="","",BN57) -> св | BP58: 0 | BS58: 0 | BT58: =IF(BT57="","",BS57) | BX58: 0 | BY58: =IF(BY57="","",BX57) | BZ58: =IF(BY58="св",0,BY58) | CA58: =IFERROR(__xludf.DUMMYFUNCTION("""COMPUTED_VALUE"""),53) -> 53 | CB58: =IF(CA58=0,"св",CA58) -> 53 | CF58: 0 | CG58: =IF(CG57="","",CF57) | CI58: =IFERROR(__xludf.DUMMYFUNCTION("""COMPUTED_VALUE"""),53) -> 53 | CK58: 0 | CL58: =IF(CL57="","",CK57) | CN58: =IFERROR(__xludf.DUMMYFUNCTION("""COMPUTED_VALUE"""),53) -> 53 | CP58: 0 | CQ58: =IF(CQ57="","",CP57) | CS58: =IFERROR(__xludf.DUMMYFUNCTION("""COMPUTED_VALUE"""),53) -> 53 | CU58: 0 | CV58: =IF(CV57="","",CU57) | CX58: =IFERROR(__xludf.DUMMYFUNCTION("""COMPUTED_VALUE"""),53) -> 53 | CZ58: 0 | DA58: =IF(DA57="","",CZ57) | DC58: =IFERROR(__xludf.DUMMYFUNCTION("""COMPUTED_VALUE"""),53) -> 53
B59: 27 | C59: =(VLOOKUP($B59,Пр.взв!$D$6:$J$63,2,0)) -> #N/A | D59: =(VLOOKUP($B59,Пр.взв!$D$6:$J$63,5,0)) -> #N/A | E59: =(VLOOKUP($B59,Пр.взв!$D$6:$M$63,8,0)) -> #N/A | J59: =IF(H59="Х","Х",IF($AC59<6," ","Х")) | L59: =IF(J59="Х","Х",IF(K59<3," ",IF($AC59<6," ","Х"))) | N59: =IF(L59="Х","Х",IF(M59<3," ",IF($AC59<6," ","Х"))) | P59: =IF(N59="Х","Х",IF(O59<3," ",IF($AC59<6," ","Х"))) | R59: =IF(P59="Х","Х",IF(Q59<3," ",IF($AC59<6," ","Х"))) | T59: =IF(R59="Х","Х",IF(S59<3," ",IF($AC59<6," ","Х"))) | V59: =IF(T59="Х","Х",IF(U59<3," ",IF($AC59<6," ","Х"))) | X59: =IF(V59="А1",$AZ$7,IF(V59="Б2",$AZ$6,IF(V59="Б1",$BA$7,IF(V59="А2",$BA$6,IF(V59="Х","Х",IF(V59<6," "," ")))))) | Z59: =IF(V59="Х","Х",IF(ISBLANK(Y59),"",IF(Y59>2.5," ",IF(B59=BB$6,BB$7,BB$6)))) | AB59: =IF(H59="Х",F$5,IF(J59="Х",H$5,IF(L59="Х",J$5,IF(N59="Х",L$5,IF(P59="Х",N$5,IF(R59="Х",P$5,IF(T59="Х",R$5,IF(X59="Х",T$5,"")))))))) | AC59: =SUM(G59+I59+K59+M59+O59+Q59+S59+U59+Y59+AA59) -> 0 | AD59: =AF59 -> 27-71 | AE59: =AD59 -> 27-71 | AF59: =COUNTIF(AG$6:AG$148,">"&AG$6:AG$148)+1&REPT("-"&COUNTIF(AG$6:AG$148,">="&AG$6:AG$148),COUNTIF(AG$6:AG$148,AG59)>1) -> 27-71 | AG59: =(AR59*100)+(AP59*10)-AC59 -> 80 | AH59: =IF(OR(F59="Х",F59="св")," ",IF(AND(G59>=0,G59<3),"1"," ")) -> 1 | AI59: =IF(OR(H59="Х",H59="св")," ",IF(AND(I59>=0,I59<3),"1"," ")) -> 1 | AJ59: =IF(OR(J59="Х",J59="св")," ",IF(AND(K59>=0,K59<3),"1"," ")) -> 1 | AK59: =IF(OR(L59="Х",L59="св")," ",IF(AND(M59>=0,M59<3),"1"," ")) -> 1 | AL59: =IF(OR(N59="Х",N59="св")," ",IF(AND(O59>=0,O59<3),"1"," ")) -> 1 | AM59: =IF(OR(P59="Х",P59="св")," ",IF(AND(Q59>=0,Q59<3),"1"," ")) -> 1 | AN59: =IF(OR(R59="Х",R59="св")," ",IF(AND(S59>=0,S59<3),"1"," ")) -> 1 | AO59: =IF(OR(T59="Х",T59="св")," ",IF(AND(U59>=0,U59<3),"1"," ")) -> 1 | AP59: =COUNTIF(AH59:AO60,1) -> 8 | AQ59: =AG59-AC59 -> 80 | AR59: =IF(F59=0,0,IF(F59="Х",1,IF(H59="Х",2,IF(J59="Х",3,IF(L59="Х",4,IF(N59="Х",5,IF(P59="Х",6,IF(R59="Х",7,IF(T59="Х",8,IF(V59="Х",9,IF(Y59>2.5,10,IF(AA59>2.5,11,IF(AA59>=0,12,IF(AA59=" ",0,)))))))))))))) -> 0 | AS59: =COUNTIF(AG$6:AG$134,">"&AG$6:AG$134)+1&REPT("-"&COUNTIF(AG$6:AG$134,">="&AG$6:AG$134),COUNTIF(AG$6:AG$134,AG59)>1) -> 27-64 | AT59: =COUNTIF(AU$6:AU$134,">"&AU$6:AU$134)+1&REPT("-"&COUNTIF(AU$6:AU$134,">="&AU$6:AU$134),COUNTIF(AU$6:AU$134,AU59)>1) -> 1-64 | AU59: =COUNTIF(AV$6:AV$134,">"&AV$6:AV$134)+1&REPT("-"&COUNTIF(AV$6:AV$134,">="&AV$6:AV$134),COUNTIF(AV$6:AV$134,AV59)>1) -> 1-0 | AV59: =COUNTIF(AW$6:AW$134,">"&AW$6:AW$134)+1&REPT("-"&COUNTIF(AW$6:AW$134,">="&AW$6:AW$134),COUNTIF(AW$6:AW$134,AW59)>1) -> 1 | AW59: =COUNTIF(AX$6:AX$134,">"&AX$6:AX$134)+1&REPT("-"&COUNTIF(AX$6:AX$134,">="&AX$6:AX$134),COUNTIF(AX$6:AX$134,AX59)>1) -> 38 | AX59: =IF(X59="Х","Х",IF(Y59<3,B59,"Х")) -> 27 | BD59: 0 | BF59: 0 | BM59: 27 | BN59: 0 | BO59: =IF(BM59<BN59,BM59,"") | BS59: 0 | BT59: =IF(BR59<BS59,BR59,"") | BW59: 27 | BY59: {=IF(BW59<BX59,BW59,"")} -> 27 | BZ59: =IF(BY59="св",0,BY59) -> 27 | CA59: =IFERROR(__xludf.DUMMYFUNCTION("""COMPUTED_VALUE"""),54) -> 54 | CB59: =IF(CA59=0,"св",CA59) -> 54 | CE59: 27 | CG59: {=IF(CE59<CF59,CE59,"")} -> 27 | CH59: 27 | CI59: =IFERROR(__xludf.DUMMYFUNCTION("""COMPUTED_VALUE"""),54) -> 54 | CJ59: 27 | CL59: {=IF(CJ59<CK59,CJ59,"")} -> 27 | CM59: 27 | CN59: =IFERROR(__xludf.DUMMYFUNCTION("""COMPUTED_VALUE"""),54) -> 54 | CO59: 27 | CQ59: {=IF(CO59<CP59,CO59,"")} -> 27 | CR59: 27 | CS59: =IFERROR(__xludf.DUMMYFUNCTION("""COMPUTED_VALUE"""),54) -> 54 | CT59: 27 | CV59: {=IF(CT59<CU59,CT59,"")} -> 27 | CW59: 27 | CX59: =IFERROR(__xludf.DUMMYFUNCTION("""COMPUTED_VALUE"""),54) -> 54 | CY59: 27 | DA59: {=IF(CY59<CZ59,CY59,"")} -> 27 | DB59: 27 | DC59: =IFERROR(__xludf.DUMMYFUNCTION("""COMPUTED_VALUE"""),54) -> 54 | DD59: 27
BD60: 0 | BF60: 0 | BN60: 0 | BO60: =IF(BO59="","",BN59) | BS60: 0 | BT60: =IF(BT59="","",BS59) | BX60: 0 | BY60: =IF(BY59="","",BX59) | BZ60: =IF(BY60="св",0,BY60) | CA60: =IFERROR(__xludf.DUMMYFUNCTION("""COMPUTED_VALUE"""),55) -> 55 | CB60: =IF(CA60=0,"св",CA60) -> 55 | CF60: 0 | CG60: =IF(CG59="","",CF59) | CI60: =IFERROR(__xludf.DUMMYFUNCTION("""COMPUTED_VALUE"""),55) -> 55 | CK60: 0 | CL60: =IF(CL59="","",CK59) | CN60: =IFERROR(__xludf.DUMMYFUNCTION("""COMPUTED_VALUE"""),55) -> 55 | CP60: 0 | CQ60: =IF(CQ59="","",CP59) | CS60: =IFERROR(__xludf.DUMMYFUNCTION("""COMPUTED_VALUE"""),55) -> 55 | CU60: 0 | CV60: =IF(CV59="","",CU59) | CX60: =IFERROR(__xludf.DUMMYFUNCTION("""COMPUTED_VALUE"""),55) -> 55 | CZ60: 0 | DA60: =IF(DA59="","",CZ59) | DC60: =IFERROR(__xludf.DUMMYFUNCTION("""COMPUTED_VALUE"""),55) -> 55
B61: 28 | C61: =(VLOOKUP($B61,Пр.взв!$D$6:$J$63,2,0)) -> #N/A | D61: =(VLOOKUP($B61,Пр.взв!$D$6:$J$63,5,0)) -> #N/A | E61: =(VLOOKUP($B61,Пр.взв!$D$6:$M$63,8,0)) -> #N/A | J61: =IF(H61="Х","Х",IF($AC61<6," ","Х")) | L61: =IF(J61="Х","Х",IF(K61<3," ",IF($AC61<6," ","Х"))) | N61: =IF(L61="Х","Х",IF(M61<3," ",IF($AC61<6," ","Х"))) | P61: =IF(N61="Х","Х",IF(O61<3," ",IF($AC61<6," ","Х"))) | R61: =IF(P61="Х","Х",IF(Q61<3," ",IF($AC61<6," ","Х"))) | T61: =IF(R61="Х","Х",IF(S61<3," ",IF($AC61<6," ","Х"))) | V61: =IF(T61="Х","Х",IF(U61<3," ",IF($AC61<6," ","Х"))) | X61: =IF(V61="А1",$AZ$7,IF(V61="Б2",$AZ$6,IF(V61="Б1",$BA$7,IF(V61="А2",$BA$6,IF(V61="Х","Х",IF(V61<6," "," ")))))) | Z61: =IF(V61="Х","Х",IF(ISBLANK(Y61),"",IF(Y61>2.5," ",IF(B61=BB$6,BB$7,BB$6)))) | AB61: =IF(H61="Х",F$5,IF(J61="Х",H$5,IF(L61="Х",J$5,IF(N61="Х",L$5,IF(P61="Х",N$5,IF(R61="Х",P$5,IF(T61="Х",R$5,IF(X61="Х",T$5,"")))))))) | AC61: =SUM(G61+I61+K61+M61+O61+Q61+S61+U61+Y61+AA61) -> 0 | AD61: =AF61 -> 27-71 | AE61: =AD61 -> 27-71 | AF61: =COUNTIF(AG$6:AG$148,">"&AG$6:AG$148)+1&REPT("-"&COUNTIF(AG$6:AG$148,">="&AG$6:AG$148),COUNTIF(AG$6:AG$148,AG61)>1) -> 27-71 | AG61: =(AR61*100)+(AP61*10)-AC61 -> 80 | AH61: =IF(OR(F61="Х",F61="св")," ",IF(AND(G61>=0,G61<3),"1"," ")) -> 1 | AI61: =IF(OR(H61="Х",H61="св")," ",IF(AND(I61>=0,I61<3),"1"," ")) -> 1 | AJ61: =IF(OR(J61="Х",J61="св")," ",IF(AND(K61>=0,K61<3),"1"," ")) -> 1 | AK61: =IF(OR(L61="Х",L61="св")," ",IF(AND(M61>=0,M61<3),"1"," ")) -> 1 | AL61: =IF(OR(N61="Х",N61="св")," ",IF(AND(O61>=0,O61<3),"1"," ")) -> 1 | AM61: =IF(OR(P61="Х",P61="св")," ",IF(AND(Q61>=0,Q61<3),"1"," ")) -> 1 | AN61: =IF(OR(R61="Х",R61="св")," ",IF(AND(S61>=0,S61<3),"1"," ")) -> 1 | AO61: =IF(OR(T61="Х",T61="св")," ",IF(AND(U61>=0,U61<3),"1"," ")) -> 1 | AP61: =COUNTIF(AH61:AO62,1) -> 8 | AQ61: =AG61-AC61 -> 80 | AR61: =IF(F61=0,0,IF(F61="Х",1,IF(H61="Х",2,IF(J61="Х",3,IF(L61="Х",4,IF(N61="Х",5,IF(P61="Х",6,IF(R61="Х",7,IF(T61="Х",8,IF(V61="Х",9,IF(Y61>2.5,10,IF(AA61>2.5,11,IF(AA61>=0,12,IF(AA61=" ",0,)))))))))))))) -> 0 | AS61: =COUNTIF(AG$6:AG$134,">"&AG$6:AG$134)+1&REPT("-"&COUNTIF(AG$6:AG$134,">="&AG$6:AG$134),COUNTIF(AG$6:AG$134,AG61)>1) -> 27-64 | AT61: =COUNTIF(AU$6:AU$134,">"&AU$6:AU$134)+1&REPT("-"&COUNTIF(AU$6:AU$134,">="&AU$6:AU$134),COUNTIF(AU$6:AU$134,AU61)>1) -> 1-64 | AU61: =COUNTIF(AV$6:AV$134,">"&AV$6:AV$134)+1&REPT("-"&COUNTIF(AV$6:AV$134,">="&AV$6:AV$134),COUNTIF(AV$6:AV$134,AV61)>1) -> 1-0 | AV61: =COUNTIF(AW$6:AW$134,">"&AW$6:AW$134)+1&REPT("-"&COUNTIF(AW$6:AW$134,">="&AW$6:AW$134),COUNTIF(AW$6:AW$134,AW61)>1) -> 1 | AW61: =COUNTIF(AX$6:AX$134,">"&AX$6:AX$134)+1&REPT("-"&COUNTIF(AX$6:AX$134,">="&AX$6:AX$134),COUNTIF(AX$6:AX$134,AX61)>1) -> 37 | AX61: =IF(X61="Х","Х",IF(Y61<3,B61,"Х")) -> 28 | BD61: 0 | BF61: 0 | BM61: 28 | BN61: 0 | BO61: =IF(BM61<BN61,BM61,"") | BS61: 0 | BT61: =IF(BR61<BS61,BR61,"") | BW61: 28 | BY61: {=IF(BW61<BX61,BW61,"")} -> 28 | BZ61: =IF(BY61="св",0,BY61) -> 28 | CA61: =IFERROR(__xludf.DUMMYFUNCTION("""COMPUTED_VALUE"""),56) -> 56 | CB61: =IF(CA61=0,"св",CA61) -> 56 | CE61: 28 | CG61: {=IF(CE61<CF61,CE61,"")} -> 28 | CH61: 28 | CI61: =IFERROR(__xludf.DUMMYFUNCTION("""COMPUTED_VALUE"""),56) -> 56 | CJ61: 28 | CL61: {=IF(CJ61<CK61,CJ61,"")} -> 28 | CM61: 28 | CN61: =IFERROR(__xludf.DUMMYFUNCTION("""COMPUTED_VALUE"""),56) -> 56 | CO61: 28 | CQ61: {=IF(CO61<CP61,CO61,"")} -> 28 | CR61: 28 | CS61: =IFERROR(__xludf.DUMMYFUNCTION("""COMPUTED_VALUE"""),56) -> 56 | CT61: 28 | CV61: {=IF(CT61<CU61,CT61,"")} -> 28 | CW61: 28 | CX61: =IFERROR(__xludf.DUMMYFUNCTION("""COMPUTED_VALUE"""),56) -> 56 | CY61: 28 | DA61: {=IF(CY61<CZ61,CY61,"")} -> 28 | DB61: 28 | DC61: =IFERROR(__xludf.DUMMYFUNCTION("""COMPUTED_VALUE"""),56) -> 56 | DD61: 28
BD62: 0 | BF62: 0 | BN62: 0 | BO62: =IF(BO61="","",BN61) | BS62: 0 | BT62: =IF(BT61="","",BS61) | BX62: 0 | BY62: =IF(BY61="","",BX61) | BZ62: =IF(BY62="св",0,BY62) | CA62: =IFERROR(__xludf.DUMMYFUNCTION("""COMPUTED_VALUE"""),57) -> 57 | CB62: =IF(CA62=0,"св",CA62) -> 57 | CF62: 0 | CG62: =IF(CG61="","",CF61) | CI62: =IFERROR(__xludf.DUMMYFUNCTION("""COMPUTED_VALUE"""),57) -> 57 | CK62: 0 | CL62: =IF(CL61="","",CK61) | CN62: =IFERROR(__xludf.DUMMYFUNCTION("""COMPUTED_VALUE"""),57) -> 57 | CP62: 0 | CQ62: =IF(CQ61="","",CP61) | CS62: =IFERROR(__xludf.DUMMYFUNCTION("""COMPUTED_VALUE"""),57) -> 57 | CU62: 0 | CV62: =IF(CV61="","",CU61) | CX62: =IFERROR(__xludf.DUMMYFUNCTION("""COMPUTED_VALUE"""),57) -> 57 | CZ62: 0 | DA62: =IF(DA61="","",CZ61) | DC62: =IFERROR(__xludf.DUMMYFUNCTION("""COMPUTED_VALUE"""),57) -> 57
B63: 29 | C63: =(VLOOKUP($B63,Пр.взв!$D$6:$J$63,2,0)) -> #N/A | D63: =(VLOOKUP($B63,Пр.взв!$D$6:$J$63,5,0)) -> #N/A | E63: =(VLOOKUP($B63,Пр.взв!$D$6:$M$63,8,0)) -> #N/A | J63: =IF(H63="Х","Х",IF($AC63<6," ","Х")) | L63: =IF(J63="Х","Х",IF(K63<3," ",IF($AC63<6," ","Х"))) | N63: =IF(L63="Х","Х",IF(M63<3," ",IF($AC63<6," ","Х"))) | P63: =IF(N63="Х","Х",IF(O63<3," ",IF($AC63<6," ","Х"))) | R63: =IF(P63="Х","Х",IF(Q63<3," ",IF($AC63<6," ","Х"))) | T63: =IF(R63="Х","Х",IF(S63<3," ",IF($AC63<6," ","Х"))) | V63: =IF(T63="Х","Х",IF(U63<3," ",IF($AC63<6," ","Х"))) | X63: =IF(V63="А1",$AZ$7,IF(V63="Б2",$AZ$6,IF(V63="Б1",$BA$7,IF(V63="А2",$BA$6,IF(V63="Х","Х",IF(V63<6," "," ")))))) | Z63: =IF(V63="Х","Х",IF(ISBLANK(Y63),"",IF(Y63>2.5," ",IF(B63=BB$6,BB$7,BB$6)))) | AB63: =IF(H63="Х",F$5,IF(J63="Х",H$5,IF(L63="Х",J$5,IF(N63="Х",L$5,IF(P63="Х",N$5,IF(R63="Х",P$5,IF(T63="Х",R$5,IF(X63="Х",T$5,"")))))))) | AC63: =SUM(G63+I63+K63+M63+O63+Q63+S63+U63+Y63+AA63) -> 0 | AD63: =AF63 -> 27-71 | AE63: =AD63 -> 27-71 | AF63: =COUNTIF(AG$6:AG$148,">"&AG$6:AG$148)+1&REPT("-"&COUNTIF(AG$6:AG$148,">="&AG$6:AG$148),COUNTIF(AG$6:AG$148,AG63)>1) -> 27-71 | AG63: =(AR63*100)+(AP63*10)-AC63 -> 80 | AH63: =IF(OR(F63="Х",F63="св")," ",IF(AND(G63>=0,G63<3),"1"," ")) -> 1 | AI63: =IF(OR(H63="Х",H63="св")," ",IF(AND(I63>=0,I63<3),"1"," ")) -> 1 | AJ63: =IF(OR(J63="Х",J63="св")," ",IF(AND(K63>=0,K63<3),"1"," ")) -> 1 | AK63: =IF(OR(L63="Х",L63="св")," ",IF(AND(M63>=0,M63<3),"1"," ")) -> 1 | AL63: =IF(OR(N63="Х",N63="св")," ",IF(AND(O63>=0,O63<3),"1"," ")) -> 1 | AM63: =IF(OR(P63="Х",P63="св")," ",IF(AND(Q63>=0,Q63<3),"1"," ")) -> 1 | AN63: =IF(OR(R63="Х",R63="св")," ",IF(AND(S63>=0,S63<3),"1"," ")) -> 1 | AO63: =IF(OR(T63="Х",T63="св")," ",IF(AND(U63>=0,U63<3),"1"," ")) -> 1 | AP63: =COUNTIF(AH63:AO64,1) -> 8 | AQ63: =AG63-AC63 -> 80 | AR63: =IF(F63=0,0,IF(F63="Х",1,IF(H63="Х",2,IF(J63="Х",3,IF(L63="Х",4,IF(N63="Х",5,IF(P63="Х",6,IF(R63="Х",7,IF(T63="Х",8,IF(V63="Х",9,IF(Y63>2.5,10,IF(AA63>2.5,11,IF(AA63>=0,12,IF(AA63=" ",0,)))))))))))))) -> 0 | AS63: =COUNTIF(AG$6:AG$134,">"&AG$6:AG$134)+1&REPT("-"&COUNTIF(AG$6:AG$134,">="&AG$6:AG$134),COUNTIF(AG$6:AG$134,AG63)>1) -> 27-64 | AT63: =COUNTIF(AU$6:AU$134,">"&AU$6:AU$134)+1&REPT("-"&COUNTIF(AU$6:AU$134,">="&AU$6:AU$134),COUNTIF(AU$6:AU$134,AU63)>1) -> 1-64 | AU63: =COUNTIF(AV$6:AV$134,">"&AV$6:AV$134)+1&REPT("-"&COUNTIF(AV$6:AV$134,">="&AV$6:AV$134),COUNTIF(AV$6:AV$134,AV63)>1) -> 1-0 | AV63: =COUNTIF(AW$6:AW$134,">"&AW$6:AW$134)+1&REPT("-"&COUNTIF(AW$6:AW$134,">="&AW$6:AW$134),COUNTIF(AW$6:AW$134,AW63)>1) -> 1 | AW63: =COUNTIF(AX$6:AX$134,">"&AX$6:AX$134)+1&REPT("-"&COUNTIF(AX$6:AX$134,">="&AX$6:AX$134),COUNTIF(AX$6:AX$134,AX63)>1) -> 36 | AX63: =IF(X63="Х","Х",IF(Y63<3,B63,"Х")) -> 29 | BD63: 0 | BF63: 0 | BM63: 29 | BN63: 0 | BO63: =IF(BM63<BN63,BM63,"") | BS63: 0 | BT63: =IF(BR63<BS63,BR63,"") | BW63: 29 | BY63: {=IF(BW63<BX63,BW63,"")} -> 29 | BZ63: =IF(BY63="св",0,BY63) -> 29 | CA63: =IFERROR(__xludf.DUMMYFUNCTION("""COMPUTED_VALUE"""),58) -> 58 | CB63: =IF(CA63=0,"св",CA63) -> 58 | CE63: 29 | CG63: {=IF(CE63<CF63,CE63,"")} -> 29 | CH63: 29 | CI63: =IFERROR(__xludf.DUMMYFUNCTION("""COMPUTED_VALUE"""),58) -> 58 | CJ63: 29 | CL63: {=IF(CJ63<CK63,CJ63,"")} -> 29 | CM63: 29 | CN63: =IFERROR(__xludf.DUMMYFUNCTION("""COMPUTED_VALUE"""),58) -> 58 | CO63: 29 | CQ63: {=IF(CO63<CP63,CO63,"")} -> 29 | CR63: 29 | CS63: =IFERROR(__xludf.DUMMYFUNCTION("""COMPUTED_VALUE"""),58) -> 58 | CT63: 29 | CV63: {=IF(CT63<CU63,CT63,"")} -> 29 | CW63: 29 | CX63: =IFERROR(__xludf.DUMMYFUNCTION("""COMPUTED_VALUE"""),58) -> 58 | CY63: 29 | DA63: {=IF(CY63<CZ63,CY63,"")} -> 29 | DB63: 29 | DC63: =IFERROR(__xludf.DUMMYFUNCTION("""COMPUTED_VALUE"""),58) -> 58 | DD63: 29
BD64: 0 | BF64: 0 | BN64: 0 | BO64: =IF(BO63="","",BN63) | BS64: 0 | BT64: =IF(BT63="","",BS63) | BX64: 0 | BY64: =IF(BY63="","",BX63) | BZ64: =IF(BY64="св",0,BY64) | CA64: =IFERROR(__xludf.DUMMYFUNCTION("""COMPUTED_VALUE"""),59) -> 59 | CB64: =IF(CA64=0,"св",CA64) -> 59 | CF64: 0 | CG64: =IF(CG63="","",CF63) | CI64: =IFERROR(__xludf.DUMMYFUNCTION("""COMPUTED_VALUE"""),59) -> 59 | CK64: 0 | CL64: =IF(CL63="","",CK63) | CN64: =IFERROR(__xludf.DUMMYFUNCTION("""COMPUTED_VALUE"""),59) -> 59 | CP64: 0 | CQ64: =IF(CQ63="","",CP63) | CS64: =IFERROR(__xludf.DUMMYFUNCTION("""COMPUTED_VALUE"""),59) -> 59 | CU64: 0 | CV64: =IF(CV63="","",CU63) | CX64: =IFERROR(__xludf.DUMMYFUNCTION("""COMPUTED_VALUE"""),59) -> 59 | CZ64: 0 | DA64: =IF(DA63="","",CZ63) | DC64: =IFERROR(__xludf.DUMMYFUNCTION("""COMPUTED_VALUE"""),59) -> 59
B65: 30 | C65: =(VLOOKUP($B65,Пр.взв!$D$6:$J$63,2,0)) -> #N/A | D65: =(VLOOKUP($B65,Пр.взв!$D$6:$J$63,5,0)) -> #N/A | E65: =(VLOOKUP($B65,Пр.взв!$D$6:$M$63,8,0)) -> #N/A | J65: =IF(H65="Х","Х",IF($AC65<6," ","Х")) | L65: =IF(J65="Х","Х",IF(K65<3," ",IF($AC65<6," ","Х"))) | N65: =IF(L65="Х","Х",IF(M65<3," ",IF($AC65<6," ","Х"))) | P65: =IF(N65="Х","Х",IF(O65<3," ",IF($AC65<6," ","Х"))) | R65: =IF(P65="Х","Х",IF(Q65<3," ",IF($AC65<6," ","Х"))) | T65: =IF(R65="Х","Х",IF(S65<3," ",IF($AC65<6," ","Х"))) | V65: =IF(T65="Х","Х",IF(U65<3," ",IF($AC65<6," ","Х"))) | X65: =IF(V65="А1",$AZ$7,IF(V65="Б2",$AZ$6,IF(V65="Б1",$BA$7,IF(V65="А2",$BA$6,IF(V65="Х","Х",IF(V65<6," "," ")))))) | Z65: =IF(V65="Х","Х",IF(ISBLANK(Y65),"",IF(Y65>2.5," ",IF(B65=BB$6,BB$7,BB$6)))) | AB65: =IF(H65="Х",F$5,IF(J65="Х",H$5,IF(L65="Х",J$5,IF(N65="Х",L$5,IF(P65="Х",N$5,IF(R65="Х",P$5,IF(T65="Х",R$5,IF(X65="Х",T$5,"")))))))) | AC65: =SUM(G65+I65+K65+M65+O65+Q65+S65+U65+Y65+AA65) -> 0 | AD65: =AF65 -> 27-71 | AE65: =AD65 -> 27-71 | AF65: =COUNTIF(AG$6:AG$148,">"&AG$6:AG$148)+1&REPT("-"&COUNTIF(AG$6:AG$148,">="&AG$6:AG$148),COUNTIF(AG$6:AG$148,AG65)>1) -> 27-71 | AG65: =(AR65*100)+(AP65*10)-AC65 -> 80 | AH65: =IF(OR(F65="Х",F65="св")," ",IF(AND(G65>=0,G65<3),"1"," ")) -> 1 | AI65: =IF(OR(H65="Х",H65="св")," ",IF(AND(I65>=0,I65<3),"1"," ")) -> 1 | AJ65: =IF(OR(J65="Х",J65="св")," ",IF(AND(K65>=0,K65<3),"1"," ")) -> 1 | AK65: =IF(OR(L65="Х",L65="св")," ",IF(AND(M65>=0,M65<3),"1"," ")) -> 1 | AL65: =IF(OR(N65="Х",N65="св")," ",IF(AND(O65>=0,O65<3),"1"," ")) -> 1 | AM65: =IF(OR(P65="Х",P65="св")," ",IF(AND(Q65>=0,Q65<3),"1"," ")) -> 1 | AN65: =IF(OR(R65="Х",R65="св")," ",IF(AND(S65>=0,S65<3),"1"," ")) -> 1 | AO65: =IF(OR(T65="Х",T65="св")," ",IF(AND(U65>=0,U65<3),"1"," ")) -> 1 | AP65: =COUNTIF(AH65:AO66,1) -> 8 | AQ65: =AG65-AC65 -> 80 | AR65: =IF(F65=0,0,IF(F65="Х",1,IF(H65="Х",2,IF(J65="Х",3,IF(L65="Х",4,IF(N65="Х",5,IF(P65="Х",6,IF(R65="Х",7,IF(T65="Х",8,IF(V65="Х",9,IF(Y65>2.5,10,IF(AA65>2.5,11,IF(AA65>=0,12,IF(AA65=" ",0,)))))))))))))) -> 0 | AS65: =COUNTIF(AG$6:AG$134,">"&AG$6:AG$134)+1&REPT("-"&COUNTIF(AG$6:AG$134,">="&AG$6:AG$134),COUNTIF(AG$6:AG$134,AG65)>1) -> 27-64 | AT65: =COUNTIF(AU$6:AU$134,">"&AU$6:AU$134)+1&REPT("-"&COUNTIF(AU$6:AU$134,">="&AU$6:AU$134),COUNTIF(AU$6:AU$134,AU65)>1) -> 1-64 | AU65: =COUNTIF(AV$6:AV$134,">"&AV$6:AV$134)+1&REPT("-"&COUNTIF(AV$6:AV$134,">="&AV$6:AV$134),COUNTIF(AV$6:AV$134,AV65)>1) -> 1-0 | AV65: =COUNTIF(AW$6:AW$134,">"&AW$6:AW$134)+1&REPT("-"&COUNTIF(AW$6:AW$134,">="&AW$6:AW$134),COUNTIF(AW$6:AW$134,AW65)>1) -> 1 | AW65: =COUNTIF(AX$6:AX$134,">"&AX$6:AX$134)+1&REPT("-"&COUNTIF(AX$6:AX$134,">="&AX$6:AX$134),COUNTIF(AX$6:AX$134,AX65)>1) -> 35 | AX65: =IF(X65="Х","Х",IF(Y65<3,B65,"Х")) -> 30 | BD65: 0 | BF65: 0 | BM65: 30 | BN65: 0 | BO65: =IF(BM65<BN65,BM65,"") | BS65: 0 | BT65: =IF(BR65<BS65,BR65,"") | BW65: 30 | BY65: {=IF(BW65<BX65,BW65,"")} -> 30 | BZ65: =IF(BY65="св",0,BY65) -> 30 | CA65: =IFERROR(__xludf.DUMMYFUNCTION("""COMPUTED_VALUE"""),60) -> 60 | CB65: =IF(CA65=0,"св",CA65) -> 60 | CE65: 30 | CG65: {=IF(CE65<CF65,CE65,"")} -> 30 | CH65: 30 | CI65: =IFERROR(__xludf.DUMMYFUNCTION("""COMPUTED_VALUE"""),60) -> 60 | CJ65: 30 | CL65: {=IF(CJ65<CK65,CJ65,"")} -> 30 | CM65: 30 | CN65: =IFERROR(__xludf.DUMMYFUNCTION("""COMPUTED_VALUE"""),60) -> 60 | CO65: 30 | CQ65: {=IF(CO65<CP65,CO65,"")} -> 30 | CR65: 30 | CS65: =IFERROR(__xludf.DUMMYFUNCTION("""COMPUTED_VALUE"""),60) -> 60 | CT65: 30 | CV65: {=IF(CT65<CU65,CT65,"")} -> 30 | CW65: 30 | CX65: =IFERROR(__xludf.DUMMYFUNCTION("""COMPUTED_VALUE"""),60) -> 60 | CY65: 30 | DA65: {=IF(CY65<CZ65,CY65,"")} -> 30 | DB65: 30 | DC65: =IFERROR(__xludf.DUMMYFUNCTION("""COMPUTED_VALUE"""),60) -> 60 | DD65: 30
BD66: 0 | BF66: 0 | BN66: 0 | BO66: =IF(BO65="","",BN65) | BS66: 0 | BT66: =IF(BT65="","",BS65) | BX66: 0 | BY66: =IF(BY65="","",BX65) | BZ66: =IF(BY66="св",0,BY66) | CA66: =IFERROR(__xludf.DUMMYFUNCTION("""COMPUTED_VALUE"""),61) -> 61 | CB66: =IF(CA66=0,"св",CA66) -> 61 | CF66: 0 | CG66: =IF(CG65="","",CF65) | CI66: =IFERROR(__xludf.DUMMYFUNCTION("""COMPUTED_VALUE"""),61) -> 61 | CK66: 0 | CL66: =IF(CL65="","",CK65) | CN66: =IFERROR(__xludf.DUMMYFUNCTION("""COMPUTED_VALUE"""),61) -> 61 | CP66: 0 | CQ66: =IF(CQ65="","",CP65) | CS66: =IFERROR(__xludf.DUMMYFUNCTION("""COMPUTED_VALUE"""),61) -> 61 | CU66: 0 | CV66: =IF(CV65="","",CU65) | CX66: =IFERROR(__xludf.DUMMYFUNCTION("""COMPUTED_VALUE"""),61) -> 61 | CZ66: 0 | DA66: =IF(DA65="","",CZ65) | DC66: =IFERROR(__xludf.DUMMYFUNCTION("""COMPUTED_VALUE"""),61) -> 61
B67: 31 | C67: =(VLOOKUP($B67,Пр.взв!$D$6:$J$63,2,0)) -> #N/A | D67: =(VLOOKUP($B67,Пр.взв!$D$6:$J$63,5,0)) -> #N/A | E67: =(VLOOKUP($B67,Пр.взв!$D$6:$M$63,8,0)) -> #N/A | J67: =IF(H67="Х","Х",IF($AC67<6," ","Х")) | L67: =IF(J67="Х","Х",IF(K67<3," ",IF($AC67<6," ","Х"))) | N67: =IF(L67="Х","Х",IF(M67<3," ",IF($AC67<6," ","Х"))) | P67: =IF(N67="Х","Х",IF(O67<3," ",IF($AC67<6," ","Х"))) | R67: =IF(P67="Х","Х",IF(Q67<3," ",IF($AC67<6," ","Х"))) | T67: =IF(R67="Х","Х",IF(S67<3," ",IF($AC67<6," ","Х"))) | V67: =IF(T67="Х","Х",IF(U67<3," ",IF($AC67<6," ","Х"))) | X67: =IF(V67="А1",$AZ$7,IF(V67="Б2",$AZ$6,IF(V67="Б1",$BA$7,IF(V67="А2",$BA$6,IF(V67="Х","Х",IF(V67<6," "," ")))))) | Z67: =IF(V67="Х","Х",IF(ISBLANK(Y67),"",IF(Y67>2.5," ",IF(B67=BB$6,BB$7,BB$6)))) | AB67: =IF(H67="Х",F$5,IF(J67="Х",H$5,IF(L67="Х",J$5,IF(N67="Х",L$5,IF(P67="Х",N$5,IF(R67="Х",P$5,IF(T67="Х",R$5,IF(X67="Х",T$5,"")))))))) | AC67: =SUM(G67+I67+K67+M67+O67+Q67+S67+U67+Y67+AA67) -> 0 | AD67: =AF67 -> 27-71 | AE67: =AD67 -> 27-71 | AF67: =COUNTIF(AG$6:AG$148,">"&AG$6:AG$148)+1&REPT("-"&COUNTIF(AG$6:AG$148,">="&AG$6:AG$148),COUNTIF(AG$6:AG$148,AG67)>1) -> 27-71 | AG67: =(AR67*100)+(AP67*10)-AC67 -> 80 | AH67: =IF(OR(F67="Х",F67="св")," ",IF(AND(G67>=0,G67<3),"1"," ")) -> 1 | AI67: =IF(OR(H67="Х",H67="св")," ",IF(AND(I67>=0,I67<3),"1"," ")) -> 1 | AJ67: =IF(OR(J67="Х",J67="св")," ",IF(AND(K67>=0,K67<3),"1"," ")) -> 1 | AK67: =IF(OR(L67="Х",L67="св")," ",IF(AND(M67>=0,M67<3),"1"," ")) -> 1 | AL67: =IF(OR(N67="Х",N67="св")," ",IF(AND(O67>=0,O67<3),"1"," ")) -> 1 | AM67: =IF(OR(P67="Х",P67="св")," ",IF(AND(Q67>=0,Q67<3),"1"," ")) -> 1 | AN67: =IF(OR(R67="Х",R67="св")," ",IF(AND(S67>=0,S67<3),"1"," ")) -> 1 | AO67: =IF(OR(T67="Х",T67="св")," ",IF(AND(U67>=0,U67<3),"1"," ")) -> 1 | AP67: =COUNTIF(AH67:AO68,1) -> 8 | AQ67: =AG67-AC67 -> 80 | AR67: =IF(F67=0,0,IF(F67="Х",1,IF(H67="Х",2,IF(J67="Х",3,IF(L67="Х",4,IF(N67="Х",5,IF(P67="Х",6,IF(R67="Х",7,IF(T67="Х",8,IF(V67="Х",9,IF(Y67>2.5,10,IF(AA67>2.5,11,IF(AA67>=0,12,IF(AA67=" ",0,)))))))))))))) -> 0 | AS67: =COUNTIF(AG$6:AG$134,">"&AG$6:AG$134)+1&REPT("-"&COUNTIF(AG$6:AG$134,">="&AG$6:AG$134),COUNTIF(AG$6:AG$134,AG67)>1) -> 27-64 | AT67: =COUNTIF(AU$6:AU$134,">"&AU$6:AU$134)+1&REPT("-"&COUNTIF(AU$6:AU$134,">="&AU$6:AU$134),COUNTIF(AU$6:AU$134,AU67)>1) -> 1-64 | AU67: =COUNTIF(AV$6:AV$134,">"&AV$6:AV$134)+1&REPT("-"&COUNTIF(AV$6:AV$134,">="&AV$6:AV$134),COUNTIF(AV$6:AV$134,AV67)>1) -> 1-0 | AV67: =COUNTIF(AW$6:AW$134,">"&AW$6:AW$134)+1&REPT("-"&COUNTIF(AW$6:AW$134,">="&AW$6:AW$134),COUNTIF(AW$6:AW$134,AW67)>1) -> 1 | AW67: =COUNTIF(AX$6:AX$134,">"&AX$6:AX$134)+1&REPT("-"&COUNTIF(AX$6:AX$134,">="&AX$6:AX$134),COUNTIF(AX$6:AX$134,AX67)>1) -> 34 | AX67: =IF(X67="Х","Х",IF(Y67<3,B67,"Х")) -> 31 | BD67: 0 | BF67: 0 | BM67: 31 | BN67: 0 | BO67: =IF(BM67<BN67,BM67,"") | BS67: 0 | BT67: =IF(BR67<BS67,BR67,"") | BW67: 31 | BY67: {=IF(BW67<BX67,BW67,"")} -> 31 | BZ67: =IF(BY67="св",0,BY67) -> 31 | CA67: =IFERROR(__xludf.DUMMYFUNCTION("""COMPUTED_VALUE"""),62) -> 62 | CB67: =IF(CA67=0,"св",CA67) -> 62 | CE67: 31 | CG67: {=IF(CE67<CF67,CE67,"")} -> 31 | CH67: 31 | CI67: =IFERROR(__xludf.DUMMYFUNCTION("""COMPUTED_VALUE"""),62) -> 62 | CJ67: 31 | CL67: {=IF(CJ67<CK67,CJ67,"")} -> 31 | CM67: 31 | CN67: =IFERROR(__xludf.DUMMYFUNCTION("""COMPUTED_VALUE"""),62) -> 62 | CO67: 31 | CQ67: {=IF(CO67<CP67,CO67,"")} -> 31 | CR67: 31 | CS67: =IFERROR(__xludf.DUMMYFUNCTION("""COMPUTED_VALUE"""),62) -> 62 | CT67: 31 | CV67: {=IF(CT67<CU67,CT67,"")} -> 31 | CW67: 31 | CX67: =IFERROR(__xludf.DUMMYFUNCTION("""COMPUTED_VALUE"""),62) -> 62 | CY67: 31 | DA67: {=IF(CY67<CZ67,CY67,"")} -> 31 | DB67: 31 | DC67: =IFERROR(__xludf.DUMMYFUNCTION("""COMPUTED_VALUE"""),62) -> 62 | DD67: 31
BD68: 0 | BF68: 0 | BN68: 0 | BO68: =IF(BO67="","",BN67) | BS68: 0 | BT68: =IF(BT67="","",BS67) | BX68: 0 | BY68: =IF(BY67="","",BX67) | BZ68: =IF(BY68="св",0,BY68) | CA68: =IFERROR(__xludf.DUMMYFUNCTION("""COMPUTED_VALUE"""),63) -> 63 | CB68: =IF(CA68=0,"св",CA68) -> 63 | CF68: 0 | CG68: =IF(CG67="","",CF67) | CI68: =IFERROR(__xludf.DUMMYFUNCTION("""COMPUTED_VALUE"""),63) -> 63 | CK68: 0 | CL68: =IF(CL67="","",CK67) | CN68: =IFERROR(__xludf.DUMMYFUNCTION("""COMPUTED_VALUE"""),63) -> 63 | CP68: 0 | CQ68: =IF(CQ67="","",CP67) | CS68: =IFERROR(__xludf.DUMMYFUNCTION("""COMPUTED_VALUE"""),63) -> 63 | CU68: 0 | CV68: =IF(CV67="","",CU67) | CX68: =IFERROR(__xludf.DUMMYFUNCTION("""COMPUTED_VALUE"""),63) -> 63 | CZ68: 0 | DA68: =IF(DA67="","",CZ67) | DC68: =IFERROR(__xludf.DUMMYFUNCTION("""COMPUTED_VALUE"""),63) -> 63
B69: 32 | C69: =(VLOOKUP($B69,Пр.взв!$D$6:$J$63,2,0)) -> #N/A | D69: =(VLOOKUP($B69,Пр.взв!$D$6:$J$63,5,0)) -> #N/A | E69: =(VLOOKUP($B69,Пр.взв!$D$6:$M$63,8,0)) -> #N/A | J69: =IF(H69="Х","Х",IF($AC69<6," ","Х")) | L69: =IF(J69="Х","Х",IF(K69<3," ",IF($AC69<6," ","Х"))) | N69: =IF(L69="Х","Х",IF(M69<3," ",IF($AC69<6," ","Х"))) | P69: =IF(N69="Х","Х",IF(O69<3," ",IF($AC69<6," ","Х"))) | R69: =IF(P69="Х","Х",IF(Q69<3," ",IF($AC69<6," ","Х"))) | T69: =IF(R69="Х","Х",IF(S69<3," ",IF($AC69<6," ","Х"))) | V69: =IF(T69="Х","Х",IF(U69<3," ",IF($AC69<6," ","Х"))) | X69: =IF(V69="А1",$AZ$7,IF(V69="Б2",$AZ$6,IF(V69="Б1",$BA$7,IF(V69="А2",$BA$6,IF(V69="Х","Х",IF(V69<6," "," ")))))) | Z69: =IF(V69="Х","Х",IF(ISBLANK(Y69),"",IF(Y69>2.5," ",IF(B69=BB$6,BB$7,BB$6)))) | AB69: =IF(H69="Х",F$5,IF(J69="Х",H$5,IF(L69="Х",J$5,IF(N69="Х",L$5,IF(P69="Х",N$5,IF(R69="Х",P$5,IF(T69="Х",R$5,IF(X69="Х",T$5,"")))))))) | AC69: =SUM(G69+I69+K69+M69+O69+Q69+S69+U69+Y69+AA69) -> 0 | AD69: =AF69 -> 27-71 | AE69: =AD69 -> 27-71 | AF69: =COUNTIF(AG$6:AG$148,">"&AG$6:AG$148)+1&REPT("-"&COUNTIF(AG$6:AG$148,">="&AG$6:AG$148),COUNTIF(AG$6:AG$148,AG69)>1) -> 27-71 | AG69: =(AR69*100)+(AP69*10)-AC69 -> 80 | AH69: =IF(OR(F69="Х",F69="св")," ",IF(AND(G69>=0,G69<3),"1"," ")) -> 1 | AI69: =IF(OR(H69="Х",H69="св")," ",IF(AND(I69>=0,I69<3),"1"," ")) -> 1 | AJ69: =IF(OR(J69="Х",J69="св")," ",IF(AND(K69>=0,K69<3),"1"," ")) -> 1 | AK69: =IF(OR(L69="Х",L69="св")," ",IF(AND(M69>=0,M69<3),"1"," ")) -> 1 | AL69: =IF(OR(N69="Х",N69="св")," ",IF(AND(O69>=0,O69<3),"1"," ")) -> 1 | AM69: =IF(OR(P69="Х",P69="св")," ",IF(AND(Q69>=0,Q69<3),"1"," ")) -> 1 | AN69: =IF(OR(R69="Х",R69="св")," ",IF(AND(S69>=0,S69<3),"1"," ")) -> 1 | AO69: =IF(OR(T69="Х",T69="св")," ",IF(AND(U69>=0,U69<3),"1"," ")) -> 1 | AP69: =COUNTIF(AH69:AO70,1) -> 8 | AQ69: =AG69-AC69 -> 80 | AR69: =IF(F69=0,0,IF(F69="Х",1,IF(H69="Х",2,IF(J69="Х",3,IF(L69="Х",4,IF(N69="Х",5,IF(P69="Х",6,IF(R69="Х",7,IF(T69="Х",8,IF(V69="Х",9,IF(Y69>2.5,10,IF(AA69>2.5,11,IF(AA69>=0,12,IF(AA69=" ",0,)))))))))))))) -> 0 | AS69: =COUNTIF(AG$6:AG$134,">"&AG$6:AG$134)+1&REPT("-"&COUNTIF(AG$6:AG$134,">="&AG$6:AG$134),COUNTIF(AG$6:AG$134,AG69)>1) -> 27-64 | AT69: =COUNTIF(AU$6:AU$134,">"&AU$6:AU$134)+1&REPT("-"&COUNTIF(AU$6:AU$134,">="&AU$6:AU$134),COUNTIF(AU$6:AU$134,AU69)>1) -> 1-64 | AU69: =COUNTIF(AV$6:AV$134,">"&AV$6:AV$134)+1&REPT("-"&COUNTIF(AV$6:AV$134,">="&AV$6:AV$134),COUNTIF(AV$6:AV$134,AV69)>1) -> 1-0 | AV69: =COUNTIF(AW$6:AW$134,">"&AW$6:AW$134)+1&REPT("-"&COUNTIF(AW$6:AW$134,">="&AW$6:AW$134),COUNTIF(AW$6:AW$134,AW69)>1) -> 1 | AW69: =COUNTIF(AX$6:AX$134,">"&AX$6:AX$134)+1&REPT("-"&COUNTIF(AX$6:AX$134,">="&AX$6:AX$134),COUNTIF(AX$6:AX$134,AX69)>1) -> 33 | AX69: =IF(X69="Х","Х",IF(Y69<3,B69,"Х")) -> 32 | BD69: 0 | BF69: 0 | BM69: 32 | BN69: 0 | BO69: =IF(BM69<BN69,BM69,"") | BS69: 0 | BT69: =IF(BR69<BS69,BR69,"") | BW69: 32 | BY69: {=IF(BW69<BX69,BW69,"")} -> 32 | BZ69: =IF(BY69="св",0,BY69) -> 32 | CA69: =IFERROR(__xludf.DUMMYFUNCTION("""COMPUTED_VALUE"""),64) -> 64 | CB69: =IF(CA69=0,"св",CA69) -> 64 | CE69: 32 | CG69: {=IF(CE69<CF69,CE69,"")} -> 32 | CH69: 32 | CI69: =IFERROR(__xludf.DUMMYFUNCTION("""COMPUTED_VALUE"""),64) -> 64 | CJ69: 32 | CL69: {=IF(CJ69<CK69,CJ69,"")} -> 32 | CM69: 32 | CN69: =IFERROR(__xludf.DUMMYFUNCTION("""COMPUTED_VALUE"""),64) -> 64 | CO69: 32 | CQ69: {=IF(CO69<CP69,CO69,"")} -> 32 | CR69: 32 | CS69: =IFERROR(__xludf.DUMMYFUNCTION("""COMPUTED_VALUE"""),64) -> 64 | CT69: 32 | CV69: {=IF(CT69<CU69,CT69,"")} -> 32 | CW69: 32 | CX69: =IFERROR(__xludf.DUMMYFUNCTION("""COMPUTED_VALUE"""),64) -> 64 | CY69: 32 | DA69: {=IF(CY69<CZ69,CY69,"")} -> 32 | DB69: 32 | DC69: =IFERROR(__xludf.DUMMYFUNCTION("""COMPUTED_VALUE"""),64) -> 64 | DD69: 32
BD70: 0 | BF70: 0 | BN70: 0 | BO70: =IF(BO69="","",BN69) | BS70: 0 | BT70: =IF(BT69="","",BS69) | BX70: 0 | BY70: =IF(BY69="","",BX69) | BZ70: =IF(BY70="св",0,BY70) | CA70: =IFERROR(__xludf.DUMMYFUNCTION("""COMPUTED_VALUE"""),65) -> 65 | CB70: =IF(CA70=0,"св",CA70) -> 65 | CF70: 0 | CG70: =IF(CG69="","",CF69) | CI70: =IFERROR(__xludf.DUMMYFUNCTION("""COMPUTED_VALUE"""),65) -> 65 | CK70: 0 | CL70: =IF(CL69="","",CK69) | CN70: =IFERROR(__xludf.DUMMYFUNCTION("""COMPUTED_VALUE"""),65) -> 65 | CP70: 0 | CQ70: =IF(CQ69="","",CP69) | CS70: =IFERROR(__xludf.DUMMYFUNCTION("""COMPUTED_VALUE"""),65) -> 65 | CU70: 0 | CV70: =IF(CV69="","",CU69) | CX70: =IFERROR(__xludf.DUMMYFUNCTION("""COMPUTED_VALUE"""),65) -> 65 | CZ70: 0 | DA70: =IF(DA69="","",CZ69) | DC70: =IFERROR(__xludf.DUMMYFUNCTION("""COMPUTED_VALUE"""),65) -> 65
B71: 33 | C71: =(VLOOKUP($B71,Пр.взв!$D$6:$J$63,2,0)) -> #N/A | D71: =(VLOOKUP($B71,Пр.взв!$D$6:$J$63,5,0)) -> #N/A | E71: =(VLOOKUP($B71,Пр.взв!$D$6:$M$63,8,0)) -> #N/A | J71: =IF(H71="Х","Х",IF($AC71<6," ","Х")) | L71: =IF(J71="Х","Х",IF(K71<3," ",IF($AC71<6," ","Х"))) | N71: =IF(L71="Х","Х",IF(M71<3," ",IF($AC71<6," ","Х"))) | P71: =IF(N71="Х","Х",IF(O71<3," ",IF($AC71<6," ","Х"))) | R71: =IF(P71="Х","Х",IF(Q71<3," ",IF($AC71<6," ","Х"))) | T71: =IF(R71="Х","Х",IF(S71<3," ",IF($AC71<6," ","Х"))) | V71: =IF(T71="Х","Х",IF(U71<3," ",IF($AC71<6," ","Х"))) | X71: =IF(V71="А1",$AZ$7,IF(V71="Б2",$AZ$6,IF(V71="Б1",$BA$7,IF(V71="А2",$BA$6,IF(V71="Х","Х",IF(V71<6," "," ")))))) | Z71: =IF(V71="Х","Х",IF(ISBLANK(Y71),"",IF(Y71>2.5," ",IF(B71=BB$6,BB$7,BB$6)))) | AB71: =IF(H71="Х",F$5,IF(J71="Х",H$5,IF(L71="Х",J$5,IF(N71="Х",L$5,IF(P71="Х",N$5,IF(R71="Х",P$5,IF(T71="Х",R$5,IF(X71="Х",T$5,"")))))))) | AC71: =SUM(G71+I71+K71+M71+O71+Q71+S71+U71+Y71+AA71) -> 0 | AD71: =AF71 -> 27-71 | AE71: =AD71 -> 27-71 | AF71: =COUNTIF(AG$6:AG$148,">"&AG$6:AG$148)+1&REPT("-"&COUNTIF(AG$6:AG$148,">="&AG$6:AG$148),COUNTIF(AG$6:AG$148,AG71)>1) -> 27-71 | AG71: =(AR71*100)+(AP71*10)-AC71 -> 80 | AH71: =IF(OR(F71="Х",F71="св")," ",IF(AND(G71>=0,G71<3),"1"," ")) -> 1 | AI71: =IF(OR(H71="Х",H71="св")," ",IF(AND(I71>=0,I71<3),"1"," ")) -> 1 | AJ71: =IF(OR(J71="Х",J71="св")," ",IF(AND(K71>=0,K71<3),"1"," ")) -> 1 | AK71: =IF(OR(L71="Х",L71="св")," ",IF(AND(M71>=0,M71<3),"1"," ")) -> 1 | AL71: =IF(OR(N71="Х",N71="св")," ",IF(AND(O71>=0,O71<3),"1"," ")) -> 1 | AM71: =IF(OR(P71="Х",P71="св")," ",IF(AND(Q71>=0,Q71<3),"1"," ")) -> 1 | AN71: =IF(OR(R71="Х",R71="св")," ",IF(AND(S71>=0,S71<3),"1"," ")) -> 1 | AO71: =IF(OR(T71="Х",T71="св")," ",IF(AND(U71>=0,U71<3),"1"," ")) -> 1 | AP71: =COUNTIF(AH71:AO72,1) -> 8 | AQ71: =AG71-AC71 -> 80 | AR71: =IF(F71=0,0,IF(F71="Х",1,IF(H71="Х",2,IF(J71="Х",3,IF(L71="Х",4,IF(N71="Х",5,IF(P71="Х",6,IF(R71="Х",7,IF(T71="Х",8,IF(V71="Х",9,IF(Y71>2.5,10,IF(AA71>2.5,11,IF(AA71>=0,12,IF(AA71=" ",0,)))))))))))))) -> 0 | AS71: =COUNTIF(AG$6:AG$134,">"&AG$6:AG$134)+1&REPT("-"&COUNTIF(AG$6:AG$134,">="&AG$6:AG$134),COUNTIF(AG$6:AG$134,AG71)>1) -> 27-64 | AT71: =COUNTIF(AU$6:AU$134,">"&AU$6:AU$134)+1&REPT("-"&COUNTIF(AU$6:AU$134,">="&AU$6:AU$134),COUNTIF(AU$6:AU$134,AU71)>1) -> 1-64 | AU71: =COUNTIF(AV$6:AV$134,">"&AV$6:AV$134)+1&REPT("-"&COUNTIF(AV$6:AV$134,">="&AV$6:AV$134),COUNTIF(AV$6:AV$134,AV71)>1) -> 1-0 | AV71: =COUNTIF(AW$6:AW$134,">"&AW$6:AW$134)+1&REPT("-"&COUNTIF(AW$6:AW$134,">="&AW$6:AW$134),COUNTIF(AW$6:AW$134,AW71)>1) -> 1 | AW71: =COUNTIF(AX$6:AX$134,">"&AX$6:AX$134)+1&REPT("-"&COUNTIF(AX$6:AX$134,">="&AX$6:AX$134),COUNTIF(AX$6:AX$134,AX71)>1) -> 32 | AX71: =IF(X71="Х","Х",IF(Y71<3,B71,"Х")) -> 33 | BD71: 0 | BF71: 0 | BM71: 33 | BN71: 0 | BO71: =IF(BM71<BN71,BM71,"") | BS71: 0 | BT71: =IF(BR71<BS71,BR71,"") | BW71: 33 | BY71: {=IF(BW71<BX71,BW71,"")} -> 33 | BZ71: =IF(BY71="св",0,BY71) -> 33 | CA71: =IFERROR(__xludf.DUMMYFUNCTION("""COMPUTED_VALUE"""),66) -> 66 | CB71: =IF(CA71=0,"св",CA71) -> 66 | CE71: 33 | CG71: {=IF(CE71<CF71,CE71,"")} -> 33 | CH71: 33 | CI71: =IFERROR(__xludf.DUMMYFUNCTION("""COMPUTED_VALUE"""),66) -> 66 | CJ71: 33 | CL71: {=IF(CJ71<CK71,CJ71,"")} -> 33 | CM71: 33 | CN71: =IFERROR(__xludf.DUMMYFUNCTION("""COMPUTED_VALUE"""),66) -> 66 | CO71: 33 | CQ71: {=IF(CO71<CP71,CO71,"")} -> 33 | CR71: 33 | CS71: =IFERROR(__xludf.DUMMYFUNCTION("""COMPUTED_VALUE"""),66) -> 66 | CT71: 33 | CV71: {=IF(CT71<CU71,CT71,"")} -> 33 | CW71: 33 | CX71: =IFERROR(__xludf.DUMMYFUNCTION("""COMPUTED_VALUE"""),66) -> 66 | CY71: 33 | DA71: {=IF(CY71<CZ71,CY71,"")} -> 33 | DB71: 33 | DC71: =IFERROR(__xludf.DUMMYFUNCTION("""COMPUTED_VALUE"""),66) -> 66 | DD71: 33
BD72: 0 | BF72: 0 | BN72: 0 | BO72: =IF(BO71="","",BN71) | BS72: 0 | BT72: =IF(BT71="","",BS71) | BX72: 0 | BY72: =IF(BY71="","",BX71) | BZ72: =IF(BY72="св",0,BY72) | CA72: =IFERROR(__xludf.DUMMYFUNCTION("""COMPUTED_VALUE"""),67) -> 67 | CB72: =IF(CA72=0,"св",CA72) -> 67 | CF72: 0 | CG72: =IF(CG71="","",CF71) | CI72: =IFERROR(__xludf.DUMMYFUNCTION("""COMPUTED_VALUE"""),67) -> 67 | CK72: 0 | CL72: =IF(CL71="","",CK71) | CN72: =IFERROR(__xludf.DUMMYFUNCTION("""COMPUTED_VALUE"""),67) -> 67 | CP72: 0 | CQ72: =IF(CQ71="","",CP71) | CS72: =IFERROR(__xludf.DUMMYFUNCTION("""COMPUTED_VALUE"""),67) -> 67 | CU72: 0 | CV72: =IF(CV71="","",CU71) | CX72: =IFERROR(__xludf.DUMMYFUNCTION("""COMPUTED_VALUE"""),67) -> 67 | CZ72: 0 | DA72: =IF(DA71="","",CZ71) | DC72: =IFERROR(__xludf.DUMMYFUNCTION("""COMPUTED_VALUE"""),67) -> 67
B73: 34 | C73: =(VLOOKUP($B73,Пр.взв!$D$6:$J$63,2,0)) -> #N/A | D73: =(VLOOKUP($B73,Пр.взв!$D$6:$J$63,5,0)) -> #N/A | E73: =(VLOOKUP($B73,Пр.взв!$D$6:$M$63,8,0)) -> #N/A | J73: =IF(H73="Х","Х",IF($AC73<6," ","Х")) | L73: =IF(J73="Х","Х",IF(K73<3," ",IF($AC73<6," ","Х"))) | N73: =IF(L73="Х","Х",IF(M73<3," ",IF($AC73<6," ","Х"))) | P73: =IF(N73="Х","Х",IF(O73<3," ",IF($AC73<6," ","Х"))) | R73: =IF(P73="Х","Х",IF(Q73<3," ",IF($AC73<6," ","Х"))) | T73: =IF(R73="Х","Х",IF(S73<3," ",IF($AC73<6," ","Х"))) | V73: =IF(T73="Х","Х",IF(U73<3," ",IF($AC73<6," ","Х"))) | X73: =IF(V73="А1",$AZ$7,IF(V73="Б2",$AZ$6,IF(V73="Б1",$BA$7,IF(V73="А2",$BA$6,IF(V73="Х","Х",IF(V73<6," "," ")))))) | Z73: =IF(V73="Х","Х",IF(ISBLANK(Y73),"",IF(Y73>2.5," ",IF(B73=BB$6,BB$7,BB$6)))) | AB73: =IF(H73="Х",F$5,IF(J73="Х",H$5,IF(L73="Х",J$5,IF(N73="Х",L$5,IF(P73="Х",N$5,IF(R73="Х",P$5,IF(T73="Х",R$5,IF(X73="Х",T$5,"")))))))) | AC73: =SUM(G73+I73+K73+M73+O73+Q73+S73+U73+Y73+AA73) -> 0 | AD73: =AF73 -> 27-71 | AE73: =AD73 -> 27-71 | AF73: =COUNTIF(AG$6:AG$148,">"&AG$6:AG$148)+1&REPT("-"&COUNTIF(AG$6:AG$148,">="&AG$6:AG$148),COUNTIF(AG$6:AG$148,AG73)>1) -> 27-71 | AG73: =(AR73*100)+(AP73*10)-AC73 -> 80 | AH73: =IF(OR(F73="Х",F73="св")," ",IF(AND(G73>=0,G73<3),"1"," ")) -> 1 | AI73: =IF(OR(H73="Х",H73="св")," ",IF(AND(I73>=0,I73<3),"1"," ")) -> 1 | AJ73: =IF(OR(J73="Х",J73="св")," ",IF(AND(K73>=0,K73<3),"1"," ")) -> 1 | AK73: =IF(OR(L73="Х",L73="св")," ",IF(AND(M73>=0,M73<3),"1"," ")) -> 1 | AL73: =IF(OR(N73="Х",N73="св")," ",IF(AND(O73>=0,O73<3),"1"," ")) -> 1 | AM73: =IF(OR(P73="Х",P73="св")," ",IF(AND(Q73>=0,Q73<3),"1"," ")) -> 1 | AN73: =IF(OR(R73="Х",R73="св")," ",IF(AND(S73>=0,S73<3),"1"," ")) -> 1 | AO73: =IF(OR(T73="Х",T73="св")," ",IF(AND(U73>=0,U73<3),"1"," ")) -> 1 | AP73: =COUNTIF(AH73:AO74,1) -> 8 | AQ73: =AG73-AC73 -> 80 | AR73: =IF(F73=0,0,IF(F73="Х",1,IF(H73="Х",2,IF(J73="Х",3,IF(L73="Х",4,IF(N73="Х",5,IF(P73="Х",6,IF(R73="Х",7,IF(T73="Х",8,IF(V73="Х",9,IF(Y73>2.5,10,IF(AA73>2.5,11,IF(AA73>=0,12,IF(AA73=" ",0,)))))))))))))) -> 0 | AS73: =COUNTIF(AG$6:AG$134,">"&AG$6:AG$134)+1&REPT("-"&COUNTIF(AG$6:AG$134,">="&AG$6:AG$134),COUNTIF(AG$6:AG$134,AG73)>1) -> 27-64 | AT73: =COUNTIF(AU$6:AU$134,">"&AU$6:AU$134)+1&REPT("-"&COUNTIF(AU$6:AU$134,">="&AU$6:AU$134),COUNTIF(AU$6:AU$134,AU73)>1) -> 1-64 | AU73: =COUNTIF(AV$6:AV$134,">"&AV$6:AV$134)+1&REPT("-"&COUNTIF(AV$6:AV$134,">="&AV$6:AV$134),COUNTIF(AV$6:AV$134,AV73)>1) -> 1-0 | AV73: =COUNTIF(AW$6:AW$134,">"&AW$6:AW$134)+1&REPT("-"&COUNTIF(AW$6:AW$134,">="&AW$6:AW$134),COUNTIF(AW$6:AW$134,AW73)>1) -> 1 | AW73: =COUNTIF(AX$6:AX$134,">"&AX$6:AX$134)+1&REPT("-"&COUNTIF(AX$6:AX$134,">="&AX$6:AX$134),COUNTIF(AX$6:AX$134,AX73)>1) -> 31 | AX73: =IF(X73="Х","Х",IF(Y73<3,B73,"Х")) -> 34 | BD73: 0 | BF73: 0 | BM73: 34 | BN73: 0 | BO73: =IF(BM73<BN73,BM73,"") | BS73: 0 | BT73: =IF(BR73<BS73,BR73,"") | BW73: 34 | BY73: {=IF(BW73<BX73,BW73,"")} -> 34 | BZ73: =IF(BY73="св",0,BY73) -> 34 | CA73: =IFERROR(__xludf.DUMMYFUNCTION("""COMPUTED_VALUE"""),68) -> 68 | CB73: =IF(CA73=0,"св",CA73) -> 68 | CE73: 34 | CG73: {=IF(CE73<CF73,CE73,"")} -> 34 | CH73: 34 | CI73: =IFERROR(__xludf.DUMMYFUNCTION("""COMPUTED_VALUE"""),68) -> 68 | CJ73: 34 | CL73: {=IF(CJ73<CK73,CJ73,"")} -> 34 | CM73: 34 | CN73: =IFERROR(__xludf.DUMMYFUNCTION("""COMPUTED_VALUE"""),68) -> 68 | CO73: 34 | CQ73: {=IF(CO73<CP73,CO73,"")} -> 34 | CR73: 34 | CS73: =IFERROR(__xludf.DUMMYFUNCTION("""COMPUTED_VALUE"""),68) -> 68 | CT73: 34 | CV73: {=IF(CT73<CU73,CT73,"")} -> 34 | CW73: 34 | CX73: =IFERROR(__xludf.DUMMYFUNCTION("""COMPUTED_VALUE"""),68) -> 68 | CY73: 34 | DA73: {=IF(CY73<CZ73,CY73,"")} -> 34 | DB73: 34 | DC73: =IFERROR(__xludf.DUMMYFUNCTION("""COMPUTED_VALUE"""),68) -> 68 | DD73: 34
BD74: 0 | BF74: 0 | BN74: 0 | BO74: =IF(BO73="","",BN73) | BS74: 0 | BT74: =IF(BT73="","",BS73) | BX74: 0 | BY74: =IF(BY73="","",BX73) | BZ74: =IF(BY74="св",0,BY74) | CA74: =IFERROR(__xludf.DUMMYFUNCTION("""COMPUTED_VALUE"""),69) -> 69 | CB74: =IF(CA74=0,"св",CA74) -> 69 | CF74: 0 | CG74: =IF(CG73="","",CF73) | CI74: =IFERROR(__xludf.DUMMYFUNCTION("""COMPUTED_VALUE"""),69) -> 69 | CK74: 0 | CL74: =IF(CL73="","",CK73) | CN74: =IFERROR(__xludf.DUMMYFUNCTION("""COMPUTED_VALUE"""),69) -> 69 | CP74: 0 | CQ74: =IF(CQ73="","",CP73) | CS74: =IFERROR(__xludf.DUMMYFUNCTION("""COMPUTED_VALUE"""),69) -> 69 | CU74: 0 | CV74: =IF(CV73="","",CU73) | CX74: =IFERROR(__xludf.DUMMYFUNCTION("""COMPUTED_VALUE"""),69) -> 69 | CZ74: 0 | DA74: =IF(DA73="","",CZ73) | DC74: =IFERROR(__xludf.DUMMYFUNCTION("""COMPUTED_VALUE"""),69) -> 69
B75: 35 | C75: =(VLOOKUP($B75,Пр.взв!$D$6:$J$63,2,0)) -> #N/A | D75: =(VLOOKUP($B75,Пр.взв!$D$6:$J$63,5,0)) -> #N/A | E75: =(VLOOKUP($B75,Пр.взв!$D$6:$M$63,8,0)) -> #N/A | J75: =IF(H75="Х","Х",IF($AC75<6," ","Х")) | L75: =IF(J75="Х","Х",IF(K75<3," ",IF($AC75<6," ","Х"))) | N75: =IF(L75="Х","Х",IF(M75<3," ",IF($AC75<6," ","Х"))) | P75: =IF(N75="Х","Х",IF(O75<3," ",IF($AC75<6," ","Х"))) | R75: =IF(P75="Х","Х",IF(Q75<3," ",IF($AC75<6," ","Х"))) | T75: =IF(R75="Х","Х",IF(S75<3," ",IF($AC75<6," ","Х"))) | V75: =IF(T75="Х","Х",IF(U75<3," ",IF($AC75<6," ","Х"))) | X75: =IF(V75="А1",$AZ$7,IF(V75="Б2",$AZ$6,IF(V75="Б1",$BA$7,IF(V75="А2",$BA$6,IF(V75="Х","Х",IF(V75<6," "," ")))))) | Z75: =IF(V75="Х","Х",IF(ISBLANK(Y75),"",IF(Y75>2.5," ",IF(B75=BB$6,BB$7,BB$6)))) | AB75: =IF(H75="Х",F$5,IF(J75="Х",H$5,IF(L75="Х",J$5,IF(N75="Х",L$5,IF(P75="Х",N$5,IF(R75="Х",P$5,IF(T75="Х",R$5,IF(X75="Х",T$5,"")))))))) | AC75: =SUM(G75+I75+K75+M75+O75+Q75+S75+U75+Y75+AA75) -> 0 | AD75: =AF75 -> 27-71 | AE75: =AD75 -> 27-71 | AF75: =COUNTIF(AG$6:AG$148,">"&AG$6:AG$148)+1&REPT("-"&COUNTIF(AG$6:AG$148,">="&AG$6:AG$148),COUNTIF(AG$6:AG$148,AG75)>1) -> 27-71 | AG75: =(AR75*100)+(AP75*10)-AC75 -> 80 | AH75: =IF(OR(F75="Х",F75="св")," ",IF(AND(G75>=0,G75<3),"1"," ")) -> 1 | AI75: =IF(OR(H75="Х",H75="св")," ",IF(AND(I75>=0,I75<3),"1"," ")) -> 1 | AJ75: =IF(OR(J75="Х",J75="св")," ",IF(AND(K75>=0,K75<3),"1"," ")) -> 1 | AK75: =IF(OR(L75="Х",L75="св")," ",IF(AND(M75>=0,M75<3),"1"," ")) -> 1 | AL75: =IF(OR(N75="Х",N75="св")," ",IF(AND(O75>=0,O75<3),"1"," ")) -> 1 | AM75: =IF(OR(P75="Х",P75="св")," ",IF(AND(Q75>=0,Q75<3),"1"," ")) -> 1 | AN75: =IF(OR(R75="Х",R75="св")," ",IF(AND(S75>=0,S75<3),"1"," ")) -> 1 | AO75: =IF(OR(T75="Х",T75="св")," ",IF(AND(U75>=0,U75<3),"1"," ")) -> 1 | AP75: =COUNTIF(AH75:AO76,1) -> 8 | AQ75: =AG75-AC75 -> 80 | AR75: =IF(F75=0,0,IF(F75="Х",1,IF(H75="Х",2,IF(J75="Х",3,IF(L75="Х",4,IF(N75="Х",5,IF(P75="Х",6,IF(R75="Х",7,IF(T75="Х",8,IF(V75="Х",9,IF(Y75>2.5,10,IF(AA75>2.5,11,IF(AA75>=0,12,IF(AA75=" ",0,)))))))))))))) -> 0 | AS75: =COUNTIF(AG$6:AG$134,">"&AG$6:AG$134)+1&REPT("-"&COUNTIF(AG$6:AG$134,">="&AG$6:AG$134),COUNTIF(AG$6:AG$134,AG75)>1) -> 27-64 | AT75: =COUNTIF(AU$6:AU$134,">"&AU$6:AU$134)+1&REPT("-"&COUNTIF(AU$6:AU$134,">="&AU$6:AU$134),COUNTIF(AU$6:AU$134,AU75)>1) -> 1-64 | AU75: =COUNTIF(AV$6:AV$134,">"&AV$6:AV$134)+1&REPT("-"&COUNTIF(AV$6:AV$134,">="&AV$6:AV$134),COUNTIF(AV$6:AV$134,AV75)>1) -> 1-0 | AV75: =COUNTIF(AW$6:AW$134,">"&AW$6:AW$134)+1&REPT("-"&COUNTIF(AW$6:AW$134,">="&AW$6:AW$134),COUNTIF(AW$6:AW$134,AW75)>1) -> 1 | AW75: =COUNTIF(AX$6:AX$134,">"&AX$6:AX$134)+1&REPT("-"&COUNTIF(AX$6:AX$134,">="&AX$6:AX$134),COUNTIF(AX$6:AX$134,AX75)>1) -> 30 | AX75: =IF(X75="Х","Х",IF(Y75<3,B75,"Х")) -> 35 | BD75: 0 | BF75: 0 | BM75: 35 | BN75: 0 | BO75: =IF(BM75<BN75,BM75,"") | BS75: 0 | BT75: =IF(BR75<BS75,BR75,"") | BW75: 35 | BY75: {=IF(BW75<BX75,BW75,"")} -> 35 | BZ75: =IF(BY75="св",0,BY75) -> 35 | CA75: =IFERROR(__xludf.DUMMYFUNCTION("""COMPUTED_VALUE"""),70) -> 70 | CB75: =IF(CA75=0,"св",CA75) -> 70 | CE75: 35 | CG75: {=IF(CE75<CF75,CE75,"")} -> 35 | CH75: 35 | CI75: =IFERROR(__xludf.DUMMYFUNCTION("""COMPUTED_VALUE"""),70) -> 70 | CJ75: 35 | CL75: {=IF(CJ75<CK75,CJ75,"")} -> 35 | CM75: 35 | CN75: =IFERROR(__xludf.DUMMYFUNCTION("""COMPUTED_VALUE"""),70) -> 70 | CO75: 35 | CQ75: {=IF(CO75<CP75,CO75,"")} -> 35 | CR75: 35 | CS75: =IFERROR(__xludf.DUMMYFUNCTION("""COMPUTED_VALUE"""),70) -> 70 | CT75: 35 | CV75: {=IF(CT75<CU75,CT75,"")} -> 35 | CW75: 35 | CX75: =IFERROR(__xludf.DUMMYFUNCTION("""COMPUTED_VALUE"""),70) -> 70 | CY75: 35 | DA75: {=IF(CY75<CZ75,CY75,"")} -> 35 | DB75: 35 | DC75: =IFERROR(__xludf.DUMMYFUNCTION("""COMPUTED_VALUE"""),70) -> 70 | DD75: 35
BD76: 0 | BF76: 0 | BN76: 0 | BO76: =IF(BO75="","",BN75) | BS76: 0 | BT76: =IF(BT75="","",BS75) | BX76: 0 | BY76: =IF(BY75="","",BX75) | BZ76: =IF(BY76="св",0,BY76) | CA76: =IFERROR(__xludf.DUMMYFUNCTION("""COMPUTED_VALUE"""),71) -> 71 | CB76: =IF(CA76=0,"св",CA76) -> 71 | CF76: 0 | CG76: =IF(CG75="","",CF75) | CI76: =IFERROR(__xludf.DUMMYFUNCTION("""COMPUTED_VALUE"""),71) -> 71 | CK76: 0 | CL76: =IF(CL75="","",CK75) | CN76: =IFERROR(__xludf.DUMMYFUNCTION("""COMPUTED_VALUE"""),71) -> 71 | CP76: 0 | CQ76: =IF(CQ75="","",CP75) | CS76: =IFERROR(__xludf.DUMMYFUNCTION("""COMPUTED_VALUE"""),71) -> 71 | CU76: 0 | CV76: =IF(CV75="","",CU75) | CX76: =IFERROR(__xludf.DUMMYFUNCTION("""COMPUTED_VALUE"""),71) -> 71 | CZ76: 0 | DA76: =IF(DA75="","",CZ75) | DC76: =IFERROR(__xludf.DUMMYFUNCTION("""COMPUTED_VALUE"""),71) -> 71
B77: 36 | C77: =(VLOOKUP($B77,Пр.взв!$D$6:$J$63,2,0)) -> #N/A | D77: =(VLOOKUP($B77,Пр.взв!$D$6:$J$63,5,0)) -> #N/A | E77: =(VLOOKUP($B77,Пр.взв!$D$6:$M$63,8,0)) -> #N/A | J77: =IF(H77="Х","Х",IF($AC77<6," ","Х")) | L77: =IF(J77="Х","Х",IF(K77<3," ",IF($AC77<6," ","Х"))) | N77: =IF(L77="Х","Х",IF(M77<3," ",IF($AC77<6," ","Х"))) | P77: =IF(N77="Х","Х",IF(O77<3," ",IF($AC77<6," ","Х"))) | R77: =IF(P77="Х","Х",IF(Q77<3," ",IF($AC77<6," ","Х"))) | T77: =IF(R77="Х","Х",IF(S77<3," ",IF($AC77<6," ","Х"))) | V77: =IF(T77="Х","Х",IF(U77<3," ",IF($AC77<6," ","Х"))) | X77: =IF(V77="А1",$AZ$7,IF(V77="Б2",$AZ$6,IF(V77="Б1",$BA$7,IF(V77="А2",$BA$6,IF(V77="Х","Х",IF(V77<6," "," ")))))) | Z77: =IF(V77="Х","Х",IF(ISBLANK(Y77),"",IF(Y77>2.5," ",IF(B77=BB$6,BB$7,BB$6)))) | AB77: =IF(H77="Х",F$5,IF(J77="Х",H$5,IF(L77="Х",J$5,IF(N77="Х",L$5,IF(P77="Х",N$5,IF(R77="Х",P$5,IF(T77="Х",R$5,IF(X77="Х",T$5,"")))))))) | AC77: =SUM(G77+I77+K77+M77+O77+Q77+S77+U77+Y77+AA77) -> 0 | AD77: =AF77 -> 27-71 | AE77: =AD77 -> 27-71 | AF77: =COUNTIF(AG$6:AG$148,">"&AG$6:AG$148)+1&REPT("-"&COUNTIF(AG$6:AG$148,">="&AG$6:AG$148),COUNTIF(AG$6:AG$148,AG77)>1) -> 27-71 | AG77: =(AR77*100)+(AP77*10)-AC77 -> 80 | AH77: =IF(OR(F77="Х",F77="св")," ",IF(AND(G77>=0,G77<3),"1"," ")) -> 1 | AI77: =IF(OR(H77="Х",H77="св")," ",IF(AND(I77>=0,I77<3),"1"," ")) -> 1 | AJ77: =IF(OR(J77="Х",J77="св")," ",IF(AND(K77>=0,K77<3),"1"," ")) -> 1 | AK77: =IF(OR(L77="Х",L77="св")," ",IF(AND(M77>=0,M77<3),"1"," ")) -> 1 | AL77: =IF(OR(N77="Х",N77="св")," ",IF(AND(O77>=0,O77<3),"1"," ")) -> 1 | AM77: =IF(OR(P77="Х",P77="св")," ",IF(AND(Q77>=0,Q77<3),"1"," ")) -> 1 | AN77: =IF(OR(R77="Х",R77="св")," ",IF(AND(S77>=0,S77<3),"1"," ")) -> 1 | AO77: =IF(OR(T77="Х",T77="св")," ",IF(AND(U77>=0,U77<3),"1"," ")) -> 1 | AP77: =COUNTIF(AH77:AO78,1) -> 8 | AQ77: =AG77-AC77 -> 80 | AR77: =IF(F77=0,0,IF(F77="Х",1,IF(H77="Х",2,IF(J77="Х",3,IF(L77="Х",4,IF(N77="Х",5,IF(P77="Х",6,IF(R77="Х",7,IF(T77="Х",8,IF(V77="Х",9,IF(Y77>2.5,10,IF(AA77>2.5,11,IF(AA77>=0,12,IF(AA77=" ",0,)))))))))))))) -> 0 | AS77: =COUNTIF(AG$6:AG$134,">"&AG$6:AG$134)+1&REPT("-"&COUNTIF(AG$6:AG$134,">="&AG$6:AG$134),COUNTIF(AG$6:AG$134,AG77)>1) -> 27-64 | AT77: =COUNTIF(AU$6:AU$134,">"&AU$6:AU$134)+1&REPT("-"&COUNTIF(AU$6:AU$134,">="&AU$6:AU$134),COUNTIF(AU$6:AU$134,AU77)>1) -> 1-64 | AU77: =COUNTIF(AV$6:AV$134,">"&AV$6:AV$134)+1&REPT("-"&COUNTIF(AV$6:AV$134,">="&AV$6:AV$134),COUNTIF(AV$6:AV$134,AV77)>1) -> 1-0 | AV77: =COUNTIF(AW$6:AW$134,">"&AW$6:AW$134)+1&REPT("-"&COUNTIF(AW$6:AW$134,">="&AW$6:AW$134),COUNTIF(AW$6:AW$134,AW77)>1) -> 1 | AW77: =COUNTIF(AX$6:AX$134,">"&AX$6:AX$134)+1&REPT("-"&COUNTIF(AX$6:AX$134,">="&AX$6:AX$134),COUNTIF(AX$6:AX$134,AX77)>1) -> 29 | AX77: =IF(X77="Х","Х",IF(Y77<3,B77,"Х")) -> 36 | BD77: 0 | BF77: 0 | BM77: 36 | BN77: 0 | BO77: =IF(BM77<BN77,BM77,"") | BS77: 0 | BT77: =IF(BR77<BS77,BR77,"") | BW77: 36 | BY77: {=IF(BW77<BX77,BW77,"")} -> 36 | BZ77: =IF(BY77="св",0,BY77) -> 36 | CB77: =IF(CA77=0,"св",CA77) -> св | CE77: 36 | CG77: {=IF(CE77<CF77,CE77,"")} -> 36 | CH77: 36 | CJ77: 36 | CL77: {=IF(CJ77<CK77,CJ77,"")} -> 36 | CM77: 36 | CO77: 36 | CQ77: {=IF(CO77<CP77,CO77,"")} -> 36 | CR77: 36 | CT77: 36 | CV77: {=IF(CT77<CU77,CT77,"")} -> 36 | CW77: 36 | CY77: 36 | DA77: {=IF(CY77<CZ77,CY77,"")} -> 36 | DB77: 36 | DD77: 36
BD78: 0 | BF78: 0 | BN78: 0 | BO78: =IF(BO77="","",BN77) | BS78: 0 | BT78: =IF(BT77="","",BS77) | BX78: 0 | BY78: =IF(BY77="","",BX77) | BZ78: =IF(BY78="св",0,BY78) | CB78: =IF(CA78=0,"св",CA78) -> св | CF78: 0 | CG78: =IF(CG77="","",CF77) | CK78: 0 | CL78: =IF(CL77="","",CK77) | CP78: 0 | CQ78: =IF(CQ77="","",CP77) | CU78: 0 | CV78: =IF(CV77="","",CU77) | CZ78: 0 | DA78: =IF(DA77="","",CZ77)
B79: 37 | C79: =(VLOOKUP($B79,Пр.взв!$D$6:$J$63,2,0)) -> #N/A | D79: =(VLOOKUP($B79,Пр.взв!$D$6:$J$63,5,0)) -> #N/A | E79: =(VLOOKUP($B79,Пр.взв!$D$6:$M$63,8,0)) -> #N/A | J79: =IF(H79="Х","Х",IF($AC79<6," ","Х")) | L79: =IF(J79="Х","Х",IF(K79<3," ",IF($AC79<6," ","Х"))) | N79: =IF(L79="Х","Х",IF(M79<3," ",IF($AC79<6," ","Х"))) | P79: =IF(N79="Х","Х",IF(O79<3," ",IF($AC79<6," ","Х"))) | R79: =IF(P79="Х","Х",IF(Q79<3," ",IF($AC79<6," ","Х"))) | T79: =IF(R79="Х","Х",IF(S79<3," ",IF($AC79<6," ","Х"))) | V79: =IF(T79="Х","Х",IF(U79<3," ",IF($AC79<6," ","Х"))) | X79: =IF(V79="А1",$AZ$7,IF(V79="Б2",$AZ$6,IF(V79="Б1",$BA$7,IF(V79="А2",$BA$6,IF(V79="Х","Х",IF(V79<6," "," ")))))) | Z79: =IF(V79="Х","Х",IF(ISBLANK(Y79),"",IF(Y79>2.5," ",IF(B79=BB$6,BB$7,BB$6)))) | AB79: =IF(H79="Х",F$5,IF(J79="Х",H$5,IF(L79="Х",J$5,IF(N79="Х",L$5,IF(P79="Х",N$5,IF(R79="Х",P$5,IF(T79="Х",R$5,IF(X79="Х",T$5,"")))))))) | AC79: =SUM(G79+I79+K79+M79+O79+Q79+S79+U79+Y79+AA79) -> 0 | AD79: =AF79 -> 27-71 | AE79: =AD79 -> 27-71 | AF79: =COUNTIF(AG$6:AG$148,">"&AG$6:AG$148)+1&REPT("-"&COUNTIF(AG$6:AG$148,">="&AG$6:AG$148),COUNTIF(AG$6:AG$148,AG79)>1) -> 27-71 | AG79: =(AR79*100)+(AP79*10)-AC79 -> 80 | AH79: =IF(OR(F79="Х",F79="св")," ",IF(AND(G79>=0,G79<3),"1"," ")) -> 1 | AI79: =IF(OR(H79="Х",H79="св")," ",IF(AND(I79>=0,I79<3),"1"," ")) -> 1 | AJ79: =IF(OR(J79="Х",J79="св")," ",IF(AND(K79>=0,K79<3),"1"," ")) -> 1 | AK79: =IF(OR(L79="Х",L79="св")," ",IF(AND(M79>=0,M79<3),"1"," ")) -> 1 | AL79: =IF(OR(N79="Х",N79="св")," ",IF(AND(O79>=0,O79<3),"1"," ")) -> 1 | AM79: =IF(OR(P79="Х",P79="св")," ",IF(AND(Q79>=0,Q79<3),"1"," ")) -> 1 | AN79: =IF(OR(R79="Х",R79="св")," ",IF(AND(S79>=0,S79<3),"1"," ")) -> 1 | AO79: =IF(OR(T79="Х",T79="св")," ",IF(AND(U79>=0,U79<3),"1"," ")) -> 1 | AP79: =COUNTIF(AH79:AO80,1) -> 8 | AQ79: =AG79-AC79 -> 80 | AR79: =IF(F79=0,0,IF(F79="Х",1,IF(H79="Х",2,IF(J79="Х",3,IF(L79="Х",4,IF(N79="Х",5,IF(P79="Х",6,IF(R79="Х",7,IF(T79="Х",8,IF(V79="Х",9,IF(Y79>2.5,10,IF(AA79>2.5,11,IF(AA79>=0,12,IF(AA79=" ",0,)))))))))))))) -> 0 | AS79: =COUNTIF(AG$6:AG$134,">"&AG$6:AG$134)+1&REPT("-"&COUNTIF(AG$6:AG$134,">="&AG$6:AG$134),COUNTIF(AG$6:AG$134,AG79)>1) -> 27-64 | AT79: =COUNTIF(AU$6:AU$134,">"&AU$6:AU$134)+1&REPT("-"&COUNTIF(AU$6:AU$134,">="&AU$6:AU$134),COUNTIF(AU$6:AU$134,AU79)>1) -> 1-64 | AU79: =COUNTIF(AV$6:AV$134,">"&AV$6:AV$134)+1&REPT("-"&COUNTIF(AV$6:AV$134,">="&AV$6:AV$134),COUNTIF(AV$6:AV$134,AV79)>1) -> 1-0 | AV79: =COUNTIF(AW$6:AW$134,">"&AW$6:AW$134)+1&REPT("-"&COUNTIF(AW$6:AW$134,">="&AW$6:AW$134),COUNTIF(AW$6:AW$134,AW79)>1) -> 1 | AW79: =COUNTIF(AX$6:AX$134,">"&AX$6:AX$134)+1&REPT("-"&COUNTIF(AX$6:AX$134,">="&AX$6:AX$134),COUNTIF(AX$6:AX$134,AX79)>1) -> 28 | AX79: =IF(X79="Х","Х",IF(Y79<3,B79,"Х")) -> 37 | BD79: 0 | BF79: 0 | BM79: 37 | BN79: 0 | BO79: =IF(BM79<BN79,BM79,"") | BS79: 0 | BT79: =IF(BR79<BS79,BR79,"") | BW79: 37 | BY79: {=IF(BW79<BX79,BW79,"")} -> 37 | BZ79: =IF(BY79="св",0,BY79) -> 37 | CB79: =IF(CA79=0,"св",CA79) -> св | CE79: 37 | CG79: {=IF(CE79<CF79,CE79,"")} -> 37 | CH79: 37 | CJ79: 37 | CL79: {=IF(CJ79<CK79,CJ79,"")} -> 37 | CM79: 37 | CO79: 37 | CQ79: {=IF(CO79<CP79,CO79,"")} -> 37 | CR79: 37 | CT79: 37 | CV79: {=IF(CT79<CU79,CT79,"")} -> 37 | CW79: 37 | CY79: 37 | DA79: {=IF(CY79<CZ79,CY79,"")} -> 37 | DB79: 37 | DD79: 37
BD80: 0 | BF80: 0 | BN80: 0 | BO80: =IF(BO79="","",BN79) | BS80: 0 | BT80: =IF(BT79="","",BS79) | BX80: 0 | BY80: =IF(BY79="","",BX79) | BZ80: =IF(BY80="св",0,BY80) | CB80: =IF(CA80=0,"св",CA80) -> св | CF80: 0 | CG80: =IF(CG79="","",CF79) | CK80: 0 | CL80: =IF(CL79="","",CK79) | CP80: 0 | CQ80: =IF(CQ79="","",CP79) | CU80: 0 | CV80: =IF(CV79="","",CU79) | CZ80: 0 | DA80: =IF(DA79="","",CZ79)
B81: 38 | C81: =(VLOOKUP($B81,Пр.взв!$D$6:$J$63,2,0)) -> #N/A | D81: =(VLOOKUP($B81,Пр.взв!$D$6:$J$63,5,0)) -> #N/A | E81: =(VLOOKUP($B81,Пр.взв!$D$6:$M$63,8,0)) -> #N/A | J81: =IF(H81="Х","Х",IF($AC81<6," ","Х")) | L81: =IF(J81="Х","Х",IF(K81<3," ",IF($AC81<6," ","Х"))) | N81: =IF(L81="Х","Х",IF(M81<3," ",IF($AC81<6," ","Х"))) | P81: =IF(N81="Х","Х",IF(O81<3," ",IF($AC81<6," ","Х"))) | R81: =IF(P81="Х","Х",IF(Q81<3," ",IF($AC81<6," ","Х"))) | T81: =IF(R81="Х","Х",IF(S81<3," ",IF($AC81<6," ","Х"))) | V81: =IF(T81="Х","Х",IF(U81<3," ",IF($AC81<6," ","Х"))) | X81: =IF(V81="А1",$AZ$7,IF(V81="Б2",$AZ$6,IF(V81="Б1",$BA$7,IF(V81="А2",$BA$6,IF(V81="Х","Х",IF(V81<6," "," ")))))) | Z81: =IF(V81="Х","Х",IF(ISBLANK(Y81),"",IF(Y81>2.5," ",IF(B81=BB$6,BB$7,BB$6)))) | AB81: =IF(H81="Х",F$5,IF(J81="Х",H$5,IF(L81="Х",J$5,IF(N81="Х",L$5,IF(P81="Х",N$5,IF(R81="Х",P$5,IF(T81="Х",R$5,IF(X81="Х",T$5,"")))))))) | AC81: =SUM(G81+I81+K81+M81+O81+Q81+S81+U81+Y81+AA81) -> 0 | AD81: =AF81 -> 27-71 | AE81: =AD81 -> 27-71 | AF81: =COUNTIF(AG$6:AG$148,">"&AG$6:AG$148)+1&REPT("-"&COUNTIF(AG$6:AG$148,">="&AG$6:AG$148),COUNTIF(AG$6:AG$148,AG81)>1) -> 27-71 | AG81: =(AR81*100)+(AP81*10)-AC81 -> 80 | AH81: =IF(OR(F81="Х",F81="св")," ",IF(AND(G81>=0,G81<3),"1"," ")) -> 1 | AI81: =IF(OR(H81="Х",H81="св")," ",IF(AND(I81>=0,I81<3),"1"," ")) -> 1 | AJ81: =IF(OR(J81="Х",J81="св")," ",IF(AND(K81>=0,K81<3),"1"," ")) -> 1 | AK81: =IF(OR(L81="Х",L81="св")," ",IF(AND(M81>=0,M81<3),"1"," ")) -> 1 | AL81: =IF(OR(N81="Х",N81="св")," ",IF(AND(O81>=0,O81<3),"1"," ")) -> 1 | AM81: =IF(OR(P81="Х",P81="св")," ",IF(AND(Q81>=0,Q81<3),"1"," ")) -> 1 | AN81: =IF(OR(R81="Х",R81="св")," ",IF(AND(S81>=0,S81<3),"1"," ")) -> 1 | AO81: =IF(OR(T81="Х",T81="св")," ",IF(AND(U81>=0,U81<3),"1"," ")) -> 1 | AP81: =COUNTIF(AH81:AO82,1) -> 8 | AQ81: =AG81-AC81 -> 80 | AR81: =IF(F81=0,0,IF(F81="Х",1,IF(H81="Х",2,IF(J81="Х",3,IF(L81="Х",4,IF(N81="Х",5,IF(P81="Х",6,IF(R81="Х",7,IF(T81="Х",8,IF(V81="Х",9,IF(Y81>2.5,10,IF(AA81>2.5,11,IF(AA81>=0,12,IF(AA81=" ",0,)))))))))))))) -> 0 | AS81: =COUNTIF(AG$6:AG$134,">"&AG$6:AG$134)+1&REPT("-"&COUNTIF(AG$6:AG$134,">="&AG$6:AG$134),COUNTIF(AG$6:AG$134,AG81)>1) -> 27-64 | AT81: =COUNTIF(AU$6:AU$134,">"&AU$6:AU$134)+1&REPT("-"&COUNTIF(AU$6:AU$134,">="&AU$6:AU$134),COUNTIF(AU$6:AU$134,AU81)>1) -> 1-64 | AU81: =COUNTIF(AV$6:AV$134,">"&AV$6:AV$134)+1&REPT("-"&COUNTIF(AV$6:AV$134,">="&AV$6:AV$134),COUNTIF(AV$6:AV$134,AV81)>1) -> 1-0 | AV81: =COUNTIF(AW$6:AW$134,">"&AW$6:AW$134)+1&REPT("-"&COUNTIF(AW$6:AW$134,">="&AW$6:AW$134),COUNTIF(AW$6:AW$134,AW81)>1) -> 1 | AW81: =COUNTIF(AX$6:AX$134,">"&AX$6:AX$134)+1&REPT("-"&COUNTIF(AX$6:AX$134,">="&AX$6:AX$134),COUNTIF(AX$6:AX$134,AX81)>1) -> 27 | AX81: =IF(X81="Х","Х",IF(Y81<3,B81,"Х")) -> 38 | BD81: 0 | BF81: 0 | BM81: 38 | BN81: 0 | BO81: =IF(BM81<BN81,BM81,"") | BS81: 0 | BT81: =IF(BR81<BS81,BR81,"") | BW81: 38 | BY81: {=IF(BW81<BX81,BW81,"")} -> 38 | BZ81: =IF(BY81="св",0,BY81) -> 38 | CB81: =IF(CA81=0,"св",CA81) -> св | CE81: 38 | CG81: {=IF(CE81<CF81,CE81,"")} -> 38 | CH81: 38 | CJ81: 38 | CL81: {=IF(CJ81<CK81,CJ81,"")} -> 38 | CM81: 38 | CO81: 38 | CQ81: {=IF(CO81<CP81,CO81,"")} -> 38 | CR81: 38 | CT81: 38 | CV81: {=IF(CT81<CU81,CT81,"")} -> 38 | CW81: 38 | CY81: 38 | DA81: {=IF(CY81<CZ81,CY81,"")} -> 38 | DB81: 38 | DD81: 38
AY82: 0 | BA82: 0 | BC82: 0 | BD82: 0 | BE82: 0 | BF82: 0 | BG82: 0 | BH82: 0 | BN82: 0 | BO82: =IF(BO81="","",BN81) | BS82: 0 | BT82: =IF(BT81="","",BS81) | BX82: 0 | BY82: =IF(BY81="","",BX81) | BZ82: =IF(BY82="св",0,BY82) | CB82: =IF(CA82=0,"св",CA82) -> св | CF82: 0 | CG82: =IF(CG81="","",CF81) | CK82: 0 | CL82: =IF(CL81="","",CK81) | CP82: 0 | CQ82: =IF(CQ81="","",CP81) | CU82: 0 | CV82: =IF(CV81="","",CU81) | CZ82: 0 | DA82: =IF(DA81="","",CZ81)
B83: 39 | C83: =(VLOOKUP($B83,Пр.взв!$D$6:$J$63,2,0)) -> #N/A | D83: =(VLOOKUP($B83,Пр.взв!$D$6:$J$63,5,0)) -> #N/A | E83: =(VLOOKUP($B83,Пр.взв!$D$6:$M$63,8,0)) -> #N/A | J83: =IF(H83="Х","Х",IF($AC83<6," ","Х")) | L83: =IF(J83="Х","Х",IF(K83<3," ",IF($AC83<6," ","Х"))) | N83: =IF(L83="Х","Х",IF(M83<3," ",IF($AC83<6," ","Х"))) | P83: =IF(N83="Х","Х",IF(O83<3," ",IF($AC83<6," ","Х"))) | R83: =IF(P83="Х","Х",IF(Q83<3," ",IF($AC83<6," ","Х"))) | T83: =IF(R83="Х","Х",IF(S83<3," ",IF($AC83<6," ","Х"))) | V83: =IF(T83="Х","Х",IF(U83<3," ",IF($AC83<6," ","Х"))) | X83: =IF(V83="А1",$AZ$7,IF(V83="Б2",$AZ$6,IF(V83="Б1",$BA$7,IF(V83="А2",$BA$6,IF(V83="Х","Х",IF(V83<6," "," ")))))) | Z83: =IF(V83="Х","Х",IF(ISBLANK(Y83),"",IF(Y83>2.5," ",IF(B83=BB$6,BB$7,BB$6)))) | AB83: =IF(H83="Х",F$5,IF(J83="Х",H$5,IF(L83="Х",J$5,IF(N83="Х",L$5,IF(P83="Х",N$5,IF(R83="Х",P$5,IF(T83="Х",R$5,IF(X83="Х",T$5,"")))))))) | AC83: =SUM(G83+I83+K83+M83+O83+Q83+S83+U83+Y83+AA83) -> 0 | AD83: =AF83 -> 27-71 | AE83: =AD83 -> 27-71 | AF83: =COUNTIF(AG$6:AG$148,">"&AG$6:AG$148)+1&REPT("-"&COUNTIF(AG$6:AG$148,">="&AG$6:AG$148),COUNTIF(AG$6:AG$148,AG83)>1) -> 27-71 | AG83: =(AR83*100)+(AP83*10)-AC83 -> 80 | AH83: =IF(OR(F83="Х",F83="св")," ",IF(AND(G83>=0,G83<3),"1"," ")) -> 1 | AI83: =IF(OR(H83="Х",H83="св")," ",IF(AND(I83>=0,I83<3),"1"," ")) -> 1 | AJ83: =IF(OR(J83="Х",J83="св")," ",IF(AND(K83>=0,K83<3),"1"," ")) -> 1 | AK83: =IF(OR(L83="Х",L83="св")," ",IF(AND(M83>=0,M83<3),"1"," ")) -> 1 | AL83: =IF(OR(N83="Х",N83="св")," ",IF(AND(O83>=0,O83<3),"1"," ")) -> 1 | AM83: =IF(OR(P83="Х",P83="св")," ",IF(AND(Q83>=0,Q83<3),"1"," ")) -> 1 | AN83: =IF(OR(R83="Х",R83="св")," ",IF(AND(S83>=0,S83<3),"1"," ")) -> 1 | AO83: =IF(OR(T83="Х",T83="св")," ",IF(AND(U83>=0,U83<3),"1"," ")) -> 1 | AP83: =COUNTIF(AH83:AO84,1) -> 8 | AQ83: =AG83-AC83 -> 80 | AR83: =IF(F83=0,0,IF(F83="Х",1,IF(H83="Х",2,IF(J83="Х",3,IF(L83="Х",4,IF(N83="Х",5,IF(P83="Х",6,IF(R83="Х",7,IF(T83="Х",8,IF(V83="Х",9,IF(Y83>2.5,10,IF(AA83>2.5,11,IF(AA83>=0,12,IF(AA83=" ",0,)))))))))))))) -> 0 | AS83: =COUNTIF(AG$6:AG$134,">"&AG$6:AG$134)+1&REPT("-"&COUNTIF(AG$6:AG$134,">="&AG$6:AG$134),COUNTIF(AG$6:AG$134,AG83)>1) -> 27-64 | AT83: =COUNTIF(AU$6:AU$134,">"&AU$6:AU$134)+1&REPT("-"&COUNTIF(AU$6:AU$134,">="&AU$6:AU$134),COUNTIF(AU$6:AU$134,AU83)>1) -> 1-64 | AU83: =COUNTIF(AV$6:AV$134,">"&AV$6:AV$134)+1&REPT("-"&COUNTIF(AV$6:AV$134,">="&AV$6:AV$134),COUNTIF(AV$6:AV$134,AV83)>1) -> 1-0 | AV83: =COUNTIF(AW$6:AW$134,">"&AW$6:AW$134)+1&REPT("-"&COUNTIF(AW$6:AW$134,">="&AW$6:AW$134),COUNTIF(AW$6:AW$134,AW83)>1) -> 1 | AW83: =COUNTIF(AX$6:AX$134,">"&AX$6:AX$134)+1&REPT("-"&COUNTIF(AX$6:AX$134,">="&AX$6:AX$134),COUNTIF(AX$6:AX$134,AX83)>1) -> 26 | AX83: =IF(X83="Х","Х",IF(Y83<3,B83,"Х")) -> 39 | AY83: 0 | BA83: 0 | BC83: 0 | BD83: 0 | BE83: 0 | BF83: 0 | BG83: 0 | BH83: 0 | BM83: 39 | BN83: 0 | BO83: =IF(BM83<BN83,BM83,"") | BS83: 0 | BT83: =IF(BR83<BS83,BR83,"") | BW83: 39 | BY83: {=IF(BW83<BX83,BW83,"")} -> 39 | BZ83: =IF(BY83="св",0,BY83) -> 39 | CB83: =IF(CA83=0,"св",CA83) -> св | CE83: 39 | CG83: {=IF(CE83<CF83,CE83,"")} -> 39 | CH83: 39 | CJ83: 39 | CL83: {=IF(CJ83<CK83,CJ83,"")} -> 39 | CM83: 39 | CO83: 39 | CQ83: {=IF(CO83<CP83,CO83,"")} -> 39 | CR83: 39 | CT83: 39 | CV83: {=IF(CT83<CU83,CT83,"")} -> 39 | CW83: 39 | CY83: 39 | DA83: {=IF(CY83<CZ83,CY83,"")} -> 39 | DB83: 39 | DD83: 39
AY84: 0 | BA84: 0 | BC84: 0 | BD84: 0 | BE84: 0 | BF84: 0 | BG84: 0 | BH84: 0 | BN84: 0 | BO84: =IF(BO83="","",BN83) | BS84: 0 | BT84: =IF(BT83="","",BS83) | BX84: 0 | BY84: =IF(BY83="","",BX83) | BZ84: =IF(BY84="св",0,BY84) | CB84: =IF(CA84=0,"св",CA84) -> св | CF84: 0 | CG84: =IF(CG83="","",CF83) | CK84: 0 | CL84: =IF(CL83="","",CK83) | CP84: 0 | CQ84: =IF(CQ83="","",CP83) | CU84: 0 | CV84: =IF(CV83="","",CU83) | CZ84: 0 | DA84: =IF(DA83="","",CZ83)
B85: 40 | C85: =(VLOOKUP($B85,Пр.взв!$D$6:$J$63,2,0)) -> #N/A | D85: =(VLOOKUP($B85,Пр.взв!$D$6:$J$63,5,0)) -> #N/A | E85: =(VLOOKUP($B85,Пр.взв!$D$6:$M$63,8,0)) -> #N/A | J85: =IF(H85="Х","Х",IF($AC85<6," ","Х")) | L85: =IF(J85="Х","Х",IF(K85<3," ",IF($AC85<6," ","Х"))) | N85: =IF(L85="Х","Х",IF(M85<3," ",IF($AC85<6," ","Х"))) | P85: =IF(N85="Х","Х",IF(O85<3," ",IF($AC85<6," ","Х"))) | R85: =IF(P85="Х","Х",IF(Q85<3," ",IF($AC85<6," ","Х"))) | T85: =IF(R85="Х","Х",IF(S85<3," ",IF($AC85<6," ","Х"))) | V85: =IF(T85="Х","Х",IF(U85<3," ",IF($AC85<6," ","Х"))) | X85: =IF(V85="А1",$AZ$7,IF(V85="Б2",$AZ$6,IF(V85="Б1",$BA$7,IF(V85="А2",$BA$6,IF(V85="Х","Х",IF(V85<6," "," ")))))) | Z85: =IF(V85="Х","Х",IF(ISBLANK(Y85),"",IF(Y85>2.5," ",IF(B85=BB$6,BB$7,BB$6)))) | AB85: =IF(H85="Х",F$5,IF(J85="Х",H$5,IF(L85="Х",J$5,IF(N85="Х",L$5,IF(P85="Х",N$5,IF(R85="Х",P$5,IF(T85="Х",R$5,IF(X85="Х",T$5,"")))))))) | AC85: =SUM(G85+I85+K85+M85+O85+Q85+S85+U85+Y85+AA85) -> 0 | AD85: =AF85 -> 27-71 | AE85: =AD85 -> 27-71 | AF85: =COUNTIF(AG$6:AG$148,">"&AG$6:AG$148)+1&REPT("-"&COUNTIF(AG$6:AG$148,">="&AG$6:AG$148),COUNTIF(AG$6:AG$148,AG85)>1) -> 27-71 | AG85: =(AR85*100)+(AP85*10)-AC85 -> 80 | AH85: =IF(OR(F85="Х",F85="св")," ",IF(AND(G85>=0,G85<3),"1"," ")) -> 1 | AI85: =IF(OR(H85="Х",H85="св")," ",IF(AND(I85>=0,I85<3),"1"," ")) -> 1 | AJ85: =IF(OR(J85="Х",J85="св")," ",IF(AND(K85>=0,K85<3),"1"," ")) -> 1 | AK85: =IF(OR(L85="Х",L85="св")," ",IF(AND(M85>=0,M85<3),"1"," ")) -> 1 | AL85: =IF(OR(N85="Х",N85="св")," ",IF(AND(O85>=0,O85<3),"1"," ")) -> 1 | AM85: =IF(OR(P85="Х",P85="св")," ",IF(AND(Q85>=0,Q85<3),"1"," ")) -> 1 | AN85: =IF(OR(R85="Х",R85="св")," ",IF(AND(S85>=0,S85<3),"1"," ")) -> 1 | AO85: =IF(OR(T85="Х",T85="св")," ",IF(AND(U85>=0,U85<3),"1"," ")) -> 1 | AP85: =COUNTIF(AH85:AO86,1) -> 8 | AQ85: =AG85-AC85 -> 80 | AR85: =IF(F85=0,0,IF(F85="Х",1,IF(H85="Х",2,IF(J85="Х",3,IF(L85="Х",4,IF(N85="Х",5,IF(P85="Х",6,IF(R85="Х",7,IF(T85="Х",8,IF(V85="Х",9,IF(Y85>2.5,10,IF(AA85>2.5,11,IF(AA85>=0,12,IF(AA85=" ",0,)))))))))))))) -> 0 | AS85: =COUNTIF(AG$6:AG$134,">"&AG$6:AG$134)+1&REPT("-"&COUNTIF(AG$6:AG$134,">="&AG$6:AG$134),COUNTIF(AG$6:AG$134,AG85)>1) -> 27-64 | AT85: =COUNTIF(AU$6:AU$134,">"&AU$6:AU$134)+1&REPT("-"&COUNTIF(AU$6:AU$134,">="&AU$6:AU$134),COUNTIF(AU$6:AU$134,AU85)>1) -> 1-64 | AU85: =COUNTIF(AV$6:AV$134,">"&AV$6:AV$134)+1&REPT("-"&COUNTIF(AV$6:AV$134,">="&AV$6:AV$134),COUNTIF(AV$6:AV$134,AV85)>1) -> 1-0 | AV85: =COUNTIF(AW$6:AW$134,">"&AW$6:AW$134)+1&REPT("-"&COUNTIF(AW$6:AW$134,">="&AW$6:AW$134),COUNTIF(AW$6:AW$134,AW85)>1) -> 1 | AW85: =COUNTIF(AX$6:AX$134,">"&AX$6:AX$134)+1&REPT("-"&COUNTIF(AX$6:AX$134,">="&AX$6:AX$134),COUNTIF(AX$6:AX$134,AX85)>1) -> 25 | AX85: =IF(X85="Х","Х",IF(Y85<3,B85,"Х")) -> 40 | AY85: 0 | BA85: 0 | BC85: 0 | BD85: 0 | BE85: 0 | BF85: 0 | BG85: 0 | BH85: 0 | BM85: 40 | BN85: 0 | BO85: =IF(BM85<BN85,BM85,"") | BS85: 0 | BT85: =IF(BR85<BS85,BR85,"") | BW85: 40 | BY85: {=IF(BW85<BX85,BW85,"")} -> 40 | BZ85: =IF(BY85="св",0,BY85) -> 40 | CB85: =IF(CA85=0,"св",CA85) -> св | CE85: 40 | CG85: {=IF(CE85<CF85,CE85,"")} -> 40 | CH85: 40 | CJ85: 40 | CL85: {=IF(CJ85<CK85,CJ85,"")} -> 40 | CM85: 40 | CO85: 40 | CQ85: {=IF(CO85<CP85,CO85,"")} -> 40 | CR85: 40 | CT85: 40 | CV85: {=IF(CT85<CU85,CT85,"")} -> 40 | CW85: 40 | CY85: 40 | DA85: {=IF(CY85<CZ85,CY85,"")} -> 40 | DB85: 40 | DD85: 40
AY86: 0 | BA86: 0 | BC86: 0 | BD86: 0 | BE86: 0 | BF86: 0 | BG86: 0 | BH86: 0 | BN86: 0 | BO86: =IF(BO85="","",BN85) | BS86: 0 | BT86: =IF(BT85="","",BS85) | BX86: 0 | BY86: =IF(BY85="","",BX85) | BZ86: =IF(BY86="св",0,BY86) | CB86: =IF(CA86=0,"св",CA86) -> св | CF86: 0 | CG86: =IF(CG85="","",CF85) | CK86: 0 | CL86: =IF(CL85="","",CK85) | CP86: 0 | CQ86: =IF(CQ85="","",CP85) | CU86: 0 | CV86: =IF(CV85="","",CU85) | CZ86: 0 | DA86: =IF(DA85="","",CZ85)
B87: 41 | C87: =(VLOOKUP($B87,Пр.взв!$D$6:$J$63,2,0)) -> #N/A | D87: =(VLOOKUP($B87,Пр.взв!$D$6:$J$63,5,0)) -> #N/A | E87: =(VLOOKUP($B87,Пр.взв!$D$6:$M$63,8,0)) -> #N/A | J87: =IF(H87="Х","Х",IF($AC87<6," ","Х")) | L87: =IF(J87="Х","Х",IF(K87<3," ",IF($AC87<6," ","Х"))) | N87: =IF(L87="Х","Х",IF(M87<3," ",IF($AC87<6," ","Х"))) | P87: =IF(N87="Х","Х",IF(O87<3," ",IF($AC87<6," ","Х"))) | R87: =IF(P87="Х","Х",IF(Q87<3," ",IF($AC87<6," ","Х"))) | T87: =IF(R87="Х","Х",IF(S87<3," ",IF($AC87<6," ","Х"))) | V87: =IF(T87="Х","Х",IF(U87<3," ",IF($AC87<6," ","Х"))) | X87: =IF(V87="А1",$AZ$7,IF(V87="Б2",$AZ$6,IF(V87="Б1",$BA$7,IF(V87="А2",$BA$6,IF(V87="Х","Х",IF(V87<6," "," ")))))) | Z87: =IF(V87="Х","Х",IF(ISBLANK(Y87),"",IF(Y87>2.5," ",IF(B87=BB$6,BB$7,BB$6)))) | AB87: =IF(H87="Х",F$5,IF(J87="Х",H$5,IF(L87="Х",J$5,IF(N87="Х",L$5,IF(P87="Х",N$5,IF(R87="Х",P$5,IF(T87="Х",R$5,IF(X87="Х",T$5,"")))))))) | AC87: =SUM(G87+I87+K87+M87+O87+Q87+S87+U87+Y87+AA87) -> 0 | AD87: =AF87 -> 27-71 | AE87: =AD87 -> 27-71 | AF87: =COUNTIF(AG$6:AG$148,">"&AG$6:AG$148)+1&REPT("-"&COUNTIF(AG$6:AG$148,">="&AG$6:AG$148),COUNTIF(AG$6:AG$148,AG87)>1) -> 27-71 | AG87: =(AR87*100)+(AP87*10)-AC87 -> 80 | AH87: =IF(OR(F87="Х",F87="св")," ",IF(AND(G87>=0,G87<3),"1"," ")) -> 1 | AI87: =IF(OR(H87="Х",H87="св")," ",IF(AND(I87>=0,I87<3),"1"," ")) -> 1 | AJ87: =IF(OR(J87="Х",J87="св")," ",IF(AND(K87>=0,K87<3),"1"," ")) -> 1 | AK87: =IF(OR(L87="Х",L87="св")," ",IF(AND(M87>=0,M87<3),"1"," ")) -> 1 | AL87: =IF(OR(N87="Х",N87="св")," ",IF(AND(O87>=0,O87<3),"1"," ")) -> 1 | AM87: =IF(OR(P87="Х",P87="св")," ",IF(AND(Q87>=0,Q87<3),"1"," ")) -> 1 | AN87: =IF(OR(R87="Х",R87="св")," ",IF(AND(S87>=0,S87<3),"1"," ")) -> 1 | AO87: =IF(OR(T87="Х",T87="св")," ",IF(AND(U87>=0,U87<3),"1"," ")) -> 1 | AP87: =COUNTIF(AH87:AO88,1) -> 8 | AQ87: =AG87-AC87 -> 80 | AR87: =IF(F87=0,0,IF(F87="Х",1,IF(H87="Х",2,IF(J87="Х",3,IF(L87="Х",4,IF(N87="Х",5,IF(P87="Х",6,IF(R87="Х",7,IF(T87="Х",8,IF(V87="Х",9,IF(Y87>2.5,10,IF(AA87>2.5,11,IF(AA87>=0,12,IF(AA87=" ",0,)))))))))))))) -> 0 | AS87: =COUNTIF(AG$6:AG$134,">"&AG$6:AG$134)+1&REPT("-"&COUNTIF(AG$6:AG$134,">="&AG$6:AG$134),COUNTIF(AG$6:AG$134,AG87)>1) -> 27-64 | AT87: =COUNTIF(AU$6:AU$134,">"&AU$6:AU$134)+1&REPT("-"&COUNTIF(AU$6:AU$134,">="&AU$6:AU$134),COUNTIF(AU$6:AU$134,AU87)>1) -> 1-64 | AU87: =COUNTIF(AV$6:AV$134,">"&AV$6:AV$134)+1&REPT("-"&COUNTIF(AV$6:AV$134,">="&AV$6:AV$134),COUNTIF(AV$6:AV$134,AV87)>1) -> 1-0 | AV87: =COUNTIF(AW$6:AW$134,">"&AW$6:AW$134)+1&REPT("-"&COUNTIF(AW$6:AW$134,">="&AW$6:AW$134),COUNTIF(AW$6:AW$134,AW87)>1) -> 1 | AW87: =COUNTIF(AX$6:AX$134,">"&AX$6:AX$134)+1&REPT("-"&COUNTIF(AX$6:AX$134,">="&AX$6:AX$134),COUNTIF(AX$6:AX$134,AX87)>1) -> 24 | AX87: =IF(X87="Х","Х",IF(Y87<3,B87,"Х")) -> 41 | AY87: 0 | BA87: 0 | BC87: 0 | BD87: 0 | BE87: 0 | BF87: 0 | BG87: 0 | BH87: 0 | BM87: 41 | BN87: 0 | BO87: =IF(BM87<BN87,BM87,"") | BS87: 0 | BT87: =IF(BR87<BS87,BR87,"") | BW87: 41 | BY87: {=IF(BW87<BX87,BW87,"")} -> 41 | BZ87: =IF(BY87="св",0,BY87) -> 41 | CB87: =IF(CA87=0,"св",CA87) -> св | CE87: 41 | CG87: {=IF(CE87<CF87,CE87,"")} -> 41 | CH87: 41 | CJ87: 41 | CL87: {=IF(CJ87<CK87,CJ87,"")} -> 41 | CM87: 41 | CO87: 41 | CQ87: {=IF(CO87<CP87,CO87,"")} -> 41 | CR87: 41 | CT87: 41 | CV87: {=IF(CT87<CU87,CT87,"")} -> 41 | CW87: 41 | CY87: 41 | DA87: {=IF(CY87<CZ87,CY87,"")} -> 41 | DB87: 41 | DD87: 41
AY88: 0 | BA88: 0 | BC88: 0 | BD88: 0 | BE88: 0 | BF88: 0 | BG88: 0 | BH88: 0 | BN88: 0 | BO88: =IF(BO87="","",BN87) | BS88: 0 | BT88: =IF(BT87="","",BS87) | BX88: 0 | BY88: =IF(BY87="","",BX87) | BZ88: =IF(BY88="св",0,BY88) | CB88: =IF(CA88=0,"св",CA88) -> св | CF88: 0 | CG88: =IF(CG87="","",CF87) | CK88: 0 | CL88: =IF(CL87="","",CK87) | CP88: 0 | CQ88: =IF(CQ87="","",CP87) | CU88: 0 | CV88: =IF(CV87="","",CU87) | CZ88: 0 | DA88: =IF(DA87="","",CZ87)
