Workbook
Name Е4кр: пр.хода!$BT$6:$BT$117
Name Е5кр: пр.хода!$BZ$6:$BZ$117
Name Е6кр: пр.хода!$CF$6:$CF$117
Name ЕстьПустые: пр.хода!$BQ$6:$BQ$117
Name Н4кр: пр.хода!$BU$6:$BU$117
Name Н5кр: пр.хода!$CA$6:$CA$117
Name Н6кр: пр.хода!$CG$6:$CG$117
Name НетПустых: пр.хода!$BS$6:$BS$23
Name разряд: пр.взв!$K$7:$K$70
Name разряд: #REF!
Name субъект: пр.взв!$L$7:$L$70
Name субъект: #REF!

Sheet пр.взв
A1: select Col1,Col3,Col4,Col5,Col6,Col10,Col12,Col13,Col14,Col15,Col16,Col17 WHERE Col1>1 | C1: ПРОТОКОЛ ВЗВЕШИВАНИЯ БОЕВОЕ САМБО | N1: https://docs.google.com/spreadsheets/d/11MlfNHE9chBth-cekZDrxtVONQxoJjPYlN4uZUVSGBY/edit#gid=946786355 | O1: =IF(O2="98+",99,O2) -> 58
C2: =IFERROR(__xludf.DUMMYFUNCTION("IMPORTRANGE(N1,""Реквизиты!A1"")"),"Первенство России по самбо (боевое) юниоры 18-20 лет (отбор на Первенство Мира и Европы) ЕКП № 23752") -> Первенство России по самбо (боевое) юниоры 18-20 лет (отбор на Первенство Мира и Европы) ЕКП № 23752 | O2: 58 | P2: В.к. | Q2: кг
C3: =IFERROR(__xludf.DUMMYFUNCTION("IMPORTRANGE(N1,""Реквизиты!A3"")"),"13.02 - 17.02.2022 г. г. В-Пышма") -> 13.02 - 17.02.2022 г. г. В-Пышма | O3: =COUNTA(F6:F1000) -> 33 | P3: участников | AX3: =SUM(AX7:AX12) -> 0
G4: =P2&" "&O2&" "&Q2 -> В.к. 58 кг | Y4: Мандатка
A5: ВК | B5: ВК | C5: № п/п | D5: № п/ж | E5: Ф.И.О. | F5: Ф.И.О. | G5: Дата рожд., разряд | H5: Разряд | I5: Округ, субъект, город, ведомство | K5: Субъект | L5: № карточки | M5: Тренер
A6: 58 | B6: 58 | D6: 1 | E6: ТАГИРОВ Рабазан | F6: ТАГИРОВ Рабазан Курбанович | G6: 19.11.03, КМС | H6: КМС | I6: ЦФО | J6: Ярославская, Рыбинск, МС | K6: Ярославская | M6: Некербан | N6: {=IF(D6:D1000="","",(LEFT(F6:F1000,FIND(" ",F6:F1000)-1)))} -> ТАГИРОВ | O6: 53 | Q6: =N7 -> ГУСЕЙНОВ | R6: =N8 -> БАЛТРУШИН | S6: =N9 -> ЮНУСОВ | T6: =N10 -> КОРОБЦОВ | U6: =N11 -> АБДУРАХМАНОВ | V6: =N12 -> ХАБИБУЛАЕВ | W6: =N13 -> ДЕХНИЧ | Y6: Субъект, город. | Z6: =Q6 -> ГУСЕЙНОВ | AA6: =R6 -> БАЛТРУШИН | AB6: =S6 -> ЮНУСОВ | AC6: =T6 -> КОРОБЦОВ | AD6: =U6 -> АБДУРАХМАНОВ | AE6: =V6 -> ХАБИБУЛАЕВ | AF6: =W6 -> ДЕХНИЧ
A7: 58 | B7: 58 | C7: 6 | D7: 2 | E7: ГУСЕЙНОВ Намик | F7: ГУСЕЙНОВ Намик Шарофат Оглы | G7: 08.05.04, 3p | H7: 3p | I7: ПФО | J7: Нижегородская обл., Кстово, ГБОУ ДО СШОР по самбо | K7: Нижегородская | M7: Чугреев А.В, Фролов ИМ | N7: ГУСЕЙНОВ | O7: 58 | Q7: =SUMIFS($J$7:$J$88,$L$7:$L$88,P7,$K$7:$K$88,Q$6) -> 0 | R7: =SUMIFS($J$7:$J$88,$L$7:$L$88,P7,$K$7:$K$88,R$6) -> 0 | S7: =SUMIFS($J$7:$J$88,$L$7:$L$88,P7,$K$7:$K$88,S$6) -> 0 | T7: =SUMIFS($J$7:$J$88,$L$7:$L$88,P7,$K$7:$K$88,T$6) -> 0 | U7: =SUMIFS($J$7:$J$88,$L$7:$L$88,P7,$K$7:$K$88,U$6) -> 0 | V7: =SUMIFS($J$7:$J$88,$L$7:$L$88,P7,$K$7:$K$88,V$6) -> 0 | W7: =SUMIFS($J$7:$J$88,$L$7:$L$88,P7,$K$7:$K$88,W$6) -> 0 | Y7: =P7 -> 0 | Z7: =IF(Q7=0," ",Q7) | AA7: =IF(R7=0," ",R7) | AB7: =IF(S7=0," ",S7) | AC7: =IF(T7=0," ",T7) | AD7: =IF(U7=0," ",U7) | AE7: =IF(V7=0," ",V7) | AF7: =IF(W7=0," ",W7) | AH7: =SUM(Z7:AF70) -> 0
A8: 58 | B8: 58 | C8: 14 | D8: 3 | E8: БАЛТРУШИН Сергей | F8: БАЛТРУШИН Сергей Сергеевич | G8: 02.12.03, КМС | H8: КМС | I8: СЗФО | J8: Санкт-Петербург, СанктПетербург, МО | K8: Санкт-Петербург | M8: (Талдиев А.А., Коршунов А.И.) | N8: БАЛТРУШИН | O8: 64 | Q8: =SUMIFS($J$7:$J$88,$L$7:$L$88,P8,$K$7:$K$88,Q$6) -> 0 | R8: =SUMIFS($J$7:$J$88,$L$7:$L$88,P8,$K$7:$K$88,R$6) -> 0 | S8: =SUMIFS($J$7:$J$88,$L$7:$L$88,P8,$K$7:$K$88,S$6) -> 0 | T8: =SUMIFS($J$7:$J$88,$L$7:$L$88,P8,$K$7:$K$88,T$6) -> 0 | U8: =SUMIFS($J$7:$J$88,$L$7:$L$88,P8,$K$7:$K$88,U$6) -> 0 | V8: =SUMIFS($J$7:$J$88,$L$7:$L$88,P8,$K$7:$K$88,V$6) -> 0 | W8: =SUMIFS($J$7:$J$88,$L$7:$L$88,P8,$K$7:$K$88,W$6) -> 0 | Y8: =P8 -> 0 | Z8: =IF($Y$8=$Y$7," ",IF(Q8=0," ",Q8)) | AA8: =IF($Y$8=$Y$7," ",IF(R8=0," ",R8)) | AB8: =IF($Y$8=$Y$7," ",IF(S8=0," ",S8)) | AC8: =IF($Y$8=$Y$7," ",IF(T8=0," ",T8)) | AD8: =IF(U8=0," ",U8) | AE8: =IF(V8=0," ",V8) | AF8: =IF(W8=0," ",W8)
A9: 58 | B9: 58 | C9: 14 | D9: 4 | E9: ЮНУСОВ Ильгиз | F9: ЮНУСОВ Ильгиз Ильясович | G9: 23.10.03, КМС | H9: КМС | I9: ПФО | J9: Р.Татарстан, Казань, МО | K9: Р.Татарстан | M9: Иванов В.А., Андронов А.Г. | N9: ЮНУСОВ | O9: 71 | Q9: =SUMIFS($J$7:$J$88,$L$7:$L$88,P9,$K$7:$K$88,Q$6) -> 0 | R9: =SUMIFS($J$7:$J$88,$L$7:$L$88,P9,$K$7:$K$88,R$6) -> 0 | S9: =SUMIFS($J$7:$J$88,$L$7:$L$88,P9,$K$7:$K$88,S$6) -> 0 | T9: =SUMIFS($J$7:$J$88,$L$7:$L$88,P9,$K$7:$K$88,T$6) -> 0 | U9: =SUMIFS($J$7:$J$88,$L$7:$L$88,P9,$K$7:$K$88,U$6) -> 0 | V9: =SUMIFS($J$7:$J$88,$L$7:$L$88,P9,$K$7:$K$88,V$6) -> 0 | W9: =SUMIFS($J$7:$J$88,$L$7:$L$88,P9,$K$7:$K$88,W$6) -> 0 | Y9: =P9 -> 0 | Z9: =IF(OR($Y9=$Y7,$Y9=$Y8)," ",IF(Q9=0," ",Q9)) | AA9: =IF(OR($Y9=$Y7,$Y9=$Y8)," ",IF(R9=0," ",R9)) | AB9: =IF(OR($Y9=$Y7,$Y9=$Y8)," ",IF(S9=0," ",S9)) | AC9: =IF(OR($Y9=$Y7,$Y9=$Y8)," ",IF(T9=0," ",T9)) | AD9: =IF(U9=0," ",U9) | AE9: =IF(V9=0," ",V9) | AF9: =IF(W9=0," ",W9)
A10: 58 | B10: 58 | C10: 32 | D10: 5 | E10: КОРОБЦОВ Алексей | F10: КОРОБЦОВ Алексей Алексеевич | G10: 25.12.04, КМС | H10: КМС | I10: ДВФО | J10: Камчатский, Петропавловск-Камчатский, МС | K10: Камчатский | M10: Островский Евгений Валерьевич | N10: КОРОБЦОВ | O10: 79 | Q10: =SUMIFS($J$7:$J$88,$L$7:$L$88,P10,$K$7:$K$88,Q$6) -> 0 | R10: =SUMIFS($J$7:$J$88,$L$7:$L$88,P10,$K$7:$K$88,R$6) -> 0 | S10: =SUMIFS($J$7:$J$88,$L$7:$L$88,P10,$K$7:$K$88,S$6) -> 0 | T10: =SUMIFS($J$7:$J$88,$L$7:$L$88,P10,$K$7:$K$88,T$6) -> 0 | U10: =SUMIFS($J$7:$J$88,$L$7:$L$88,P10,$K$7:$K$88,U$6) -> 0 | V10: =SUMIFS($J$7:$J$88,$L$7:$L$88,P10,$K$7:$K$88,V$6) -> 0 | W10: =SUMIFS($J$7:$J$88,$L$7:$L$88,P10,$K$7:$K$88,W$6) -> 0 | Y10: =P10 -> 0 | Z10: =IF(OR($Y10=$Y8,$Y10=$Y9,$Y10=$Y7)," ",IF(Q10=0," ",Q10)) | AA10: =IF(OR($Y10=$Y8,$Y10=$Y9,$Y10=$Y7)," ",IF(R10=0," ",R10)) | AB10: =IF(OR($Y10=$Y8,$Y10=$Y9,$Y10=$Y7)," ",IF(S10=0," ",S10)) | AC10: =IF(OR($Y10=$Y8,$Y10=$Y9,$Y10=$Y7)," ",IF(T10=0," ",T10)) | AD10: =IF(U10=0," ",U10) | AE10: =IF(V10=0," ",V10) | AF10: =IF(W10=0," ",W10)
A11: 58 | B11: 58 | C11: 32 | D11: 6 | E11: АБДУРАХМАНОВ Муслим | F11: АБДУРАХМАНОВ Муслим Альбертович | G11: 12.06.04, КМС | H11: КМС | I11: МОС | J11: г. Москва, Москва, Самбо-70 | K11: Москва | M11: Елесин Николай Анатольевич | N11: АБДУРАХМАНОВ | O11: 88 | Q11: =SUMIFS($J$7:$J$88,$L$7:$L$88,P11,$K$7:$K$88,Q$6) -> 0 | R11: =SUMIFS($J$7:$J$88,$L$7:$L$88,P11,$K$7:$K$88,R$6) -> 0 | S11: =SUMIFS($J$7:$J$88,$L$7:$L$88,P11,$K$7:$K$88,S$6) -> 0 | T11: =SUMIFS($J$7:$J$88,$L$7:$L$88,P11,$K$7:$K$88,T$6) -> 0 | U11: =SUMIFS($J$7:$J$88,$L$7:$L$88,P11,$K$7:$K$88,U$6) -> 0 | V11: =SUMIFS($J$7:$J$88,$L$7:$L$88,P11,$K$7:$K$88,V$6) -> 0 | W11: =SUMIFS($J$7:$J$88,$L$7:$L$88,P11,$K$7:$K$88,W$6) -> 0 | Y11: =P11 -> 0 | Z11: =IF(OR($Y11=$Y9,$Y11=$Y10,$Y11=$Y8,$Y11=$Y7)," ",IF(Q11=0," ",Q11)) | AA11: =IF(OR($Y11=$Y9,$Y11=$Y10,$Y11=$Y8,$Y11=$Y7)," ",IF(R11=0," ",R11)) | AB11: =IF(OR($Y11=$Y9,$Y11=$Y10,$Y11=$Y8,$Y11=$Y7)," ",IF(S11=0," ",S11)) | AC11: =IF(OR($Y11=$Y9,$Y11=$Y10,$Y11=$Y8,$Y11=$Y7)," ",IF(T11=0," ",T11)) | AD11: =IF(U11=0," ",U11) | AE11: =IF(V11=0," ",V11) | AF11: =IF(W11=0," ",W11)
A12: 58 | B12: 58 | C12: 9 | D12: 7 | E12: ХАБИБУЛАЕВ Турпал | F12: ХАБИБУЛАЕВ Турпал Ибрагимович | G12: 25.04.04, КМС | H12: КМС | I12: СКФО | J12: Чеченская, Грозный , МС | K12: Чеченская | M12: Мустыгов Майрбек Хабибулаев Шейх-Мансур | N12: ХАБИБУЛАЕВ | O12: 98 | Q12: =SUMIFS($J$7:$J$88,$L$7:$L$88,P12,$K$7:$K$88,Q$6) -> 0 | R12: =SUMIFS($J$7:$J$88,$L$7:$L$88,P12,$K$7:$K$88,R$6) -> 0 | S12: =SUMIFS($J$7:$J$88,$L$7:$L$88,P12,$K$7:$K$88,S$6) -> 0 | T12: =SUMIFS($J$7:$J$88,$L$7:$L$88,P12,$K$7:$K$88,T$6) -> 0 | U12: =SUMIFS($J$7:$J$88,$L$7:$L$88,P12,$K$7:$K$88,U$6) -> 0 | V12: =SUMIFS($J$7:$J$88,$L$7:$L$88,P12,$K$7:$K$88,V$6) -> 0 | W12: =SUMIFS($J$7:$J$88,$L$7:$L$88,P12,$K$7:$K$88,W$6) -> 0 | Y12: =P12 -> 0 | Z12: =IF(OR($Y12=$Y10,$Y12=$Y11,$Y12=$Y9,$Y12=$Y8,$Y12=$Y7)," ",IF(Q12=0," ",Q12)) | AA12: =IF(OR($Y12=$Y10,$Y12=$Y11,$Y12=$Y9,$Y12=$Y8,$Y12=$Y7)," ",IF(R12=0," ",R12)) | AB12: =IF(OR($Y12=$Y10,$Y12=$Y11,$Y12=$Y9,$Y12=$Y8,$Y12=$Y7)," ",IF(S12=0," ",S12)) | AC12: =IF(OR($Y12=$Y10,$Y12=$Y11,$Y12=$Y9,$Y12=$Y8,$Y12=$Y7)," ",IF(T12=0," ",T12)) | AD12: =IF(U12=0," ",U12) | AE12: =IF(V12=0," ",V12) | AF12: =IF(W12=0," ",W12)
A13: 58 | B13: 58 | C13: 9 | D13: 8 | E13: ДЕХНИЧ Глеб | F13: ДЕХНИЧ Глеб Денисович | G13: 18.07.03, 1р | H13: 1р | I13: УФО | J13: Челябинская обл., Челябинск, ДЮСШ №11 г. Челябинск | K13: Челябинская | M13: Педько М.А. | N13: ДЕХНИЧ | O13: 98+ | Q13: =SUMIFS($J$7:$J$88,$L$7:$L$88,P13,$K$7:$K$88,Q$6) -> 0 | R13: =SUMIFS($J$7:$J$88,$L$7:$L$88,P13,$K$7:$K$88,R$6) -> 0 | S13: =SUMIFS($J$7:$J$88,$L$7:$L$88,P13,$K$7:$K$88,S$6) -> 0 | T13: =SUMIFS($J$7:$J$88,$L$7:$L$88,P13,$K$7:$K$88,T$6) -> 0 | U13: =SUMIFS($J$7:$J$88,$L$7:$L$88,P13,$K$7:$K$88,U$6) -> 0 | V13: =SUMIFS($J$7:$J$88,$L$7:$L$88,P13,$K$7:$K$88,V$6) -> 0 | W13: =SUMIFS($J$7:$J$88,$L$7:$L$88,P13,$K$7:$K$88,W$6) -> 0 | Y13: =P13 -> 0 | Z13: =IF(OR($Y13=$Y11,$Y13=$Y12,$Y13=$Y10,$Y13=$Y9,$Y13=$Y8,$Y13=$Y7)," ",IF(Q13=0," ",Q13)) | AA13: =IF(OR($Y13=$Y11,$Y13=$Y12,$Y13=$Y10,$Y13=$Y9,$Y13=$Y8,$Y13=$Y7)," ",IF(R13=0," ",R13)) | AB13: =IF(OR($Y13=$Y11,$Y13=$Y12,$Y13=$Y10,$Y13=$Y9,$Y13=$Y8,$Y13=$Y7)," ",IF(S13=0," ",S13)) | AC13: =IF(OR($Y13=$Y11,$Y13=$Y12,$Y13=$Y10,$Y13=$Y9,$Y13=$Y8,$Y13=$Y7)," ",IF(T13=0," ",T13)) | AD13: =IF(U13=0," ",U13) | AE13: =IF(V13=0," ",V13) | AF13: =IF(W13=0," ",W13)
A14: 58 | B14: 58 | C14: 9 | D14: 9 | E14: КАКАДЖАНОВ Рустам | F14: КАКАДЖАНОВ Рустам Ильбайевич | G14: 22.03.05, КМС | H14: КМС | I14: ЦФО | J14: Московская обл., Воскресенск, ГБУ МО СШОР по единоборствам | K14: Московская | M14: Баринова М.В Тунгия Д.М | N14: КАКАДЖАНОВ | O14: 65 | Q14: =SUMIFS($J$7:$J$88,$L$7:$L$88,P14,$K$7:$K$88,Q$6) -> 0 | R14: =SUMIFS($J$7:$J$88,$L$7:$L$88,P14,$K$7:$K$88,R$6) -> 0 | S14: =SUMIFS($J$7:$J$88,$L$7:$L$88,P14,$K$7:$K$88,S$6) -> 0 | T14: =SUMIFS($J$7:$J$88,$L$7:$L$88,P14,$K$7:$K$88,T$6) -> 0 | U14: =SUMIFS($J$7:$J$88,$L$7:$L$88,P14,$K$7:$K$88,U$6) -> 0 | V14: =SUMIFS($J$7:$J$88,$L$7:$L$88,P14,$K$7:$K$88,V$6) -> 0 | W14: =SUMIFS($J$7:$J$88,$L$7:$L$88,P14,$K$7:$K$88,W$6) -> 0 | Y14: =P14 -> 0 | Z14: =IF(OR($Y14=$Y12,$Y14=$Y13,$Y14=$Y11,$Y14=$Y10,$Y14=$Y9,$Y14=$Y7)," ",IF(Q14=0," ",Q14)) | AA14: =IF(OR($Y14=$Y12,$Y14=$Y13,$Y14=$Y11,$Y14=$Y10,$Y14=$Y9,$Y14=$Y7)," ",IF(R14=0," ",R14)) | AB14: =IF(OR($Y14=$Y12,$Y14=$Y13,$Y14=$Y11,$Y14=$Y10,$Y14=$Y9,$Y14=$Y7)," ",IF(S14=0," ",S14)) | AC14: =IF(OR($Y14=$Y12,$Y14=$Y13,$Y14=$Y11,$Y14=$Y10,$Y14=$Y9,$Y14=$Y7)," ",IF(T14=0," ",T14)) | AD14: =IF(U14=0," ",U14) | AE14: =IF(V14=0," ",V14) | AF14: =IF(W14=0," ",W14)
A15: 58 | B15: 58 | C15: 16 | D15: 10 | E15: АМИРОВ Исмаил | F15: АМИРОВ Исмаил Магомедович | G15: 26.09.03, КМС | H15: КМС | I15: СКФО | J15: Чеченская, Грозный, МС | K15: Чеченская | M15: Мустыгов Майрбек | N15: АМИРОВ | O15: 71 | Q15: =SUMIFS($J$7:$J$88,$L$7:$L$88,P15,$K$7:$K$88,Q$6) -> 0 | R15: =SUMIFS($J$7:$J$88,$L$7:$L$88,P15,$K$7:$K$88,R$6) -> 0 | S15: =SUMIFS($J$7:$J$88,$L$7:$L$88,P15,$K$7:$K$88,S$6) -> 0 | T15: =SUMIFS($J$7:$J$88,$L$7:$L$88,P15,$K$7:$K$88,T$6) -> 0 | U15: =SUMIFS($J$7:$J$88,$L$7:$L$88,P15,$K$7:$K$88,U$6) -> 0 | V15: =SUMIFS($J$7:$J$88,$L$7:$L$88,P15,$K$7:$K$88,V$6) -> 0 | W15: =SUMIFS($J$7:$J$88,$L$7:$L$88,P15,$K$7:$K$88,W$6) -> 0 | Y15: =P15 -> 0 | Z15: =IF(OR($Y15=$Y13,$Y15=$Y14,$Y15=$Y12,$Y15=$Y11,$Y15=$Y10,$Y15=$Y8,$Y15=$Y7)," ",IF(Q15=0," ",Q15)) | AA15: =IF(OR($Y15=$Y13,$Y15=$Y14,$Y15=$Y12,$Y15=$Y11,$Y15=$Y10,$Y15=$Y8,$Y15=$Y7)," ",IF(R15=0," ",R15)) | AB15: =IF(OR($Y15=$Y13,$Y15=$Y14,$Y15=$Y12,$Y15=$Y11,$Y15=$Y10,$Y15=$Y8,$Y15=$Y7)," ",IF(S15=0," ",S15)) | AC15: =IF(OR($Y15=$Y13,$Y15=$Y14,$Y15=$Y12,$Y15=$Y11,$Y15=$Y10,$Y15=$Y8,$Y15=$Y7)," ",IF(T15=0," ",T15)) | AD15: =IF(U15=0," ",U15) | AE15: =IF(V15=0," ",V15) | AF15: =IF(W15=0," ",W15)
A16: 58 | B16: 58 | C16: 16 | D16: 11 | E16: АРСАМИКОВ Ибрахим | F16: АРСАМИКОВ Ибрахим Адамович | G16: 03.08.05, КМС | H16: КМС | I16: МОС | J16: г. Москва, Москва, Самбо-70 строгино | K16: Москва | M16: Иванов Н.С Зиатдинов Р.А | N16: АРСАМИКОВ | Q16: =SUMIFS($J$7:$J$88,$L$7:$L$88,P16,$K$7:$K$88,Q$6) -> 0 | R16: =SUMIFS($J$7:$J$88,$L$7:$L$88,P16,$K$7:$K$88,R$6) -> 0 | S16: =SUMIFS($J$7:$J$88,$L$7:$L$88,P16,$K$7:$K$88,S$6) -> 0 | T16: =SUMIFS($J$7:$J$88,$L$7:$L$88,P16,$K$7:$K$88,T$6) -> 0 | U16: =SUMIFS($J$7:$J$88,$L$7:$L$88,P16,$K$7:$K$88,U$6) -> 0 | V16: =SUMIFS($J$7:$J$88,$L$7:$L$88,P16,$K$7:$K$88,V$6) -> 0 | W16: =SUMIFS($J$7:$J$88,$L$7:$L$88,P16,$K$7:$K$88,W$6) -> 0 | Y16: =P16 -> 0 | Z16: =IF(OR($Y16=$Y14,$Y16=$Y15,$Y16=$Y13,$Y16=$Y12,$Y16=$Y11,$Y16=$Y9,$Y16=$Y8,$Y16=$Y7)," ",IF(Q16=0," ",Q16)) | AA16: =IF(OR($Y16=$Y14,$Y16=$Y15,$Y16=$Y13,$Y16=$Y12,$Y16=$Y11,$Y16=$Y9,$Y16=$Y8,$Y16=$Y7)," ",IF(R16=0," ",R16)) | AB16: =IF(OR($Y16=$Y14,$Y16=$Y15,$Y16=$Y13,$Y16=$Y12,$Y16=$Y11,$Y16=$Y9,$Y16=$Y8,$Y16=$Y7)," ",IF(S16=0," ",S16)) | AC16: =IF(OR($Y16=$Y14,$Y16=$Y15,$Y16=$Y13,$Y16=$Y12,$Y16=$Y11,$Y16=$Y9,$Y16=$Y8,$Y16=$Y7)," ",IF(T16=0," ",T16)) | AD16: =IF(U16=0," ",U16) | AE16: =IF(V16=0," ",V16) | AF16: =IF(W16=0," ",W16)
A17: 58 | B17: 58 | C17: 22 | D17: 12 | E17: ГАЖДИЕВ Завир | F17: ГАЖДИЕВ Завир Агавердиевич | G17: 27.11.03, МС | H17: МС | I17: СКФО | J17: Респ. Дагестан, Каспийск, СШОР | K17: Р.Дагестан | M17: Джанбеков Т. Магомедов М. | N17: ГАЖДИЕВ | Q17: =SUMIFS($J$7:$J$88,$L$7:$L$88,P17,$K$7:$K$88,Q$6) -> 0 | R17: =SUMIFS($J$7:$J$88,$L$7:$L$88,P17,$K$7:$K$88,R$6) -> 0 | S17: =SUMIFS($J$7:$J$88,$L$7:$L$88,P17,$K$7:$K$88,S$6) -> 0 | T17: =SUMIFS($J$7:$J$88,$L$7:$L$88,P17,$K$7:$K$88,T$6) -> 0 | U17: =SUMIFS($J$7:$J$88,$L$7:$L$88,P17,$K$7:$K$88,U$6) -> 0 | V17: =SUMIFS($J$7:$J$88,$L$7:$L$88,P17,$K$7:$K$88,V$6) -> 0 | W17: =SUMIFS($J$7:$J$88,$L$7:$L$88,P17,$K$7:$K$88,W$6) -> 0 | Y17: =P17 -> 0 | Z17: =IF(OR($Y17=$Y15,$Y17=$Y16,$Y17=$Y14,$Y17=$Y13,$Y17=$Y12,$Y17=$Y10,$Y17=$Y9,$Y17=$Y8,$Y17=$Y7)," ",IF(Q17=0," ",Q17)) | AA17: =IF(OR($Y17=$Y15,$Y17=$Y16,$Y17=$Y14,$Y17=$Y13,$Y17=$Y12,$Y17=$Y10,$Y17=$Y9,$Y17=$Y8,$Y17=$Y7)," ",IF(R17=0," ",R17)) | AB17: =IF(OR($Y17=$Y15,$Y17=$Y16,$Y17=$Y14,$Y17=$Y13,$Y17=$Y12,$Y17=$Y10,$Y17=$Y9,$Y17=$Y8,$Y17=$Y7)," ",IF(S17=0," ",S17)) | AC17: =IF(OR($Y17=$Y15,$Y17=$Y16,$Y17=$Y14,$Y17=$Y13,$Y17=$Y12,$Y17=$Y10,$Y17=$Y9,$Y17=$Y8,$Y17=$Y7)," ",IF(T17=0," ",T17)) | AD17: =IF(U17=0," ",U17) | AE17: =IF(V17=0," ",V17) | AF17: =IF(W17=0," ",W17)
A18: 58 | B18: 58 | C18: 22 | D18: 13 | E18: СШИВНОВ Владислав | F18: СШИВНОВ Владислав Андреевич | G18: 03.03.04, КМС | H18: КМС | I18: ПФО | J18: Нижегородская обл., Кстово, ГБОУ ДО СШОР по самбо | K18: Нижегородская | M18: Чугреев А.В, Фролов ИМ | N18: СШИВНОВ | Q18: =SUMIFS($J$7:$J$88,$L$7:$L$88,P18,$K$7:$K$88,Q$6) -> 0 | R18: =SUMIFS($J$7:$J$88,$L$7:$L$88,P18,$K$7:$K$88,R$6) -> 0 | S18: =SUMIFS($J$7:$J$88,$L$7:$L$88,P18,$K$7:$K$88,S$6) -> 0 | T18: =SUMIFS($J$7:$J$88,$L$7:$L$88,P18,$K$7:$K$88,T$6) -> 0 | U18: =SUMIFS($J$7:$J$88,$L$7:$L$88,P18,$K$7:$K$88,U$6) -> 0 | V18: =SUMIFS($J$7:$J$88,$L$7:$L$88,P18,$K$7:$K$88,V$6) -> 0 | W18: =SUMIFS($J$7:$J$88,$L$7:$L$88,P18,$K$7:$K$88,W$6) -> 0 | Y18: =P18 -> 0 | Z18: =IF(OR($Y18=$Y16,$Y18=$Y17,$Y18=$Y15,$Y18=$Y14,$Y18=$Y13,$Y18=$Y11,$Y18=$Y10,$Y18=$Y9,$Y18=$Y8,$Y18=$Y7)," ",IF(Q18=0," ",Q18)) | AA18: =IF(OR($Y18=$Y16,$Y18=$Y17,$Y18=$Y15,$Y18=$Y14,$Y18=$Y13,$Y18=$Y11,$Y18=$Y10,$Y18=$Y9,$Y18=$Y8,$Y18=$Y7)," ",IF(R18=0," ",R18)) | AB18: =IF(OR($Y18=$Y16,$Y18=$Y17,$Y18=$Y15,$Y18=$Y14,$Y18=$Y13,$Y18=$Y11,$Y18=$Y10,$Y18=$Y9,$Y18=$Y8,$Y18=$Y7)," ",IF(S18=0," ",S18)) | AC18: =IF(OR($Y18=$Y16,$Y18=$Y17,$Y18=$Y15,$Y18=$Y14,$Y18=$Y13,$Y18=$Y11,$Y18=$Y10,$Y18=$Y9,$Y18=$Y8,$Y18=$Y7)," ",IF(T18=0," ",T18)) | AD18: =IF(U18=0," ",U18) | AE18: =IF(V18=0," ",V18) | AF18: =IF(W18=0," ",W18)
A19: 58 | B19: 58 | C19: 22 | D19: 14 | E19: ДОНДОКОВ Мунко | F19: ДОНДОКОВ Мунко Амгаланович | G19: 10.10.04, КМС | H19: КМС | I19: ДВФО | J19: Респ. Бурятия, Улан-Удэ, Федерация самбо Республики Бурятия | K19: Р.Бурятия | M19: Жигжитов Ж.Б | N19: ДОНДОКОВ | Q19: =SUMIFS($J$7:$J$88,$L$7:$L$88,P19,$K$7:$K$88,Q$6) -> 0 | R19: =SUMIFS($J$7:$J$88,$L$7:$L$88,P19,$K$7:$K$88,R$6) -> 0 | S19: =SUMIFS($J$7:$J$88,$L$7:$L$88,P19,$K$7:$K$88,S$6) -> 0 | T19: =SUMIFS($J$7:$J$88,$L$7:$L$88,P19,$K$7:$K$88,T$6) -> 0 | U19: =SUMIFS($J$7:$J$88,$L$7:$L$88,P19,$K$7:$K$88,U$6) -> 0 | V19: =SUMIFS($J$7:$J$88,$L$7:$L$88,P19,$K$7:$K$88,V$6) -> 0 | W19: =SUMIFS($J$7:$J$88,$L$7:$L$88,P19,$K$7:$K$88,W$6) -> 0 | Y19: =P19 -> 0 | Z19: =IF(Q19=0," ",Q19) | AA19: =IF(R19=0," ",R19) | AB19: =IF(S19=0," ",S19) | AC19: =IF(T19=0," ",T19) | AD19: =IF(U19=0," ",U19) | AE19: =IF(V19=0," ",V19) | AF19: =IF(W19=0," ",W19)
A20: 58 | B20: 58 | C20: 3 | D20: 15 | E20: ОЧУР Сай-Булат | F20: ОЧУР Сай-Булат Шолбанович | G20: 14.10.04, КМС | H20: КМС | I20: СФО | J20: Р.Тыва, Кызыл , МС | K20: Р.Тыва | M20: Монгуш А.А. | N20: ОЧУР | Q20: =SUMIFS($J$7:$J$88,$L$7:$L$88,P20,$K$7:$K$88,Q$6) -> 0 | R20: =SUMIFS($J$7:$J$88,$L$7:$L$88,P20,$K$7:$K$88,R$6) -> 0 | S20: =SUMIFS($J$7:$J$88,$L$7:$L$88,P20,$K$7:$K$88,S$6) -> 0 | T20: =SUMIFS($J$7:$J$88,$L$7:$L$88,P20,$K$7:$K$88,T$6) -> 0 | U20: =SUMIFS($J$7:$J$88,$L$7:$L$88,P20,$K$7:$K$88,U$6) -> 0 | V20: =SUMIFS($J$7:$J$88,$L$7:$L$88,P20,$K$7:$K$88,V$6) -> 0 | W20: =SUMIFS($J$7:$J$88,$L$7:$L$88,P20,$K$7:$K$88,W$6) -> 0 | Y20: =P20 -> 0 | Z20: =IF(Q20=0," ",Q20) | AA20: =IF(R20=0," ",R20) | AB20: =IF(S20=0," ",S20) | AC20: =IF(T20=0," ",T20) | AD20: =IF(U20=0," ",U20) | AE20: =IF(V20=0," ",V20) | AF20: =IF(W20=0," ",W20)
A21: 58 | B21: 58 | C21: 21 | D21: 16 | E21: НУРЕЛОВ Кайрат | F21: НУРЕЛОВ Кайрат Жанибекович | G21: 12.12.03, КМС | H21: КМС | I21: СФО | J21: Р.Алтай, Горно-Алтайск , Д | K21: Р.Алтай | M21: Тайпинов В. Л. | N21: НУРЕЛОВ | Q21: =SUMIFS($J$7:$J$88,$L$7:$L$88,P21,$K$7:$K$88,Q$6) -> 0 | R21: =SUMIFS($J$7:$J$88,$L$7:$L$88,P21,$K$7:$K$88,R$6) -> 0 | S21: =SUMIFS($J$7:$J$88,$L$7:$L$88,P21,$K$7:$K$88,S$6) -> 0 | T21: =SUMIFS($J$7:$J$88,$L$7:$L$88,P21,$K$7:$K$88,T$6) -> 0 | U21: =SUMIFS($J$7:$J$88,$L$7:$L$88,P21,$K$7:$K$88,U$6) -> 0 | V21: =SUMIFS($J$7:$J$88,$L$7:$L$88,P21,$K$7:$K$88,V$6) -> 0 | W21: =SUMIFS($J$7:$J$88,$L$7:$L$88,P21,$K$7:$K$88,W$6) -> 0 | Y21: =P21 -> 0 | Z21: =IF(Q21=0," ",Q21) | AA21: =IF(R21=0," ",R21) | AB21: =IF(S21=0," ",S21) | AC21: =IF(T21=0," ",T21) | AD21: =IF(U21=0," ",U21) | AE21: =IF(V21=0," ",V21) | AF21: =IF(W21=0," ",W21)
A22: 58 | B22: 58 | C22: 23 | D22: 17 | E22: ЮНУСОВ Ильнур | F22: ЮНУСОВ Ильнур Ильясович | G22: 23.10.03, КМС | H22: КМС | I22: ПФО | J22: Р.Татарстан, Казань, МО | K22: Р.Татарстан | M22: Иванов В.А | N22: ЮНУСОВ | Q22: =SUMIFS($J$7:$J$88,$L$7:$L$88,P22,$K$7:$K$88,Q$6) -> 0 | R22: =SUMIFS($J$7:$J$88,$L$7:$L$88,P22,$K$7:$K$88,R$6) -> 0 | S22: =SUMIFS($J$7:$J$88,$L$7:$L$88,P22,$K$7:$K$88,S$6) -> 0 | T22: =SUMIFS($J$7:$J$88,$L$7:$L$88,P22,$K$7:$K$88,T$6) -> 0 | U22: =SUMIFS($J$7:$J$88,$L$7:$L$88,P22,$K$7:$K$88,U$6) -> 0 | V22: =SUMIFS($J$7:$J$88,$L$7:$L$88,P22,$K$7:$K$88,V$6) -> 0 | W22: =SUMIFS($J$7:$J$88,$L$7:$L$88,P22,$K$7:$K$88,W$6) -> 0 | Y22: =P22 -> 0 | Z22: =IF(Q22=0," ",Q22) | AA22: =IF(R22=0," ",R22) | AB22: =IF(S22=0," ",S22) | AC22: =IF(T22=0," ",T22) | AD22: =IF(U22=0," ",U22) | AE22: =IF(V22=0," ",V22) | AF22: =IF(W22=0," ",W22)
A23: 58 | B23: 58 | C23: 12 | D23: 18 | E23: УМАЕВ Азамат | F23: УМАЕВ Азамат Асланович | G23: 13.12.04, КМС | H23: КМС | I23: ЦФО | J23: Московская, Королев , МО | K23: Московская | M23: Авагян А.М. Малов М.В. | N23: УМАЕВ | Q23: =SUMIFS($J$7:$J$88,$L$7:$L$88,P23,$K$7:$K$88,Q$6) -> 0 | R23: =SUMIFS($J$7:$J$88,$L$7:$L$88,P23,$K$7:$K$88,R$6) -> 0 | S23: =SUMIFS($J$7:$J$88,$L$7:$L$88,P23,$K$7:$K$88,S$6) -> 0 | T23: =SUMIFS($J$7:$J$88,$L$7:$L$88,P23,$K$7:$K$88,T$6) -> 0 | U23: =SUMIFS($J$7:$J$88,$L$7:$L$88,P23,$K$7:$K$88,U$6) -> 0 | V23: =SUMIFS($J$7:$J$88,$L$7:$L$88,P23,$K$7:$K$88,V$6) -> 0 | W23: =SUMIFS($J$7:$J$88,$L$7:$L$88,P23,$K$7:$K$88,W$6) -> 0 | Y23: =P23 -> 0 | Z23: =IF(Q23=0," ",Q23) | AA23: =IF(R23=0," ",R23) | AB23: =IF(S23=0," ",S23) | AC23: =IF(T23=0," ",T23) | AD23: =IF(U23=0," ",U23) | AE23: =IF(V23=0," ",V23) | AF23: =IF(W23=0," ",W23)
A24: 58 | B24: 58 | C24: 26 | D24: 19 | E24: АЛМАДАКОВ Рамиль | F24: АЛМАДАКОВ Рамиль Тофикович | G24: 13.01.04, КМС | H24: КМС | I24: СФО | J24: Р.Алтай, Горно-Алтайск, Д | K24: Р.Алтай | M24: Кеденов С.Э. Еликов Б.П. | N24: АЛМАДАКОВ | Q24: =SUMIFS($J$7:$J$88,$L$7:$L$88,P24,$K$7:$K$88,Q$6) -> 0 | R24: =SUMIFS($J$7:$J$88,$L$7:$L$88,P24,$K$7:$K$88,R$6) -> 0 | S24: =SUMIFS($J$7:$J$88,$L$7:$L$88,P24,$K$7:$K$88,S$6) -> 0 | T24: =SUMIFS($J$7:$J$88,$L$7:$L$88,P24,$K$7:$K$88,T$6) -> 0 | U24: =SUMIFS($J$7:$J$88,$L$7:$L$88,P24,$K$7:$K$88,U$6) -> 0 | V24: =SUMIFS($J$7:$J$88,$L$7:$L$88,P24,$K$7:$K$88,V$6) -> 0 | W24: =SUMIFS($J$7:$J$88,$L$7:$L$88,P24,$K$7:$K$88,W$6) -> 0 | Y24: =P24 -> 0 | Z24: =IF(Q24=0," ",Q24) | AA24: =IF(R24=0," ",R24) | AB24: =IF(S24=0," ",S24) | AC24: =IF(T24=0," ",T24) | AD24: =IF(U24=0," ",U24) | AE24: =IF(V24=0," ",V24) | AF24: =IF(W24=0," ",W24)
A25: 58 | B25: 58 | C25: 26 | D25: 20 | E25: ФИЛИППОВ Олег | F25: ФИЛИППОВ Олег Олегович | G25: 12.08.03, МС | H25: МС | I25: СЗФО | J25: Калининградская, Калининград , МС | K25: Калининградская | M25: Азаров Д.А Мктрчян С.Р | N25: ФИЛИППОВ | Q25: =SUMIFS($J$7:$J$88,$L$7:$L$88,P25,$K$7:$K$88,Q$6) -> 0 | R25: =SUMIFS($J$7:$J$88,$L$7:$L$88,P25,$K$7:$K$88,R$6) -> 0 | S25: =SUMIFS($J$7:$J$88,$L$7:$L$88,P25,$K$7:$K$88,S$6) -> 0 | T25: =SUMIFS($J$7:$J$88,$L$7:$L$88,P25,$K$7:$K$88,T$6) -> 0 | U25: =SUMIFS($J$7:$J$88,$L$7:$L$88,P25,$K$7:$K$88,U$6) -> 0 | V25: =SUMIFS($J$7:$J$88,$L$7:$L$88,P25,$K$7:$K$88,V$6) -> 0 | W25: =SUMIFS($J$7:$J$88,$L$7:$L$88,P25,$K$7:$K$88,W$6) -> 0 | Y25: =P25 -> 0 | Z25: =IF(Q25=0," ",Q25) | AA25: =IF(R25=0," ",R25) | AB25: =IF(S25=0," ",S25) | AC25: =IF(T25=0," ",T25) | AD25: =IF(U25=0," ",U25) | AE25: =IF(V25=0," ",V25) | AF25: =IF(W25=0," ",W25)
A26: 58 | B26: 58 | C26: 17 | D26: 21 | E26: ШИШКОВ Данил | F26: ШИШКОВ Данил Артёмович | G26: 12.08.03, КМС | H26: КМС | I26: СФО | J26: Иркутская, Железногорск -Илимский , МС | K26: Иркутская | M26: Муромец А.Г., Дроганов Д.А. | N26: ШИШКОВ | Q26: =SUMIFS($J$7:$J$88,$L$7:$L$88,P26,$K$7:$K$88,Q$6) -> 0 | R26: =SUMIFS($J$7:$J$88,$L$7:$L$88,P26,$K$7:$K$88,R$6) -> 0 | S26: =SUMIFS($J$7:$J$88,$L$7:$L$88,P26,$K$7:$K$88,S$6) -> 0 | T26: =SUMIFS($J$7:$J$88,$L$7:$L$88,P26,$K$7:$K$88,T$6) -> 0 | U26: =SUMIFS($J$7:$J$88,$L$7:$L$88,P26,$K$7:$K$88,U$6) -> 0 | V26: =SUMIFS($J$7:$J$88,$L$7:$L$88,P26,$K$7:$K$88,V$6) -> 0 | W26: =SUMIFS($J$7:$J$88,$L$7:$L$88,P26,$K$7:$K$88,W$6) -> 0 | Y26: =P26 -> 0 | Z26: =IF(Q26=0," ",Q26) | AA26: =IF(R26=0," ",R26) | AB26: =IF(S26=0," ",S26) | AC26: =IF(T26=0," ",T26) | AD26: =IF(U26=0," ",U26) | AE26: =IF(V26=0," ",V26) | AF26: =IF(W26=0," ",W26)
A27: 58 | B27: 58 | C27: 17 | D27: 22 | E27: АЛЛАБЕРГЕНОВ Богдан | F27: АЛЛАБЕРГЕНОВ Богдан Адилбекович | G27: 19.05.04, КМС | H27: КМС | I27: ПФО | J27: Самарская обл., Самара, МБУ го Самара «СШОР-11» им ВВ Ольховского | K27: Самарская | M27: Сулейманов РЖ, Родомакин ЮС. | N27: АЛЛАБЕРГЕНОВ | Q27: =SUMIFS($J$7:$J$88,$L$7:$L$88,P27,$K$7:$K$88,Q$6) -> 0 | R27: =SUMIFS($J$7:$J$88,$L$7:$L$88,P27,$K$7:$K$88,R$6) -> 0 | S27: =SUMIFS($J$7:$J$88,$L$7:$L$88,P27,$K$7:$K$88,S$6) -> 0 | T27: =SUMIFS($J$7:$J$88,$L$7:$L$88,P27,$K$7:$K$88,T$6) -> 0 | U27: =SUMIFS($J$7:$J$88,$L$7:$L$88,P27,$K$7:$K$88,U$6) -> 0 | V27: =SUMIFS($J$7:$J$88,$L$7:$L$88,P27,$K$7:$K$88,V$6) -> 0 | W27: =SUMIFS($J$7:$J$88,$L$7:$L$88,P27,$K$7:$K$88,W$6) -> 0 | Y27: =P27 -> 0 | Z27: =IF(Q27=0," ",Q27) | AA27: =IF(R27=0," ",R27) | AB27: =IF(S27=0," ",S27) | AC27: =IF(T27=0," ",T27) | AD27: =IF(U27=0," ",U27) | AE27: =IF(V27=0," ",V27) | AF27: =IF(W27=0," ",W27)
A28: 58 | B28: 58 | C28: 17 | D28: 23 | E28: ООРЖАК Айдын | F28: ООРЖАК Айдын Монгун-Оолович | G28: 13.04.03, КМС | H28: КМС | I28: ДВФО | J28: Респ. Бурятия, Улан-Удэ, Сш №17 | K28: Р.Бурятия | M28: Будажапов А.Ц | N28: ООРЖАК | Q28: =SUMIFS($J$7:$J$88,$L$7:$L$88,P28,$K$7:$K$88,Q$6) -> 0 | R28: =SUMIFS($J$7:$J$88,$L$7:$L$88,P28,$K$7:$K$88,R$6) -> 0 | S28: =SUMIFS($J$7:$J$88,$L$7:$L$88,P28,$K$7:$K$88,S$6) -> 0 | T28: =SUMIFS($J$7:$J$88,$L$7:$L$88,P28,$K$7:$K$88,T$6) -> 0 | U28: =SUMIFS($J$7:$J$88,$L$7:$L$88,P28,$K$7:$K$88,U$6) -> 0 | V28: =SUMIFS($J$7:$J$88,$L$7:$L$88,P28,$K$7:$K$88,V$6) -> 0 | W28: =SUMIFS($J$7:$J$88,$L$7:$L$88,P28,$K$7:$K$88,W$6) -> 0 | Y28: =P28 -> 0 | Z28: =IF(Q28=0," ",Q28) | AA28: =IF(R28=0," ",R28) | AB28: =IF(S28=0," ",S28) | AC28: =IF(T28=0," ",T28) | AD28: =IF(U28=0," ",U28) | AE28: =IF(V28=0," ",V28) | AF28: =IF(W28=0," ",W28)
A29: 58 | B29: 58 | C29: 18 | D29: 24 | E29: СЕДИНИН Никита | F29: СЕДИНИН Никита Андреевич | G29: 11.03.04, КМС | H29: КМС | I29: ПФО | J29: Пермский, Краснокамск, МО | K29: Пермский | M29: Спирин А.В. Стаценко Д.К. | N29: СЕДИНИН | Q29: =SUMIFS($J$7:$J$88,$L$7:$L$88,P29,$K$7:$K$88,Q$6) -> 0 | R29: =SUMIFS($J$7:$J$88,$L$7:$L$88,P29,$K$7:$K$88,R$6) -> 0 | S29: =SUMIFS($J$7:$J$88,$L$7:$L$88,P29,$K$7:$K$88,S$6) -> 0 | T29: =SUMIFS($J$7:$J$88,$L$7:$L$88,P29,$K$7:$K$88,T$6) -> 0 | U29: =SUMIFS($J$7:$J$88,$L$7:$L$88,P29,$K$7:$K$88,U$6) -> 0 | V29: =SUMIFS($J$7:$J$88,$L$7:$L$88,P29,$K$7:$K$88,V$6) -> 0 | W29: =SUMIFS($J$7:$J$88,$L$7:$L$88,P29,$K$7:$K$88,W$6) -> 0 | Y29: =P29 -> 0 | Z29: =IF(Q29=0," ",Q29) | AA29: =IF(R29=0," ",R29) | AB29: =IF(S29=0," ",S29) | AC29: =IF(T29=0," ",T29) | AD29: =IF(U29=0," ",U29) | AE29: =IF(V29=0," ",V29) | AF29: =IF(W29=0," ",W29)
A30: 58 | B30: 58 | C30: 10 | D30: 25 | E30: МАГОМЕДОВ Саид | F30: МАГОМЕДОВ Саид Расулович | G30: 03.06.03, 1p | H30: 3p | I30: СКФО | J30: Респ. Дагестан, Махачкала, СШОР | K30: Р.Дагестан | M30: Раджабов Р. Магомедов М. | N30: МАГОМЕДОВ | Q30: =SUMIFS($J$7:$J$88,$L$7:$L$88,P30,$K$7:$K$88,Q$6) -> 0 | R30: =SUMIFS($J$7:$J$88,$L$7:$L$88,P30,$K$7:$K$88,R$6) -> 0 | S30: =SUMIFS($J$7:$J$88,$L$7:$L$88,P30,$K$7:$K$88,S$6) -> 0 | T30: =SUMIFS($J$7:$J$88,$L$7:$L$88,P30,$K$7:$K$88,T$6) -> 0 | U30: =SUMIFS($J$7:$J$88,$L$7:$L$88,P30,$K$7:$K$88,U$6) -> 0 | V30: =SUMIFS($J$7:$J$88,$L$7:$L$88,P30,$K$7:$K$88,V$6) -> 0 | W30: =SUMIFS($J$7:$J$88,$L$7:$L$88,P30,$K$7:$K$88,W$6) -> 0 | Y30: =P30 -> 0 | Z30: =IF(Q30=0," ",Q30) | AA30: =IF(R30=0," ",R30) | AB30: =IF(S30=0," ",S30) | AC30: =IF(T30=0," ",T30) | AD30: =IF(U30=0," ",U30) | AE30: =IF(V30=0," ",V30) | AF30: =IF(W30=0," ",W30)
... A33: 58 | B33: 58 | C33: 10 | D33: 28 | E33: ЯХЪЯЕВ Мансур | F33: ЯХЪЯЕВ Мансур Асланбекович | G33: 27.09.04, КМС | H33: КМС | I33: СКФО | J33: Респ. Чеченская, Грозный, БК АХМАТ | K33: Чеченская | M33: Алиев Магомед Маулдыевич | N33: ЯХЪЯЕВ | Q33: =SUMIFS($J$7:$J$88,$L$7:$L$88,P33,$K$7:$K$88,Q$6) -> 0 | R33: =SUMIFS($J$7:$J$88,$L$7:$L$88,P33,$K$7:$K$88,R$6) -> 0 | S33: =SUMIFS($J$7:$J$88,$L$7:$L$88,P33,$K$7:$K$88,S$6) -> 0 | T33: =SUMIFS($J$7:$J$88,$L$7:$L$88,P33,$K$7:$K$88,T$6) -> 0 | U33: =SUMIFS($J$7:$J$88,$L$7:$L$88,P33,$K$7:$K$88,U$6) -> 0 | V33: =SUMIFS($J$7:$J$88,$L$7:$L$88,P33,$K$7:$K$88,V$6) -> 0 | W33: =SUMIFS($J$7:$J$88,$L$7:$L$88,P33,$K$7:$K$88,W$6) -> 0 | Y33: =P33 -> 0 | Z33: =IF(Q33=0," ",Q33) | AA33: =IF(R33=0," ",R33) | AB33: =IF(S33=0," ",S33) | AC33: =IF(T33=0," ",T33) | AD33: =IF(U33=0," ",U33) | AE33: =IF(V33=0," ",V33) | AF33: =IF(W33=0," ",W33)
A34: 58 | B34: 58 | D34: 29 | E34: ТАРАНЧЕНКО Дмитрий | F34: ТАРАНЧЕНКО Дмитрий Геннадьевич | G34: 20.11.04, КМС | H34: КМС | I34: УФО | J34: Свердловская, Нижний Тагил, МС | K34: Свердловская | M34: Матвеев С.В., Гориславский И. А. | N34: ТАРАНЧЕНКО | Q34: =SUMIFS($J$7:$J$88,$L$7:$L$88,P34,$K$7:$K$88,Q$6) -> 0 | R34: =SUMIFS($J$7:$J$88,$L$7:$L$88,P34,$K$7:$K$88,R$6) -> 0 | S34: =SUMIFS($J$7:$J$88,$L$7:$L$88,P34,$K$7:$K$88,S$6) -> 0 | T34: =SUMIFS($J$7:$J$88,$L$7:$L$88,P34,$K$7:$K$88,T$6) -> 0 | U34: =SUMIFS($J$7:$J$88,$L$7:$L$88,P34,$K$7:$K$88,U$6) -> 0 | V34: =SUMIFS($J$7:$J$88,$L$7:$L$88,P34,$K$7:$K$88,V$6) -> 0 | W34: =SUMIFS($J$7:$J$88,$L$7:$L$88,P34,$K$7:$K$88,W$6) -> 0 | Y34: =P34 -> 0 | Z34: =IF(Q34=0," ",Q34) | AA34: =IF(R34=0," ",R34) | AB34: =IF(S34=0," ",S34) | AC34: =IF(T34=0," ",T34) | AD34: =IF(U34=0," ",U34) | AE34: =IF(V34=0," ",V34) | AF34: =IF(W34=0," ",W34)
A35: 58 | B35: 58 | C35: 5 | D35: 30 | E35: АНТАДИКОВ Игорь | F35: АНТАДИКОВ Игорь Алексеевич | G35: 17.11.04, КМС | H35: КМС | I35: СФО | J35: Р.Алтай, Горно-Алтайск, Д | K35: Р.Алтай | M35: Казанин И.В | N35: АНТАДИКОВ | Q35: =SUMIFS($J$7:$J$88,$L$7:$L$88,P35,$K$7:$K$88,Q$6) -> 0 | R35: =SUMIFS($J$7:$J$88,$L$7:$L$88,P35,$K$7:$K$88,R$6) -> 0 | S35: =SUMIFS($J$7:$J$88,$L$7:$L$88,P35,$K$7:$K$88,S$6) -> 0 | T35: =SUMIFS($J$7:$J$88,$L$7:$L$88,P35,$K$7:$K$88,T$6) -> 0 | U35: =SUMIFS($J$7:$J$88,$L$7:$L$88,P35,$K$7:$K$88,U$6) -> 0 | V35: =SUMIFS($J$7:$J$88,$L$7:$L$88,P35,$K$7:$K$88,V$6) -> 0 | W35: =SUMIFS($J$7:$J$88,$L$7:$L$88,P35,$K$7:$K$88,W$6) -> 0 | Y35: =P35 -> 0 | Z35: =IF(Q35=0," ",Q35) | AA35: =IF(R35=0," ",R35) | AB35: =IF(S35=0," ",S35) | AC35: =IF(T35=0," ",T35) | AD35: =IF(U35=0," ",U35) | AE35: =IF(V35=0," ",V35) | AF35: =IF(W35=0," ",W35)
A36: 58 | B36: 58 | C36: 24 | D36: 31 | E36: СЕДИН Данил | F36: СЕДИН Данил Вячеславович | G36: 29.07.03, КМС | H36: КМС | I36: ПФО | J36: Пермский край, Пермь, СШОР Витязь г. Перми им. И. И. Пономарёва | K36: Пермский | M36: Спирин А. В., Шилов А. С. | N36: СЕДИН | Q36: =SUMIFS($J$7:$J$88,$L$7:$L$88,P36,$K$7:$K$88,Q$6) -> 0 | R36: =SUMIFS($J$7:$J$88,$L$7:$L$88,P36,$K$7:$K$88,R$6) -> 0 | S36: =SUMIFS($J$7:$J$88,$L$7:$L$88,P36,$K$7:$K$88,S$6) -> 0 | T36: =SUMIFS($J$7:$J$88,$L$7:$L$88,P36,$K$7:$K$88,T$6) -> 0 | U36: =SUMIFS($J$7:$J$88,$L$7:$L$88,P36,$K$7:$K$88,U$6) -> 0 | V36: =SUMIFS($J$7:$J$88,$L$7:$L$88,P36,$K$7:$K$88,V$6) -> 0 | W36: =SUMIFS($J$7:$J$88,$L$7:$L$88,P36,$K$7:$K$88,W$6) -> 0 | Y36: =P36 -> 0 | Z36: =IF(Q36=0," ",Q36) | AA36: =IF(R36=0," ",R36) | AB36: =IF(S36=0," ",S36) | AC36: =IF(T36=0," ",T36) | AD36: =IF(U36=0," ",U36) | AE36: =IF(V36=0," ",V36) | AF36: =IF(W36=0," ",W36)
A37: 58 | B37: 58 | C37: 25 | D37: 32 | E37: КОЛПАКОВ Сергей | F37: КОЛПАКОВ Сергей Александрович | G37: 20.04.03, МС | H37: МС | I37: ПФО | J37: Нижегородская обл., Кстово, ГБОУ ДО СШОР по самбо | K37: Нижегородская | M37: Чугреев А.В, Фролов ИМ | N37: КОЛПАКОВ | Q37: =SUMIFS($J$7:$J$88,$L$7:$L$88,P37,$K$7:$K$88,Q$6) -> 0 | R37: =SUMIFS($J$7:$J$88,$L$7:$L$88,P37,$K$7:$K$88,R$6) -> 0 | S37: =SUMIFS($J$7:$J$88,$L$7:$L$88,P37,$K$7:$K$88,S$6) -> 0 | T37: =SUMIFS($J$7:$J$88,$L$7:$L$88,P37,$K$7:$K$88,T$6) -> 0 | U37: =SUMIFS($J$7:$J$88,$L$7:$L$88,P37,$K$7:$K$88,U$6) -> 0 | V37: =SUMIFS($J$7:$J$88,$L$7:$L$88,P37,$K$7:$K$88,V$6) -> 0 | W37: =SUMIFS($J$7:$J$88,$L$7:$L$88,P37,$K$7:$K$88,W$6) -> 0 | Y37: =P37 -> 0 | Z37: =IF(Q37=0," ",Q37) | AA37: =IF(R37=0," ",R37) | AB37: =IF(S37=0," ",S37) | AC37: =IF(T37=0," ",T37) | AD37: =IF(U37=0," ",U37) | AE37: =IF(V37=0," ",V37) | AF37: =IF(W37=0," ",W37)
A38: 58 | B38: 58 | C38: 27 | D38: 33 | E38: ТАДЫШЕВ Данил | F38: ТАДЫШЕВ Данил Борисович | G38: 30.08.04, КМС | H38: КМС | I38: СФО | J38: Р.Алтай, Горно алтайск, Д | K38: Р.Алтай | M38: Тайпинов.В.Л | N38: ТАДЫШЕВ | Q38: =SUMIFS($J$7:$J$88,$L$7:$L$88,P38,$K$7:$K$88,Q$6) -> 0 | R38: =SUMIFS($J$7:$J$88,$L$7:$L$88,P38,$K$7:$K$88,R$6) -> 0 | S38: =SUMIFS($J$7:$J$88,$L$7:$L$88,P38,$K$7:$K$88,S$6) -> 0 | T38: =SUMIFS($J$7:$J$88,$L$7:$L$88,P38,$K$7:$K$88,T$6) -> 0 | U38: =SUMIFS($J$7:$J$88,$L$7:$L$88,P38,$K$7:$K$88,U$6) -> 0 | V38: =SUMIFS($J$7:$J$88,$L$7:$L$88,P38,$K$7:$K$88,V$6) -> 0 | W38: =SUMIFS($J$7:$J$88,$L$7:$L$88,P38,$K$7:$K$88,W$6) -> 0 | Y38: =P38 -> 0 | Z38: =IF(Q38=0," ",Q38) | AA38: =IF(R38=0," ",R38) | AB38: =IF(S38=0," ",S38) | AC38: =IF(T38=0," ",T38) | AD38: =IF(U38=0," ",U38) | AE38: =IF(V38=0," ",V38) | AF38: =IF(W38=0," ",W38)
Q39: =SUMIFS($J$7:$J$88,$L$7:$L$88,P39,$K$7:$K$88,Q$6) -> 0 | R39: =SUMIFS($J$7:$J$88,$L$7:$L$88,P39,$K$7:$K$88,R$6) -> 0 | S39: =SUMIFS($J$7:$J$88,$L$7:$L$88,P39,$K$7:$K$88,S$6) -> 0 | T39: =SUMIFS($J$7:$J$88,$L$7:$L$88,P39,$K$7:$K$88,T$6) -> 0 | U39: =SUMIFS($J$7:$J$88,$L$7:$L$88,P39,$K$7:$K$88,U$6) -> 0 | V39: =SUMIFS($J$7:$J$88,$L$7:$L$88,P39,$K$7:$K$88,V$6) -> 0 | W39: =SUMIFS($J$7:$J$88,$L$7:$L$88,P39,$K$7:$K$88,W$6) -> 0 | X39: =SUM(Q7:T38) -> 0 | Y39: =P39 -> 0 | Z39: =IF(Q39=0," ",Q39) | AA39: =IF(R39=0," ",R39) | AB39: =IF(S39=0," ",S39) | AC39: =IF(T39=0," ",T39) | AD39: =IF(U39=0," ",U39) | AE39: =IF(V39=0," ",V39) | AF39: =IF(W39=0," ",W39)
Q40: =SUMIFS($J$7:$J$88,$L$7:$L$88,P40,$K$7:$K$88,Q$6) -> 0 | R40: =SUMIFS($J$7:$J$88,$L$7:$L$88,P40,$K$7:$K$88,R$6) -> 0 | S40: =SUMIFS($J$7:$J$88,$L$7:$L$88,P40,$K$7:$K$88,S$6) -> 0 | T40: =SUMIFS($J$7:$J$88,$L$7:$L$88,P40,$K$7:$K$88,T$6) -> 0 | U40: =SUMIFS($J$7:$J$88,$L$7:$L$88,P40,$K$7:$K$88,U$6) -> 0 | V40: =SUMIFS($J$7:$J$88,$L$7:$L$88,P40,$K$7:$K$88,V$6) -> 0 | W40: =SUMIFS($J$7:$J$88,$L$7:$L$88,P40,$K$7:$K$88,W$6) -> 0 | Y40: =P40 -> 0 | Z40: =IF(Q40=0," ",Q40) | AA40: =IF(R40=0," ",R40) | AB40: =IF(S40=0," ",S40) | AC40: =IF(T40=0," ",T40) | AD40: =IF(U40=0," ",U40) | AE40: =IF(V40=0," ",V40) | AF40: =IF(W40=0," ",W40)
Q41: =SUMIFS($J$7:$J$88,$L$7:$L$88,P41,$K$7:$K$88,Q$6) -> 0 | R41: =SUMIFS($J$7:$J$88,$L$7:$L$88,P41,$K$7:$K$88,R$6) -> 0 | S41: =SUMIFS($J$7:$J$88,$L$7:$L$88,P41,$K$7:$K$88,S$6) -> 0 | T41: =SUMIFS($J$7:$J$88,$L$7:$L$88,P41,$K$7:$K$88,T$6) -> 0 | U41: =SUMIFS($J$7:$J$88,$L$7:$L$88,P41,$K$7:$K$88,U$6) -> 0 | V41: =SUMIFS($J$7:$J$88,$L$7:$L$88,P41,$K$7:$K$88,V$6) -> 0 | W41: =SUMIFS($J$7:$J$88,$L$7:$L$88,P41,$K$7:$K$88,W$6) -> 0 | Y41: =P41 -> 0 | Z41: =IF(Q41=0," ",Q41) | AA41: =IF(R41=0," ",R41) | AB41: =IF(S41=0," ",S41) | AC41: =IF(T41=0," ",T41) | AD41: =IF(U41=0," ",U41) | AE41: =IF(V41=0," ",V41) | AF41: =IF(W41=0," ",W41)
Q42: =SUMIFS($J$7:$J$88,$L$7:$L$88,P42,$K$7:$K$88,Q$6) -> 0 | R42: =SUMIFS($J$7:$J$88,$L$7:$L$88,P42,$K$7:$K$88,R$6) -> 0 | S42: =SUMIFS($J$7:$J$88,$L$7:$L$88,P42,$K$7:$K$88,S$6) -> 0 | T42: =SUMIFS($J$7:$J$88,$L$7:$L$88,P42,$K$7:$K$88,T$6) -> 0 | U42: =SUMIFS($J$7:$J$88,$L$7:$L$88,P42,$K$7:$K$88,U$6) -> 0 | V42: =SUMIFS($J$7:$J$88,$L$7:$L$88,P42,$K$7:$K$88,V$6) -> 0 | W42: =SUMIFS($J$7:$J$88,$L$7:$L$88,P42,$K$7:$K$88,W$6) -> 0 | Y42: =P42 -> 0 | Z42: =IF(Q42=0," ",Q42) | AA42: =IF(R42=0," ",R42) | AB42: =IF(S42=0," ",S42) | AC42: =IF(T42=0," ",T42) | AD42: =IF(U42=0," ",U42) | AE42: =IF(V42=0," ",V42) | AF42: =IF(W42=0," ",W42)
Q43: =SUMIFS($J$7:$J$88,$L$7:$L$88,P43,$K$7:$K$88,Q$6) -> 0 | R43: =SUMIFS($J$7:$J$88,$L$7:$L$88,P43,$K$7:$K$88,R$6) -> 0 | S43: =SUMIFS($J$7:$J$88,$L$7:$L$88,P43,$K$7:$K$88,S$6) -> 0 | T43: =SUMIFS($J$7:$J$88,$L$7:$L$88,P43,$K$7:$K$88,T$6) -> 0 | U43: =SUMIFS($J$7:$J$88,$L$7:$L$88,P43,$K$7:$K$88,U$6) -> 0 | V43: =SUMIFS($J$7:$J$88,$L$7:$L$88,P43,$K$7:$K$88,V$6) -> 0 | W43: =SUMIFS($J$7:$J$88,$L$7:$L$88,P43,$K$7:$K$88,W$6) -> 0 | Y43: =P43 -> 0 | Z43: =IF(Q43=0," ",Q43) | AA43: =IF(R43=0," ",R43) | AB43: =IF(S43=0," ",S43) | AC43: =IF(T43=0," ",T43) | AD43: =IF(U43=0," ",U43) | AE43: =IF(V43=0," ",V43) | AF43: =IF(W43=0," ",W43)
Q44: =SUMIFS($J$7:$J$88,$L$7:$L$88,P44,$K$7:$K$88,Q$6) -> 0 | R44: =SUMIFS($J$7:$J$88,$L$7:$L$88,P44,$K$7:$K$88,R$6) -> 0 | S44: =SUMIFS($J$7:$J$88,$L$7:$L$88,P44,$K$7:$K$88,S$6) -> 0 | T44: =SUMIFS($J$7:$J$88,$L$7:$L$88,P44,$K$7:$K$88,T$6) -> 0 | U44: =SUMIFS($J$7:$J$88,$L$7:$L$88,P44,$K$7:$K$88,U$6) -> 0 | V44: =SUMIFS($J$7:$J$88,$L$7:$L$88,P44,$K$7:$K$88,V$6) -> 0 | W44: =SUMIFS($J$7:$J$88,$L$7:$L$88,P44,$K$7:$K$88,W$6) -> 0 | Y44: =P44 -> 0 | Z44: =IF(Q44=0," ",Q44) | AA44: =IF(R44=0," ",R44) | AB44: =IF(S44=0," ",S44) | AC44: =IF(T44=0," ",T44) | AD44: =IF(U44=0," ",U44) | AE44: =IF(V44=0," ",V44) | AF44: =IF(W44=0," ",W44)
Q45: =SUMIFS($J$7:$J$88,$L$7:$L$88,P45,$K$7:$K$88,Q$6) -> 0 | R45: =SUMIFS($J$7:$J$88,$L$7:$L$88,P45,$K$7:$K$88,R$6) -> 0 | S45: =SUMIFS($J$7:$J$88,$L$7:$L$88,P45,$K$7:$K$88,S$6) -> 0 | T45: =SUMIFS($J$7:$J$88,$L$7:$L$88,P45,$K$7:$K$88,T$6) -> 0 | U45: =SUMIFS($J$7:$J$88,$L$7:$L$88,P45,$K$7:$K$88,U$6) -> 0 | V45: =SUMIFS($J$7:$J$88,$L$7:$L$88,P45,$K$7:$K$88,V$6) -> 0 | W45: =SUMIFS($J$7:$J$88,$L$7:$L$88,P45,$K$7:$K$88,W$6) -> 0 | Y45: =P45 -> 0 | Z45: =IF(Q45=0," ",Q45) | AA45: =IF(R45=0," ",R45) | AB45: =IF(S45=0," ",S45) | AC45: =IF(T45=0," ",T45) | AD45: =IF(U45=0," ",U45) | AE45: =IF(V45=0," ",V45) | AF45: =IF(W45=0," ",W45)
Q46: =SUMIFS($J$7:$J$88,$L$7:$L$88,P46,$K$7:$K$88,Q$6) -> 0 | R46: =SUMIFS($J$7:$J$88,$L$7:$L$88,P46,$K$7:$K$88,R$6) -> 0 | S46: =SUMIFS($J$7:$J$88,$L$7:$L$88,P46,$K$7:$K$88,S$6) -> 0 | T46: =SUMIFS($J$7:$J$88,$L$7:$L$88,P46,$K$7:$K$88,T$6) -> 0 | U46: =SUMIFS($J$7:$J$88,$L$7:$L$88,P46,$K$7:$K$88,U$6) -> 0 | V46: =SUMIFS($J$7:$J$88,$L$7:$L$88,P46,$K$7:$K$88,V$6) -> 0 | W46: =SUMIFS($J$7:$J$88,$L$7:$L$88,P46,$K$7:$K$88,W$6) -> 0 | Y46: =P46 -> 0 | Z46: =IF(Q46=0," ",Q46) | AA46: =IF(R46=0," ",R46) | AB46: =IF(S46=0," ",S46) | AC46: =IF(T46=0," ",T46) | AD46: =IF(U46=0," ",U46) | AE46: =IF(V46=0," ",V46) | AF46: =IF(W46=0," ",W46)
Q47: =SUMIFS($J$7:$J$88,$L$7:$L$88,P47,$K$7:$K$88,Q$6) -> 0 | R47: =SUMIFS($J$7:$J$88,$L$7:$L$88,P47,$K$7:$K$88,R$6) -> 0 | S47: =SUMIFS($J$7:$J$88,$L$7:$L$88,P47,$K$7:$K$88,S$6) -> 0 | T47: =SUMIFS($J$7:$J$88,$L$7:$L$88,P47,$K$7:$K$88,T$6) -> 0 | U47: =SUMIFS($J$7:$J$88,$L$7:$L$88,P47,$K$7:$K$88,U$6) -> 0 | V47: =SUMIFS($J$7:$J$88,$L$7:$L$88,P47,$K$7:$K$88,V$6) -> 0 | W47: =SUMIFS($J$7:$J$88,$L$7:$L$88,P47,$K$7:$K$88,W$6) -> 0 | Y47: =P47 -> 0 | Z47: =IF(Q47=0," ",Q47) | AA47: =IF(R47=0," ",R47) | AB47: =IF(S47=0," ",S47) | AC47: =IF(T47=0," ",T47) | AD47: =IF(U47=0," ",U47) | AE47: =IF(V47=0," ",V47) | AF47: =IF(W47=0," ",W47)
Q48: =SUMIFS($J$7:$J$88,$L$7:$L$88,P48,$K$7:$K$88,Q$6) -> 0 | R48: =SUMIFS($J$7:$J$88,$L$7:$L$88,P48,$K$7:$K$88,R$6) -> 0 | S48: =SUMIFS($J$7:$J$88,$L$7:$L$88,P48,$K$7:$K$88,S$6) -> 0 | T48: =SUMIFS($J$7:$J$88,$L$7:$L$88,P48,$K$7:$K$88,T$6) -> 0 | U48: =SUMIFS($J$7:$J$88,$L$7:$L$88,P48,$K$7:$K$88,U$6) -> 0 | V48: =SUMIFS($J$7:$J$88,$L$7:$L$88,P48,$K$7:$K$88,V$6) -> 0 | W48: =SUMIFS($J$7:$J$88,$L$7:$L$88,P48,$K$7:$K$88,W$6) -> 0 | Y48: =P48 -> 0 | Z48: =IF(Q48=0," ",Q48) | AA48: =IF(R48=0," ",R48) | AB48: =IF(S48=0," ",S48) | AC48: =IF(T48=0," ",T48) | AD48: =IF(U48=0," ",U48) | AE48: =IF(V48=0," ",V48) | AF48: =IF(W48=0," ",W48)
Q49: =SUMIFS($J$7:$J$88,$L$7:$L$88,P49,$K$7:$K$88,Q$6) -> 0 | R49: =SUMIFS($J$7:$J$88,$L$7:$L$88,P49,$K$7:$K$88,R$6) -> 0 | S49: =SUMIFS($J$7:$J$88,$L$7:$L$88,P49,$K$7:$K$88,S$6) -> 0 | T49: =SUMIFS($J$7:$J$88,$L$7:$L$88,P49,$K$7:$K$88,T$6) -> 0 | U49: =SUMIFS($J$7:$J$88,$L$7:$L$88,P49,$K$7:$K$88,U$6) -> 0 | V49: =SUMIFS($J$7:$J$88,$L$7:$L$88,P49,$K$7:$K$88,V$6) -> 0 | W49: =SUMIFS($J$7:$J$88,$L$7:$L$88,P49,$K$7:$K$88,W$6) -> 0 | Y49: =P49 -> 0 | Z49: =IF(Q49=0," ",Q49) | AA49: =IF(R49=0," ",R49) | AB49: =IF(S49=0," ",S49) | AC49: =IF(T49=0," ",T49) | AD49: =IF(U49=0," ",U49) | AE49: =IF(V49=0," ",V49) | AF49: =IF(W49=0," ",W49)
Q50: =SUMIFS($J$7:$J$88,$L$7:$L$88,P50,$K$7:$K$88,Q$6) -> 0 | R50: =SUMIFS($J$7:$J$88,$L$7:$L$88,P50,$K$7:$K$88,R$6) -> 0 | S50: =SUMIFS($J$7:$J$88,$L$7:$L$88,P50,$K$7:$K$88,S$6) -> 0 | T50: =SUMIFS($J$7:$J$88,$L$7:$L$88,P50,$K$7:$K$88,T$6) -> 0 | U50: =SUMIFS($J$7:$J$88,$L$7:$L$88,P50,$K$7:$K$88,U$6) -> 0 | V50: =SUMIFS($J$7:$J$88,$L$7:$L$88,P50,$K$7:$K$88,V$6) -> 0 | W50: =SUMIFS($J$7:$J$88,$L$7:$L$88,P50,$K$7:$K$88,W$6) -> 0 | Y50: =P50 -> 0 | Z50: =IF(Q50=0," ",Q50) | AA50: =IF(R50=0," ",R50) | AB50: =IF(S50=0," ",S50) | AC50: =IF(T50=0," ",T50) | AD50: =IF(U50=0," ",U50) | AE50: =IF(V50=0," ",V50) | AF50: =IF(W50=0," ",W50)
Q54: =SUMIFS($J$7:$J$88,$L$7:$L$88,P54,$K$7:$K$88,Q$6) -> 0 | R54: =SUMIFS($J$7:$J$88,$L$7:$L$88,P54,$K$7:$K$88,R$6) -> 0 | S54: =SUMIFS($J$7:$J$88,$L$7:$L$88,P54,$K$7:$K$88,S$6) -> 0 | T54: =SUMIFS($J$7:$J$88,$L$7:$L$88,P54,$K$7:$K$88,T$6) -> 0 | U54: =SUMIFS($J$7:$J$88,$L$7:$L$88,P54,$K$7:$K$88,U$6) -> 0 | V54: =SUMIFS($J$7:$J$88,$L$7:$L$88,P54,$K$7:$K$88,V$6) -> 0 | W54: =SUMIFS($J$7:$J$88,$L$7:$L$88,P54,$K$7:$K$88,W$6) -> 0 | Y54: =P54 -> 0 | Z54: =IF(Q54=0," ",Q54) | AA54: =IF(R54=0," ",R54) | AB54: =IF(S54=0," ",S54) | AC54: =IF(T54=0," ",T54) | AD54: =IF(U54=0," ",U54) | AE54: =IF(V54=0," ",V54) | AF54: =IF(W54=0," ",W54)
... Q70: =SUMIFS($J$7:$J$88,$L$7:$L$88,P70,$K$7:$K$88,Q$6) -> 0 | R70: =SUMIFS($J$7:$J$88,$L$7:$L$88,P70,$K$7:$K$88,R$6) -> 0 | S70: =SUMIFS($J$7:$J$88,$L$7:$L$88,P70,$K$7:$K$88,S$6) -> 0 | T70: =SUMIFS($J$7:$J$88,$L$7:$L$88,P70,$K$7:$K$88,T$6) -> 0 | U70: =SUMIFS($J$7:$J$88,$L$7:$L$88,P70,$K$7:$K$88,U$6) -> 0 | V70: =SUMIFS($J$7:$J$88,$L$7:$L$88,P70,$K$7:$K$88,V$6) -> 0 | W70: =SUMIFS($J$7:$J$88,$L$7:$L$88,P70,$K$7:$K$88,W$6) -> 0 | Y70: =P70 -> 0 | Z70: =IF(Q70=0," ",Q70) | AA70: =IF(R70=0," ",R70) | AB70: =IF(S70=0," ",S70) | AC70: =IF(T70=0," ",T70) | AD70: =IF(U70=0," ",U70) | AE70: =IF(V70=0," ",V70) | AF70: =IF(W70=0," ",W70)
A73: гл.судья:
A75: гл.секретарь:
A77: судьи:
A79: врач:

Sheet пр.хода
F1: ВСЕРОССИЙСКАЯ ФЕДЕРАЦИЯ САМБО | AB1: =пр.взв!$D$4 -> 0 | AD1: =пр.взв!G4 -> В.к. 58 кг
F2: ПРОТОКОЛ ХОДА СОРЕВНОВАНИЙ
C3: =пр.взв!C2 -> Первенство России по самбо (боевое) юниоры 18-20 лет (отбор на Первенство Мира и Европы) ЕКП № 23752 | AD3: =AH3&" "&AI3 -> 33 участников | AH3: =пр.взв!O3 -> 33 | AI3: участников
A4: Подгруппа А | H4: =пр.взв!C3 -> 13.02 - 17.02.2022 г. г. В-Пышма | AB4: Подгруппа Б
A5: 1 | B5: =IFERROR(VLOOKUP(A5,пр.взв!$D$6:$Q$70,2,0),"") -> ТАГИРОВ Рабазан | C5: =IFERROR(VLOOKUP(A5,пр.взв!$D$6:$Q$70,5,0),"") -> КМС | D5: =IFERROR(VLOOKUP(A5,пр.взв!$D$6:$Q$70,8,0),"") -> Ярославская | AB5: =IFERROR(VLOOKUP(AE5,пр.взв!$D$6:$Q$70,2,0),"") -> ГУСЕЙНОВ Намик | AC5: =IFERROR(VLOOKUP(AE5,пр.взв!$D$6:$Q$70,5,0),"") -> 3p | AD5: =IFERROR(VLOOKUP(AE5,пр.взв!$D$6:$Q$70,8,0),"") -> Нижегородская | AE5: 2
AA6: 2 | AH6: =N32 -> 0 | AK6: 1
A7: 33 | B7: =IFERROR(VLOOKUP(A7,пр.взв!$D$6:$Q$70,2,0),"") -> ТАДЫШЕВ Данил | C7: =IFERROR(VLOOKUP(A7,пр.взв!$D$6:$Q$70,5,0),"") -> КМС | D7: =IFERROR(VLOOKUP(A7,пр.взв!$D$6:$Q$70,8,0),"") -> Р.Алтай | AB7: =IFERROR(VLOOKUP(AE7,пр.взв!$D$6:$Q$70,2,0),"") | AC7: =IFERROR(VLOOKUP(AE7,пр.взв!$D$6:$Q$70,5,0),"") | AD7: =IFERROR(VLOOKUP(AE7,пр.взв!$D$6:$Q$70,8,0),"") | AE7: 34 | AH7: =N40 | AK7: 2
AG8: 3м | AH8: =IF(M36=""," ",IF(M36=K20,K53,K20)) | AI8: 3 | AK8: 3
A9: 17 | B9: =IFERROR(VLOOKUP(A9,пр.взв!$D$6:$Q$70,2,0),"") -> ЮНУСОВ Ильнур | C9: =IFERROR(VLOOKUP(A9,пр.взв!$D$6:$Q$70,5,0),"") -> КМС | D9: =IFERROR(VLOOKUP(A9,пр.взв!$D$6:$Q$70,8,0),"") -> Р.Татарстан | AB9: =IFERROR(VLOOKUP(AE9,пр.взв!$D$6:$Q$70,2,0),"") -> УМАЕВ Азамат | AC9: =IFERROR(VLOOKUP(AE9,пр.взв!$D$6:$Q$70,5,0),"") -> КМС | AD9: =IFERROR(VLOOKUP(AE9,пр.взв!$D$6:$Q$70,8,0),"") -> Московская | AE9: 18 | AG9: 3м | AH9: =IF(S36=""," ",IF(S36=U20,U53,U20)) | AI9: 4 | AK9: 5
E10: 17 | AA10: 18 | AG10: 5м | AH10: =IF(K20=""," ",IF(K20=I12,I28,I12)) | AI10: 5 | AK10: 6
A11: 49 | B11: =IFERROR(VLOOKUP(A11,пр.взв!$D$6:$Q$70,2,0),"") | C11: =IFERROR(VLOOKUP(A11,пр.взв!$D$6:$Q$70,5,0),"") | D11: =IFERROR(VLOOKUP(A11,пр.взв!$D$6:$Q$70,8,0),"") | AB11: =IFERROR(VLOOKUP(AE11,пр.взв!$D$6:$Q$70,2,0),"") | AC11: =IFERROR(VLOOKUP(AE11,пр.взв!$D$6:$Q$70,5,0),"") | AD11: =IFERROR(VLOOKUP(AE11,пр.взв!$D$6:$Q$70,8,0),"") | AE11: 50 | AG11: 5м | AH11: =IF(K53=""," ",IF(K53=I45,I61,I45)) | AI11: 6 | AK11: 7
AG12: 5м | AH12: =IF(U20=""," ",IF(U20=W12,W28,U20)) | AI12: 7 | AK12: 8
A13: 9 | B13: =IFERROR(VLOOKUP(A13,пр.взв!$D$6:$Q$70,2,0),"") -> КАКАДЖАНОВ Рустам | C13: =IFERROR(VLOOKUP(A13,пр.взв!$D$6:$Q$70,5,0),"") -> КМС | D13: =IFERROR(VLOOKUP(A13,пр.взв!$D$6:$Q$70,8,0),"") -> Московская | AB13: =IFERROR(VLOOKUP(AE13,пр.взв!$D$6:$Q$70,2,0),"") -> АМИРОВ Исмаил | AC13: =IFERROR(VLOOKUP(AE13,пр.взв!$D$6:$Q$70,5,0),"") -> КМС | AD13: =IFERROR(VLOOKUP(AE13,пр.взв!$D$6:$Q$70,8,0),"") -> Чеченская | AE13: 10 | AG13: 5м | AH13: =IF(U53=""," ",IF(U53=W45,W61,W45)) | AI13: 8 | AK13: 10
E14: 9 | AA14: 10 | AG14: 9м | AH14: =IF(I12=""," ",IF(I12=G8,G16,G8)) | AI14: 9 | AK14: 11
A15: 41 | B15: =IFERROR(VLOOKUP(A15,пр.взв!$D$6:$Q$70,2,0),"") | C15: =IFERROR(VLOOKUP(A15,пр.взв!$D$6:$Q$70,5,0),"") | D15: =IFERROR(VLOOKUP(A15,пр.взв!$D$6:$Q$70,8,0),"") | AB15: =IFERROR(VLOOKUP(AE15,пр.взв!$D$6:$Q$70,2,0),"") | AC15: =IFERROR(VLOOKUP(AE15,пр.взв!$D$6:$Q$70,5,0),"") | AD15: =IFERROR(VLOOKUP(AE15,пр.взв!$D$6:$Q$70,8,0),"") | AE15: 42 | AG15: 9м | AH15: =IF(I28=""," ",IF(I28=G24,G32,G24)) | AI15: 10 | AK15: 12
AG16: 9м | AH16: =IF(I45=""," ",IF(I45=G41,G49,G41)) | AI16: 11 | AK16: 13
A17: 25 | B17: =IFERROR(VLOOKUP(A17,пр.взв!$D$6:$Q$70,2,0),"") -> МАГОМЕДОВ Саид | C17: =IFERROR(VLOOKUP(A17,пр.взв!$D$6:$Q$70,5,0),"") -> 3p | D17: =IFERROR(VLOOKUP(A17,пр.взв!$D$6:$Q$70,8,0),"") -> Р.Дагестан | AB17: =IFERROR(VLOOKUP(AE17,пр.взв!$D$6:$Q$70,2,0),"") -> АКОБЯН Мартин | AC17: =IFERROR(VLOOKUP(AE17,пр.взв!$D$6:$Q$70,5,0),"") -> КМС | AD17: =IFERROR(VLOOKUP(AE17,пр.взв!$D$6:$Q$70,8,0),"") -> Р.Татарстан | AE17: 26 | AG17: 9м | AH17: =IF(I61=""," ",IF(I61=G57,G65,G57)) | AI17: 12 | AK17: 14
E18: 25 | AA18: 26 | AG18: 9м | AH18: =IF(W12=""," ",IF(W12=Y8,Y16,Y8)) | AI18: 13 | AK18: 15
A19: 57 | B19: =IFERROR(VLOOKUP(A19,пр.взв!$D$6:$Q$70,2,0),"") | C19: =IFERROR(VLOOKUP(A19,пр.взв!$D$6:$Q$70,5,0),"") | D19: =IFERROR(VLOOKUP(A19,пр.взв!$D$6:$Q$70,8,0),"") | AB19: =IFERROR(VLOOKUP(AE19,пр.взв!$D$6:$Q$70,2,0),"") | AC19: =IFERROR(VLOOKUP(AE19,пр.взв!$D$6:$Q$70,5,0),"") | AD19: =IFERROR(VLOOKUP(AE19,пр.взв!$D$6:$Q$70,8,0),"") | AE19: 58 | AG19: 9м | AH19: =IF(W28=""," ",IF(W28=Y24,Y32,Y24)) | AI19: 14 | AK19: 16
AG20: 9м | AH20: =IF(W45=""," ",IF(W45=Y41,Y49,Y41)) | AI20: 15 | AK20: 17
A21: 5 | B21: =IFERROR(VLOOKUP(A21,пр.взв!$D$6:$Q$70,2,0),"") -> КОРОБЦОВ Алексей | C21: =IFERROR(VLOOKUP(A21,пр.взв!$D$6:$Q$70,5,0),"") -> КМС | D21: =IFERROR(VLOOKUP(A21,пр.взв!$D$6:$Q$70,8,0),"") -> Камчатский | AB21: =IFERROR(VLOOKUP(AE21,пр.взв!$D$6:$Q$70,2,0),"") -> АБДУРАХМАНОВ Муслим | AC21: =IFERROR(VLOOKUP(AE21,пр.взв!$D$6:$Q$70,5,0),"") -> КМС | AD21: =IFERROR(VLOOKUP(AE21,пр.взв!$D$6:$Q$70,8,0),"") -> Москва | AE21: 6 | AG21: 9м | AH21: =IF(W61=""," ",IF(W61=Y57,Y65,Y57)) | AI21: 16 | AK21: 18
E22: 5 | AA22: 6 | AG22: 17 | AH22: =IF(G8=""," ",IF(E6=G8,E10,E6)) | AI22: 17 | AK22: 19
A23: 37 | B23: =IFERROR(VLOOKUP(A23,пр.взв!$D$6:$Q$70,2,0),"") | C23: =IFERROR(VLOOKUP(A23,пр.взв!$D$6:$Q$70,5,0),"") | D23: =IFERROR(VLOOKUP(A23,пр.взв!$D$6:$Q$70,8,0),"") | AB23: =IFERROR(VLOOKUP(AE23,пр.взв!$D$6:$Q$70,2,0),"") | AC23: =IFERROR(VLOOKUP(AE23,пр.взв!$D$6:$Q$70,5,0),"") | AD23: =IFERROR(VLOOKUP(AE23,пр.взв!$D$6:$Q$70,8,0),"") | AE23: 38 | AG23: 18 | AH23: =IF(G16=""," ",IF(E14=G16,E18,E14)) | AI23: 18 | AK23: 20
AG24: 19 | AH24: =IF(G24=""," ",IF(E22=G24,E26,E22)) | AI24: 19 | AK24: 21
A25: 21 | B25: =IFERROR(VLOOKUP(A25,пр.взв!$D$6:$Q$70,2,0),"") -> ШИШКОВ Данил | C25: =IFERROR(VLOOKUP(A25,пр.взв!$D$6:$Q$70,5,0),"") -> КМС | D25: =IFERROR(VLOOKUP(A25,пр.взв!$D$6:$Q$70,8,0),"") -> Иркутская | AB25: =IFERROR(VLOOKUP(AE25,пр.взв!$D$6:$Q$70,2,0),"") -> АЛЛАБЕРГЕНОВ Богдан | AC25: =IFERROR(VLOOKUP(AE25,пр.взв!$D$6:$Q$70,5,0),"") -> КМС | AD25: =IFERROR(VLOOKUP(AE25,пр.взв!$D$6:$Q$70,8,0),"") -> Самарская | AE25: 22 | AG25: 20 | AH25: =IF(G32=""," ",IF(E30=G32,E34,E30)) | AI25: 20 | AK25: 22
E26: 21 | P26: 3 м | AA26: 22 | AG26: 21 | AH26: =IF(G41=""," ",IF(E39=G41,E43,E39)) | AI26: 21 | AK26: 23
A27: 53 | B27: =IFERROR(VLOOKUP(A27,пр.взв!$D$6:$Q$70,2,0),"") | C27: =IFERROR(VLOOKUP(A27,пр.взв!$D$6:$Q$70,5,0),"") | D27: =IFERROR(VLOOKUP(A27,пр.взв!$D$6:$Q$70,8,0),"") | N27: =IFERROR(VLOOKUP(AH8,пр.взв!$D$6:$Q$70,2,0),"") | AB27: =IFERROR(VLOOKUP(AE27,пр.взв!$D$6:$Q$70,2,0),"") | AC27: =IFERROR(VLOOKUP(AE27,пр.взв!$D$6:$Q$70,5,0),"") | AD27: =IFERROR(VLOOKUP(AE27,пр.взв!$D$6:$Q$70,8,0),"") | AE27: 54 | AG27: 22 | AH27: =IF(G49=""," ",IF(E47=G49,E51,E47)) | AI27: 22 | AK27: 24
AG28: 23 | AH28: =IF(G57=""," ",IF(E55=G57,E59,E55)) | AI28: 23 | AK28: 25
A29: 13 | B29: =IFERROR(VLOOKUP(A29,пр.взв!$D$6:$Q$70,2,0),"") -> СШИВНОВ Владислав | C29: =IFERROR(VLOOKUP(A29,пр.взв!$D$6:$Q$70,5,0),"") -> КМС | D29: =IFERROR(VLOOKUP(A29,пр.взв!$D$6:$Q$70,8,0),"") -> Нижегородская | AB29: =IFERROR(VLOOKUP(AE29,пр.взв!$D$6:$Q$70,2,0),"") -> ДОНДОКОВ Мунко | AC29: =IFERROR(VLOOKUP(AE29,пр.взв!$D$6:$Q$70,5,0),"") -> КМС | AD29: =IFERROR(VLOOKUP(AE29,пр.взв!$D$6:$Q$70,8,0),"") -> Р.Бурятия | AE29: 14 | AG29: 24 | AH29: =IF(G65=""," ",IF(E63=G65,E67,E63)) | AI29: 24 | AK29: 26
E30: 13 | AA30: 14 | AG30: 25 | AH30: =IF(Y8=""," ",IF(Y8=AA6,AA10,AA6)) | AI30: 25 | AK30: 27
A31: 45 | B31: =IFERROR(VLOOKUP(A31,пр.взв!$D$6:$Q$70,2,0),"") | C31: =IFERROR(VLOOKUP(A31,пр.взв!$D$6:$Q$70,5,0),"") | D31: =IFERROR(VLOOKUP(A31,пр.взв!$D$6:$Q$70,8,0),"") | P31: 1 м | AB31: =IFERROR(VLOOKUP(AE31,пр.взв!$D$6:$Q$70,2,0),"") | AC31: =IFERROR(VLOOKUP(AE31,пр.взв!$D$6:$Q$70,5,0),"") | AD31: =IFERROR(VLOOKUP(AE31,пр.взв!$D$6:$Q$70,8,0),"") | AE31: 46 | AG31: 26 | AH31: =IF(Y16=""," ",IF(Y16=AA14,AA18,AA14)) | AI31: 26 | AK31: 28
AG32: 27 | AH32: =IF(Y24=""," ",IF(Y24=AA22,AA26,AA22)) | AI32: 27 | AK32: 29
A33: 29 | B33: =IFERROR(VLOOKUP(A33,пр.взв!$D$6:$Q$70,2,0),"") -> ТАРАНЧЕНКО Дмитрий | C33: =IFERROR(VLOOKUP(A33,пр.взв!$D$6:$Q$70,5,0),"") -> КМС | D33: =IFERROR(VLOOKUP(A33,пр.взв!$D$6:$Q$70,8,0),"") -> Свердловская | N33: =IFERROR(VLOOKUP(N32,пр.взв!$D$6:$Q$70,2,0),"") | AB33: =IFERROR(VLOOKUP(AE33,пр.взв!$D$6:$Q$70,2,0),"") -> АНТАДИКОВ Игорь | AC33: =IFERROR(VLOOKUP(AE33,пр.взв!$D$6:$Q$70,5,0),"") -> КМС | AD33: =IFERROR(VLOOKUP(AE33,пр.взв!$D$6:$Q$70,8,0),"") -> Р.Алтай | AE33: 30 | AG33: 28 | AH33: =IF(Y32=""," ",IF(Y32=AA30,AA34,AA30)) | AI33: 28 | AK33: 30
E34: 29 | AA34: 30 | AG34: 29 | AH34: =IF(Y41=""," ",IF(Y41=AA39,AA43,AA39)) | AI34: 29 | AK34: 31
A35: 61 | B35: =IFERROR(VLOOKUP(A35,пр.взв!$D$6:$Q$70,2,0),"") | C35: =IFERROR(VLOOKUP(A35,пр.взв!$D$6:$Q$70,5,0),"") | D35: =IFERROR(VLOOKUP(A35,пр.взв!$D$6:$Q$70,8,0),"") | AB35: =IFERROR(VLOOKUP(AE35,пр.взв!$D$6:$Q$70,2,0),"") | AC35: =IFERROR(VLOOKUP(AE35,пр.взв!$D$6:$Q$70,5,0),"") | AD35: =IFERROR(VLOOKUP(AE35,пр.взв!$D$6:$Q$70,8,0),"") | AE35: 62 | AG35: 30 | AH35: =IF(Y49=""," ",IF(Y49=AA47,AA51,AA47)) | AI35: 30 | AK35: 32
AG36: 31 | AH36: =IF(Y57=""," ",IF(Y57=AA55,AA59,AA55)) | AI36: 31 | AK36: 33
AH37: =IF(Y58=""," ",IF(Y58=AA56,AA60,AA56)) | AI37: 32 | AK37: 34
A38: 3 | B38: =IFERROR(VLOOKUP(A38,пр.взв!$D$6:$Q$70,2,0),"") -> БАЛТРУШИН Сергей | C38: =IFERROR(VLOOKUP(A38,пр.взв!$D$6:$Q$70,5,0),"") -> КМС | D38: =IFERROR(VLOOKUP(A38,пр.взв!$D$6:$Q$70,8,0),"") -> Санкт-Петербург | AB38: =IFERROR(VLOOKUP(AE38,пр.взв!$D$6:$Q$70,2,0),"") -> ЮНУСОВ Ильгиз | AC38: =IFERROR(VLOOKUP(AE38,пр.взв!$D$6:$Q$70,5,0),"") -> КМС | AD38: =IFERROR(VLOOKUP(AE38,пр.взв!$D$6:$Q$70,8,0),"") -> Р.Татарстан | AE38: 4 | AG38: 32 | AH38: =IF(Y65=""," ",IF(Y65=AA63,AA67,AA63)) | AI38: 32 | AK38: 35
E39: 3 | P39: 2 м | AA39: 4 | AG39: 33 | AH39: =IF(E6=""," ",IF(E6=A5,A7,A5)) | AI39: 33 | AK39: 36
A40: 35 | B40: =IFERROR(VLOOKUP(A40,пр.взв!$D$6:$Q$70,2,0),"") | C40: =IFERROR(VLOOKUP(A40,пр.взв!$D$6:$Q$70,5,0),"") | D40: =IFERROR(VLOOKUP(A40,пр.взв!$D$6:$Q$70,8,0),"") | M40: =AH70 | N40: =IF(N32=""," ",IF(M36=N32,S36,M36)) | AB40: =IFERROR(VLOOKUP(AE40,пр.взв!$D$6:$Q$70,2,0),"") | AC40: =IFERROR(VLOOKUP(AE40,пр.взв!$D$6:$Q$70,5,0),"") | AD40: =IFERROR(VLOOKUP(AE40,пр.взв!$D$6:$Q$70,8,0),"") | AE40: 36 | AH40: =IF(E14=""," ",IF(E14=A13,A15,A13)) -> 41 | AI40: 34 | AK40: 37
N41: =IFERROR(VLOOKUP(N40,пр.взв!$D$6:$Q$70,2,0),"") | AG41: 34 | AH41: =IF(E10=""," ",IF(E10=A9,A11,A9)) -> 49 | AI41: 35 | AK41: 38
A42: 19 | B42: =IFERROR(VLOOKUP(A42,пр.взв!$D$6:$Q$70,2,0),"") -> АЛМАДАКОВ Рамиль | C42: =IFERROR(VLOOKUP(A42,пр.взв!$D$6:$Q$70,5,0),"") -> КМС | D42: =IFERROR(VLOOKUP(A42,пр.взв!$D$6:$Q$70,8,0),"") -> Р.Алтай | AB42: =IFERROR(VLOOKUP(AE42,пр.взв!$D$6:$Q$70,2,0),"") -> ФИЛИППОВ Олег | AC42: =IFERROR(VLOOKUP(AE42,пр.взв!$D$6:$Q$70,5,0),"") -> МС | AD42: =IFERROR(VLOOKUP(AE42,пр.взв!$D$6:$Q$70,8,0),"") -> Калининградская | AE42: 20 | AG42: 35 | AH42: =IF(E18=""," ",IF(E18=A17,A19,A17)) -> 57 | AI42: 36 | AK42: 39
E43: 19 | AA43: 20 | AG43: 36 | AH43: =IF(E22=""," ",IF(E22=A21,A23,A21)) -> 37 | AI43: 37 | AK43: 40
A44: 51 | B44: =IFERROR(VLOOKUP(A44,пр.взв!$D$6:$Q$70,2,0),"") | C44: =IFERROR(VLOOKUP(A44,пр.взв!$D$6:$Q$70,5,0),"") | D44: =IFERROR(VLOOKUP(A44,пр.взв!$D$6:$Q$70,8,0),"") | AB44: =IFERROR(VLOOKUP(AE44,пр.взв!$D$6:$Q$70,2,0),"") | AC44: =IFERROR(VLOOKUP(AE44,пр.взв!$D$6:$Q$70,5,0),"") | AD44: =IFERROR(VLOOKUP(AE44,пр.взв!$D$6:$Q$70,8,0),"") | AE44: 52 | AG44: 37 | AH44: =IF(E26=""," ",IF(E26=A25,A27,A25)) -> 53 | AI44: 38 | AK44: 41
AG45: 38 | AH45: =IF(E30=""," ",IF(E30=A29,A31,A29)) -> 45 | AI45: 39 | AK45: 42
A46: 11 | B46: =IFERROR(VLOOKUP(A46,пр.взв!$D$6:$Q$70,2,0),"") -> АРСАМИКОВ Ибрахим | C46: =IFERROR(VLOOKUP(A46,пр.взв!$D$6:$Q$70,5,0),"") -> КМС | D46: =IFERROR(VLOOKUP(A46,пр.взв!$D$6:$Q$70,8,0),"") -> Москва | AB46: =IFERROR(VLOOKUP(AE46,пр.взв!$D$6:$Q$70,2,0),"") -> ГАЖДИЕВ Завир | AC46: =IFERROR(VLOOKUP(AE46,пр.взв!$D$6:$Q$70,5,0),"") -> МС | AD46: =IFERROR(VLOOKUP(AE46,пр.взв!$D$6:$Q$70,8,0),"") -> Р.Дагестан | AE46: 12 | AG46: 39 | AH46: =IF(E34=""," ",IF(E34=A33,A35,A33)) -> 61 | AI46: 40 | AK46: 43
E47: 11 | M47: =AH9 | P47: 3 м | AA47: 12 | AG47: 40 | AH47: =IF(E39=""," ",IF(E39=A38,A40,A38)) -> 35 | AI47: 41 | AK47: 44
A48: 43 | B48: =IFERROR(VLOOKUP(A48,пр.взв!$D$6:$Q$70,2,0),"") | C48: =IFERROR(VLOOKUP(A48,пр.взв!$D$6:$Q$70,5,0),"") | D48: =IFERROR(VLOOKUP(A48,пр.взв!$D$6:$Q$70,8,0),"") | N48: =IFERROR(VLOOKUP(AH9,пр.взв!$D$6:$Q$70,2,0),"") | AB48: =IFERROR(VLOOKUP(AE48,пр.взв!$D$6:$Q$70,2,0),"") | AC48: =IFERROR(VLOOKUP(AE48,пр.взв!$D$6:$Q$70,5,0),"") | AD48: =IFERROR(VLOOKUP(AE48,пр.взв!$D$6:$Q$70,8,0),"") | AE48: 44 | AG48: 41 | AH48: =IF(E43=""," ",IF(E43=A42,A44,A42)) -> 51 | AI48: 42 | AK48: 45
AG49: 42 | AH49: =IF(E47=""," ",IF(E47=A46,A48,A46)) -> 43 | AI49: 43 | AK49: 46
A50: 27 | B50: =IFERROR(VLOOKUP(A50,пр.взв!$D$6:$Q$70,2,0),"") -> БЛАГОДАРИН Артур | C50: =IFERROR(VLOOKUP(A50,пр.взв!$D$6:$Q$70,5,0),"") -> КМС | D50: =IFERROR(VLOOKUP(A50,пр.взв!$D$6:$Q$70,8,0),"") -> Ульяновская | AB50: =IFERROR(VLOOKUP(AE50,пр.взв!$D$6:$Q$70,2,0),"") -> ЯХЪЯЕВ Мансур | AC50: =IFERROR(VLOOKUP(AE50,пр.взв!$D$6:$Q$70,5,0),"") -> КМС | AD50: =IFERROR(VLOOKUP(AE50,пр.взв!$D$6:$Q$70,8,0),"") -> Чеченская | AE50: 28 | AG50: 43 | AH50: =IF(E51=""," ",IF(E51=A50,A52,A50)) -> 59 | AI50: 44 | AK50: 48
E51: 27 | AA51: 28 | AG51: 44 | AH51: =IF(E55=""," ",IF(E55=A54,A56,A54)) -> 39 | AI51: 45 | AK51: 49
A52: 59 | B52: =IFERROR(VLOOKUP(A52,пр.взв!$D$6:$Q$70,2,0),"") | C52: =IFERROR(VLOOKUP(A52,пр.взв!$D$6:$Q$70,5,0),"") | D52: =IFERROR(VLOOKUP(A52,пр.взв!$D$6:$Q$70,8,0),"") | AB52: =IFERROR(VLOOKUP(AE52,пр.взв!$D$6:$Q$70,2,0),"") | AC52: =IFERROR(VLOOKUP(AE52,пр.взв!$D$6:$Q$70,5,0),"") | AD52: =IFERROR(VLOOKUP(AE52,пр.взв!$D$6:$Q$70,8,0),"") | AE52: 60 | AG52: 45 | AH52: =IF(E59=""," ",IF(E59=A58,A60,A58)) -> 55 | AI52: 46 | AK52: 50
AG53: 46 | AH53: =IF(E67=""," ",IF(E67=A66,A68,A66)) -> 63 | AI53: 47 | AK53: 51
A54: 7 | B54: =IFERROR(VLOOKUP(A54,пр.взв!$D$6:$Q$70,2,0),"") -> ХАБИБУЛАЕВ Турпал | C54: =IFERROR(VLOOKUP(A54,пр.взв!$D$6:$Q$70,5,0),"") -> КМС | D54: =IFERROR(VLOOKUP(A54,пр.взв!$D$6:$Q$70,8,0),"") -> Чеченская | AB54: =IFERROR(VLOOKUP(AE54,пр.взв!$D$6:$Q$70,2,0),"") -> ДЕХНИЧ Глеб | AC54: =IFERROR(VLOOKUP(AE54,пр.взв!$D$6:$Q$70,5,0),"") -> 1р | AD54: =IFERROR(VLOOKUP(AE54,пр.взв!$D$6:$Q$70,8,0),"") -> Челябинская | AE54: 8 | AG54: 47 | AH54: =IF(AA6=""," ",IF(AA6=AE5,AE7,AE5)) -> 34 | AI54: 48 | AK54: 52
E55: 7 | AA55: 8 | AG55: 48 | AH55: =IF(AA10=""," ",IF(AA10=AE9,AE11,AE9)) -> 50 | AI55: 49 | AK55: 53
A56: 39 | B56: =IFERROR(VLOOKUP(A56,пр.взв!$D$6:$Q$70,2,0),"") | C56: =IFERROR(VLOOKUP(A56,пр.взв!$D$6:$Q$70,5,0),"") | D56: =IFERROR(VLOOKUP(A56,пр.взв!$D$6:$Q$70,8,0),"") | AB56: =IFERROR(VLOOKUP(AE56,пр.взв!$D$6:$Q$70,2,0),"") | AC56: =IFERROR(VLOOKUP(AE56,пр.взв!$D$6:$Q$70,5,0),"") | AD56: =IFERROR(VLOOKUP(AE56,пр.взв!$D$6:$Q$70,8,0),"") | AE56: 40 | AG56: 49 | AH56: =IF(AA14=""," ",IF(AA14=AE13,AE15,AE13)) -> 42 | AI56: 50 | AK56: 54
AG57: 50 | AH57: =IF(AA18=""," ",IF(AA18=AE17,AE19,AE17)) -> 58 | AI57: 51 | AK57: 55
A58: 23 | B58: =IFERROR(VLOOKUP(A58,пр.взв!$D$6:$Q$70,2,0),"") -> ООРЖАК Айдын | C58: =IFERROR(VLOOKUP(A58,пр.взв!$D$6:$Q$70,5,0),"") -> КМС | D58: =IFERROR(VLOOKUP(A58,пр.взв!$D$6:$Q$70,8,0),"") -> Р.Бурятия | AB58: =IFERROR(VLOOKUP(AE58,пр.взв!$D$6:$Q$70,2,0),"") -> СЕДИНИН Никита | AC58: =IFERROR(VLOOKUP(AE58,пр.взв!$D$6:$Q$70,5,0),"") -> КМС | AD58: =IFERROR(VLOOKUP(AE58,пр.взв!$D$6:$Q$70,8,0),"") -> Пермский | AE58: 24 | AG58: 51 | AH58: =IF(AA22=""," ",IF(AA22=AE21,AE23,AE21)) -> 38 | AI58: 52 | AK58: 56
E59: 23 | AA59: 24 | AG59: 52 | AH59: =IF(AA26=""," ",IF(AA26=AE25,AE27,AE25)) -> 54 | AI59: 53 | AK59: 57
A60: 55 | B60: =IFERROR(VLOOKUP(A60,пр.взв!$D$6:$Q$70,2,0),"") | C60: =IFERROR(VLOOKUP(A60,пр.взв!$D$6:$Q$70,5,0),"") | D60: =IFERROR(VLOOKUP(A60,пр.взв!$D$6:$Q$70,8,0),"") | AB60: =IFERROR(VLOOKUP(AE60,пр.взв!$D$6:$Q$70,2,0),"") | AC60: =IFERROR(VLOOKUP(AE60,пр.взв!$D$6:$Q$70,5,0),"") | AD60: =IFERROR(VLOOKUP(AE60,пр.взв!$D$6:$Q$70,8,0),"") | AE60: 56 | AG60: 53 | AH60: =IF(AA30=""," ",IF(AA30=AE29,AE31,AE29)) -> 46 | AI60: 54 | AK60: 58
AG61: 54 | AH61: =IF(AA34=""," ",IF(AA34=AE33,AE35,AE33)) -> 62 | AI61: 55 | AK61: 59
A62: 15 | B62: =IFERROR(VLOOKUP(A62,пр.взв!$D$6:$Q$70,2,0),"") -> ОЧУР Сай-Булат | C62: =IFERROR(VLOOKUP(A62,пр.взв!$D$6:$Q$70,5,0),"") -> КМС | D62: =IFERROR(VLOOKUP(A62,пр.взв!$D$6:$Q$70,8,0),"") -> Р.Тыва | AB62: =IFERROR(VLOOKUP(AE62,пр.взв!$D$6:$Q$70,2,0),"") -> НУРЕЛОВ Кайрат | AC62: =IFERROR(VLOOKUP(AE62,пр.взв!$D$6:$Q$70,5,0),"") -> КМС | AD62: =IFERROR(VLOOKUP(AE62,пр.взв!$D$6:$Q$70,8,0),"") -> Р.Алтай | AE62: 16 | AG62: 55 | AH62: =IF(AA39=""," ",IF(AA39=AE38,AE40,AE38)) -> 36 | AI62: 56 | AK62: 60
E63: 15 | AA63: 16 | AG63: 56 | AH63: =IF(AA43=""," ",IF(AA43=AE42,AE44,AE42)) -> 52 | AI63: 57 | AK63: 61
A64: 47 | B64: =IFERROR(VLOOKUP(A64,пр.взв!$D$6:$Q$70,2,0),"") | C64: =IFERROR(VLOOKUP(A64,пр.взв!$D$6:$Q$70,5,0),"") | D64: =IFERROR(VLOOKUP(A64,пр.взв!$D$6:$Q$70,8,0),"") | AB64: =IFERROR(VLOOKUP(AE64,пр.взв!$D$6:$Q$70,2,0),"") | AC64: =IFERROR(VLOOKUP(AE64,пр.взв!$D$6:$Q$70,5,0),"") | AD64: =IFERROR(VLOOKUP(AE64,пр.взв!$D$6:$Q$70,8,0),"") | AE64: 48 | AG64: 57 | AH64: =IF(AA47=""," ",IF(AA47=AE46,AE48,AE46)) -> 44 | AI64: 58 | AK64: 62
AG65: 58 | AH65: =IF(AA51=""," ",IF(AA51=AE50,AE52,AE50)) -> 60 | AI65: 59 | AK65: 63
A66: 31 | B66: =IFERROR(VLOOKUP(A66,пр.взв!$D$6:$Q$70,2,0),"") -> СЕДИН Данил | C66: =IFERROR(VLOOKUP(A66,пр.взв!$D$6:$Q$70,5,0),"") -> КМС | D66: =IFERROR(VLOOKUP(A66,пр.взв!$D$6:$Q$70,8,0),"") -> Пермский | AB66: =IFERROR(VLOOKUP(AE66,пр.взв!$D$6:$Q$70,2,0),"") -> КОЛПАКОВ Сергей | AC66: =IFERROR(VLOOKUP(AE66,пр.взв!$D$6:$Q$70,5,0),"") -> МС | AD66: =IFERROR(VLOOKUP(AE66,пр.взв!$D$6:$Q$70,8,0),"") -> Нижегородская | AE66: 32 | AG66: 59 | AH66: =IF(AA55=""," ",IF(AA55=AE54,AE56,AE54)) -> 40 | AI66: 60 | AK66: 64
E67: 31 | AA67: 32 | AG67: 60 | AH67: =IF(AA59=""," ",IF(AA59=AE58,AE60,AE58)) -> 56 | AI67: 61 | AK67: 64
A68: 63 | B68: =IFERROR(VLOOKUP(A68,пр.взв!$D$6:$Q$70,2,0),"") | C68: =IFERROR(VLOOKUP(A68,пр.взв!$D$6:$Q$70,5,0),"") | D68: =IFERROR(VLOOKUP(A68,пр.взв!$D$6:$Q$70,8,0),"") | AB68: =IFERROR(VLOOKUP(AE68,пр.взв!$D$6:$Q$70,2,0),"") | AC68: =IFERROR(VLOOKUP(AE68,пр.взв!$D$6:$Q$70,5,0),"") | AD68: =IFERROR(VLOOKUP(AE68,пр.взв!$D$6:$Q$70,8,0),"") | AE68: 64 | AG68: 61 | AH68: =IF(AA63=""," ",IF(AA63=AE62,AE64,AE62)) -> 48 | AI68: 62
AG69: 62 | AH69: =IF(AA67=""," ",IF(AA67=AE66,AE68,AE66)) -> 64
AG70: 2м | AH70: =IF(M32=""," ",IF(M32=S36,M36,S36))
AH71: =IF(AA69=""," ",IF(AA69=AE68,AE70,AE68))
AH72: =IF(AA70=""," ",IF(AA70=AE69,AE71,AE69))
A73: =IFERROR(__xludf.DUMMYFUNCTION("IMPORTRANGE(""https://docs.google.com/spreadsheets/d/1XFGqS9_FSpg5EnxHBAY_QbGhuInRsY0PvHk2PYSXdn4/edit#gid=761916707"",""Реквизиты!$A$5"")"),"Гл.судья, судья ВК") -> Гл.судья, судья ВК | G73: =IFERROR(__xludf.DUMMYFUNCTION("IMPORTRANGE('пр.взв'!N1,""Реквизиты!$C6"")"),"Редин Д.А.") -> Редин Д.А. | J73: =IFERROR(__xludf.DUMMYFUNCTION("IMPORTRANGE('пр.взв'!N1,""Реквизиты!$C7"")"),"Хабаровский кр.") -> Хабаровский кр. | T73: =IFERROR(__xludf.DUMMYFUNCTION("IMPORTRANGE(""https://docs.google.com/spreadsheets/d/1XFGqS9_FSpg5EnxHBAY_QbGhuInRsY0PvHk2PYSXdn4/edit#gid=761916707"",""Реквизиты!$A$9"")"),"Гл.секретарь, судья ВК") -> Гл.секретарь, судья ВК | AB73: =IFERROR(__xludf.DUMMYFUNCTION("IMPORTRANGE(""https://docs.google.com/spreadsheets/d/1XFGqS9_FSpg5EnxHBAY_QbGhuInRsY0PvHk2PYSXdn4/edit#gid=761916707"",""Реквизиты!$C10"")"),"Мордовин С.Н.") -> Мордовин С.Н. | AC73: =IFERROR(__xludf.DUMMYFUNCTION("IMPORTRANGE(""https://docs.google.com/spreadsheets/d/1XFGqS9_FSpg5EnxHBAY_QbGhuInRsY0PvHk2PYSXdn4/edit#gid=761916707"",""Реквизиты!$C11"")"),"Р.Алт, Майма") -> Р.Алт, Майма | AH73: =IF(AA71=""," ",IF(AA71=AE70,AE72,AE70))
AH74: =IF(AA72=""," ",IF(AA72=AE71,AE73,AE71))

Sheet круги
B1: ВСТРЕЧИ ПО КРУГАМ | L1: ВСТРЕЧИ ПО КРУГАМ
B2: =пр.взв!$D$4 -> 0 | L2: =пр.взв!$D$4 -> 0
B3: 0 | C3: КОВЕР | L3: =B3 -> 0 | M3: КОВЕР
B4: A | C4: (Круг) | F4: 1/32 | L4: Б | M4: (Круг) | P4: 1/32
A5: № встр | B5: № п/ж | C5: Ф.И.О. | D5: Д. р., разряд | E5: Вед., регион | G5: Оценки | H5: Очки | I5: Рез-т | J5: Время | K5: № встр | L5: № п/ж | M5: Ф.И.О. | N5: Д. р., разряд | O5: Вед., регион | Q5: Оценки | R5: Очки | S5: Рез-т | T5: Время
A7: 1 | B7: 1 | C7: =IFERROR(VLOOKUP(B7,пр.взв!$D$6:$Q$70,2,0),"") -> ТАГИРОВ Рабазан | D7: =IFERROR(VLOOKUP(B7,пр.взв!$D$6:$Q$70,5,0),"") -> КМС | E7: =IFERROR(VLOOKUP(B7,пр.взв!$D$6:$Q$70,6,0),"") -> ЦФО | F7: =IFERROR(VLOOKUP(B7,пр.взв!$D$6:$Q$70,8,0),"") -> Ярославская | K7: 17 | L7: 2 | M7: =IFERROR(VLOOKUP(L7,пр.взв!$D$6:$Q$70,2,0),"") -> ГУСЕЙНОВ Намик | N7: =IFERROR(VLOOKUP(L7,пр.взв!$D$6:$Q$70,5,0),"") -> 3p | O7: =IFERROR(VLOOKUP(L7,пр.взв!$D$6:$Q$70,6,0),"") -> ПФО | P7: =IFERROR(VLOOKUP(L7,пр.взв!$D$6:$Q$70,8,0),"") -> Нижегородская
B8: 33 | C8: =IFERROR(VLOOKUP(B8,пр.взв!$D$6:$Q$70,2,0),"") -> ТАДЫШЕВ Данил | D8: =IFERROR(VLOOKUP(B8,пр.взв!$D$6:$Q$70,5,0),"") -> КМС | E8: =IFERROR(VLOOKUP(B8,пр.взв!$D$6:$Q$70,6,0),"") -> СФО | F8: =IFERROR(VLOOKUP(B8,пр.взв!$D$6:$Q$70,8,0),"") -> Р.Алтай | L8: 34 | M8: =IFERROR(VLOOKUP(L8,пр.взв!$D$6:$Q$70,2,0),"") | N8: =IFERROR(VLOOKUP(L8,пр.взв!$D$6:$Q$70,5,0),"") | O8: =IFERROR(VLOOKUP(L8,пр.взв!$D$6:$Q$70,6,0),"") | P8: =IFERROR(VLOOKUP(L8,пр.взв!$D$6:$Q$70,8,0),"")
A9: 2 | B9: 17 | C9: =IFERROR(VLOOKUP(B9,пр.взв!$D$6:$Q$70,2,0),"") -> ЮНУСОВ Ильнур | D9: =IFERROR(VLOOKUP(B9,пр.взв!$D$6:$Q$70,5,0),"") -> КМС | E9: =IFERROR(VLOOKUP(B9,пр.взв!$D$6:$Q$70,6,0),"") -> ПФО | F9: =IFERROR(VLOOKUP(B9,пр.взв!$D$6:$Q$70,8,0),"") -> Р.Татарстан | K9: 18 | L9: 18 | M9: =IFERROR(VLOOKUP(L9,пр.взв!$D$6:$Q$70,2,0),"") -> УМАЕВ Азамат | N9: =IFERROR(VLOOKUP(L9,пр.взв!$D$6:$Q$70,5,0),"") -> КМС | O9: =IFERROR(VLOOKUP(L9,пр.взв!$D$6:$Q$70,6,0),"") -> ЦФО | P9: =IFERROR(VLOOKUP(L9,пр.взв!$D$6:$Q$70,8,0),"") -> Московская
B10: 49 | C10: =IFERROR(VLOOKUP(B10,пр.взв!$D$6:$Q$70,2,0),"") | D10: =IFERROR(VLOOKUP(B10,пр.взв!$D$6:$Q$70,5,0),"") | E10: =IFERROR(VLOOKUP(B10,пр.взв!$D$6:$Q$70,6,0),"") | F10: =IFERROR(VLOOKUP(B10,пр.взв!$D$6:$Q$70,8,0),"") | L10: 50 | M10: =IFERROR(VLOOKUP(L10,пр.взв!$D$6:$Q$70,2,0),"") | N10: =IFERROR(VLOOKUP(L10,пр.взв!$D$6:$Q$70,5,0),"") | O10: =IFERROR(VLOOKUP(L10,пр.взв!$D$6:$Q$70,6,0),"") | P10: =IFERROR(VLOOKUP(L10,пр.взв!$D$6:$Q$70,8,0),"")
A11: 3 | B11: 9 | C11: =IFERROR(VLOOKUP(B11,пр.взв!$D$6:$Q$70,2,0),"") -> КАКАДЖАНОВ Рустам | D11: =IFERROR(VLOOKUP(B11,пр.взв!$D$6:$Q$70,5,0),"") -> КМС | E11: =IFERROR(VLOOKUP(B11,пр.взв!$D$6:$Q$70,6,0),"") -> ЦФО | F11: =IFERROR(VLOOKUP(B11,пр.взв!$D$6:$Q$70,8,0),"") -> Московская | K11: 19 | L11: 10 | M11: =IFERROR(VLOOKUP(L11,пр.взв!$D$6:$Q$70,2,0),"") -> АМИРОВ Исмаил | N11: =IFERROR(VLOOKUP(L11,пр.взв!$D$6:$Q$70,5,0),"") -> КМС | O11: =IFERROR(VLOOKUP(L11,пр.взв!$D$6:$Q$70,6,0),"") -> СКФО | P11: =IFERROR(VLOOKUP(L11,пр.взв!$D$6:$Q$70,8,0),"") -> Чеченская
B12: 41 | C12: =IFERROR(VLOOKUP(B12,пр.взв!$D$6:$Q$70,2,0),"") | D12: =IFERROR(VLOOKUP(B12,пр.взв!$D$6:$Q$70,5,0),"") | E12: =IFERROR(VLOOKUP(B12,пр.взв!$D$6:$Q$70,6,0),"") | F12: =IFERROR(VLOOKUP(B12,пр.взв!$D$6:$Q$70,8,0),"") | L12: 42 | M12: =IFERROR(VLOOKUP(L12,пр.взв!$D$6:$Q$70,2,0),"") | N12: =IFERROR(VLOOKUP(L12,пр.взв!$D$6:$Q$70,5,0),"") | O12: =IFERROR(VLOOKUP(L12,пр.взв!$D$6:$Q$70,6,0),"") | P12: =IFERROR(VLOOKUP(L12,пр.взв!$D$6:$Q$70,8,0),"")
A13: 4 | B13: 25 | C13: =IFERROR(VLOOKUP(B13,пр.взв!$D$6:$Q$70,2,0),"") -> МАГОМЕДОВ Саид | D13: =IFERROR(VLOOKUP(B13,пр.взв!$D$6:$Q$70,5,0),"") -> 3p | E13: =IFERROR(VLOOKUP(B13,пр.взв!$D$6:$Q$70,6,0),"") -> СКФО | F13: =IFERROR(VLOOKUP(B13,пр.взв!$D$6:$Q$70,8,0),"") -> Р.Дагестан | K13: 20 | L13: 26 | M13: =IFERROR(VLOOKUP(L13,пр.взв!$D$6:$Q$70,2,0),"") -> АКОБЯН Мартин | N13: =IFERROR(VLOOKUP(L13,пр.взв!$D$6:$Q$70,5,0),"") -> КМС | O13: =IFERROR(VLOOKUP(L13,пр.взв!$D$6:$Q$70,6,0),"") -> ПФО | P13: =IFERROR(VLOOKUP(L13,пр.взв!$D$6:$Q$70,8,0),"") -> Р.Татарстан
B14: 57 | C14: =IFERROR(VLOOKUP(B14,пр.взв!$D$6:$Q$70,2,0),"") | D14: =IFERROR(VLOOKUP(B14,пр.взв!$D$6:$Q$70,5,0),"") | E14: =IFERROR(VLOOKUP(B14,пр.взв!$D$6:$Q$70,6,0),"") | F14: =IFERROR(VLOOKUP(B14,пр.взв!$D$6:$Q$70,8,0),"") | L14: 58 | M14: =IFERROR(VLOOKUP(L14,пр.взв!$D$6:$Q$70,2,0),"") | N14: =IFERROR(VLOOKUP(L14,пр.взв!$D$6:$Q$70,5,0),"") | O14: =IFERROR(VLOOKUP(L14,пр.взв!$D$6:$Q$70,6,0),"") | P14: =IFERROR(VLOOKUP(L14,пр.взв!$D$6:$Q$70,8,0),"")
A15: 5 | B15: 5 | C15: =IFERROR(VLOOKUP(B15,пр.взв!$D$6:$Q$70,2,0),"") -> КОРОБЦОВ Алексей | D15: =IFERROR(VLOOKUP(B15,пр.взв!$D$6:$Q$70,5,0),"") -> КМС | E15: =IFERROR(VLOOKUP(B15,пр.взв!$D$6:$Q$70,6,0),"") -> ДВФО | F15: =IFERROR(VLOOKUP(B15,пр.взв!$D$6:$Q$70,8,0),"") -> Камчатский | K15: 21 | L15: 6 | M15: =IFERROR(VLOOKUP(L15,пр.взв!$D$6:$Q$70,2,0),"") -> АБДУРАХМАНОВ Муслим | N15: =IFERROR(VLOOKUP(L15,пр.взв!$D$6:$Q$70,5,0),"") -> КМС | O15: =IFERROR(VLOOKUP(L15,пр.взв!$D$6:$Q$70,6,0),"") -> МОС | P15: =IFERROR(VLOOKUP(L15,пр.взв!$D$6:$Q$70,8,0),"") -> Москва
B16: 37 | C16: =IFERROR(VLOOKUP(B16,пр.взв!$D$6:$Q$70,2,0),"") | D16: =IFERROR(VLOOKUP(B16,пр.взв!$D$6:$Q$70,5,0),"") | E16: =IFERROR(VLOOKUP(B16,пр.взв!$D$6:$Q$70,6,0),"") | F16: =IFERROR(VLOOKUP(B16,пр.взв!$D$6:$Q$70,8,0),"") | L16: 38 | M16: =IFERROR(VLOOKUP(L16,пр.взв!$D$6:$Q$70,2,0),"") | N16: =IFERROR(VLOOKUP(L16,пр.взв!$D$6:$Q$70,5,0),"") | O16: =IFERROR(VLOOKUP(L16,пр.взв!$D$6:$Q$70,6,0),"") | P16: =IFERROR(VLOOKUP(L16,пр.взв!$D$6:$Q$70,8,0),"")
A17: 6 | B17: 21 | C17: =IFERROR(VLOOKUP(B17,пр.взв!$D$6:$Q$70,2,0),"") -> ШИШКОВ Данил | D17: =IFERROR(VLOOKUP(B17,пр.взв!$D$6:$Q$70,5,0),"") -> КМС | E17: =IFERROR(VLOOKUP(B17,пр.взв!$D$6:$Q$70,6,0),"") -> СФО | F17: =IFERROR(VLOOKUP(B17,пр.взв!$D$6:$Q$70,8,0),"") -> Иркутская | K17: 22 | L17: 22 | M17: =IFERROR(VLOOKUP(L17,пр.взв!$D$6:$Q$70,2,0),"") -> АЛЛАБЕРГЕНОВ Богдан | N17: =IFERROR(VLOOKUP(L17,пр.взв!$D$6:$Q$70,5,0),"") -> КМС | O17: =IFERROR(VLOOKUP(L17,пр.взв!$D$6:$Q$70,6,0),"") -> ПФО | P17: =IFERROR(VLOOKUP(L17,пр.взв!$D$6:$Q$70,8,0),"") -> Самарская
B18: 53 | C18: =IFERROR(VLOOKUP(B18,пр.взв!$D$6:$Q$70,2,0),"") | D18: =IFERROR(VLOOKUP(B18,пр.взв!$D$6:$Q$70,5,0),"") | E18: =IFERROR(VLOOKUP(B18,пр.взв!$D$6:$Q$70,6,0),"") | F18: =IFERROR(VLOOKUP(B18,пр.взв!$D$6:$Q$70,8,0),"") | L18: 54 | M18: =IFERROR(VLOOKUP(L18,пр.взв!$D$6:$Q$70,2,0),"") | N18: =IFERROR(VLOOKUP(L18,пр.взв!$D$6:$Q$70,5,0),"") | O18: =IFERROR(VLOOKUP(L18,пр.взв!$D$6:$Q$70,6,0),"") | P18: =IFERROR(VLOOKUP(L18,пр.взв!$D$6:$Q$70,8,0),"")
A19: 7 | B19: 13 | C19: =IFERROR(VLOOKUP(B19,пр.взв!$D$6:$Q$70,2,0),"") -> СШИВНОВ Владислав | D19: =IFERROR(VLOOKUP(B19,пр.взв!$D$6:$Q$70,5,0),"") -> КМС | E19: =IFERROR(VLOOKUP(B19,пр.взв!$D$6:$Q$70,6,0),"") -> ПФО | F19: =IFERROR(VLOOKUP(B19,пр.взв!$D$6:$Q$70,8,0),"") -> Нижегородская | K19: 23 | L19: 14 | M19: =IFERROR(VLOOKUP(L19,пр.взв!$D$6:$Q$70,2,0),"") -> ДОНДОКОВ Мунко | N19: =IFERROR(VLOOKUP(L19,пр.взв!$D$6:$Q$70,5,0),"") -> КМС | O19: =IFERROR(VLOOKUP(L19,пр.взв!$D$6:$Q$70,6,0),"") -> ДВФО | P19: =IFERROR(VLOOKUP(L19,пр.взв!$D$6:$Q$70,8,0),"") -> Р.Бурятия
B20: 45 | C20: =IFERROR(VLOOKUP(B20,пр.взв!$D$6:$Q$70,2,0),"") | D20: =IFERROR(VLOOKUP(B20,пр.взв!$D$6:$Q$70,5,0),"") | E20: =IFERROR(VLOOKUP(B20,пр.взв!$D$6:$Q$70,6,0),"") | F20: =IFERROR(VLOOKUP(B20,пр.взв!$D$6:$Q$70,8,0),"") | L20: 46 | M20: =IFERROR(VLOOKUP(L20,пр.взв!$D$6:$Q$70,2,0),"") | N20: =IFERROR(VLOOKUP(L20,пр.взв!$D$6:$Q$70,5,0),"") | O20: =IFERROR(VLOOKUP(L20,пр.взв!$D$6:$Q$70,6,0),"") | P20: =IFERROR(VLOOKUP(L20,пр.взв!$D$6:$Q$70,8,0),"")
A21: 8 | B21: 29 | C21: =IFERROR(VLOOKUP(B21,пр.взв!$D$6:$Q$70,2,0),"") -> ТАРАНЧЕНКО Дмитрий | D21: =IFERROR(VLOOKUP(B21,пр.взв!$D$6:$Q$70,5,0),"") -> КМС | E21: =IFERROR(VLOOKUP(B21,пр.взв!$D$6:$Q$70,6,0),"") -> УФО | F21: =IFERROR(VLOOKUP(B21,пр.взв!$D$6:$Q$70,8,0),"") -> Свердловская | K21: 24 | L21: 30 | M21: =IFERROR(VLOOKUP(L21,пр.взв!$D$6:$Q$70,2,0),"") -> АНТАДИКОВ Игорь | N21: =IFERROR(VLOOKUP(L21,пр.взв!$D$6:$Q$70,5,0),"") -> КМС | O21: =IFERROR(VLOOKUP(L21,пр.взв!$D$6:$Q$70,6,0),"") -> СФО | P21: =IFERROR(VLOOKUP(L21,пр.взв!$D$6:$Q$70,8,0),"") -> Р.Алтай
B22: 61 | C22: =IFERROR(VLOOKUP(B22,пр.взв!$D$6:$Q$70,2,0),"") | D22: =IFERROR(VLOOKUP(B22,пр.взв!$D$6:$Q$70,5,0),"") | E22: =IFERROR(VLOOKUP(B22,пр.взв!$D$6:$Q$70,6,0),"") | F22: =IFERROR(VLOOKUP(B22,пр.взв!$D$6:$Q$70,8,0),"") | L22: 62 | M22: =IFERROR(VLOOKUP(L22,пр.взв!$D$6:$Q$70,2,0),"") | N22: =IFERROR(VLOOKUP(L22,пр.взв!$D$6:$Q$70,5,0),"") | O22: =IFERROR(VLOOKUP(L22,пр.взв!$D$6:$Q$70,6,0),"") | P22: =IFERROR(VLOOKUP(L22,пр.взв!$D$6:$Q$70,8,0),"")
A23: 9 | B23: 3 | C23: =IFERROR(VLOOKUP(B23,пр.взв!$D$6:$Q$70,2,0),"") -> БАЛТРУШИН Сергей | D23: =IFERROR(VLOOKUP(B23,пр.взв!$D$6:$Q$70,5,0),"") -> КМС | E23: =IFERROR(VLOOKUP(B23,пр.взв!$D$6:$Q$70,6,0),"") -> СЗФО | F23: =IFERROR(VLOOKUP(B23,пр.взв!$D$6:$Q$70,8,0),"") -> Санкт-Петербург | K23: 25 | L23: 4 | M23: =IFERROR(VLOOKUP(L23,пр.взв!$D$6:$Q$70,2,0),"") -> ЮНУСОВ Ильгиз | N23: =IFERROR(VLOOKUP(L23,пр.взв!$D$6:$Q$70,5,0),"") -> КМС | O23: =IFERROR(VLOOKUP(L23,пр.взв!$D$6:$Q$70,6,0),"") -> ПФО | P23: =IFERROR(VLOOKUP(L23,пр.взв!$D$6:$Q$70,8,0),"") -> Р.Татарстан
B24: 35 | C24: =IFERROR(VLOOKUP(B24,пр.взв!$D$6:$Q$70,2,0),"") | D24: =IFERROR(VLOOKUP(B24,пр.взв!$D$6:$Q$70,5,0),"") | E24: =IFERROR(VLOOKUP(B24,пр.взв!$D$6:$Q$70,6,0),"") | F24: =IFERROR(VLOOKUP(B24,пр.взв!$D$6:$Q$70,8,0),"") | L24: 36 | M24: =IFERROR(VLOOKUP(L24,пр.взв!$D$6:$Q$70,2,0),"") | N24: =IFERROR(VLOOKUP(L24,пр.взв!$D$6:$Q$70,5,0),"") | O24: =IFERROR(VLOOKUP(L24,пр.взв!$D$6:$Q$70,6,0),"") | P24: =IFERROR(VLOOKUP(L24,пр.взв!$D$6:$Q$70,8,0),"")
A25: 10 | B25: 19 | C25: =IFERROR(VLOOKUP(B25,пр.взв!$D$6:$Q$70,2,0),"") -> АЛМАДАКОВ Рамиль | D25: =IFERROR(VLOOKUP(B25,пр.взв!$D$6:$Q$70,5,0),"") -> КМС | E25: =IFERROR(VLOOKUP(B25,пр.взв!$D$6:$Q$70,6,0),"") -> СФО | F25: =IFERROR(VLOOKUP(B25,пр.взв!$D$6:$Q$70,8,0),"") -> Р.Алтай | K25: 26 | L25: 20 | M25: =IFERROR(VLOOKUP(L25,пр.взв!$D$6:$Q$70,2,0),"") -> ФИЛИППОВ Олег | N25: =IFERROR(VLOOKUP(L25,пр.взв!$D$6:$Q$70,5,0),"") -> МС | O25: =IFERROR(VLOOKUP(L25,пр.взв!$D$6:$Q$70,6,0),"") -> СЗФО | P25: =IFERROR(VLOOKUP(L25,пр.взв!$D$6:$Q$70,8,0),"") -> Калининградская
B26: 51 | C26: =IFERROR(VLOOKUP(B26,пр.взв!$D$6:$Q$70,2,0),"") | D26: =IFERROR(VLOOKUP(B26,пр.взв!$D$6:$Q$70,5,0),"") | E26: =IFERROR(VLOOKUP(B26,пр.взв!$D$6:$Q$70,6,0),"") | F26: =IFERROR(VLOOKUP(B26,пр.взв!$D$6:$Q$70,8,0),"") | L26: 52 | M26: =IFERROR(VLOOKUP(L26,пр.взв!$D$6:$Q$70,2,0),"") | N26: =IFERROR(VLOOKUP(L26,пр.взв!$D$6:$Q$70,5,0),"") | O26: =IFERROR(VLOOKUP(L26,пр.взв!$D$6:$Q$70,6,0),"") | P26: =IFERROR(VLOOKUP(L26,пр.взв!$D$6:$Q$70,8,0),"")
A27: 11 | B27: 11 | C27: =IFERROR(VLOOKUP(B27,пр.взв!$D$6:$Q$70,2,0),"") -> АРСАМИКОВ Ибрахим | D27: =IFERROR(VLOOKUP(B27,пр.взв!$D$6:$Q$70,5,0),"") -> КМС | E27: =IFERROR(VLOOKUP(B27,пр.взв!$D$6:$Q$70,6,0),"") -> МОС | F27: =IFERROR(VLOOKUP(B27,пр.взв!$D$6:$Q$70,8,0),"") -> Москва | K27: 27 | L27: 12 | M27: =IFERROR(VLOOKUP(L27,пр.взв!$D$6:$Q$70,2,0),"") -> ГАЖДИЕВ Завир | N27: =IFERROR(VLOOKUP(L27,пр.взв!$D$6:$Q$70,5,0),"") -> МС | O27: =IFERROR(VLOOKUP(L27,пр.взв!$D$6:$Q$70,6,0),"") -> СКФО | P27: =IFERROR(VLOOKUP(L27,пр.взв!$D$6:$Q$70,8,0),"") -> Р.Дагестан
B28: 43 | C28: =IFERROR(VLOOKUP(B28,пр.взв!$D$6:$Q$70,2,0),"") | D28: =IFERROR(VLOOKUP(B28,пр.взв!$D$6:$Q$70,5,0),"") | E28: =IFERROR(VLOOKUP(B28,пр.взв!$D$6:$Q$70,6,0),"") | F28: =IFERROR(VLOOKUP(B28,пр.взв!$D$6:$Q$70,8,0),"") | L28: 44 | M28: =IFERROR(VLOOKUP(L28,пр.взв!$D$6:$Q$70,2,0),"") | N28: =IFERROR(VLOOKUP(L28,пр.взв!$D$6:$Q$70,5,0),"") | O28: =IFERROR(VLOOKUP(L28,пр.взв!$D$6:$Q$70,6,0),"") | P28: =IFERROR(VLOOKUP(L28,пр.взв!$D$6:$Q$70,8,0),"")
A29: 12 | B29: 27 | C29: =IFERROR(VLOOKUP(B29,пр.взв!$D$6:$Q$70,2,0),"") -> БЛАГОДАРИН Артур | D29: =IFERROR(VLOOKUP(B29,пр.взв!$D$6:$Q$70,5,0),"") -> КМС | E29: =IFERROR(VLOOKUP(B29,пр.взв!$D$6:$Q$70,6,0),"") -> ПФО | F29: =IFERROR(VLOOKUP(B29,пр.взв!$D$6:$Q$70,8,0),"") -> Ульяновская | K29: 28 | L29: 28 | M29: =IFERROR(VLOOKUP(L29,пр.взв!$D$6:$Q$70,2,0),"") -> ЯХЪЯЕВ Мансур | N29: =IFERROR(VLOOKUP(L29,пр.взв!$D$6:$Q$70,5,0),"") -> КМС | O29: =IFERROR(VLOOKUP(L29,пр.взв!$D$6:$Q$70,6,0),"") -> СКФО | P29: =IFERROR(VLOOKUP(L29,пр.взв!$D$6:$Q$70,8,0),"") -> Чеченская
B30: 59 | C30: =IFERROR(VLOOKUP(B30,пр.взв!$D$6:$Q$70,2,0),"") | D30: =IFERROR(VLOOKUP(B30,пр.взв!$D$6:$Q$70,5,0),"") | E30: =IFERROR(VLOOKUP(B30,пр.взв!$D$6:$Q$70,6,0),"") | F30: =IFERROR(VLOOKUP(B30,пр.взв!$D$6:$Q$70,8,0),"") | L30: 60 | M30: =IFERROR(VLOOKUP(L30,пр.взв!$D$6:$Q$70,2,0),"") | N30: =IFERROR(VLOOKUP(L30,пр.взв!$D$6:$Q$70,5,0),"") | O30: =IFERROR(VLOOKUP(L30,пр.взв!$D$6:$Q$70,6,0),"") | P30: =IFERROR(VLOOKUP(L30,пр.взв!$D$6:$Q$70,8,0),"")
A31: 13 | B31: 7 | C31: =IFERROR(VLOOKUP(B31,пр.взв!$D$6:$Q$70,2,0),"") -> ХАБИБУЛАЕВ Турпал | D31: =IFERROR(VLOOKUP(B31,пр.взв!$D$6:$Q$70,5,0),"") -> КМС | E31: =IFERROR(VLOOKUP(B31,пр.взв!$D$6:$Q$70,6,0),"") -> СКФО | F31: =IFERROR(VLOOKUP(B31,пр.взв!$D$6:$Q$70,8,0),"") -> Чеченская | K31: 29 | L31: 8 | M31: =IFERROR(VLOOKUP(L31,пр.взв!$D$6:$Q$70,2,0),"") -> ДЕХНИЧ Глеб | N31: =IFERROR(VLOOKUP(L31,пр.взв!$D$6:$Q$70,5,0),"") -> 1р | O31: =IFERROR(VLOOKUP(L31,пр.взв!$D$6:$Q$70,6,0),"") -> УФО | P31: =IFERROR(VLOOKUP(L31,пр.взв!$D$6:$Q$70,8,0),"") -> Челябинская
B32: 39 | C32: =IFERROR(VLOOKUP(B32,пр.взв!$D$6:$Q$70,2,0),"") | D32: =IFERROR(VLOOKUP(B32,пр.взв!$D$6:$Q$70,5,0),"") | E32: =IFERROR(VLOOKUP(B32,пр.взв!$D$6:$Q$70,6,0),"") | F32: =IFERROR(VLOOKUP(B32,пр.взв!$D$6:$Q$70,8,0),"") | L32: 40 | M32: =IFERROR(VLOOKUP(L32,пр.взв!$D$6:$Q$70,2,0),"") | N32: =IFERROR(VLOOKUP(L32,пр.взв!$D$6:$Q$70,5,0),"") | O32: =IFERROR(VLOOKUP(L32,пр.взв!$D$6:$Q$70,6,0),"") | P32: =IFERROR(VLOOKUP(L32,пр.взв!$D$6:$Q$70,8,0),"")
A33: 14 | B33: 23 | C33: =IFERROR(VLOOKUP(B33,пр.взв!$D$6:$Q$70,2,0),"") -> ООРЖАК Айдын | D33: =IFERROR(VLOOKUP(B33,пр.взв!$D$6:$Q$70,5,0),"") -> КМС | E33: =IFERROR(VLOOKUP(B33,пр.взв!$D$6:$Q$70,6,0),"") -> ДВФО | F33: =IFERROR(VLOOKUP(B33,пр.взв!$D$6:$Q$70,8,0),"") -> Р.Бурятия | K33: 30 | L33: 24 | M33: =IFERROR(VLOOKUP(L33,пр.взв!$D$6:$Q$70,2,0),"") -> СЕДИНИН Никита | N33: =IFERROR(VLOOKUP(L33,пр.взв!$D$6:$Q$70,5,0),"") -> КМС | O33: =IFERROR(VLOOKUP(L33,пр.взв!$D$6:$Q$70,6,0),"") -> ПФО | P33: =IFERROR(VLOOKUP(L33,пр.взв!$D$6:$Q$70,8,0),"") -> Пермский
B34: 55 | C34: =IFERROR(VLOOKUP(B34,пр.взв!$D$6:$Q$70,2,0),"") | D34: =IFERROR(VLOOKUP(B34,пр.взв!$D$6:$Q$70,5,0),"") | E34: =IFERROR(VLOOKUP(B34,пр.взв!$D$6:$Q$70,6,0),"") | F34: =IFERROR(VLOOKUP(B34,пр.взв!$D$6:$Q$70,8,0),"") | L34: 56 | M34: =IFERROR(VLOOKUP(L34,пр.взв!$D$6:$Q$70,2,0),"") | N34: =IFERROR(VLOOKUP(L34,пр.взв!$D$6:$Q$70,5,0),"") | O34: =IFERROR(VLOOKUP(L34,пр.взв!$D$6:$Q$70,6,0),"") | P34: =IFERROR(VLOOKUP(L34,пр.взв!$D$6:$Q$70,8,0),"")
A35: 15 | B35: 15 | C35: =IFERROR(VLOOKUP(B35,пр.взв!$D$6:$Q$70,2,0),"") -> ОЧУР Сай-Булат | D35: =IFERROR(VLOOKUP(B35,пр.взв!$D$6:$Q$70,5,0),"") -> КМС | E35: =IFERROR(VLOOKUP(B35,пр.взв!$D$6:$Q$70,6,0),"") -> СФО | F35: =IFERROR(VLOOKUP(B35,пр.взв!$D$6:$Q$70,8,0),"") -> Р.Тыва | K35: 31 | L35: 16 | M35: =IFERROR(VLOOKUP(L35,пр.взв!$D$6:$Q$70,2,0),"") -> НУРЕЛОВ Кайрат | N35: =IFERROR(VLOOKUP(L35,пр.взв!$D$6:$Q$70,5,0),"") -> КМС | O35: =IFERROR(VLOOKUP(L35,пр.взв!$D$6:$Q$70,6,0),"") -> СФО | P35: =IFERROR(VLOOKUP(L35,пр.взв!$D$6:$Q$70,8,0),"") -> Р.Алтай
B36: 47 | C36: =IFERROR(VLOOKUP(B36,пр.взв!$D$6:$Q$70,2,0),"") | D36: =IFERROR(VLOOKUP(B36,пр.взв!$D$6:$Q$70,5,0),"") | E36: =IFERROR(VLOOKUP(B36,пр.взв!$D$6:$Q$70,6,0),"") | F36: =IFERROR(VLOOKUP(B36,пр.взв!$D$6:$Q$70,8,0),"") | L36: 48 | M36: =IFERROR(VLOOKUP(L36,пр.взв!$D$6:$Q$70,2,0),"") | N36: =IFERROR(VLOOKUP(L36,пр.взв!$D$6:$Q$70,5,0),"") | O36: =IFERROR(VLOOKUP(L36,пр.взв!$D$6:$Q$70,6,0),"") | P36: =IFERROR(VLOOKUP(L36,пр.взв!$D$6:$Q$70,8,0),"")
A37: 16 | B37: 31 | C37: =IFERROR(VLOOKUP(B37,пр.взв!$D$6:$Q$70,2,0),"") -> СЕДИН Данил | D37: =IFERROR(VLOOKUP(B37,пр.взв!$D$6:$Q$70,5,0),"") -> КМС | E37: =IFERROR(VLOOKUP(B37,пр.взв!$D$6:$Q$70,6,0),"") -> ПФО | F37: =IFERROR(VLOOKUP(B37,пр.взв!$D$6:$Q$70,8,0),"") -> Пермский | K37: 32 | L37: 32 | M37: =IFERROR(VLOOKUP(L37,пр.взв!$D$6:$Q$70,2,0),"") -> КОЛПАКОВ Сергей | N37: =IFERROR(VLOOKUP(L37,пр.взв!$D$6:$Q$70,5,0),"") -> МС | O37: =IFERROR(VLOOKUP(L37,пр.взв!$D$6:$Q$70,6,0),"") -> ПФО | P37: =IFERROR(VLOOKUP(L37,пр.взв!$D$6:$Q$70,8,0),"") -> Нижегородская
B38: 63 | C38: =IFERROR(VLOOKUP(B38,пр.взв!$D$6:$Q$70,2,0),"") | D38: =IFERROR(VLOOKUP(B38,пр.взв!$D$6:$Q$70,5,0),"") | E38: =IFERROR(VLOOKUP(B38,пр.взв!$D$6:$Q$70,6,0),"") | F38: =IFERROR(VLOOKUP(B38,пр.взв!$D$6:$Q$70,8,0),"") | L38: 64 | M38: =IFERROR(VLOOKUP(L38,пр.взв!$D$6:$Q$70,2,0),"") | N38: =IFERROR(VLOOKUP(L38,пр.взв!$D$6:$Q$70,5,0),"") | O38: =IFERROR(VLOOKUP(L38,пр.взв!$D$6:$Q$70,6,0),"") | P38: =IFERROR(VLOOKUP(L38,пр.взв!$D$6:$Q$70,8,0),"")
B39: =B3 -> 0 | C39: КОВЕР | L39: =L3 -> 0 | M39: КОВЕР
B40: A | C40: (Круг) | F40: 1/16 | G40: =пр.взв!$D$4 -> 0 | L40: Б | M40: (Круг) | P40: 1/16 | Q40: =пр.взв!$D$4 -> 0
A41: № встр | B41: № п/ж | C41: Ф.И.О. | D41: Д. р., разряд | E41: Вед., регион | G41: Оценки | H41: Очки | I41: Результат | J41: Время | K41: № встр | L41: № п/ж | M41: Ф.И.О. | N41: Д. р., разряд | O41: Вед., регион | Q41: Оценки | R41: Очки | S41: Результат | T41: Время
A43: 1 | B43: =пр.хода!E6 -> 0 | C43: =IFERROR(VLOOKUP(B43,пр.взв!$D$6:$Q$70,2,0),"") | D43: =IFERROR(VLOOKUP(B43,пр.взв!$D$6:$Q$70,5,0),"") | E43: =IFERROR(VLOOKUP(B43,пр.взв!$D$6:$Q$70,6,0),"") | F43: =IFERROR(VLOOKUP(B43,пр.взв!$D$6:$Q$70,8,0),"") | K43: 9 | L43: =пр.хода!AA6 -> 2 | M43: =IFERROR(VLOOKUP(L43,пр.взв!$D$6:$Q$70,2,0),"") -> ГУСЕЙНОВ Намик | N43: =IFERROR(VLOOKUP(L43,пр.взв!$D$6:$Q$70,5,0),"") -> 3p | O43: =IFERROR(VLOOKUP(L43,пр.взв!$D$6:$Q$70,6,0),"") -> ПФО | P43: =IFERROR(VLOOKUP(L43,пр.взв!$D$6:$Q$70,8,0),"") -> Нижегородская
B44: =пр.хода!E10 -> 17 | C44: =IFERROR(VLOOKUP(B44,пр.взв!$D$6:$Q$70,2,0),"") -> ЮНУСОВ Ильнур | D44: =IFERROR(VLOOKUP(B44,пр.взв!$D$6:$Q$70,5,0),"") -> КМС | E44: =IFERROR(VLOOKUP(B44,пр.взв!$D$6:$Q$70,6,0),"") -> ПФО | F44: =IFERROR(VLOOKUP(B44,пр.взв!$D$6:$Q$70,8,0),"") -> Р.Татарстан | L44: =пр.хода!AA10 -> 18 | M44: =IFERROR(VLOOKUP(L44,пр.взв!$D$6:$Q$70,2,0),"") -> УМАЕВ Азамат | N44: =IFERROR(VLOOKUP(L44,пр.взв!$D$6:$Q$70,5,0),"") -> КМС | O44: =IFERROR(VLOOKUP(L44,пр.взв!$D$6:$Q$70,6,0),"") -> ЦФО | P44: =IFERROR(VLOOKUP(L44,пр.взв!$D$6:$Q$70,8,0),"") -> Московская
A45: 2 | B45: =пр.хода!E14 -> 9 | C45: =IFERROR(VLOOKUP(B45,пр.взв!$D$6:$Q$70,2,0),"") -> КАКАДЖАНОВ Рустам | D45: =IFERROR(VLOOKUP(B45,пр.взв!$D$6:$Q$70,5,0),"") -> КМС | E45: =IFERROR(VLOOKUP(B45,пр.взв!$D$6:$Q$70,6,0),"") -> ЦФО | F45: =IFERROR(VLOOKUP(B45,пр.взв!$D$6:$Q$70,8,0),"") -> Московская | K45: 10 | L45: =пр.хода!AA14 -> 10 | M45: =IFERROR(VLOOKUP(L45,пр.взв!$D$6:$Q$70,2,0),"") -> АМИРОВ Исмаил | N45: =IFERROR(VLOOKUP(L45,пр.взв!$D$6:$Q$70,5,0),"") -> КМС | O45: =IFERROR(VLOOKUP(L45,пр.взв!$D$6:$Q$70,6,0),"") -> СКФО | P45: =IFERROR(VLOOKUP(L45,пр.взв!$D$6:$Q$70,8,0),"") -> Чеченская
B46: =пр.хода!E18 -> 25 | C46: =IFERROR(VLOOKUP(B46,пр.взв!$D$6:$Q$70,2,0),"") -> МАГОМЕДОВ Саид | D46: =IFERROR(VLOOKUP(B46,пр.взв!$D$6:$Q$70,5,0),"") -> 3p | E46: =IFERROR(VLOOKUP(B46,пр.взв!$D$6:$Q$70,6,0),"") -> СКФО | F46: =IFERROR(VLOOKUP(B46,пр.взв!$D$6:$Q$70,8,0),"") -> Р.Дагестан | L46: =пр.хода!AA18 -> 26 | M46: =IFERROR(VLOOKUP(L46,пр.взв!$D$6:$Q$70,2,0),"") -> АКОБЯН Мартин | N46: =IFERROR(VLOOKUP(L46,пр.взв!$D$6:$Q$70,5,0),"") -> КМС | O46: =IFERROR(VLOOKUP(L46,пр.взв!$D$6:$Q$70,6,0),"") -> ПФО | P46: =IFERROR(VLOOKUP(L46,пр.взв!$D$6:$Q$70,8,0),"") -> Р.Татарстан
A47: 3 | B47: =пр.хода!E22 -> 5 | C47: =IFERROR(VLOOKUP(B47,пр.взв!$D$6:$Q$70,2,0),"") -> КОРОБЦОВ Алексей | D47: =IFERROR(VLOOKUP(B47,пр.взв!$D$6:$Q$70,5,0),"") -> КМС | E47: =IFERROR(VLOOKUP(B47,пр.взв!$D$6:$Q$70,6,0),"") -> ДВФО | F47: =IFERROR(VLOOKUP(B47,пр.взв!$D$6:$Q$70,8,0),"") -> Камчатский | K47: 11 | L47: =пр.хода!AA22 -> 6 | M47: =IFERROR(VLOOKUP(L47,пр.взв!$D$6:$Q$70,2,0),"") -> АБДУРАХМАНОВ Муслим | N47: =IFERROR(VLOOKUP(L47,пр.взв!$D$6:$Q$70,5,0),"") -> КМС | O47: =IFERROR(VLOOKUP(L47,пр.взв!$D$6:$Q$70,6,0),"") -> МОС | P47: =IFERROR(VLOOKUP(L47,пр.взв!$D$6:$Q$70,8,0),"") -> Москва
B48: =пр.хода!E26 -> 21 | C48: =IFERROR(VLOOKUP(B48,пр.взв!$D$6:$Q$70,2,0),"") -> ШИШКОВ Данил | D48: =IFERROR(VLOOKUP(B48,пр.взв!$D$6:$Q$70,5,0),"") -> КМС | E48: =IFERROR(VLOOKUP(B48,пр.взв!$D$6:$Q$70,6,0),"") -> СФО | F48: =IFERROR(VLOOKUP(B48,пр.взв!$D$6:$Q$70,8,0),"") -> Иркутская | L48: =пр.хода!AA26 -> 22 | M48: =IFERROR(VLOOKUP(L48,пр.взв!$D$6:$Q$70,2,0),"") -> АЛЛАБЕРГЕНОВ Богдан | N48: =IFERROR(VLOOKUP(L48,пр.взв!$D$6:$Q$70,5,0),"") -> КМС | O48: =IFERROR(VLOOKUP(L48,пр.взв!$D$6:$Q$70,6,0),"") -> ПФО | P48: =IFERROR(VLOOKUP(L48,пр.взв!$D$6:$Q$70,8,0),"") -> Самарская
A49: 4 | B49: =пр.хода!E30 -> 13 | C49: =IFERROR(VLOOKUP(B49,пр.взв!$D$6:$Q$70,2,0),"") -> СШИВНОВ Владислав | D49: =IFERROR(VLOOKUP(B49,пр.взв!$D$6:$Q$70,5,0),"") -> КМС | E49: =IFERROR(VLOOKUP(B49,пр.взв!$D$6:$Q$70,6,0),"") -> ПФО | F49: =IFERROR(VLOOKUP(B49,пр.взв!$D$6:$Q$70,8,0),"") -> Нижегородская | K49: 12 | L49: =пр.хода!AA30 -> 14 | M49: =IFERROR(VLOOKUP(L49,пр.взв!$D$6:$Q$70,2,0),"") -> ДОНДОКОВ Мунко | N49: =IFERROR(VLOOKUP(L49,пр.взв!$D$6:$Q$70,5,0),"") -> КМС | O49: =IFERROR(VLOOKUP(L49,пр.взв!$D$6:$Q$70,6,0),"") -> ДВФО | P49: =IFERROR(VLOOKUP(L49,пр.взв!$D$6:$Q$70,8,0),"") -> Р.Бурятия
B50: =пр.хода!E34 -> 29 | C50: =IFERROR(VLOOKUP(B50,пр.взв!$D$6:$Q$70,2,0),"") -> ТАРАНЧЕНКО Дмитрий | D50: =IFERROR(VLOOKUP(B50,пр.взв!$D$6:$Q$70,5,0),"") -> КМС | E50: =IFERROR(VLOOKUP(B50,пр.взв!$D$6:$Q$70,6,0),"") -> УФО | F50: =IFERROR(VLOOKUP(B50,пр.взв!$D$6:$Q$70,8,0),"") -> Свердловская | L50: =пр.хода!AA34 -> 30 | M50: =IFERROR(VLOOKUP(L50,пр.взв!$D$6:$Q$70,2,0),"") -> АНТАДИКОВ Игорь | N50: =IFERROR(VLOOKUP(L50,пр.взв!$D$6:$Q$70,5,0),"") -> КМС | O50: =IFERROR(VLOOKUP(L50,пр.взв!$D$6:$Q$70,6,0),"") -> СФО | P50: =IFERROR(VLOOKUP(L50,пр.взв!$D$6:$Q$70,8,0),"") -> Р.Алтай
A51: 5 | B51: =пр.хода!E39 -> 3 | C51: =IFERROR(VLOOKUP(B51,пр.взв!$D$6:$Q$70,2,0),"") -> БАЛТРУШИН Сергей | D51: =IFERROR(VLOOKUP(B51,пр.взв!$D$6:$Q$70,5,0),"") -> КМС | E51: =IFERROR(VLOOKUP(B51,пр.взв!$D$6:$Q$70,6,0),"") -> СЗФО | F51: =IFERROR(VLOOKUP(B51,пр.взв!$D$6:$Q$70,8,0),"") -> Санкт-Петербург | K51: 13 | L51: =пр.хода!AA39 -> 4 | M51: =IFERROR(VLOOKUP(L51,пр.взв!$D$6:$Q$70,2,0),"") -> ЮНУСОВ Ильгиз | N51: =IFERROR(VLOOKUP(L51,пр.взв!$D$6:$Q$70,5,0),"") -> КМС | O51: =IFERROR(VLOOKUP(L51,пр.взв!$D$6:$Q$70,6,0),"") -> ПФО | P51: =IFERROR(VLOOKUP(L51,пр.взв!$D$6:$Q$70,8,0),"") -> Р.Татарстан
B52: =пр.хода!E43 -> 19 | C52: =IFERROR(VLOOKUP(B52,пр.взв!$D$6:$Q$70,2,0),"") -> АЛМАДАКОВ Рамиль | D52: =IFERROR(VLOOKUP(B52,пр.взв!$D$6:$Q$70,5,0),"") -> КМС | E52: =IFERROR(VLOOKUP(B52,пр.взв!$D$6:$Q$70,6,0),"") -> СФО | F52: =IFERROR(VLOOKUP(B52,пр.взв!$D$6:$Q$70,8,0),"") -> Р.Алтай | L52: =пр.хода!AA43 -> 20 | M52: =IFERROR(VLOOKUP(L52,пр.взв!$D$6:$Q$70,2,0),"") -> ФИЛИППОВ Олег | N52: =IFERROR(VLOOKUP(L52,пр.взв!$D$6:$Q$70,5,0),"") -> МС | O52: =IFERROR(VLOOKUP(L52,пр.взв!$D$6:$Q$70,6,0),"") -> СЗФО | P52: =IFERROR(VLOOKUP(L52,пр.взв!$D$6:$Q$70,8,0),"") -> Калининградская
A53: 6 | B53: =пр.хода!E47 -> 11 | C53: =IFERROR(VLOOKUP(B53,пр.взв!$D$6:$Q$70,2,0),"") -> АРСАМИКОВ Ибрахим | D53: =IFERROR(VLOOKUP(B53,пр.взв!$D$6:$Q$70,5,0),"") -> КМС | E53: =IFERROR(VLOOKUP(B53,пр.взв!$D$6:$Q$70,6,0),"") -> МОС | F53: =IFERROR(VLOOKUP(B53,пр.взв!$D$6:$Q$70,8,0),"") -> Москва | K53: 14 | L53: =пр.хода!AA47 -> 12 | M53: =IFERROR(VLOOKUP(L53,пр.взв!$D$6:$Q$70,2,0),"") -> ГАЖДИЕВ Завир | N53: =IFERROR(VLOOKUP(L53,пр.взв!$D$6:$Q$70,5,0),"") -> МС | O53: =IFERROR(VLOOKUP(L53,пр.взв!$D$6:$Q$70,6,0),"") -> СКФО | P53: =IFERROR(VLOOKUP(L53,пр.взв!$D$6:$Q$70,8,0),"") -> Р.Дагестан
B54: =пр.хода!E51 -> 27 | C54: =IFERROR(VLOOKUP(B54,пр.взв!$D$6:$Q$70,2,0),"") -> БЛАГОДАРИН Артур | D54: =IFERROR(VLOOKUP(B54,пр.взв!$D$6:$Q$70,5,0),"") -> КМС | E54: =IFERROR(VLOOKUP(B54,пр.взв!$D$6:$Q$70,6,0),"") -> ПФО | F54: =IFERROR(VLOOKUP(B54,пр.взв!$D$6:$Q$70,8,0),"") -> Ульяновская | L54: =пр.хода!AA51 -> 28 | M54: =IFERROR(VLOOKUP(L54,пр.взв!$D$6:$Q$70,2,0),"") -> ЯХЪЯЕВ Мансур | N54: =IFERROR(VLOOKUP(L54,пр.взв!$D$6:$Q$70,5,0),"") -> КМС | O54: =IFERROR(VLOOKUP(L54,пр.взв!$D$6:$Q$70,6,0),"") -> СКФО | P54: =IFERROR(VLOOKUP(L54,пр.взв!$D$6:$Q$70,8,0),"") -> Чеченская
A55: 7 | B55: =пр.хода!E55 -> 7 | C55: =IFERROR(VLOOKUP(B55,пр.взв!$D$6:$Q$70,2,0),"") -> ХАБИБУЛАЕВ Турпал | D55: =IFERROR(VLOOKUP(B55,пр.взв!$D$6:$Q$70,5,0),"") -> КМС | E55: =IFERROR(VLOOKUP(B55,пр.взв!$D$6:$Q$70,6,0),"") -> СКФО | F55: =IFERROR(VLOOKUP(B55,пр.взв!$D$6:$Q$70,8,0),"") -> Чеченская | K55: 15 | L55: =пр.хода!AA55 -> 8 | M55: =IFERROR(VLOOKUP(L55,пр.взв!$D$6:$Q$70,2,0),"") -> ДЕХНИЧ Глеб | N55: =IFERROR(VLOOKUP(L55,пр.взв!$D$6:$Q$70,5,0),"") -> 1р | O55: =IFERROR(VLOOKUP(L55,пр.взв!$D$6:$Q$70,6,0),"") -> УФО | P55: =IFERROR(VLOOKUP(L55,пр.взв!$D$6:$Q$70,8,0),"") -> Челябинская
B56: =пр.хода!E59 -> 23 | C56: =IFERROR(VLOOKUP(B56,пр.взв!$D$6:$Q$70,2,0),"") -> ООРЖАК Айдын | D56: =IFERROR(VLOOKUP(B56,пр.взв!$D$6:$Q$70,5,0),"") -> КМС | E56: =IFERROR(VLOOKUP(B56,пр.взв!$D$6:$Q$70,6,0),"") -> ДВФО | F56: =IFERROR(VLOOKUP(B56,пр.взв!$D$6:$Q$70,8,0),"") -> Р.Бурятия | L56: =пр.хода!AA59 -> 24 | M56: =IFERROR(VLOOKUP(L56,пр.взв!$D$6:$Q$70,2,0),"") -> СЕДИНИН Никита | N56: =IFERROR(VLOOKUP(L56,пр.взв!$D$6:$Q$70,5,0),"") -> КМС | O56: =IFERROR(VLOOKUP(L56,пр.взв!$D$6:$Q$70,6,0),"") -> ПФО | P56: =IFERROR(VLOOKUP(L56,пр.взв!$D$6:$Q$70,8,0),"") -> Пермский
A57: 8 | B57: =пр.хода!E63 -> 15 | C57: =IFERROR(VLOOKUP(B57,пр.взв!$D$6:$Q$70,2,0),"") -> ОЧУР Сай-Булат | D57: =IFERROR(VLOOKUP(B57,пр.взв!$D$6:$Q$70,5,0),"") -> КМС | E57: =IFERROR(VLOOKUP(B57,пр.взв!$D$6:$Q$70,6,0),"") -> СФО | F57: =IFERROR(VLOOKUP(B57,пр.взв!$D$6:$Q$70,8,0),"") -> Р.Тыва | K57: 16 | L57: =пр.хода!AA63 -> 16 | M57: =IFERROR(VLOOKUP(L57,пр.взв!$D$6:$Q$70,2,0),"") -> НУРЕЛОВ Кайрат | N57: =IFERROR(VLOOKUP(L57,пр.взв!$D$6:$Q$70,5,0),"") -> КМС | O57: =IFERROR(VLOOKUP(L57,пр.взв!$D$6:$Q$70,6,0),"") -> СФО | P57: =IFERROR(VLOOKUP(L57,пр.взв!$D$6:$Q$70,8,0),"") -> Р.Алтай
B58: =пр.хода!E67 -> 31 | C58: =IFERROR(VLOOKUP(B58,пр.взв!$D$6:$Q$70,2,0),"") -> СЕДИН Данил | D58: =IFERROR(VLOOKUP(B58,пр.взв!$D$6:$Q$70,5,0),"") -> КМС | E58: =IFERROR(VLOOKUP(B58,пр.взв!$D$6:$Q$70,6,0),"") -> ПФО | F58: =IFERROR(VLOOKUP(B58,пр.взв!$D$6:$Q$70,8,0),"") -> Пермский | L58: =пр.хода!AA67 -> 32 | M58: =IFERROR(VLOOKUP(L58,пр.взв!$D$6:$Q$70,2,0),"") -> КОЛПАКОВ Сергей | N58: =IFERROR(VLOOKUP(L58,пр.взв!$D$6:$Q$70,5,0),"") -> МС | O58: =IFERROR(VLOOKUP(L58,пр.взв!$D$6:$Q$70,6,0),"") -> ПФО | P58: =IFERROR(VLOOKUP(L58,пр.взв!$D$6:$Q$70,8,0),"") -> Нижегородская
B59: =B39 -> 0 | C59: КОВЕР | L59: =L39 -> 0 | M59: КОВЕР
B60: A | C60: (Круг) | F60: 1/8 | G60: =пр.взв!$D$4 -> 0 | L60: Б | M60: (Круг) | P60: 1/8 | Q60: =пр.взв!$D$4 -> 0
A61: № встр | B61: № п/ж | C61: Ф.И.О. | D61: Д. р., разряд | E61: Вед., регион | G61: Оценки | H61: Очки | I61: Результат | J61: Время | K61: № встр | L61: № п/ж | M61: Ф.И.О. | N61: Д. р., разряд | O61: Вед., регион | Q61: Оценки | R61: Очки | S61: Результат | T61: Время
A63: 1 | B63: =пр.хода!G8 -> 0 | C63: =IFERROR(VLOOKUP(B63,пр.взв!$D$6:$Q$70,2,0),"") | D63: =IFERROR(VLOOKUP(B63,пр.взв!$D$6:$Q$70,5,0),"") | E63: =IFERROR(VLOOKUP(B63,пр.взв!$D$6:$Q$70,6,0),"") | F63: =IFERROR(VLOOKUP(B63,пр.взв!$D$6:$Q$70,8,0),"") | K63: 5 | L63: =пр.хода!Y8 -> 0 | M63: =IFERROR(VLOOKUP(L63,пр.взв!$D$6:$Q$70,2,0),"") | N63: =IFERROR(VLOOKUP(L63,пр.взв!$D$6:$Q$70,5,0),"") | O63: =IFERROR(VLOOKUP(L63,пр.взв!$D$6:$Q$70,6,0),"") | P63: =IFERROR(VLOOKUP(L63,пр.взв!$D$6:$Q$70,8,0),"")
B64: =пр.хода!G16 -> 0 | C64: =IFERROR(VLOOKUP(B64,пр.взв!$D$6:$Q$70,2,0),"") | D64: =IFERROR(VLOOKUP(B64,пр.взв!$D$6:$Q$70,5,0),"") | E64: =IFERROR(VLOOKUP(B64,пр.взв!$D$6:$Q$70,6,0),"") | F64: =IFERROR(VLOOKUP(B64,пр.взв!$D$6:$Q$70,8,0),"") | L64: =пр.хода!Y16 -> 0 | M64: =IFERROR(VLOOKUP(L64,пр.взв!$D$6:$Q$70,2,0),"") | N64: =IFERROR(VLOOKUP(L64,пр.взв!$D$6:$Q$70,5,0),"") | O64: =IFERROR(VLOOKUP(L64,пр.взв!$D$6:$Q$70,6,0),"") | P64: =IFERROR(VLOOKUP(L64,пр.взв!$D$6:$Q$70,8,0),"")
A65: 2 | B65: =пр.хода!G24 -> 0 | C65: =IFERROR(VLOOKUP(B65,пр.взв!$D$6:$Q$70,2,0),"") | D65: =IFERROR(VLOOKUP(B65,пр.взв!$D$6:$Q$70,5,0),"") | E65: =IFERROR(VLOOKUP(B65,пр.взв!$D$6:$Q$70,6,0),"") | F65: =IFERROR(VLOOKUP(B65,пр.взв!$D$6:$Q$70,8,0),"") | K65: 6 | L65: =пр.хода!Y24 -> 0 | M65: =IFERROR(VLOOKUP(L65,пр.взв!$D$6:$Q$70,2,0),"") | N65: =IFERROR(VLOOKUP(L65,пр.взв!$D$6:$Q$70,5,0),"") | O65: =IFERROR(VLOOKUP(L65,пр.взв!$D$6:$Q$70,6,0),"") | P65: =IFERROR(VLOOKUP(L65,пр.взв!$D$6:$Q$70,8,0),"")
B66: =пр.хода!G32 -> 0 | C66: =IFERROR(VLOOKUP(B66,пр.взв!$D$6:$Q$70,2,0),"") | D66: =IFERROR(VLOOKUP(B66,пр.взв!$D$6:$Q$70,5,0),"") | E66: =IFERROR(VLOOKUP(B66,пр.взв!$D$6:$Q$70,6,0),"") | F66: =IFERROR(VLOOKUP(B66,пр.взв!$D$6:$Q$70,8,0),"") | L66: =пр.хода!Y32 -> 0 | M66: =IFERROR(VLOOKUP(L66,пр.взв!$D$6:$Q$70,2,0),"") | N66: =IFERROR(VLOOKUP(L66,пр.взв!$D$6:$Q$70,5,0),"") | O66: =IFERROR(VLOOKUP(L66,пр.взв!$D$6:$Q$70,6,0),"") | P66: =IFERROR(VLOOKUP(L66,пр.взв!$D$6:$Q$70,8,0),"")
A67: 3 | B67: =пр.хода!G41 -> 0 | C67: =IFERROR(VLOOKUP(B67,пр.взв!$D$6:$Q$70,2,0),"") | D67: =IFERROR(VLOOKUP(B67,пр.взв!$D$6:$Q$70,5,0),"") | E67: =IFERROR(VLOOKUP(B67,пр.взв!$D$6:$Q$70,6,0),"") | F67: =IFERROR(VLOOKUP(B67,пр.взв!$D$6:$Q$70,8,0),"") | K67: 7 | L67: =пр.хода!Y41 -> 0 | M67: =IFERROR(VLOOKUP(L67,пр.взв!$D$6:$Q$70,2,0),"") | N67: =IFERROR(VLOOKUP(L67,пр.взв!$D$6:$Q$70,5,0),"") | O67: =IFERROR(VLOOKUP(L67,пр.взв!$D$6:$Q$70,6,0),"") | P67: =IFERROR(VLOOKUP(L67,пр.взв!$D$6:$Q$70,8,0),"")
B68: =пр.хода!G49 -> 0 | C68: =IFERROR(VLOOKUP(B68,пр.взв!$D$6:$Q$70,2,0),"") | D68: =IFERROR(VLOOKUP(B68,пр.взв!$D$6:$Q$70,5,0),"") | E68: =IFERROR(VLOOKUP(B68,пр.взв!$D$6:$Q$70,6,0),"") | F68: =IFERROR(VLOOKUP(B68,пр.взв!$D$6:$Q$70,8,0),"") | L68: =пр.хода!Y49 -> 0 | M68: =IFERROR(VLOOKUP(L68,пр.взв!$D$6:$Q$70,2,0),"") | N68: =IFERROR(VLOOKUP(L68,пр.взв!$D$6:$Q$70,5,0),"") | O68: =IFERROR(VLOOKUP(L68,пр.взв!$D$6:$Q$70,6,0),"") | P68: =IFERROR(VLOOKUP(L68,пр.взв!$D$6:$Q$70,8,0),"")
A69: 4 | B69: =пр.хода!G57 -> 0 | C69: =IFERROR(VLOOKUP(B69,пр.взв!$D$6:$Q$70,2,0),"") | D69: =IFERROR(VLOOKUP(B69,пр.взв!$D$6:$Q$70,5,0),"") | E69: =IFERROR(VLOOKUP(B69,пр.взв!$D$6:$Q$70,6,0),"") | F69: =IFERROR(VLOOKUP(B69,пр.взв!$D$6:$Q$70,8,0),"") | K69: 8 | L69: =пр.хода!Y57 -> 0 | M69: =IFERROR(VLOOKUP(L69,пр.взв!$D$6:$Q$70,2,0),"") | N69: =IFERROR(VLOOKUP(L69,пр.взв!$D$6:$Q$70,5,0),"") | O69: =IFERROR(VLOOKUP(L69,пр.взв!$D$6:$Q$70,6,0),"") | P69: =IFERROR(VLOOKUP(L69,пр.взв!$D$6:$Q$70,8,0),"")
B70: =пр.хода!G65 -> 0 | C70: =IFERROR(VLOOKUP(B70,пр.взв!$D$6:$Q$70,2,0),"") | D70: =IFERROR(VLOOKUP(B70,пр.взв!$D$6:$Q$70,5,0),"") | E70: =IFERROR(VLOOKUP(B70,пр.взв!$D$6:$Q$70,6,0),"") | F70: =IFERROR(VLOOKUP(B70,пр.взв!$D$6:$Q$70,8,0),"") | L70: =пр.хода!Y65 -> 0 | M70: =IFERROR(VLOOKUP(L70,пр.взв!$D$6:$Q$70,2,0),"") | N70: =IFERROR(VLOOKUP(L70,пр.взв!$D$6:$Q$70,5,0),"") | O70: =IFERROR(VLOOKUP(L70,пр.взв!$D$6:$Q$70,6,0),"") | P70: =IFERROR(VLOOKUP(L70,пр.взв!$D$6:$Q$70,8,0),"")
B71: =B59 -> 0 | C71: КОВЕР | L71: =L59 -> 0 | M71: КОВЕР
B72: A | C72: (Круг) | F72: 1/4 | G72: =пр.взв!$D$4 -> 0 | L72: B | M72: (Круг) | P72: 1/4 | Q72: =пр.взв!$D$4 -> 0
A73: № встр | B73: № п/ж | C73: Ф.И.О. | D73: Д. р., разряд | E73: Вед., регион | G73: Оценки | H73: Очки | I73: Результат | J73: Время | K73: № встр | L73: № п/ж | M73: Ф.И.О. | N73: Д. р., разряд | O73: Вед., регион | Q73: Оценки | R73: Очки | S73: Результат | T73: Время
A75: 1 | B75: =пр.хода!I12 -> 0 | C75: =IFERROR(VLOOKUP(B75,пр.взв!$D$6:$Q$70,2,0),"") | D75: =IFERROR(VLOOKUP(B75,пр.взв!$D$6:$Q$70,5,0),"") | E75: =IFERROR(VLOOKUP(B75,пр.взв!$D$6:$Q$70,6,0),"") | F75: =IFERROR(VLOOKUP(B75,пр.взв!$D$6:$Q$70,8,0),"") | K75: 3 | L75: =пр.хода!W12 -> 0 | M75: =IFERROR(VLOOKUP(L75,пр.взв!$D$6:$Q$70,2,0),"") | N75: =IFERROR(VLOOKUP(L75,пр.взв!$D$6:$Q$70,5,0),"") | O75: =IFERROR(VLOOKUP(L75,пр.взв!$D$6:$Q$70,6,0),"") | P75: =IFERROR(VLOOKUP(L75,пр.взв!$D$6:$Q$70,8,0),"")
B76: =пр.хода!I28 -> 0 | C76: =IFERROR(VLOOKUP(B76,пр.взв!$D$6:$Q$70,2,0),"") | D76: =IFERROR(VLOOKUP(B76,пр.взв!$D$6:$Q$70,5,0),"") | E76: =IFERROR(VLOOKUP(B76,пр.взв!$D$6:$Q$70,6,0),"") | F76: =IFERROR(VLOOKUP(B76,пр.взв!$D$6:$Q$70,8,0),"") | L76: =пр.хода!W28 -> 0 | M76: =IFERROR(VLOOKUP(L76,пр.взв!$D$6:$Q$70,2,0),"") | N76: =IFERROR(VLOOKUP(L76,пр.взв!$D$6:$Q$70,5,0),"") | O76: =IFERROR(VLOOKUP(L76,пр.взв!$D$6:$Q$70,6,0),"") | P76: =IFERROR(VLOOKUP(L76,пр.взв!$D$6:$Q$70,8,0),"")
A77: 2 | B77: =пр.хода!I46 -> 0 | C77: =IFERROR(VLOOKUP(B77,пр.взв!$D$6:$Q$70,2,0),"") | D77: =IFERROR(VLOOKUP(B77,пр.взв!$D$6:$Q$70,5,0),"") | E77: =IFERROR(VLOOKUP(B77,пр.взв!$D$6:$Q$70,6,0),"") | F77: =IFERROR(VLOOKUP(B77,пр.взв!$D$6:$Q$70,8,0),"") | K77: 4 | L77: =пр.хода!W45 -> 0 | M77: =IFERROR(VLOOKUP(L77,пр.взв!$D$6:$Q$70,2,0),"") | N77: =IFERROR(VLOOKUP(L77,пр.взв!$D$6:$Q$70,5,0),"") | O77: =IFERROR(VLOOKUP(L77,пр.взв!$D$6:$Q$70,6,0),"") | P77: =IFERROR(VLOOKUP(L77,пр.взв!$D$6:$Q$70,8,0),"")
B78: =пр.хода!I61 -> 0 | C78: =IFERROR(VLOOKUP(B78,пр.взв!$D$6:$Q$70,2,0),"") | D78: =IFERROR(VLOOKUP(B78,пр.взв!$D$6:$Q$70,5,0),"") | E78: =IFERROR(VLOOKUP(B78,пр.взв!$D$6:$Q$70,6,0),"") | F78: =IFERROR(VLOOKUP(B78,пр.взв!$D$6:$Q$70,8,0),"") | L78: =пр.хода!W61 -> 0 | M78: =IFERROR(VLOOKUP(L78,пр.взв!$D$6:$Q$70,2,0),"") | N78: =IFERROR(VLOOKUP(L78,пр.взв!$D$6:$Q$70,5,0),"") | O78: =IFERROR(VLOOKUP(L78,пр.взв!$D$6:$Q$70,6,0),"") | P78: =IFERROR(VLOOKUP(L78,пр.взв!$D$6:$Q$70,8,0),"")
B80: A | C80: Полуфинал | G80: =пр.взв!$D$4 -> 0 | L80: Б | M80: Полуфинал | Q80: =пр.взв!$D$4 -> 0
A81: № встр | B81: № п/ж | C81: Ф.И.О. | D81: Д. р., разряд | E81: Вед., регион | G81: Оценки | H81: Очки | I81: Результат | J81: Время | K81: № встр | L81: № п/ж | M81: Ф.И.О. | N81: Д. р., разряд | O81: Вед., регион | Q81: Оценки | R81: Очки | S81: Результат | T81: Время
A83: 1 | B83: =пр.хода!K20 -> 0 | C83: =IFERROR(VLOOKUP(B83,пр.взв!$D$6:$Q$70,2,0),"") | D83: =IFERROR(VLOOKUP(B83,пр.взв!$D$6:$Q$70,5,0),"") | E83: =IFERROR(VLOOKUP(B83,пр.взв!$D$6:$Q$70,6,0),"") | F83: =IFERROR(VLOOKUP(B83,пр.взв!$D$6:$Q$70,8,0),"") | K83: 2 | L83: =пр.хода!U20 -> 0 | M83: =IFERROR(VLOOKUP(L83,пр.взв!$D$6:$Q$70,2,0),"") | N83: =IFERROR(VLOOKUP(L83,пр.взв!$D$6:$Q$70,5,0),"") | O83: =IFERROR(VLOOKUP(L83,пр.взв!$D$6:$Q$70,6,0),"") | P83: =IFERROR(VLOOKUP(L83,пр.взв!$D$6:$Q$70,8,0),"")
B84: =пр.хода!K53 -> 0 | C84: =IFERROR(VLOOKUP(B84,пр.взв!$D$6:$Q$70,2,0),"") | D84: =IFERROR(VLOOKUP(B84,пр.взв!$D$6:$Q$70,5,0),"") | E84: =IFERROR(VLOOKUP(B84,пр.взв!$D$6:$Q$70,6,0),"") | F84: =IFERROR(VLOOKUP(B84,пр.взв!$D$6:$Q$70,8,0),"") | L84: =пр.хода!U53 -> 0 | M84: =IFERROR(VLOOKUP(L84,пр.взв!$D$6:$Q$70,2,0),"") | N84: =IFERROR(VLOOKUP(L84,пр.взв!$D$6:$Q$70,5,0),"") | O84: =IFERROR(VLOOKUP(L84,пр.взв!$D$6:$Q$70,6,0),"") | P84: =IFERROR(VLOOKUP(L84,пр.взв!$D$6:$Q$70,8,0),"")
B85: =B71 -> 0 | C85: КОВЕР | L85: =L71 -> 0 | M85: КОВЕР
A86: (Утешительные встречи) | K86: (Утешительные встречи)
B87: A | G87: =пр.взв!$D$4 -> 0 | L87: Б | Q87: =пр.взв!$D$4 -> 0
A88: № встр | B88: № п/ж | C88: Ф.И.О. | D88: Д. р., разряд | E88: Вед., регион | G88: Оценки | H88: Очки | I88: Результат | J88: Время | K88: № встр | L88: № п/ж | M88: Ф.И.О. | N88: Д. р., разряд | O88: Вед., регион | Q88: Оценки | R88: Очки | S88: Результат | T88: Время
A90: 1 | B90: =пр.хода!L7 -> 0 | C90: =IFERROR(VLOOKUP(B90,пр.взв!$B$7:$H$70,2,0),"") | D90: =IFERROR(VLOOKUP(B90,пр.взв!$B$7:$H$70,3,0),"") | E90: =IFERROR(VLOOKUP(B90,пр.взв!$B$7:$H$70,4,0),"") | F90: =IFERROR(VLOOKUP(B90,пр.взв!$B$7:$H$70,5,0),"") | K90: 3 | L90: =пр.хода!L56 -> 0 | M90: =IFERROR(VLOOKUP(L90,пр.взв!$B$7:$H$70,2,0),"") | N90: =IFERROR(VLOOKUP(L90,пр.взв!$B$7:$H$70,3,0),"") | O90: =IFERROR(VLOOKUP(L90,пр.взв!$B$7:$H$70,4,0),"") | P90: =IFERROR(VLOOKUP(L90,пр.взв!$B$7:$H$70,5,0),"")
B91: =пр.хода!L10 -> 0 | C91: =IFERROR(VLOOKUP(B91,пр.взв!$B$7:$H$70,2,0),"") | D91: =IFERROR(VLOOKUP(B91,пр.взв!$B$7:$H$70,3,0),"") | E91: =IFERROR(VLOOKUP(B91,пр.взв!$B$7:$H$70,4,0),"") | F91: =IFERROR(VLOOKUP(B91,пр.взв!$B$7:$H$70,5,0),"") | L91: =пр.хода!L59 -> 0 | M91: =IFERROR(VLOOKUP(L91,пр.взв!$B$7:$H$70,2,0),"") | N91: =IFERROR(VLOOKUP(L91,пр.взв!$B$7:$H$70,3,0),"") | O91: =IFERROR(VLOOKUP(L91,пр.взв!$B$7:$H$70,4,0),"") | P91: =IFERROR(VLOOKUP(L91,пр.взв!$B$7:$H$70,5,0),"")
A92: 2 | B92: =пр.хода!L14 -> 0 | C92: =IFERROR(VLOOKUP(B92,пр.взв!$B$7:$H$70,2,0),"") | D92: =IFERROR(VLOOKUP(B92,пр.взв!$B$7:$H$70,3,0),"") | E92: =IFERROR(VLOOKUP(B92,пр.взв!$B$7:$H$70,4,0),"") | F92: =IFERROR(VLOOKUP(B92,пр.взв!$B$7:$H$70,5,0),"") | K92: 4 | L92: =пр.хода!L63 -> 0 | M92: =IFERROR(VLOOKUP(L92,пр.взв!$B$7:$H$70,2,0),"") | N92: =IFERROR(VLOOKUP(L92,пр.взв!$B$7:$H$70,3,0),"") | O92: =IFERROR(VLOOKUP(L92,пр.взв!$B$7:$H$70,4,0),"") | P92: =IFERROR(VLOOKUP(L92,пр.взв!$B$7:$H$70,5,0),"")
B93: =пр.хода!L17 -> 0 | C93: =IFERROR(VLOOKUP(B93,пр.взв!$B$7:$H$70,2,0),"") | D93: =IFERROR(VLOOKUP(B93,пр.взв!$B$7:$H$70,3,0),"") | E93: =IFERROR(VLOOKUP(B93,пр.взв!$B$7:$H$70,4,0),"") | F93: =IFERROR(VLOOKUP(B93,пр.взв!$B$7:$H$70,5,0),"") | L93: =пр.хода!L66 -> 0 | M93: =IFERROR(VLOOKUP(L93,пр.взв!$B$7:$H$70,2,0),"") | N93: =IFERROR(VLOOKUP(L93,пр.взв!$B$7:$H$70,3,0),"") | O93: =IFERROR(VLOOKUP(L93,пр.взв!$B$7:$H$70,4,0),"") | P93: =IFERROR(VLOOKUP(L93,пр.взв!$B$7:$H$70,5,0),"")
A95: 5 | B95: =пр.хода!N8 -> 0 | C95: =IFERROR(VLOOKUP(B95,пр.взв!$B$7:$H$70,2,0),"") | D95: =IFERROR(VLOOKUP(B95,пр.взв!$B$7:$H$70,3,0),"") | E95: =IFERROR(VLOOKUP(B95,пр.взв!$B$7:$H$70,4,0),"") | F95: =IFERROR(VLOOKUP(B95,пр.взв!$B$7:$H$70,5,0),"") | K95: 7 | L95: =пр.хода!N57 -> 0 | M95: =IFERROR(VLOOKUP(L95,пр.взв!$B$7:$H$70,2,0),"") | N95: =IFERROR(VLOOKUP(L95,пр.взв!$B$7:$H$70,3,0),"") | O95: =IFERROR(VLOOKUP(L95,пр.взв!$B$7:$H$70,4,0),"") | P95: =IFERROR(VLOOKUP(L95,пр.взв!$B$7:$H$70,5,0),"")
B96: =пр.хода!N11 -> 0 | C96: =IFERROR(VLOOKUP(B96,пр.взв!$B$7:$H$70,2,0),"") | D96: =IFERROR(VLOOKUP(B96,пр.взв!$B$7:$H$70,3,0),"") | E96: =IFERROR(VLOOKUP(B96,пр.взв!$B$7:$H$70,4,0),"") | F96: =IFERROR(VLOOKUP(B96,пр.взв!$B$7:$H$70,5,0),"") | L96: =пр.хода!N60 -> 0 | M96: =IFERROR(VLOOKUP(L96,пр.взв!$B$7:$H$70,2,0),"") | N96: =IFERROR(VLOOKUP(L96,пр.взв!$B$7:$H$70,3,0),"") | O96: =IFERROR(VLOOKUP(L96,пр.взв!$B$7:$H$70,4,0),"") | P96: =IFERROR(VLOOKUP(L96,пр.взв!$B$7:$H$70,5,0),"")
A97: 6 | B97: =пр.хода!N15 -> 0 | C97: =IFERROR(VLOOKUP(B97,пр.взв!$B$7:$H$70,2,0),"") | D97: =IFERROR(VLOOKUP(B97,пр.взв!$B$7:$H$70,3,0),"") | E97: =IFERROR(VLOOKUP(B97,пр.взв!$B$7:$H$70,4,0),"") | F97: =IFERROR(VLOOKUP(B97,пр.взв!$B$7:$H$70,5,0),"") | K97: 8 | L97: =пр.хода!N64 -> 0 | M97: =IFERROR(VLOOKUP(L97,пр.взв!$B$7:$H$70,2,0),"") | N97: =IFERROR(VLOOKUP(L97,пр.взв!$B$7:$H$70,3,0),"") | O97: =IFERROR(VLOOKUP(L97,пр.взв!$B$7:$H$70,4,0),"") | P97: =IFERROR(VLOOKUP(L97,пр.взв!$B$7:$H$70,5,0),"")
B98: =пр.хода!N18 -> 0 | C98: =IFERROR(VLOOKUP(B98,пр.взв!$B$7:$H$70,2,0),"") | D98: =IFERROR(VLOOKUP(B98,пр.взв!$B$7:$H$70,3,0),"") | E98: =IFERROR(VLOOKUP(B98,пр.взв!$B$7:$H$70,4,0),"") | F98: =IFERROR(VLOOKUP(B98,пр.взв!$B$7:$H$70,5,0),"") | L98: =пр.хода!N67 -> 0 | M98: =IFERROR(VLOOKUP(L98,пр.взв!$B$7:$H$70,2,0),"") | N98: =IFERROR(VLOOKUP(L98,пр.взв!$B$7:$H$70,3,0),"") | O98: =IFERROR(VLOOKUP(L98,пр.взв!$B$7:$H$70,4,0),"") | P98: =IFERROR(VLOOKUP(L98,пр.взв!$B$7:$H$70,5,0),"")
A100: 9 | B100: =пр.хода!O10 -> 0 | C100: =IFERROR(VLOOKUP(B100,пр.взв!$B$7:$H$70,2,0),"") | D100: =IFERROR(VLOOKUP(B100,пр.взв!$B$7:$H$70,3,0),"") | E100: =IFERROR(VLOOKUP(B100,пр.взв!$B$7:$H$70,4,0),"") | F100: =IFERROR(VLOOKUP(B100,пр.взв!$B$7:$H$70,5,0),"") | K100: 11 | L100: =пр.хода!O59 -> 0 | M100: =IFERROR(VLOOKUP(L100,пр.взв!$B$7:$H$70,2,0),"") | N100: =IFERROR(VLOOKUP(L100,пр.взв!$B$7:$H$70,3,0),"") | O100: =IFERROR(VLOOKUP(L100,пр.взв!$B$7:$H$70,4,0),"") | P100: =IFERROR(VLOOKUP(L100,пр.взв!$B$7:$H$70,5,0),"")
B101: =пр.хода!O13 -> 0 | C101: =IFERROR(VLOOKUP(B101,пр.взв!$B$7:$H$70,2,0),"") | D101: =IFERROR(VLOOKUP(B101,пр.взв!$B$7:$H$70,3,0),"") | E101: =IFERROR(VLOOKUP(B101,пр.взв!$B$7:$H$70,4,0),"") | F101: =IFERROR(VLOOKUP(B101,пр.взв!$B$7:$H$70,5,0),"") | L101: =пр.хода!O62 -> 0 | M101: =IFERROR(VLOOKUP(L101,пр.взв!$B$7:$H$70,2,0),"") | N101: =IFERROR(VLOOKUP(L101,пр.взв!$B$7:$H$70,3,0),"") | O101: =IFERROR(VLOOKUP(L101,пр.взв!$B$7:$H$70,4,0),"") | P101: =IFERROR(VLOOKUP(L101,пр.взв!$B$7:$H$70,5,0),"")
A102: 10 | B102: =пр.хода!O17 -> 0 | C102: =IFERROR(VLOOKUP(B102,пр.взв!$B$7:$H$70,2,0),"") | D102: =IFERROR(VLOOKUP(B102,пр.взв!$B$7:$H$70,3,0),"") | E102: =IFERROR(VLOOKUP(B102,пр.взв!$B$7:$H$70,4,0),"") | F102: =IFERROR(VLOOKUP(B102,пр.взв!$B$7:$H$70,5,0),"") | K102: 12 | L102: =пр.хода!O66 -> 0 | M102: =IFERROR(VLOOKUP(L102,пр.взв!$B$7:$H$70,2,0),"") | N102: =IFERROR(VLOOKUP(L102,пр.взв!$B$7:$H$70,3,0),"") | O102: =IFERROR(VLOOKUP(L102,пр.взв!$B$7:$H$70,4,0),"") | P102: =IFERROR(VLOOKUP(L102,пр.взв!$B$7:$H$70,5,0),"")
B103: =пр.хода!O20 -> 0 | C103: =IFERROR(VLOOKUP(B103,пр.взв!$B$7:$H$70,2,0),"") | D103: =IFERROR(VLOOKUP(B103,пр.взв!$B$7:$H$70,3,0),"") | E103: =IFERROR(VLOOKUP(B103,пр.взв!$B$7:$H$70,4,0),"") | F103: =IFERROR(VLOOKUP(B103,пр.взв!$B$7:$H$70,5,0),"") | L103: =пр.хода!O69 -> 0 | M103: =IFERROR(VLOOKUP(L103,пр.взв!$B$7:$H$70,2,0),"") | N103: =IFERROR(VLOOKUP(L103,пр.взв!$B$7:$H$70,3,0),"") | O103: =IFERROR(VLOOKUP(L103,пр.взв!$B$7:$H$70,4,0),"") | P103: =IFERROR(VLOOKUP(L103,пр.взв!$B$7:$H$70,5,0),"")
A105: 13 | B105: =пр.хода!P12 -> 0 | C105: =IFERROR(VLOOKUP(B105,пр.взв!$B$7:$H$70,2,0),"") | D105: =IFERROR(VLOOKUP(B105,пр.взв!$B$7:$H$70,3,0),"") | E105: =IFERROR(VLOOKUP(B105,пр.взв!$B$7:$H$70,4,0),"") | F105: =IFERROR(VLOOKUP(B105,пр.взв!$B$7:$H$70,5,0),"") | K105: 14 | L105: =пр.хода!P61 -> 0 | M105: =IFERROR(VLOOKUP(L105,пр.взв!$B$7:$H$70,2,0),"") | N105: =IFERROR(VLOOKUP(L105,пр.взв!$B$7:$H$70,3,0),"") | O105: =IFERROR(VLOOKUP(L105,пр.взв!$B$7:$H$70,4,0),"") | P105: =IFERROR(VLOOKUP(L105,пр.взв!$B$7:$H$70,5,0),"")
B106: =пр.хода!P19 -> 0 | C106: =IFERROR(VLOOKUP(B106,пр.взв!$B$7:$H$70,2,0),"") | D106: =IFERROR(VLOOKUP(B106,пр.взв!$B$7:$H$70,3,0),"") | E106: =IFERROR(VLOOKUP(B106,пр.взв!$B$7:$H$70,4,0),"") | F106: =IFERROR(VLOOKUP(B106,пр.взв!$B$7:$H$70,5,0),"") | L106: =пр.хода!P68 -> 0 | M106: =IFERROR(VLOOKUP(L106,пр.взв!$B$7:$H$70,2,0),"") | N106: =IFERROR(VLOOKUP(L106,пр.взв!$B$7:$H$70,3,0),"") | O106: =IFERROR(VLOOKUP(L106,пр.взв!$B$7:$H$70,4,0),"") | P106: =IFERROR(VLOOKUP(L106,пр.взв!$B$7:$H$70,5,0),"")

Sheet за призовые места
A1: =пр.взв!C2 -> Первенство России по самбо (боевое) юниоры 18-20 лет (отбор на Первенство Мира и Европы) ЕКП № 23752
C3: ЗА 3 МЕСТО
C4: ВСТРЕЧА 1 | D4: =пр.взв!G4 -> В.к. 58 кг
A5: Цвет | B5: № п/ж | C5: Ф.И.О. | D5: Д. р., разряд | E5: Вед., регион | G5: Оценки | H5: Рез-т | I5: Время
B7: =пр.хода!Q15 -> 0 | C7: =IFERROR(VLOOKUP(B7,пр.взв!$B$7:$H$70,2,0),"") | D7: =IFERROR(VLOOKUP(B7,пр.взв!$B$7:$H$70,3,0),"") | E7: =IFERROR(VLOOKUP(B7,пр.взв!$B$7:$H$70,4,0),"") | F7: =IFERROR(VLOOKUP(B7,пр.взв!$B$7:$H$70,5,0),"")
B9: =пр.хода!Q21 -> 0 | C9: =IFERROR(VLOOKUP(B9,пр.взв!$B$7:$H$70,2,0),"") | D9: =IFERROR(VLOOKUP(B9,пр.взв!$B$7:$H$70,3,0),"") | E9: =IFERROR(VLOOKUP(B9,пр.взв!$B$7:$H$70,4,0),"") | F9: =IFERROR(VLOOKUP(B9,пр.взв!$B$7:$H$70,5,0),"")
A11: Руководитель ковра
B12: А
B13: Б
C15: 3А 3 МЕСТО
C16: ВСТРЕЧА 2 | D16: =D4 -> В.к. 58 кг
A17: Цвет | B17: № п/ж | C17: Ф.И.О. | D17: Д. р., разряд | E17: Вед., регион | G17: Оценки | H17: Рез-т | I17: Время
B19: =пр.хода!Q64 -> 0 | C19: =IFERROR(VLOOKUP(B19,пр.взв!$B$7:$H$70,2,0),"") | D19: =IFERROR(VLOOKUP(B19,пр.взв!$B$7:$H$70,3,0),"") | E19: =IFERROR(VLOOKUP(B19,пр.взв!$B$7:$H$70,4,0),"") | F19: =IFERROR(VLOOKUP(B19,пр.взв!$B$7:$H$70,5,0),"")
B21: =пр.хода!Q69 -> 0 | C21: =IFERROR(VLOOKUP(B21,пр.взв!$B$7:$H$70,2,0),"") | D21: =IFERROR(VLOOKUP(B21,пр.взв!$B$7:$H$70,3,0),"") | E21: =IFERROR(VLOOKUP(B21,пр.взв!$B$7:$H$70,4,0),"") | F21: =IFERROR(VLOOKUP(B21,пр.взв!$B$7:$H$70,5,0),"")
A23: Руководитель ковра
B24: А
B25: Б
C29: ФИНАЛ | D29: =D4 -> В.к. 58 кг | G29: БОЕВОЕ
A30: Цвет | B30: № п/ж | C30: Ф.И.О. | D30: Д. р., разряд | E30: Вед., регион | G30: Оценки | H30: Рез-т | I30: Время
B32: =пр.хода!M36 -> 0 | C32: =IFERROR(VLOOKUP(B32,пр.взв!$B$7:$H$70,2,0),"") | D32: =IFERROR(VLOOKUP(B32,пр.взв!$B$7:$H$70,3,0),"") | E32: =IFERROR(VLOOKUP(B32,пр.взв!$B$7:$H$70,4,0),"") | F32: =IFERROR(VLOOKUP(B32,пр.взв!$B$7:$H$70,5,0),"")
B34: =пр.хода!S36 -> 0 | C34: =IFERROR(VLOOKUP(B34,пр.взв!$B$7:$H$70,2,0),"") | D34: =IFERROR(VLOOKUP(B34,пр.взв!$B$7:$H$70,3,0),"") | E34: =IFERROR(VLOOKUP(B34,пр.взв!$B$7:$H$70,4,0),"") | F34: =IFERROR(VLOOKUP(B34,пр.взв!$B$7:$H$70,5,0),"")
A36: Руководитель ковра
B37: А
B38: Б

Sheet Табло
B1: ВСТРЕЧИ ПО КРУГАМ | M1: ВСТРЕЧИ ПО КРУГАМ
B2: 3 | C2: КОВЕР | E2: =пр.взв!H4 -> 0 | M2: =A2 -> 0 | N2: КОВЕР | P2: =E2 -> 0
B3: A | C3: (Круг) | D3: 1/16 | F3: 1/32 | G3: =пр.взв!G4 -> В.к. 58 кг | M3: Б | N3: (Круг) | O3: 1/16 | Q3: 1/32 | R3: =F3 -> 1/32
A4: № встр | B4: № п/ж | C4: Ф.И.О. | D4: Д. р., разряд | E4: Вед., регион | G4: Оценки | H4: Очки | I4: Рез-т | J4: Время | L4: № встр | M4: № п/ж | N4: Ф.И.О. | O4: Д. р., разряд | P4: Вед., регион | R4: Оценки | S4: Очки | T4: Рез-т | U4: Время
A6: 1 | B6: 1 | C6: =IFERROR(VLOOKUP(B6,пр.взв!$D$6:$Q$70,2,0),"") -> ТАГИРОВ Рабазан | D6: =IFERROR(VLOOKUP(B6,пр.взв!$D$6:$Q$70,5,0),"") -> КМС | E6: =IFERROR(VLOOKUP(B6,пр.взв!$D$6:$Q$70,6,0),"") -> ЦФО | F6: =IFERROR(VLOOKUP(B6,пр.взв!$D$6:$Q$70,8,0),"") -> Ярославская | L6: 17 | M6: 2 | N6: =IFERROR(VLOOKUP(M6,пр.взв!$D$6:$Q$70,2,0),"") -> ГУСЕЙНОВ Намик | O6: =IFERROR(VLOOKUP(M6,пр.взв!$D$6:$Q$70,5,0),"") -> 3p | P6: =IFERROR(VLOOKUP(M6,пр.взв!$D$6:$Q$70,6,0),"") -> ПФО | Q6: =IFERROR(VLOOKUP(M6,пр.взв!$D$6:$Q$70,8,0),"") -> Нижегородская
B7: 33 | C7: =IFERROR(VLOOKUP(B7,пр.взв!$D$6:$Q$70,2,0),"") -> ТАДЫШЕВ Данил | D7: =IFERROR(VLOOKUP(B7,пр.взв!$D$6:$Q$70,5,0),"") -> КМС | E7: =IFERROR(VLOOKUP(B7,пр.взв!$D$6:$Q$70,6,0),"") -> СФО | F7: =IFERROR(VLOOKUP(B7,пр.взв!$D$6:$Q$70,8,0),"") -> Р.Алтай | M7: 34 | N7: =IFERROR(VLOOKUP(M7,пр.взв!$D$6:$Q$70,2,0),"") | O7: =IFERROR(VLOOKUP(M7,пр.взв!$D$6:$Q$70,5,0),"") | P7: =IFERROR(VLOOKUP(M7,пр.взв!$D$6:$Q$70,6,0),"") | Q7: =IFERROR(VLOOKUP(M7,пр.взв!$D$6:$Q$70,8,0),"")
A8: 2 | B8: 17 | C8: =IFERROR(VLOOKUP(B8,пр.взв!$D$6:$Q$70,2,0),"") -> ЮНУСОВ Ильнур | D8: =IFERROR(VLOOKUP(B8,пр.взв!$D$6:$Q$70,5,0),"") -> КМС | E8: =IFERROR(VLOOKUP(B8,пр.взв!$D$6:$Q$70,6,0),"") -> ПФО | F8: =IFERROR(VLOOKUP(B8,пр.взв!$D$6:$Q$70,8,0),"") -> Р.Татарстан | L8: 18 | M8: 18 | N8: =IFERROR(VLOOKUP(M8,пр.взв!$D$6:$Q$70,2,0),"") -> УМАЕВ Азамат | O8: =IFERROR(VLOOKUP(M8,пр.взв!$D$6:$Q$70,5,0),"") -> КМС | P8: =IFERROR(VLOOKUP(M8,пр.взв!$D$6:$Q$70,6,0),"") -> ЦФО | Q8: =IFERROR(VLOOKUP(M8,пр.взв!$D$6:$Q$70,8,0),"") -> Московская
B9: 49 | C9: =IFERROR(VLOOKUP(B9,пр.взв!$D$6:$Q$70,2,0),"") | D9: =IFERROR(VLOOKUP(B9,пр.взв!$D$6:$Q$70,5,0),"") | E9: =IFERROR(VLOOKUP(B9,пр.взв!$D$6:$Q$70,6,0),"") | F9: =IFERROR(VLOOKUP(B9,пр.взв!$D$6:$Q$70,8,0),"") | M9: 50 | N9: =IFERROR(VLOOKUP(M9,пр.взв!$D$6:$Q$70,2,0),"") | O9: =IFERROR(VLOOKUP(M9,пр.взв!$D$6:$Q$70,5,0),"") | P9: =IFERROR(VLOOKUP(M9,пр.взв!$D$6:$Q$70,6,0),"") | Q9: =IFERROR(VLOOKUP(M9,пр.взв!$D$6:$Q$70,8,0),"")
A10: 3 | B10: 9 | C10: =IFERROR(VLOOKUP(B10,пр.взв!$D$6:$Q$70,2,0),"") -> КАКАДЖАНОВ Рустам | D10: =IFERROR(VLOOKUP(B10,пр.взв!$D$6:$Q$70,5,0),"") -> КМС | E10: =IFERROR(VLOOKUP(B10,пр.взв!$D$6:$Q$70,6,0),"") -> ЦФО | F10: =IFERROR(VLOOKUP(B10,пр.взв!$D$6:$Q$70,8,0),"") -> Московская | L10: 19 | M10: 10 | N10: =IFERROR(VLOOKUP(M10,пр.взв!$D$6:$Q$70,2,0),"") -> АМИРОВ Исмаил | O10: =IFERROR(VLOOKUP(M10,пр.взв!$D$6:$Q$70,5,0),"") -> КМС | P10: =IFERROR(VLOOKUP(M10,пр.взв!$D$6:$Q$70,6,0),"") -> СКФО | Q10: =IFERROR(VLOOKUP(M10,пр.взв!$D$6:$Q$70,8,0),"") -> Чеченская
B11: 41 | C11: =IFERROR(VLOOKUP(B11,пр.взв!$D$6:$Q$70,2,0),"") | D11: =IFERROR(VLOOKUP(B11,пр.взв!$D$6:$Q$70,5,0),"") | E11: =IFERROR(VLOOKUP(B11,пр.взв!$D$6:$Q$70,6,0),"") | F11: =IFERROR(VLOOKUP(B11,пр.взв!$D$6:$Q$70,8,0),"") | M11: 42 | N11: =IFERROR(VLOOKUP(M11,пр.взв!$D$6:$Q$70,2,0),"") | O11: =IFERROR(VLOOKUP(M11,пр.взв!$D$6:$Q$70,5,0),"") | P11: =IFERROR(VLOOKUP(M11,пр.взв!$D$6:$Q$70,6,0),"") | Q11: =IFERROR(VLOOKUP(M11,пр.взв!$D$6:$Q$70,8,0),"")
A12: 4 | B12: 25 | C12: =IFERROR(VLOOKUP(B12,пр.взв!$D$6:$Q$70,2,0),"") -> МАГОМЕДОВ Саид | D12: =IFERROR(VLOOKUP(B12,пр.взв!$D$6:$Q$70,5,0),"") -> 3p | E12: =IFERROR(VLOOKUP(B12,пр.взв!$D$6:$Q$70,6,0),"") -> СКФО | F12: =IFERROR(VLOOKUP(B12,пр.взв!$D$6:$Q$70,8,0),"") -> Р.Дагестан | L12: 20 | M12: 26 | N12: =IFERROR(VLOOKUP(M12,пр.взв!$D$6:$Q$70,2,0),"") -> АКОБЯН Мартин | O12: =IFERROR(VLOOKUP(M12,пр.взв!$D$6:$Q$70,5,0),"") -> КМС | P12: =IFERROR(VLOOKUP(M12,пр.взв!$D$6:$Q$70,6,0),"") -> ПФО | Q12: =IFERROR(VLOOKUP(M12,пр.взв!$D$6:$Q$70,8,0),"") -> Р.Татарстан
B13: 57 | C13: =IFERROR(VLOOKUP(B13,пр.взв!$D$6:$Q$70,2,0),"") | D13: =IFERROR(VLOOKUP(B13,пр.взв!$D$6:$Q$70,5,0),"") | E13: =IFERROR(VLOOKUP(B13,пр.взв!$D$6:$Q$70,6,0),"") | F13: =IFERROR(VLOOKUP(B13,пр.взв!$D$6:$Q$70,8,0),"") | M13: 58 | N13: =IFERROR(VLOOKUP(M13,пр.взв!$D$6:$Q$70,2,0),"") | O13: =IFERROR(VLOOKUP(M13,пр.взв!$D$6:$Q$70,5,0),"") | P13: =IFERROR(VLOOKUP(M13,пр.взв!$D$6:$Q$70,6,0),"") | Q13: =IFERROR(VLOOKUP(M13,пр.взв!$D$6:$Q$70,8,0),"")
A14: 5 | B14: 5 | C14: =IFERROR(VLOOKUP(B14,пр.взв!$D$6:$Q$70,2,0),"") -> КОРОБЦОВ Алексей | D14: =IFERROR(VLOOKUP(B14,пр.взв!$D$6:$Q$70,5,0),"") -> КМС | E14: =IFERROR(VLOOKUP(B14,пр.взв!$D$6:$Q$70,6,0),"") -> ДВФО | F14: =IFERROR(VLOOKUP(B14,пр.взв!$D$6:$Q$70,8,0),"") -> Камчатский | L14: 21 | M14: 6 | N14: =IFERROR(VLOOKUP(M14,пр.взв!$D$6:$Q$70,2,0),"") -> АБДУРАХМАНОВ Муслим | O14: =IFERROR(VLOOKUP(M14,пр.взв!$D$6:$Q$70,5,0),"") -> КМС | P14: =IFERROR(VLOOKUP(M14,пр.взв!$D$6:$Q$70,6,0),"") -> МОС | Q14: =IFERROR(VLOOKUP(M14,пр.взв!$D$6:$Q$70,8,0),"") -> Москва
B15: 37 | C15: =IFERROR(VLOOKUP(B15,пр.взв!$D$6:$Q$70,2,0),"") | D15: =IFERROR(VLOOKUP(B15,пр.взв!$D$6:$Q$70,5,0),"") | E15: =IFERROR(VLOOKUP(B15,пр.взв!$D$6:$Q$70,6,0),"") | F15: =IFERROR(VLOOKUP(B15,пр.взв!$D$6:$Q$70,8,0),"") | M15: 38 | N15: =IFERROR(VLOOKUP(M15,пр.взв!$D$6:$Q$70,2,0),"") | O15: =IFERROR(VLOOKUP(M15,пр.взв!$D$6:$Q$70,5,0),"") | P15: =IFERROR(VLOOKUP(M15,пр.взв!$D$6:$Q$70,6,0),"") | Q15: =IFERROR(VLOOKUP(M15,пр.взв!$D$6:$Q$70,8,0),"")
A16: 6 | B16: 21 | C16: =IFERROR(VLOOKUP(B16,пр.взв!$D$6:$Q$70,2,0),"") -> ШИШКОВ Данил | D16: =IFERROR(VLOOKUP(B16,пр.взв!$D$6:$Q$70,5,0),"") -> КМС | E16: =IFERROR(VLOOKUP(B16,пр.взв!$D$6:$Q$70,6,0),"") -> СФО | F16: =IFERROR(VLOOKUP(B16,пр.взв!$D$6:$Q$70,8,0),"") -> Иркутская | L16: 22 | M16: 22 | N16: =IFERROR(VLOOKUP(M16,пр.взв!$D$6:$Q$70,2,0),"") -> АЛЛАБЕРГЕНОВ Богдан | O16: =IFERROR(VLOOKUP(M16,пр.взв!$D$6:$Q$70,5,0),"") -> КМС | P16: =IFERROR(VLOOKUP(M16,пр.взв!$D$6:$Q$70,6,0),"") -> ПФО | Q16: =IFERROR(VLOOKUP(M16,пр.взв!$D$6:$Q$70,8,0),"") -> Самарская
B17: 53 | C17: =IFERROR(VLOOKUP(B17,пр.взв!$D$6:$Q$70,2,0),"") | D17: =IFERROR(VLOOKUP(B17,пр.взв!$D$6:$Q$70,5,0),"") | E17: =IFERROR(VLOOKUP(B17,пр.взв!$D$6:$Q$70,6,0),"") | F17: =IFERROR(VLOOKUP(B17,пр.взв!$D$6:$Q$70,8,0),"") | M17: 54 | N17: =IFERROR(VLOOKUP(M17,пр.взв!$D$6:$Q$70,2,0),"") | O17: =IFERROR(VLOOKUP(M17,пр.взв!$D$6:$Q$70,5,0),"") | P17: =IFERROR(VLOOKUP(M17,пр.взв!$D$6:$Q$70,6,0),"") | Q17: =IFERROR(VLOOKUP(M17,пр.взв!$D$6:$Q$70,8,0),"")
A18: 7 | B18: 13 | C18: =IFERROR(VLOOKUP(B18,пр.взв!$D$6:$Q$70,2,0),"") -> СШИВНОВ Владислав | D18: =IFERROR(VLOOKUP(B18,пр.взв!$D$6:$Q$70,5,0),"") -> КМС | E18: =IFERROR(VLOOKUP(B18,пр.взв!$D$6:$Q$70,6,0),"") -> ПФО | F18: =IFERROR(VLOOKUP(B18,пр.взв!$D$6:$Q$70,8,0),"") -> Нижегородская | L18: 23 | M18: 14 | N18: =IFERROR(VLOOKUP(M18,пр.взв!$D$6:$Q$70,2,0),"") -> ДОНДОКОВ Мунко | O18: =IFERROR(VLOOKUP(M18,пр.взв!$D$6:$Q$70,5,0),"") -> КМС | P18: =IFERROR(VLOOKUP(M18,пр.взв!$D$6:$Q$70,6,0),"") -> ДВФО | Q18: =IFERROR(VLOOKUP(M18,пр.взв!$D$6:$Q$70,8,0),"") -> Р.Бурятия
B19: 45 | C19: =IFERROR(VLOOKUP(B19,пр.взв!$D$6:$Q$70,2,0),"") | D19: =IFERROR(VLOOKUP(B19,пр.взв!$D$6:$Q$70,5,0),"") | E19: =IFERROR(VLOOKUP(B19,пр.взв!$D$6:$Q$70,6,0),"") | F19: =IFERROR(VLOOKUP(B19,пр.взв!$D$6:$Q$70,8,0),"") | M19: 46 | N19: =IFERROR(VLOOKUP(M19,пр.взв!$D$6:$Q$70,2,0),"") | O19: =IFERROR(VLOOKUP(M19,пр.взв!$D$6:$Q$70,5,0),"") | P19: =IFERROR(VLOOKUP(M19,пр.взв!$D$6:$Q$70,6,0),"") | Q19: =IFERROR(VLOOKUP(M19,пр.взв!$D$6:$Q$70,8,0),"")
A20: 8 | B20: 29 | C20: =IFERROR(VLOOKUP(B20,пр.взв!$D$6:$Q$70,2,0),"") -> ТАРАНЧЕНКО Дмитрий | D20: =IFERROR(VLOOKUP(B20,пр.взв!$D$6:$Q$70,5,0),"") -> КМС | E20: =IFERROR(VLOOKUP(B20,пр.взв!$D$6:$Q$70,6,0),"") -> УФО | F20: =IFERROR(VLOOKUP(B20,пр.взв!$D$6:$Q$70,8,0),"") -> Свердловская | L20: 24 | M20: 30 | N20: =IFERROR(VLOOKUP(M20,пр.взв!$D$6:$Q$70,2,0),"") -> АНТАДИКОВ Игорь | O20: =IFERROR(VLOOKUP(M20,пр.взв!$D$6:$Q$70,5,0),"") -> КМС | P20: =IFERROR(VLOOKUP(M20,пр.взв!$D$6:$Q$70,6,0),"") -> СФО | Q20: =IFERROR(VLOOKUP(M20,пр.взв!$D$6:$Q$70,8,0),"") -> Р.Алтай
B21: 61 | C21: =IFERROR(VLOOKUP(B21,пр.взв!$D$6:$Q$70,2,0),"") | D21: =IFERROR(VLOOKUP(B21,пр.взв!$D$6:$Q$70,5,0),"") | E21: =IFERROR(VLOOKUP(B21,пр.взв!$D$6:$Q$70,6,0),"") | F21: =IFERROR(VLOOKUP(B21,пр.взв!$D$6:$Q$70,8,0),"") | M21: 62 | N21: =IFERROR(VLOOKUP(M21,пр.взв!$D$6:$Q$70,2,0),"") | O21: =IFERROR(VLOOKUP(M21,пр.взв!$D$6:$Q$70,5,0),"") | P21: =IFERROR(VLOOKUP(M21,пр.взв!$D$6:$Q$70,6,0),"") | Q21: =IFERROR(VLOOKUP(M21,пр.взв!$D$6:$Q$70,8,0),"")
A22: 9 | B22: 3 | C22: =IFERROR(VLOOKUP(B22,пр.взв!$D$6:$Q$70,2,0),"") -> БАЛТРУШИН Сергей | D22: =IFERROR(VLOOKUP(B22,пр.взв!$D$6:$Q$70,5,0),"") -> КМС | E22: =IFERROR(VLOOKUP(B22,пр.взв!$D$6:$Q$70,6,0),"") -> СЗФО | F22: =IFERROR(VLOOKUP(B22,пр.взв!$D$6:$Q$70,8,0),"") -> Санкт-Петербург | L22: 25 | M22: 4 | N22: =IFERROR(VLOOKUP(M22,пр.взв!$D$6:$Q$70,2,0),"") -> ЮНУСОВ Ильгиз | O22: =IFERROR(VLOOKUP(M22,пр.взв!$D$6:$Q$70,5,0),"") -> КМС | P22: =IFERROR(VLOOKUP(M22,пр.взв!$D$6:$Q$70,6,0),"") -> ПФО | Q22: =IFERROR(VLOOKUP(M22,пр.взв!$D$6:$Q$70,8,0),"") -> Р.Татарстан
B23: 35 | C23: =IFERROR(VLOOKUP(B23,пр.взв!$D$6:$Q$70,2,0),"") | D23: =IFERROR(VLOOKUP(B23,пр.взв!$D$6:$Q$70,5,0),"") | E23: =IFERROR(VLOOKUP(B23,пр.взв!$D$6:$Q$70,6,0),"") | F23: =IFERROR(VLOOKUP(B23,пр.взв!$D$6:$Q$70,8,0),"") | M23: 36 | N23: =IFERROR(VLOOKUP(M23,пр.взв!$D$6:$Q$70,2,0),"") | O23: =IFERROR(VLOOKUP(M23,пр.взв!$D$6:$Q$70,5,0),"") | P23: =IFERROR(VLOOKUP(M23,пр.взв!$D$6:$Q$70,6,0),"") | Q23: =IFERROR(VLOOKUP(M23,пр.взв!$D$6:$Q$70,8,0),"")
A24: 10 | B24: 19 | C24: =IFERROR(VLOOKUP(B24,пр.взв!$D$6:$Q$70,2,0),"") -> АЛМАДАКОВ Рамиль | D24: =IFERROR(VLOOKUP(B24,пр.взв!$D$6:$Q$70,5,0),"") -> КМС | E24: =IFERROR(VLOOKUP(B24,пр.взв!$D$6:$Q$70,6,0),"") -> СФО | F24: =IFERROR(VLOOKUP(B24,пр.взв!$D$6:$Q$70,8,0),"") -> Р.Алтай | L24: 26 | M24: 20 | N24: =IFERROR(VLOOKUP(M24,пр.взв!$D$6:$Q$70,2,0),"") -> ФИЛИППОВ Олег | O24: =IFERROR(VLOOKUP(M24,пр.взв!$D$6:$Q$70,5,0),"") -> МС | P24: =IFERROR(VLOOKUP(M24,пр.взв!$D$6:$Q$70,6,0),"") -> СЗФО | Q24: =IFERROR(VLOOKUP(M24,пр.взв!$D$6:$Q$70,8,0),"") -> Калининградская
B25: 51 | C25: =IFERROR(VLOOKUP(B25,пр.взв!$D$6:$Q$70,2,0),"") | D25: =IFERROR(VLOOKUP(B25,пр.взв!$D$6:$Q$70,5,0),"") | E25: =IFERROR(VLOOKUP(B25,пр.взв!$D$6:$Q$70,6,0),"") | F25: =IFERROR(VLOOKUP(B25,пр.взв!$D$6:$Q$70,8,0),"") | M25: 52 | N25: =IFERROR(VLOOKUP(M25,пр.взв!$D$6:$Q$70,2,0),"") | O25: =IFERROR(VLOOKUP(M25,пр.взв!$D$6:$Q$70,5,0),"") | P25: =IFERROR(VLOOKUP(M25,пр.взв!$D$6:$Q$70,6,0),"") | Q25: =IFERROR(VLOOKUP(M25,пр.взв!$D$6:$Q$70,8,0),"")
A26: 11 | B26: 11 | C26: =IFERROR(VLOOKUP(B26,пр.взв!$D$6:$Q$70,2,0),"") -> АРСАМИКОВ Ибрахим | D26: =IFERROR(VLOOKUP(B26,пр.взв!$D$6:$Q$70,5,0),"") -> КМС | E26: =IFERROR(VLOOKUP(B26,пр.взв!$D$6:$Q$70,6,0),"") -> МОС | F26: =IFERROR(VLOOKUP(B26,пр.взв!$D$6:$Q$70,8,0),"") -> Москва | L26: 27 | M26: 12 | N26: =IFERROR(VLOOKUP(M26,пр.взв!$D$6:$Q$70,2,0),"") -> ГАЖДИЕВ Завир | O26: =IFERROR(VLOOKUP(M26,пр.взв!$D$6:$Q$70,5,0),"") -> МС | P26: =IFERROR(VLOOKUP(M26,пр.взв!$D$6:$Q$70,6,0),"") -> СКФО | Q26: =IFERROR(VLOOKUP(M26,пр.взв!$D$6:$Q$70,8,0),"") -> Р.Дагестан
B27: 43 | C27: =IFERROR(VLOOKUP(B27,пр.взв!$D$6:$Q$70,2,0),"") | D27: =IFERROR(VLOOKUP(B27,пр.взв!$D$6:$Q$70,5,0),"") | E27: =IFERROR(VLOOKUP(B27,пр.взв!$D$6:$Q$70,6,0),"") | F27: =IFERROR(VLOOKUP(B27,пр.взв!$D$6:$Q$70,8,0),"") | M27: 44 | N27: =IFERROR(VLOOKUP(M27,пр.взв!$D$6:$Q$70,2,0),"") | O27: =IFERROR(VLOOKUP(M27,пр.взв!$D$6:$Q$70,5,0),"") | P27: =IFERROR(VLOOKUP(M27,пр.взв!$D$6:$Q$70,6,0),"") | Q27: =IFERROR(VLOOKUP(M27,пр.взв!$D$6:$Q$70,8,0),"")
A28: 12 | B28: 27 | C28: =IFERROR(VLOOKUP(B28,пр.взв!$D$6:$Q$70,2,0),"") -> БЛАГОДАРИН Артур | D28: =IFERROR(VLOOKUP(B28,пр.взв!$D$6:$Q$70,5,0),"") -> КМС | E28: =IFERROR(VLOOKUP(B28,пр.взв!$D$6:$Q$70,6,0),"") -> ПФО | F28: =IFERROR(VLOOKUP(B28,пр.взв!$D$6:$Q$70,8,0),"") -> Ульяновская | L28: 28 | M28: 28 | N28: =IFERROR(VLOOKUP(M28,пр.взв!$D$6:$Q$70,2,0),"") -> ЯХЪЯЕВ Мансур | O28: =IFERROR(VLOOKUP(M28,пр.взв!$D$6:$Q$70,5,0),"") -> КМС | P28: =IFERROR(VLOOKUP(M28,пр.взв!$D$6:$Q$70,6,0),"") -> СКФО | Q28: =IFERROR(VLOOKUP(M28,пр.взв!$D$6:$Q$70,8,0),"") -> Чеченская
B29: 59 | C29: =IFERROR(VLOOKUP(B29,пр.взв!$D$6:$Q$70,2,0),"") | D29: =IFERROR(VLOOKUP(B29,пр.взв!$D$6:$Q$70,5,0),"") | E29: =IFERROR(VLOOKUP(B29,пр.взв!$D$6:$Q$70,6,0),"") | F29: =IFERROR(VLOOKUP(B29,пр.взв!$D$6:$Q$70,8,0),"") | M29: 60 | N29: =IFERROR(VLOOKUP(M29,пр.взв!$D$6:$Q$70,2,0),"") | O29: =IFERROR(VLOOKUP(M29,пр.взв!$D$6:$Q$70,5,0),"") | P29: =IFERROR(VLOOKUP(M29,пр.взв!$D$6:$Q$70,6,0),"") | Q29: =IFERROR(VLOOKUP(M29,пр.взв!$D$6:$Q$70,8,0),"")
A30: 13 | B30: 7 | C30: =IFERROR(VLOOKUP(B30,пр.взв!$D$6:$Q$70,2,0),"") -> ХАБИБУЛАЕВ Турпал | D30: =IFERROR(VLOOKUP(B30,пр.взв!$D$6:$Q$70,5,0),"") -> КМС | E30: =IFERROR(VLOOKUP(B30,пр.взв!$D$6:$Q$70,6,0),"") -> СКФО | F30: =IFERROR(VLOOKUP(B30,пр.взв!$D$6:$Q$70,8,0),"") -> Чеченская | L30: 29 | M30: 8 | N30: =IFERROR(VLOOKUP(M30,пр.взв!$D$6:$Q$70,2,0),"") -> ДЕХНИЧ Глеб | O30: =IFERROR(VLOOKUP(M30,пр.взв!$D$6:$Q$70,5,0),"") -> 1р | P30: =IFERROR(VLOOKUP(M30,пр.взв!$D$6:$Q$70,6,0),"") -> УФО | Q30: =IFERROR(VLOOKUP(M30,пр.взв!$D$6:$Q$70,8,0),"") -> Челябинская
B31: 39 | C31: =IFERROR(VLOOKUP(B31,пр.взв!$D$6:$Q$70,2,0),"") | D31: =IFERROR(VLOOKUP(B31,пр.взв!$D$6:$Q$70,5,0),"") | E31: =IFERROR(VLOOKUP(B31,пр.взв!$D$6:$Q$70,6,0),"") | F31: =IFERROR(VLOOKUP(B31,пр.взв!$D$6:$Q$70,8,0),"") | M31: 40 | N31: =IFERROR(VLOOKUP(M31,пр.взв!$D$6:$Q$70,2,0),"") | O31: =IFERROR(VLOOKUP(M31,пр.взв!$D$6:$Q$70,5,0),"") | P31: =IFERROR(VLOOKUP(M31,пр.взв!$D$6:$Q$70,6,0),"") | Q31: =IFERROR(VLOOKUP(M31,пр.взв!$D$6:$Q$70,8,0),"")
A32: 14 | B32: 23 | C32: =IFERROR(VLOOKUP(B32,пр.взв!$D$6:$Q$70,2,0),"") -> ООРЖАК Айдын | D32: =IFERROR(VLOOKUP(B32,пр.взв!$D$6:$Q$70,5,0),"") -> КМС | E32: =IFERROR(VLOOKUP(B32,пр.взв!$D$6:$Q$70,6,0),"") -> ДВФО | F32: =IFERROR(VLOOKUP(B32,пр.взв!$D$6:$Q$70,8,0),"") -> Р.Бурятия | L32: 30 | M32: 24 | N32: =IFERROR(VLOOKUP(M32,пр.взв!$D$6:$Q$70,2,0),"") -> СЕДИНИН Никита | O32: =IFERROR(VLOOKUP(M32,пр.взв!$D$6:$Q$70,5,0),"") -> КМС | P32: =IFERROR(VLOOKUP(M32,пр.взв!$D$6:$Q$70,6,0),"") -> ПФО | Q32: =IFERROR(VLOOKUP(M32,пр.взв!$D$6:$Q$70,8,0),"") -> Пермский
B33: 55 | C33: =IFERROR(VLOOKUP(B33,пр.взв!$D$6:$Q$70,2,0),"") | D33: =IFERROR(VLOOKUP(B33,пр.взв!$D$6:$Q$70,5,0),"") | E33: =IFERROR(VLOOKUP(B33,пр.взв!$D$6:$Q$70,6,0),"") | F33: =IFERROR(VLOOKUP(B33,пр.взв!$D$6:$Q$70,8,0),"") | M33: 56 | N33: =IFERROR(VLOOKUP(M33,пр.взв!$D$6:$Q$70,2,0),"") | O33: =IFERROR(VLOOKUP(M33,пр.взв!$D$6:$Q$70,5,0),"") | P33: =IFERROR(VLOOKUP(M33,пр.взв!$D$6:$Q$70,6,0),"") | Q33: =IFERROR(VLOOKUP(M33,пр.взв!$D$6:$Q$70,8,0),"")
A34: 15 | B34: 15 | C34: =IFERROR(VLOOKUP(B34,пр.взв!$D$6:$Q$70,2,0),"") -> ОЧУР Сай-Булат | D34: =IFERROR(VLOOKUP(B34,пр.взв!$D$6:$Q$70,5,0),"") -> КМС | E34: =IFERROR(VLOOKUP(B34,пр.взв!$D$6:$Q$70,6,0),"") -> СФО | F34: =IFERROR(VLOOKUP(B34,пр.взв!$D$6:$Q$70,8,0),"") -> Р.Тыва | L34: 31 | M34: 16 | N34: =IFERROR(VLOOKUP(M34,пр.взв!$D$6:$Q$70,2,0),"") -> НУРЕЛОВ Кайрат | O34: =IFERROR(VLOOKUP(M34,пр.взв!$D$6:$Q$70,5,0),"") -> КМС | P34: =IFERROR(VLOOKUP(M34,пр.взв!$D$6:$Q$70,6,0),"") -> СФО | Q34: =IFERROR(VLOOKUP(M34,пр.взв!$D$6:$Q$70,8,0),"") -> Р.Алтай
B35: 47 | C35: =IFERROR(VLOOKUP(B35,пр.взв!$D$6:$Q$70,2,0),"") | D35: =IFERROR(VLOOKUP(B35,пр.взв!$D$6:$Q$70,5,0),"") | E35: =IFERROR(VLOOKUP(B35,пр.взв!$D$6:$Q$70,6,0),"") | F35: =IFERROR(VLOOKUP(B35,пр.взв!$D$6:$Q$70,8,0),"") | M35: 48 | N35: =IFERROR(VLOOKUP(M35,пр.взв!$D$6:$Q$70,2,0),"") | O35: =IFERROR(VLOOKUP(M35,пр.взв!$D$6:$Q$70,5,0),"") | P35: =IFERROR(VLOOKUP(M35,пр.взв!$D$6:$Q$70,6,0),"") | Q35: =IFERROR(VLOOKUP(M35,пр.взв!$D$6:$Q$70,8,0),"")
A36: 16 | B36: 31 | C36: =IFERROR(VLOOKUP(B36,пр.взв!$D$6:$Q$70,2,0),"") -> СЕДИН Данил | D36: =IFERROR(VLOOKUP(B36,пр.взв!$D$6:$Q$70,5,0),"") -> КМС | E36: =IFERROR(VLOOKUP(B36,пр.взв!$D$6:$Q$70,6,0),"") -> ПФО | F36: =IFERROR(VLOOKUP(B36,пр.взв!$D$6:$Q$70,8,0),"") -> Пермский | L36: 32 | M36: 32 | N36: =IFERROR(VLOOKUP(M36,пр.взв!$D$6:$Q$70,2,0),"") -> КОЛПАКОВ Сергей | O36: =IFERROR(VLOOKUP(M36,пр.взв!$D$6:$Q$70,5,0),"") -> МС | P36: =IFERROR(VLOOKUP(M36,пр.взв!$D$6:$Q$70,6,0),"") -> ПФО | Q36: =IFERROR(VLOOKUP(M36,пр.взв!$D$6:$Q$70,8,0),"") -> Нижегородская
B37: 63 | C37: =IFERROR(VLOOKUP(B37,пр.взв!$D$6:$Q$70,2,0),"") | D37: =IFERROR(VLOOKUP(B37,пр.взв!$D$6:$Q$70,5,0),"") | E37: =IFERROR(VLOOKUP(B37,пр.взв!$D$6:$Q$70,6,0),"") | F37: =IFERROR(VLOOKUP(B37,пр.взв!$D$6:$Q$70,8,0),"") | M37: 64 | N37: =IFERROR(VLOOKUP(M37,пр.взв!$D$6:$Q$70,2,0),"") | O37: =IFERROR(VLOOKUP(M37,пр.взв!$D$6:$Q$70,5,0),"") | P37: =IFERROR(VLOOKUP(M37,пр.взв!$D$6:$Q$70,6,0),"") | Q37: =IFERROR(VLOOKUP(M37,пр.взв!$D$6:$Q$70,8,0),"")
B38: A | C38: (Круг) | F38: 1/16 | G38: =пр.взв!$D$4 -> 0 | M38: Б | N38: (Круг) | Q38: 1/16 | R38: =пр.взв!$D$4 -> 0
A39: № встр | B39: № п/ж | C39: Ф.И.О. | D39: Д. р., разряд | E39: Вед., регион | G39: Оценки | H39: Очки | I39: Результат | J39: Время | L39: № встр | M39: № п/ж | N39: Ф.И.О. | O39: Д. р., разряд | P39: Вед., регион | R39: Оценки | S39: Очки | T39: Результат | U39: Время
A41: 1 | B41: =пр.хода!E6 -> 0 | C41: =IFERROR(VLOOKUP(B41,пр.взв!$D$6:$Q$70,2,0),"") | D41: =IFERROR(VLOOKUP(B41,пр.взв!$D$6:$Q$70,5,0),"") | E41: =IFERROR(VLOOKUP(B41,пр.взв!$D$6:$Q$70,6,0),"") | F41: =IFERROR(VLOOKUP(B41,пр.взв!$D$6:$Q$70,8,0),"") | L41: 9 | M41: =пр.хода!AA6 -> 2 | N41: =IFERROR(VLOOKUP(M41,пр.взв!$D$6:$Q$70,2,0),"") -> ГУСЕЙНОВ Намик | O41: =IFERROR(VLOOKUP(M41,пр.взв!$D$6:$Q$70,5,0),"") -> 3p | P41: =IFERROR(VLOOKUP(M41,пр.взв!$D$6:$Q$70,6,0),"") -> ПФО | Q41: =IFERROR(VLOOKUP(M41,пр.взв!$D$6:$Q$70,8,0),"") -> Нижегородская
B42: =пр.хода!E10 -> 17 | C42: =IFERROR(VLOOKUP(B42,пр.взв!$D$6:$Q$70,2,0),"") -> ЮНУСОВ Ильнур | D42: =IFERROR(VLOOKUP(B42,пр.взв!$D$6:$Q$70,5,0),"") -> КМС | E42: =IFERROR(VLOOKUP(B42,пр.взв!$D$6:$Q$70,6,0),"") -> ПФО | F42: =IFERROR(VLOOKUP(B42,пр.взв!$D$6:$Q$70,8,0),"") -> Р.Татарстан | M42: =пр.хода!AA10 -> 18 | N42: =IFERROR(VLOOKUP(M42,пр.взв!$D$6:$Q$70,2,0),"") -> УМАЕВ Азамат | O42: =IFERROR(VLOOKUP(M42,пр.взв!$D$6:$Q$70,5,0),"") -> КМС | P42: =IFERROR(VLOOKUP(M42,пр.взв!$D$6:$Q$70,6,0),"") -> ЦФО | Q42: =IFERROR(VLOOKUP(M42,пр.взв!$D$6:$Q$70,8,0),"") -> Московская
A43: 2 | B43: =пр.хода!E14 -> 9 | C43: =IFERROR(VLOOKUP(B43,пр.взв!$D$6:$Q$70,2,0),"") -> КАКАДЖАНОВ Рустам | D43: =IFERROR(VLOOKUP(B43,пр.взв!$D$6:$Q$70,5,0),"") -> КМС | E43: =IFERROR(VLOOKUP(B43,пр.взв!$D$6:$Q$70,6,0),"") -> ЦФО | F43: =IFERROR(VLOOKUP(B43,пр.взв!$D$6:$Q$70,8,0),"") -> Московская | L43: 10 | M43: =пр.хода!AA14 -> 10 | N43: =IFERROR(VLOOKUP(M43,пр.взв!$D$6:$Q$70,2,0),"") -> АМИРОВ Исмаил | O43: =IFERROR(VLOOKUP(M43,пр.взв!$D$6:$Q$70,5,0),"") -> КМС | P43: =IFERROR(VLOOKUP(M43,пр.взв!$D$6:$Q$70,6,0),"") -> СКФО | Q43: =IFERROR(VLOOKUP(M43,пр.взв!$D$6:$Q$70,8,0),"") -> Чеченская
B44: =пр.хода!E18 -> 25 | C44: =IFERROR(VLOOKUP(B44,пр.взв!$D$6:$Q$70,2,0),"") -> МАГОМЕДОВ Саид | D44: =IFERROR(VLOOKUP(B44,пр.взв!$D$6:$Q$70,5,0),"") -> 3p | E44: =IFERROR(VLOOKUP(B44,пр.взв!$D$6:$Q$70,6,0),"") -> СКФО | F44: =IFERROR(VLOOKUP(B44,пр.взв!$D$6:$Q$70,8,0),"") -> Р.Дагестан | M44: =пр.хода!AA18 -> 26 | N44: =IFERROR(VLOOKUP(M44,пр.взв!$D$6:$Q$70,2,0),"") -> АКОБЯН Мартин | O44: =IFERROR(VLOOKUP(M44,пр.взв!$D$6:$Q$70,5,0),"") -> КМС | P44: =IFERROR(VLOOKUP(M44,пр.взв!$D$6:$Q$70,6,0),"") -> ПФО | Q44: =IFERROR(VLOOKUP(M44,пр.взв!$D$6:$Q$70,8,0),"") -> Р.Татарстан
A45: 3 | B45: =пр.хода!E22 -> 5 | C45: =IFERROR(VLOOKUP(B45,пр.взв!$D$6:$Q$70,2,0),"") -> КОРОБЦОВ Алексей | D45: =IFERROR(VLOOKUP(B45,пр.взв!$D$6:$Q$70,5,0),"") -> КМС | E45: =IFERROR(VLOOKUP(B45,пр.взв!$D$6:$Q$70,6,0),"") -> ДВФО | F45: =IFERROR(VLOOKUP(B45,пр.взв!$D$6:$Q$70,8,0),"") -> Камчатский | L45: 11 | M45: =пр.хода!AA22 -> 6 | N45: =IFERROR(VLOOKUP(M45,пр.взв!$D$6:$Q$70,2,0),"") -> АБДУРАХМАНОВ Муслим | O45: =IFERROR(VLOOKUP(M45,пр.взв!$D$6:$Q$70,5,0),"") -> КМС | P45: =IFERROR(VLOOKUP(M45,пр.взв!$D$6:$Q$70,6,0),"") -> МОС | Q45: =IFERROR(VLOOKUP(M45,пр.взв!$D$6:$Q$70,8,0),"") -> Москва
B46: =пр.хода!E26 -> 21 | C46: =IFERROR(VLOOKUP(B46,пр.взв!$D$6:$Q$70,2,0),"") -> ШИШКОВ Данил | D46: =IFERROR(VLOOKUP(B46,пр.взв!$D$6:$Q$70,5,0),"") -> КМС | E46: =IFERROR(VLOOKUP(B46,пр.взв!$D$6:$Q$70,6,0),"") -> СФО | F46: =IFERROR(VLOOKUP(B46,пр.взв!$D$6:$Q$70,8,0),"") -> Иркутская | M46: =пр.хода!AA26 -> 22 | N46: =IFERROR(VLOOKUP(M46,пр.взв!$D$6:$Q$70,2,0),"") -> АЛЛАБЕРГЕНОВ Богдан | O46: =IFERROR(VLOOKUP(M46,пр.взв!$D$6:$Q$70,5,0),"") -> КМС | P46: =IFERROR(VLOOKUP(M46,пр.взв!$D$6:$Q$70,6,0),"") -> ПФО | Q46: =IFERROR(VLOOKUP(M46,пр.взв!$D$6:$Q$70,8,0),"") -> Самарская
A47: 4 | B47: =пр.хода!E30 -> 13 | C47: =IFERROR(VLOOKUP(B47,пр.взв!$D$6:$Q$70,2,0),"") -> СШИВНОВ Владислав | D47: =IFERROR(VLOOKUP(B47,пр.взв!$D$6:$Q$70,5,0),"") -> КМС | E47: =IFERROR(VLOOKUP(B47,пр.взв!$D$6:$Q$70,6,0),"") -> ПФО | F47: =IFERROR(VLOOKUP(B47,пр.взв!$D$6:$Q$70,8,0),"") -> Нижегородская | L47: 12 | M47: =пр.хода!AA30 -> 14 | N47: =IFERROR(VLOOKUP(M47,пр.взв!$D$6:$Q$70,2,0),"") -> ДОНДОКОВ Мунко | O47: =IFERROR(VLOOKUP(M47,пр.взв!$D$6:$Q$70,5,0),"") -> КМС | P47: =IFERROR(VLOOKUP(M47,пр.взв!$D$6:$Q$70,6,0),"") -> ДВФО | Q47: =IFERROR(VLOOKUP(M47,пр.взв!$D$6:$Q$70,8,0),"") -> Р.Бурятия
B48: =пр.хода!E34 -> 29 | C48: =IFERROR(VLOOKUP(B48,пр.взв!$D$6:$Q$70,2,0),"") -> ТАРАНЧЕНКО Дмитрий | D48: =IFERROR(VLOOKUP(B48,пр.взв!$D$6:$Q$70,5,0),"") -> КМС | E48: =IFERROR(VLOOKUP(B48,пр.взв!$D$6:$Q$70,6,0),"") -> УФО | F48: =IFERROR(VLOOKUP(B48,пр.взв!$D$6:$Q$70,8,0),"") -> Свердловская | M48: =пр.хода!AA34 -> 30 | N48: =IFERROR(VLOOKUP(M48,пр.взв!$D$6:$Q$70,2,0),"") -> АНТАДИКОВ Игорь | O48: =IFERROR(VLOOKUP(M48,пр.взв!$D$6:$Q$70,5,0),"") -> КМС | P48: =IFERROR(VLOOKUP(M48,пр.взв!$D$6:$Q$70,6,0),"") -> СФО | Q48: =IFERROR(VLOOKUP(M48,пр.взв!$D$6:$Q$70,8,0),"") -> Р.Алтай
A49: 5 | B49: =пр.хода!E39 -> 3 | C49: =IFERROR(VLOOKUP(B49,пр.взв!$D$6:$Q$70,2,0),"") -> БАЛТРУШИН Сергей | D49: =IFERROR(VLOOKUP(B49,пр.взв!$D$6:$Q$70,5,0),"") -> КМС | E49: =IFERROR(VLOOKUP(B49,пр.взв!$D$6:$Q$70,6,0),"") -> СЗФО | F49: =IFERROR(VLOOKUP(B49,пр.взв!$D$6:$Q$70,8,0),"") -> Санкт-Петербург | L49: 13 | M49: =пр.хода!AA39 -> 4 | N49: =IFERROR(VLOOKUP(M49,пр.взв!$D$6:$Q$70,2,0),"") -> ЮНУСОВ Ильгиз | O49: =IFERROR(VLOOKUP(M49,пр.взв!$D$6:$Q$70,5,0),"") -> КМС | P49: =IFERROR(VLOOKUP(M49,пр.взв!$D$6:$Q$70,6,0),"") -> ПФО | Q49: =IFERROR(VLOOKUP(M49,пр.взв!$D$6:$Q$70,8,0),"") -> Р.Татарстан
B50: =пр.хода!E43 -> 19 | C50: =IFERROR(VLOOKUP(B50,пр.взв!$D$6:$Q$70,2,0),"") -> АЛМАДАКОВ Рамиль | D50: =IFERROR(VLOOKUP(B50,пр.взв!$D$6:$Q$70,5,0),"") -> КМС | E50: =IFERROR(VLOOKUP(B50,пр.взв!$D$6:$Q$70,6,0),"") -> СФО | F50: =IFERROR(VLOOKUP(B50,пр.взв!$D$6:$Q$70,8,0),"") -> Р.Алтай | M50: =пр.хода!AA43 -> 20 | N50: =IFERROR(VLOOKUP(M50,пр.взв!$D$6:$Q$70,2,0),"") -> ФИЛИППОВ Олег | O50: =IFERROR(VLOOKUP(M50,пр.взв!$D$6:$Q$70,5,0),"") -> МС | P50: =IFERROR(VLOOKUP(M50,пр.взв!$D$6:$Q$70,6,0),"") -> СЗФО | Q50: =IFERROR(VLOOKUP(M50,пр.взв!$D$6:$Q$70,8,0),"") -> Калининградская
A51: 6 | B51: =пр.хода!E47 -> 11 | C51: =IFERROR(VLOOKUP(B51,пр.взв!$D$6:$Q$70,2,0),"") -> АРСАМИКОВ Ибрахим | D51: =IFERROR(VLOOKUP(B51,пр.взв!$D$6:$Q$70,5,0),"") -> КМС | E51: =IFERROR(VLOOKUP(B51,пр.взв!$D$6:$Q$70,6,0),"") -> МОС | F51: =IFERROR(VLOOKUP(B51,пр.взв!$D$6:$Q$70,8,0),"") -> Москва | L51: 14 | M51: =пр.хода!AA47 -> 12 | N51: =IFERROR(VLOOKUP(M51,пр.взв!$D$6:$Q$70,2,0),"") -> ГАЖДИЕВ Завир | O51: =IFERROR(VLOOKUP(M51,пр.взв!$D$6:$Q$70,5,0),"") -> МС | P51: =IFERROR(VLOOKUP(M51,пр.взв!$D$6:$Q$70,6,0),"") -> СКФО | Q51: =IFERROR(VLOOKUP(M51,пр.взв!$D$6:$Q$70,8,0),"") -> Р.Дагестан
B52: =пр.хода!E51 -> 27 | C52: =IFERROR(VLOOKUP(B52,пр.взв!$D$6:$Q$70,2,0),"") -> БЛАГОДАРИН Артур | D52: =IFERROR(VLOOKUP(B52,пр.взв!$D$6:$Q$70,5,0),"") -> КМС | E52: =IFERROR(VLOOKUP(B52,пр.взв!$D$6:$Q$70,6,0),"") -> ПФО | F52: =IFERROR(VLOOKUP(B52,пр.взв!$D$6:$Q$70,8,0),"") -> Ульяновская | M52: =пр.хода!AA51 -> 28 | N52: =IFERROR(VLOOKUP(M52,пр.взв!$D$6:$Q$70,2,0),"") -> ЯХЪЯЕВ Мансур | O52: =IFERROR(VLOOKUP(M52,пр.взв!$D$6:$Q$70,5,0),"") -> КМС | P52: =IFERROR(VLOOKUP(M52,пр.взв!$D$6:$Q$70,6,0),"") -> СКФО | Q52: =IFERROR(VLOOKUP(M52,пр.взв!$D$6:$Q$70,8,0),"") -> Чеченская
A53: 7 | B53: =пр.хода!E55 -> 7 | C53: =IFERROR(VLOOKUP(B53,пр.взв!$D$6:$Q$70,2,0),"") -> ХАБИБУЛАЕВ Турпал | D53: =IFERROR(VLOOKUP(B53,пр.взв!$D$6:$Q$70,5,0),"") -> КМС | E53: =IFERROR(VLOOKUP(B53,пр.взв!$D$6:$Q$70,6,0),"") -> СКФО | F53: =IFERROR(VLOOKUP(B53,пр.взв!$D$6:$Q$70,8,0),"") -> Чеченская | L53: 15 | M53: =пр.хода!AA55 -> 8 | N53: =IFERROR(VLOOKUP(M53,пр.взв!$D$6:$Q$70,2,0),"") -> ДЕХНИЧ Глеб | O53: =IFERROR(VLOOKUP(M53,пр.взв!$D$6:$Q$70,5,0),"") -> 1р | P53: =IFERROR(VLOOKUP(M53,пр.взв!$D$6:$Q$70,6,0),"") -> УФО | Q53: =IFERROR(VLOOKUP(M53,пр.взв!$D$6:$Q$70,8,0),"") -> Челябинская
B54: =пр.хода!E59 -> 23 | C54: =IFERROR(VLOOKUP(B54,пр.взв!$D$6:$Q$70,2,0),"") -> ООРЖАК Айдын | D54: =IFERROR(VLOOKUP(B54,пр.взв!$D$6:$Q$70,5,0),"") -> КМС | E54: =IFERROR(VLOOKUP(B54,пр.взв!$D$6:$Q$70,6,0),"") -> ДВФО | F54: =IFERROR(VLOOKUP(B54,пр.взв!$D$6:$Q$70,8,0),"") -> Р.Бурятия | M54: =пр.хода!AA59 -> 24 | N54: =IFERROR(VLOOKUP(M54,пр.взв!$D$6:$Q$70,2,0),"") -> СЕДИНИН Никита | O54: =IFERROR(VLOOKUP(M54,пр.взв!$D$6:$Q$70,5,0),"") -> КМС | P54: =IFERROR(VLOOKUP(M54,пр.взв!$D$6:$Q$70,6,0),"") -> ПФО | Q54: =IFERROR(VLOOKUP(M54,пр.взв!$D$6:$Q$70,8,0),"") -> Пермский
A55: 8 | B55: =пр.хода!E63 -> 15 | C55: =IFERROR(VLOOKUP(B55,пр.взв!$D$6:$Q$70,2,0),"") -> ОЧУР Сай-Булат | D55: =IFERROR(VLOOKUP(B55,пр.взв!$D$6:$Q$70,5,0),"") -> КМС | E55: =IFERROR(VLOOKUP(B55,пр.взв!$D$6:$Q$70,6,0),"") -> СФО | F55: =IFERROR(VLOOKUP(B55,пр.взв!$D$6:$Q$70,8,0),"") -> Р.Тыва | L55: 16 | M55: =пр.хода!AA63 -> 16 | N55: =IFERROR(VLOOKUP(M55,пр.взв!$D$6:$Q$70,2,0),"") -> НУРЕЛОВ Кайрат | O55: =IFERROR(VLOOKUP(M55,пр.взв!$D$6:$Q$70,5,0),"") -> КМС | P55: =IFERROR(VLOOKUP(M55,пр.взв!$D$6:$Q$70,6,0),"") -> СФО | Q55: =IFERROR(VLOOKUP(M55,пр.взв!$D$6:$Q$70,8,0),"") -> Р.Алтай
B56: =пр.хода!E67 -> 31 | C56: =IFERROR(VLOOKUP(B56,пр.взв!$D$6:$Q$70,2,0),"") -> СЕДИН Данил | D56: =IFERROR(VLOOKUP(B56,пр.взв!$D$6:$Q$70,5,0),"") -> КМС | E56: =IFERROR(VLOOKUP(B56,пр.взв!$D$6:$Q$70,6,0),"") -> ПФО | F56: =IFERROR(VLOOKUP(B56,пр.взв!$D$6:$Q$70,8,0),"") -> Пермский | M56: =пр.хода!AA67 -> 32 | N56: =IFERROR(VLOOKUP(M56,пр.взв!$D$6:$Q$70,2,0),"") -> КОЛПАКОВ Сергей | O56: =IFERROR(VLOOKUP(M56,пр.взв!$D$6:$Q$70,5,0),"") -> МС | P56: =IFERROR(VLOOKUP(M56,пр.взв!$D$6:$Q$70,6,0),"") -> ПФО | Q56: =IFERROR(VLOOKUP(M56,пр.взв!$D$6:$Q$70,8,0),"") -> Нижегородская
B57: A | C57: (Круг) | F57: 1/8 | G57: =пр.взв!$D$4 -> 0 | M57: Б | N57: (Круг) | Q57: 1/8 | R57: =пр.взв!$D$4 -> 0
A58: № встр | B58: № п/ж | C58: Ф.И.О. | D58: Д. р., разряд | E58: Вед., регион | G58: Оценки | H58: Очки | I58: Результат | J58: Время | L58: № встр | M58: № п/ж | N58: Ф.И.О. | O58: Д. р., разряд | P58: Вед., регион | R58: Оценки | S58: Очки | T58: Результат | U58: Время
A60: 1 | B60: =пр.хода!G8 -> 0 | C60: =IFERROR(VLOOKUP(B60,пр.взв!$D$6:$Q$70,2,0),"") | D60: =IFERROR(VLOOKUP(B60,пр.взв!$D$6:$Q$70,5,0),"") | E60: =IFERROR(VLOOKUP(B60,пр.взв!$D$6:$Q$70,6,0),"") | F60: =IFERROR(VLOOKUP(B60,пр.взв!$D$6:$Q$70,8,0),"") | L60: 5 | M60: =пр.хода!Y8 -> 0 | N60: =IFERROR(VLOOKUP(M60,пр.взв!$D$6:$Q$70,2,0),"") | O60: =IFERROR(VLOOKUP(M60,пр.взв!$D$6:$Q$70,5,0),"") | P60: =IFERROR(VLOOKUP(M60,пр.взв!$D$6:$Q$70,6,0),"") | Q60: =IFERROR(VLOOKUP(M60,пр.взв!$D$6:$Q$70,8,0),"")
B61: =пр.хода!G16 -> 0 | C61: =IFERROR(VLOOKUP(B61,пр.взв!$D$6:$Q$70,2,0),"") | D61: =IFERROR(VLOOKUP(B61,пр.взв!$D$6:$Q$70,5,0),"") | E61: =IFERROR(VLOOKUP(B61,пр.взв!$D$6:$Q$70,6,0),"") | F61: =IFERROR(VLOOKUP(B61,пр.взв!$D$6:$Q$70,8,0),"") | M61: =пр.хода!Y16 -> 0 | N61: =IFERROR(VLOOKUP(M61,пр.взв!$D$6:$Q$70,2,0),"") | O61: =IFERROR(VLOOKUP(M61,пр.взв!$D$6:$Q$70,5,0),"") | P61: =IFERROR(VLOOKUP(M61,пр.взв!$D$6:$Q$70,6,0),"") | Q61: =IFERROR(VLOOKUP(M61,пр.взв!$D$6:$Q$70,8,0),"")
A62: 2 | B62: =пр.хода!G24 -> 0 | C62: =IFERROR(VLOOKUP(B62,пр.взв!$D$6:$Q$70,2,0),"") | D62: =IFERROR(VLOOKUP(B62,пр.взв!$D$6:$Q$70,5,0),"") | E62: =IFERROR(VLOOKUP(B62,пр.взв!$D$6:$Q$70,6,0),"") | F62: =IFERROR(VLOOKUP(B62,пр.взв!$D$6:$Q$70,8,0),"") | L62: 6 | M62: =пр.хода!Y24 -> 0 | N62: =IFERROR(VLOOKUP(M62,пр.взв!$D$6:$Q$70,2,0),"") | O62: =IFERROR(VLOOKUP(M62,пр.взв!$D$6:$Q$70,5,0),"") | P62: =IFERROR(VLOOKUP(M62,пр.взв!$D$6:$Q$70,6,0),"") | Q62: =IFERROR(VLOOKUP(M62,пр.взв!$D$6:$Q$70,8,0),"")
B63: =пр.хода!G32 -> 0 | C63: =IFERROR(VLOOKUP(B63,пр.взв!$D$6:$Q$70,2,0),"") | D63: =IFERROR(VLOOKUP(B63,пр.взв!$D$6:$Q$70,5,0),"") | E63: =IFERROR(VLOOKUP(B63,пр.взв!$D$6:$Q$70,6,0),"") | F63: =IFERROR(VLOOKUP(B63,пр.взв!$D$6:$Q$70,8,0),"") | M63: =пр.хода!Y32 -> 0 | N63: =IFERROR(VLOOKUP(M63,пр.взв!$D$6:$Q$70,2,0),"") | O63: =IFERROR(VLOOKUP(M63,пр.взв!$D$6:$Q$70,5,0),"") | P63: =IFERROR(VLOOKUP(M63,пр.взв!$D$6:$Q$70,6,0),"") | Q63: =IFERROR(VLOOKUP(M63,пр.взв!$D$6:$Q$70,8,0),"")
A64: 3 | B64: =пр.хода!G41 -> 0 | C64: =IFERROR(VLOOKUP(B64,пр.взв!$D$6:$Q$70,2,0),"") | D64: =IFERROR(VLOOKUP(B64,пр.взв!$D$6:$Q$70,5,0),"") | E64: =IFERROR(VLOOKUP(B64,пр.взв!$D$6:$Q$70,6,0),"") | F64: =IFERROR(VLOOKUP(B64,пр.взв!$D$6:$Q$70,8,0),"") | L64: 7 | M64: =пр.хода!Y41 -> 0 | N64: =IFERROR(VLOOKUP(M64,пр.взв!$D$6:$Q$70,2,0),"") | O64: =IFERROR(VLOOKUP(M64,пр.взв!$D$6:$Q$70,5,0),"") | P64: =IFERROR(VLOOKUP(M64,пр.взв!$D$6:$Q$70,6,0),"") | Q64: =IFERROR(VLOOKUP(M64,пр.взв!$D$6:$Q$70,8,0),"")
B65: =пр.хода!G49 -> 0 | C65: =IFERROR(VLOOKUP(B65,пр.взв!$D$6:$Q$70,2,0),"") | D65: =IFERROR(VLOOKUP(B65,пр.взв!$D$6:$Q$70,5,0),"") | E65: =IFERROR(VLOOKUP(B65,пр.взв!$D$6:$Q$70,6,0),"") | F65: =IFERROR(VLOOKUP(B65,пр.взв!$D$6:$Q$70,8,0),"") | M65: =пр.хода!Y49 -> 0 | N65: =IFERROR(VLOOKUP(M65,пр.взв!$D$6:$Q$70,2,0),"") | O65: =IFERROR(VLOOKUP(M65,пр.взв!$D$6:$Q$70,5,0),"") | P65: =IFERROR(VLOOKUP(M65,пр.взв!$D$6:$Q$70,6,0),"") | Q65: =IFERROR(VLOOKUP(M65,пр.взв!$D$6:$Q$70,8,0),"")
A66: 4 | B66: =пр.хода!G57 -> 0 | C66: =IFERROR(VLOOKUP(B66,пр.взв!$D$6:$Q$70,2,0),"") | D66: =IFERROR(VLOOKUP(B66,пр.взв!$D$6:$Q$70,5,0),"") | E66: =IFERROR(VLOOKUP(B66,пр.взв!$D$6:$Q$70,6,0),"") | F66: =IFERROR(VLOOKUP(B66,пр.взв!$D$6:$Q$70,8,0),"") | L66: 8 | M66: =пр.хода!Y57 -> 0 | N66: =IFERROR(VLOOKUP(M66,пр.взв!$D$6:$Q$70,2,0),"") | O66: =IFERROR(VLOOKUP(M66,пр.взв!$D$6:$Q$70,5,0),"") | P66: =IFERROR(VLOOKUP(M66,пр.взв!$D$6:$Q$70,6,0),"") | Q66: =IFERROR(VLOOKUP(M66,пр.взв!$D$6:$Q$70,8,0),"")
B67: =пр.хода!G65 -> 0 | C67: =IFERROR(VLOOKUP(B67,пр.взв!$D$6:$Q$70,2,0),"") | D67: =IFERROR(VLOOKUP(B67,пр.взв!$D$6:$Q$70,5,0),"") | E67: =IFERROR(VLOOKUP(B67,пр.взв!$D$6:$Q$70,6,0),"") | F67: =IFERROR(VLOOKUP(B67,пр.взв!$D$6:$Q$70,8,0),"") | M67: =пр.хода!Y65 -> 0 | N67: =IFERROR(VLOOKUP(M67,пр.взв!$D$6:$Q$70,2,0),"") | O67: =IFERROR(VLOOKUP(M67,пр.взв!$D$6:$Q$70,5,0),"") | P67: =IFERROR(VLOOKUP(M67,пр.взв!$D$6:$Q$70,6,0),"") | Q67: =IFERROR(VLOOKUP(M67,пр.взв!$D$6:$Q$70,8,0),"")
B68: A | C68: (Круг) | F68: 1/4 | G68: =пр.взв!$D$4 -> 0 | M68: B | N68: (Круг) | Q68: 1/4 | R68: =пр.взв!$D$4 -> 0
A69: № встр | B69: № п/ж | C69: Ф.И.О. | D69: Д. р., разряд | E69: Вед., регион | G69: Оценки | H69: Очки | I69: Результат | J69: Время | L69: № встр | M69: № п/ж | N69: Ф.И.О. | O69: Д. р., разряд | P69: Вед., регион | R69: Оценки | S69: Очки | T69: Результат | U69: Время
A71: 1 | B71: =пр.хода!I12 -> 0 | C71: =IFERROR(VLOOKUP(B71,пр.взв!$D$6:$Q$70,2,0),"") | D71: =IFERROR(VLOOKUP(B71,пр.взв!$D$6:$Q$70,5,0),"") | E71: =IFERROR(VLOOKUP(B71,пр.взв!$D$6:$Q$70,6,0),"") | F71: =IFERROR(VLOOKUP(B71,пр.взв!$D$6:$Q$70,8,0),"") | L71: 3 | M71: =пр.хода!W12 -> 0 | N71: =IFERROR(VLOOKUP(M71,пр.взв!$D$6:$Q$70,2,0),"") | O71: =IFERROR(VLOOKUP(M71,пр.взв!$D$6:$Q$70,5,0),"") | P71: =IFERROR(VLOOKUP(M71,пр.взв!$D$6:$Q$70,6,0),"") | Q71: =IFERROR(VLOOKUP(M71,пр.взв!$D$6:$Q$70,8,0),"")
B72: =пр.хода!I28 -> 0 | C72: =IFERROR(VLOOKUP(B72,пр.взв!$D$6:$Q$70,2,0),"") | D72: =IFERROR(VLOOKUP(B72,пр.взв!$D$6:$Q$70,5,0),"") | E72: =IFERROR(VLOOKUP(B72,пр.взв!$D$6:$Q$70,6,0),"") | F72: =IFERROR(VLOOKUP(B72,пр.взв!$D$6:$Q$70,8,0),"") | M72: =пр.хода!W28 -> 0 | N72: =IFERROR(VLOOKUP(M72,пр.взв!$D$6:$Q$70,2,0),"") | O72: =IFERROR(VLOOKUP(M72,пр.взв!$D$6:$Q$70,5,0),"") | P72: =IFERROR(VLOOKUP(M72,пр.взв!$D$6:$Q$70,6,0),"") | Q72: =IFERROR(VLOOKUP(M72,пр.взв!$D$6:$Q$70,8,0),"")
A73: 2 | B73: =пр.хода!I46 -> 0 | C73: =IFERROR(VLOOKUP(B73,пр.взв!$D$6:$Q$70,2,0),"") | D73: =IFERROR(VLOOKUP(B73,пр.взв!$D$6:$Q$70,5,0),"") | E73: =IFERROR(VLOOKUP(B73,пр.взв!$D$6:$Q$70,6,0),"") | F73: =IFERROR(VLOOKUP(B73,пр.взв!$D$6:$Q$70,8,0),"") | L73: 4 | M73: =пр.хода!W45 -> 0 | N73: =IFERROR(VLOOKUP(M73,пр.взв!$D$6:$Q$70,2,0),"") | O73: =IFERROR(VLOOKUP(M73,пр.взв!$D$6:$Q$70,5,0),"") | P73: =IFERROR(VLOOKUP(M73,пр.взв!$D$6:$Q$70,6,0),"") | Q73: =IFERROR(VLOOKUP(M73,пр.взв!$D$6:$Q$70,8,0),"")
B74: =пр.хода!I61 -> 0 | C74: =IFERROR(VLOOKUP(B74,пр.взв!$D$6:$Q$70,2,0),"") | D74: =IFERROR(VLOOKUP(B74,пр.взв!$D$6:$Q$70,5,0),"") | E74: =IFERROR(VLOOKUP(B74,пр.взв!$D$6:$Q$70,6,0),"") | F74: =IFERROR(VLOOKUP(B74,пр.взв!$D$6:$Q$70,8,0),"") | M74: =пр.хода!W61 -> 0 | N74: =IFERROR(VLOOKUP(M74,пр.взв!$D$6:$Q$70,2,0),"") | O74: =IFERROR(VLOOKUP(M74,пр.взв!$D$6:$Q$70,5,0),"") | P74: =IFERROR(VLOOKUP(M74,пр.взв!$D$6:$Q$70,6,0),"") | Q74: =IFERROR(VLOOKUP(M74,пр.взв!$D$6:$Q$70,8,0),"")
B75: A | C75: Полуфинал | G75: =пр.взв!$D$4 -> 0 | M75: Б | N75: Полуфинал | R75: =пр.взв!$D$4 -> 0
A76: № встр | B76: № п/ж | C76: Ф.И.О. | D76: Д. р., разряд | E76: Вед., регион | G76: Оценки | H76: Очки | I76: Результат | J76: Время | L76: № встр | M76: № п/ж | N76: Ф.И.О. | O76: Д. р., разряд | P76: Вед., регион | R76: Оценки | S76: Очки | T76: Результат | U76: Время
A78: 1 | B78: =пр.хода!K20 -> 0 | C78: =IFERROR(VLOOKUP(B78,пр.взв!$D$6:$Q$70,2,0),"") | D78: =IFERROR(VLOOKUP(B78,пр.взв!$D$6:$Q$70,5,0),"") | E78: =IFERROR(VLOOKUP(B78,пр.взв!$D$6:$Q$70,6,0),"") | F78: =IFERROR(VLOOKUP(B78,пр.взв!$D$6:$Q$70,8,0),"") | L78: 2 | M78: =пр.хода!U20 -> 0 | N78: =IFERROR(VLOOKUP(M78,пр.взв!$D$6:$Q$70,2,0),"") | O78: =IFERROR(VLOOKUP(M78,пр.взв!$D$6:$Q$70,5,0),"") | P78: =IFERROR(VLOOKUP(M78,пр.взв!$D$6:$Q$70,6,0),"") | Q78: =IFERROR(VLOOKUP(M78,пр.взв!$D$6:$Q$70,8,0),"")
B79: =пр.хода!K53 -> 0 | C79: =IFERROR(VLOOKUP(B79,пр.взв!$D$6:$Q$70,2,0),"") | D79: =IFERROR(VLOOKUP(B79,пр.взв!$D$6:$Q$70,5,0),"") | E79: =IFERROR(VLOOKUP(B79,пр.взв!$D$6:$Q$70,6,0),"") | F79: =IFERROR(VLOOKUP(B79,пр.взв!$D$6:$Q$70,8,0),"") | M79: =пр.хода!U53 -> 0 | N79: =IFERROR(VLOOKUP(M79,пр.взв!$D$6:$Q$70,2,0),"") | O79: =IFERROR(VLOOKUP(M79,пр.взв!$D$6:$Q$70,5,0),"") | P79: =IFERROR(VLOOKUP(M79,пр.взв!$D$6:$Q$70,6,0),"") | Q79: =IFERROR(VLOOKUP(M79,пр.взв!$D$6:$Q$70,8,0),"")
A80: (Утешительные встречи) 16 | L80: (Утешительные встречи) 16
B81: A | G81: =пр.взв!$D$4 -> 0 | M81: Б | R81: =пр.взв!$D$4 -> 0
A82: № встр | B82: № п/ж | C82: Ф.И.О. | D82: Д. р., разряд | E82: Вед., регион | G82: Оценки | H82: Очки | I82: Результат | J82: Время | L82: № встр | M82: № п/ж | N82: Ф.И.О. | O82: Д. р., разряд | P82: Вед., регион | R82: Оценки | S82: Очки | T82: Результат | U82: Время
A84: 1 | B84: =пр.хода!L7 -> 0 | C84: =IFERROR(VLOOKUP(B84,пр.взв!$B$7:$H$70,2,0),"") | D84: =IFERROR(VLOOKUP(B84,пр.взв!$B$7:$H$70,3,0),"") | E84: =IFERROR(VLOOKUP(B84,пр.взв!$B$7:$H$70,4,0),"") | F84: =IFERROR(VLOOKUP(B84,пр.взв!$B$7:$H$70,5,0),"") | L84: 3 | M84: =пр.хода!L56 -> 0 | N84: =IFERROR(VLOOKUP(M84,пр.взв!$B$7:$H$70,2,0),"") | O84: =IFERROR(VLOOKUP(M84,пр.взв!$B$7:$H$70,3,0),"") | P84: =IFERROR(VLOOKUP(M84,пр.взв!$B$7:$H$70,4,0),"") | Q84: =IFERROR(VLOOKUP(M84,пр.взв!$B$7:$H$70,5,0),"")
B85: =пр.хода!L10 -> 0 | C85: =IFERROR(VLOOKUP(B85,пр.взв!$B$7:$H$70,2,0),"") | D85: =IFERROR(VLOOKUP(B85,пр.взв!$B$7:$H$70,3,0),"") | E85: =IFERROR(VLOOKUP(B85,пр.взв!$B$7:$H$70,4,0),"") | F85: =IFERROR(VLOOKUP(B85,пр.взв!$B$7:$H$70,5,0),"") | M85: =пр.хода!L59 -> 0 | N85: =IFERROR(VLOOKUP(M85,пр.взв!$B$7:$H$70,2,0),"") | O85: =IFERROR(VLOOKUP(M85,пр.взв!$B$7:$H$70,3,0),"") | P85: =IFERROR(VLOOKUP(M85,пр.взв!$B$7:$H$70,4,0),"") | Q85: =IFERROR(VLOOKUP(M85,пр.взв!$B$7:$H$70,5,0),"")
A86: 2 | B86: =пр.хода!L14 -> 0 | C86: =IFERROR(VLOOKUP(B86,пр.взв!$B$7:$H$70,2,0),"") | D86: =IFERROR(VLOOKUP(B86,пр.взв!$B$7:$H$70,3,0),"") | E86: =IFERROR(VLOOKUP(B86,пр.взв!$B$7:$H$70,4,0),"") | F86: =IFERROR(VLOOKUP(B86,пр.взв!$B$7:$H$70,5,0),"") | L86: 4 | M86: =пр.хода!L63 -> 0 | N86: =IFERROR(VLOOKUP(M86,пр.взв!$B$7:$H$70,2,0),"") | O86: =IFERROR(VLOOKUP(M86,пр.взв!$B$7:$H$70,3,0),"") | P86: =IFERROR(VLOOKUP(M86,пр.взв!$B$7:$H$70,4,0),"") | Q86: =IFERROR(VLOOKUP(M86,пр.взв!$B$7:$H$70,5,0),"")
B87: =пр.хода!L17 -> 0 | C87: =IFERROR(VLOOKUP(B87,пр.взв!$B$7:$H$70,2,0),"") | D87: =IFERROR(VLOOKUP(B87,пр.взв!$B$7:$H$70,3,0),"") | E87: =IFERROR(VLOOKUP(B87,пр.взв!$B$7:$H$70,4,0),"") | F87: =IFERROR(VLOOKUP(B87,пр.взв!$B$7:$H$70,5,0),"") | M87: =пр.хода!L66 -> 0 | N87: =IFERROR(VLOOKUP(M87,пр.взв!$B$7:$H$70,2,0),"") | O87: =IFERROR(VLOOKUP(M87,пр.взв!$B$7:$H$70,3,0),"") | P87: =IFERROR(VLOOKUP(M87,пр.взв!$B$7:$H$70,4,0),"") | Q87: =IFERROR(VLOOKUP(M87,пр.взв!$B$7:$H$70,5,0),"")
A88: (Утешительные встречи) 12 | L88: (Утешительные встречи) 12
A89: 5 | B89: =пр.хода!N8 -> 0 | C89: =IFERROR(VLOOKUP(B89,пр.взв!$B$7:$H$70,2,0),"") | D89: =IFERROR(VLOOKUP(B89,пр.взв!$B$7:$H$70,3,0),"") | E89: =IFERROR(VLOOKUP(B89,пр.взв!$B$7:$H$70,4,0),"") | F89: =IFERROR(VLOOKUP(B89,пр.взв!$B$7:$H$70,5,0),"") | L89: 7 | M89: =пр.хода!N57 -> 0 | N89: =IFERROR(VLOOKUP(M89,пр.взв!$B$7:$H$70,2,0),"") | O89: =IFERROR(VLOOKUP(M89,пр.взв!$B$7:$H$70,3,0),"") | P89: =IFERROR(VLOOKUP(M89,пр.взв!$B$7:$H$70,4,0),"") | Q89: =IFERROR(VLOOKUP(M89,пр.взв!$B$7:$H$70,5,0),"")
B90: =пр.хода!N11 -> 0 | C90: =IFERROR(VLOOKUP(B90,пр.взв!$B$7:$H$70,2,0),"") | D90: =IFERROR(VLOOKUP(B90,пр.взв!$B$7:$H$70,3,0),"") | E90: =IFERROR(VLOOKUP(B90,пр.взв!$B$7:$H$70,4,0),"") | F90: =IFERROR(VLOOKUP(B90,пр.взв!$B$7:$H$70,5,0),"") | M90: =пр.хода!N60 -> 0 | N90: =IFERROR(VLOOKUP(M90,пр.взв!$B$7:$H$70,2,0),"") | O90: =IFERROR(VLOOKUP(M90,пр.взв!$B$7:$H$70,3,0),"") | P90: =IFERROR(VLOOKUP(M90,пр.взв!$B$7:$H$70,4,0),"") | Q90: =IFERROR(VLOOKUP(M90,пр.взв!$B$7:$H$70,5,0),"")
A91: 6 | B91: =пр.хода!N15 -> 0 | C91: =IFERROR(VLOOKUP(B91,пр.взв!$B$7:$H$70,2,0),"") | D91: =IFERROR(VLOOKUP(B91,пр.взв!$B$7:$H$70,3,0),"") | E91: =IFERROR(VLOOKUP(B91,пр.взв!$B$7:$H$70,4,0),"") | F91: =IFERROR(VLOOKUP(B91,пр.взв!$B$7:$H$70,5,0),"") | L91: 8 | M91: =пр.хода!N64 -> 0 | N91: =IFERROR(VLOOKUP(M91,пр.взв!$B$7:$H$70,2,0),"") | O91: =IFERROR(VLOOKUP(M91,пр.взв!$B$7:$H$70,3,0),"") | P91: =IFERROR(VLOOKUP(M91,пр.взв!$B$7:$H$70,4,0),"") | Q91: =IFERROR(VLOOKUP(M91,пр.взв!$B$7:$H$70,5,0),"")
B92: =пр.хода!N18 -> 0 | C92: =IFERROR(VLOOKUP(B92,пр.взв!$B$7:$H$70,2,0),"") | D92: =IFERROR(VLOOKUP(B92,пр.взв!$B$7:$H$70,3,0),"") | E92: =IFERROR(VLOOKUP(B92,пр.взв!$B$7:$H$70,4,0),"") | F92: =IFERROR(VLOOKUP(B92,пр.взв!$B$7:$H$70,5,0),"") | M92: =пр.хода!N67 -> 0 | N92: =IFERROR(VLOOKUP(M92,пр.взв!$B$7:$H$70,2,0),"") | O92: =IFERROR(VLOOKUP(M92,пр.взв!$B$7:$H$70,3,0),"") | P92: =IFERROR(VLOOKUP(M92,пр.взв!$B$7:$H$70,4,0),"") | Q92: =IFERROR(VLOOKUP(M92,пр.взв!$B$7:$H$70,5,0),"")
A93: (Утешительные встречи) 8 | L93: (Утешительные встречи) 8
A94: 9 | B94: =пр.хода!O10 -> 0 | C94: =IFERROR(VLOOKUP(B94,пр.взв!$B$7:$H$70,2,0),"") | D94: =IFERROR(VLOOKUP(B94,пр.взв!$B$7:$H$70,3,0),"") | E94: =IFERROR(VLOOKUP(B94,пр.взв!$B$7:$H$70,4,0),"") | F94: =IFERROR(VLOOKUP(B94,пр.взв!$B$7:$H$70,5,0),"") | L94: 11 | M94: =пр.хода!O59 -> 0 | N94: =IFERROR(VLOOKUP(M94,пр.взв!$B$7:$H$70,2,0),"") | O94: =IFERROR(VLOOKUP(M94,пр.взв!$B$7:$H$70,3,0),"") | P94: =IFERROR(VLOOKUP(M94,пр.взв!$B$7:$H$70,4,0),"") | Q94: =IFERROR(VLOOKUP(M94,пр.взв!$B$7:$H$70,5,0),"")
B95: =пр.хода!O13 -> 0 | C95: =IFERROR(VLOOKUP(B95,пр.взв!$B$7:$H$70,2,0),"") | D95: =IFERROR(VLOOKUP(B95,пр.взв!$B$7:$H$70,3,0),"") | E95: =IFERROR(VLOOKUP(B95,пр.взв!$B$7:$H$70,4,0),"") | F95: =IFERROR(VLOOKUP(B95,пр.взв!$B$7:$H$70,5,0),"") | M95: =пр.хода!O62 -> 0 | N95: =IFERROR(VLOOKUP(M95,пр.взв!$B$7:$H$70,2,0),"") | O95: =IFERROR(VLOOKUP(M95,пр.взв!$B$7:$H$70,3,0),"") | P95: =IFERROR(VLOOKUP(M95,пр.взв!$B$7:$H$70,4,0),"") | Q95: =IFERROR(VLOOKUP(M95,пр.взв!$B$7:$H$70,5,0),"")
A96: 10 | B96: =пр.хода!O17 -> 0 | C96: =IFERROR(VLOOKUP(B96,пр.взв!$B$7:$H$70,2,0),"") | D96: =IFERROR(VLOOKUP(B96,пр.взв!$B$7:$H$70,3,0),"") | E96: =IFERROR(VLOOKUP(B96,пр.взв!$B$7:$H$70,4,0),"") | F96: =IFERROR(VLOOKUP(B96,пр.взв!$B$7:$H$70,5,0),"") | L96: 12 | M96: =пр.хода!O66 -> 0 | N96: =IFERROR(VLOOKUP(M96,пр.взв!$B$7:$H$70,2,0),"") | O96: =IFERROR(VLOOKUP(M96,пр.взв!$B$7:$H$70,3,0),"") | P96: =IFERROR(VLOOKUP(M96,пр.взв!$B$7:$H$70,4,0),"") | Q96: =IFERROR(VLOOKUP(M96,пр.взв!$B$7:$H$70,5,0),"")
B97: =пр.хода!O20 -> 0 | C97: =IFERROR(VLOOKUP(B97,пр.взв!$B$7:$H$70,2,0),"") | D97: =IFERROR(VLOOKUP(B97,пр.взв!$B$7:$H$70,3,0),"") | E97: =IFERROR(VLOOKUP(B97,пр.взв!$B$7:$H$70,4,0),"") | F97: =IFERROR(VLOOKUP(B97,пр.взв!$B$7:$H$70,5,0),"") | M97: =пр.хода!O69 -> 0 | N97: =IFERROR(VLOOKUP(M97,пр.взв!$B$7:$H$70,2,0),"") | O97: =IFERROR(VLOOKUP(M97,пр.взв!$B$7:$H$70,3,0),"") | P97: =IFERROR(VLOOKUP(M97,пр.взв!$B$7:$H$70,4,0),"") | Q97: =IFERROR(VLOOKUP(M97,пр.взв!$B$7:$H$70,5,0),"")
A98: (Утешительные встречи) 6 | L98: (Утешительные встречи) 6
A99: 13 | B99: =пр.хода!P12 -> 0 | C99: =IFERROR(VLOOKUP(B99,пр.взв!$B$7:$H$70,2,0),"") | D99: =IFERROR(VLOOKUP(B99,пр.взв!$B$7:$H$70,3,0),"") | E99: =IFERROR(VLOOKUP(B99,пр.взв!$B$7:$H$70,4,0),"") | F99: =IFERROR(VLOOKUP(B99,пр.взв!$B$7:$H$70,5,0),"") | L99: 14 | M99: =пр.хода!P61 -> 0 | N99: =IFERROR(VLOOKUP(M99,пр.взв!$B$7:$H$70,2,0),"") | O99: =IFERROR(VLOOKUP(M99,пр.взв!$B$7:$H$70,3,0),"") | P99: =IFERROR(VLOOKUP(M99,пр.взв!$B$7:$H$70,4,0),"") | Q99: =IFERROR(VLOOKUP(M99,пр.взв!$B$7:$H$70,5,0),"")
B100: =пр.хода!P19 -> 0 | C100: =IFERROR(VLOOKUP(B100,пр.взв!$B$7:$H$70,2,0),"") | D100: =IFERROR(VLOOKUP(B100,пр.взв!$B$7:$H$70,3,0),"") | E100: =IFERROR(VLOOKUP(B100,пр.взв!$B$7:$H$70,4,0),"") | F100: =IFERROR(VLOOKUP(B100,пр.взв!$B$7:$H$70,5,0),"") | M100: =пр.хода!P68 -> 0 | N100: =IFERROR(VLOOKUP(M100,пр.взв!$B$7:$H$70,2,0),"") | O100: =IFERROR(VLOOKUP(M100,пр.взв!$B$7:$H$70,3,0),"") | P100: =IFERROR(VLOOKUP(M100,пр.взв!$B$7:$H$70,4,0),"") | Q100: =IFERROR(VLOOKUP(M100,пр.взв!$B$7:$H$70,5,0),"")
C101: ЗА 3 МЕСТО | N101: ЗА 3 МЕСТО
C102: ВСТРЕЧА 1 | D102: =пр.взв!$D$4 -> 0 | N102: ВСТРЕЧА 1 | O102: =пр.взв!$D$4 -> 0
B103: =пр.хода!Q15 -> 0 | C103: =IFERROR(VLOOKUP(B103,пр.взв!$B$7:$H$70,2,0),"") | D103: =IFERROR(VLOOKUP(B103,пр.взв!$B$7:$H$70,3,0),"") | E103: =IFERROR(VLOOKUP(B103,пр.взв!$B$7:$H$70,4,0),"") | F103: =IFERROR(VLOOKUP(B103,пр.взв!$B$7:$H$70,5,0),"") | M103: =пр.хода!Q15 -> 0 | N103: =IFERROR(VLOOKUP(M103,пр.взв!$B$7:$H$70,2,0),"") | O103: =IFERROR(VLOOKUP(M103,пр.взв!$B$7:$H$70,3,0),"") | P103: =IFERROR(VLOOKUP(M103,пр.взв!$B$7:$H$70,4,0),"") | Q103: =IFERROR(VLOOKUP(M103,пр.взв!$B$7:$H$70,5,0),"")
B104: =пр.хода!Q21 -> 0 | C104: =IFERROR(VLOOKUP(B104,пр.взв!$B$7:$H$70,2,0),"") | D104: =IFERROR(VLOOKUP(B104,пр.взв!$B$7:$H$70,3,0),"") | E104: =IFERROR(VLOOKUP(B104,пр.взв!$B$7:$H$70,4,0),"") | F104: =IFERROR(VLOOKUP(B104,пр.взв!$B$7:$H$70,5,0),"") | M104: =пр.хода!Q21 -> 0 | N104: =IFERROR(VLOOKUP(M104,пр.взв!$B$7:$H$70,2,0),"") | O104: =IFERROR(VLOOKUP(M104,пр.взв!$B$7:$H$70,3,0),"") | P104: =IFERROR(VLOOKUP(M104,пр.взв!$B$7:$H$70,4,0),"") | Q104: =IFERROR(VLOOKUP(M104,пр.взв!$B$7:$H$70,5,0),"")
C105: 3А 3 МЕСТО | N105: 3А 3 МЕСТО
C106: ВСТРЕЧА 2 | D106: =пр.взв!$D$4 -> 0 | N106: ВСТРЕЧА 2 | O106: =пр.взв!$D$4 -> 0
...

Sheet ит.пр
A1: ВСЕРОССИЙСКАЯ ФЕДЕРАЦИЯ САМБО | T1: =SUMIF(T6:T11,V1,$K$14:$K$17) -> 1 | V1: =J12
B2: ИТОГОВЫЙ ПРОТОКОЛ БОЕВОЕ | D2: =пр.взв!C2 -> Первенство России по самбо (боевое) юниоры 18-20 лет (отбор на Первенство Мира и Европы) ЕКП № 23752 | T2: =SUMIF(J14:J16,V1,$K$14:$K$17) -> 2
B3: =пр.взв!C3 -> 13.02 - 17.02.2022 г. г. В-Пышма | H3: =пр.взв!$D$4 -> 0
A4: место | B4: № п/ж | C4: Ф.И.О. | D4: Дата рожд., разряд | E4: Округ, субъект, город, ведомство | G4: № карточки | H4: Тренер | J4: =IFERROR(LEFT(F6,FIND(",",F6)-1),F6) | K4: 1 | L4: №пп | M4: Субъект | S4: №пп | T4: Субъект | AC4: №пп | AD4: Субъект | AJ4: №пп | AK4: Субъект
N5: 1 | O5: 2 | P5: 3 | Q5: 5 | U5: 1 | V5: 2 | W5: 3 | X5: 5 | Z5: 1 | AB5: 2 | AE5: 1 | AF5: 2 | AG5: 3 | AH5: 5 | AL5: 1 | AM5: 2 | AN5: 3 | AO5: 5
A6: 1 | B6: =пр.хода!N32 -> 0 | C6: =IFERROR(VLOOKUP(B6,пр.взв!$D$6:$Q$70,3,0),"") | D6: =IFERROR(VLOOKUP(B6,пр.взв!$D$6:$Q$70,4,0),"") | E6: =IFERROR(VLOOKUP(B6,пр.взв!$D$6:$Q$70,6,0),"") | F6: =IFERROR(VLOOKUP(B6,пр.взв!$D$6:$Q$70,7,0),"") | G6: =IFERROR(VLOOKUP(B6,пр.взв!$D$6:$Q$70,8,0),"") | H6: =IFERROR(VLOOKUP(B6,пр.взв!$D$6:$Q$70,10,0),"") | J6: СМИТ | K6: 1 | L6: 1 | M6: Алтайский | N6: =SUMIF($J$4:$J$7,J4,$K$4:$K$7) -> 1 | O6: =SUMIF($I$8:$J$9,"алт",$K$6:$K$9) -> 0 | P6: =SUMIF($J$10:$J$13,"Алт",$K$10:$K$13) -> 0 | Q6: =SUMIF($J$14:$J$17,"Алт",$K$14:$K$17) -> 0 | S6: 1 | T6: =J4 | U6: =SUMIF($J$4:$J$7,T6,$K$4:$K$7) -> 1 | V6: =SUMIF($I$8:$J$9,T6,$K$6:$K$9) -> 4 | W6: =SUMIF($J$10:$J$13,T6,$K$10:$K$13) -> 2 | X6: =SUMIF($J$14:$J$17,T6,$K$14:$K$17) -> 2 | Z6: =T6 | AB6: =Z6 | AC6: 1 | AD6: =AB6 | AE6: =SUMIF($J$4:$J$7,AD6,$K$4:$K$7) -> 1 | AF6: =SUMIF($I$8:$J$9,AD6,$K$6:$K$9) -> 4 | AG6: =SUMIF($J$10:$J$13,AD6,$K$10:$K$13) -> 2 | AH6: =SUMIF($J$14:$J$17,AD6,$K$14:$K$17) -> 2 | AJ6: 1 | AK6: =IF(AD6=0," ",AD6) | AL6: =IF(AE6=0," ",AE6) -> 1 | AM6: =IF(AF6=0," ",AF6) -> 4 | AN6: =IF(AG6=0," ",AG6) -> 2 | AO6: =IF(AH6=0," ",AH6) -> 2
A7: 2 | B7: =пр.хода!N40 | C7: =IFERROR(VLOOKUP(B7,пр.взв!$D$6:$Q$70,3,0),"") | D7: =IFERROR(VLOOKUP(B7,пр.взв!$D$6:$Q$70,4,0),"") | E7: =IFERROR(VLOOKUP(B7,пр.взв!$D$6:$Q$70,6,0),"") | F7: =IFERROR(VLOOKUP(B7,пр.взв!$D$6:$Q$70,7,0),"") | G7: =IFERROR(VLOOKUP(B7,пр.взв!$D$6:$Q$70,8,0),"") | H7: =IFERROR(VLOOKUP(B7,пр.взв!$D$6:$Q$70,10,0),"") | L7: 2 | M7: Забайкальский | N7: =SUMIF($J$4:$J$7,"заб",$K$4:$K$7) -> 0 | O7: =SUMIF($I$8:$J$9,"заб",$K$6:$K$9) -> 0 | P7: =SUMIF($J$10:$J$13,"заб",$K$10:$K$13) -> 0 | Q7: =SUMIF($J$14:$J$17,"заб",$K$14:$K$17) -> 0 | S7: 2 | T7: =IF(J8=J4," ",J8) | U7: =SUMIF($J$4:$J$7,T7,$K$4:$K$7) -> 0 | V7: =SUMIF($I$8:$J$9,T7,$K$6:$K$9) -> 0 | W7: =SUMIF($J$10:$J$13,T7,$K$10:$K$13) -> 0 | X7: =SUMIF($J$14:$J$17,T7,$K$14:$K$17) -> 0 | Z7: =IF(OR(T7=" "),T8,T7) | AA7: =IF(U7=U6," ",U7) -> 0 | AB7: =IF(OR(Z7=" "),Z8,Z7) | AC7: 2 | AD7: =IF(OR(AB7=" "),AB8,AB7) | AE7: =SUMIF($J$4:$J$7,AD7,$K$4:$K$7) -> 0 | AF7: =SUMIF($I$8:$J$9,AD7,$K$6:$K$9) -> 0 | AG7: =SUMIF($J$10:$J$13,AD7,$K$10:$K$13) -> 0 | AH7: =SUMIF($J$14:$J$17,AD7,$K$14:$K$17) -> 0 | AJ7: 2 | AK7: =IF(AD7=0," ",AD7) | AL7: =IF(AE7=0," ",AE7) | AM7: =IF(AF7=0," ",AF7) | AN7: =IF(AG7=0," ",AG7) | AO7: =IF(AH7=0," ",AH7)
A8: 3 | B8: =пр.хода!AH8 | C8: =IFERROR(VLOOKUP(B8,пр.взв!$D$6:$Q$70,3,0),"") | D8: =IFERROR(VLOOKUP(B8,пр.взв!$D$6:$Q$70,4,0),"") | E8: =IFERROR(VLOOKUP(B8,пр.взв!$D$6:$Q$70,6,0),"") | F8: =IFERROR(VLOOKUP(B8,пр.взв!$D$6:$Q$70,7,0),"") | G8: =IFERROR(VLOOKUP(B8,пр.взв!$D$6:$Q$70,8,0),"") | H8: =IFERROR(VLOOKUP(B8,пр.взв!$D$6:$Q$70,10,0),"") | J8: =IFERROR(LEFT(F7,FIND(",",F7)-1),F7) | K8: 1 | L8: 3 | M8: Иркутская | N8: =SUMIF($J$4:$J$7,"ирк",$K$4:$K$7) -> 0 | O8: =SUMIF($I$8:$J$9,"ирк",$K$6:$K$9) -> 0 | P8: =SUMIF($J$10:$J$13,"ирк",$K$10:$K$13) -> 0 | Q8: =SUMIF($J$14:$J$17,"ирк",$K$14:$K$17) -> 0 | S8: 3 | T8: =IF(OR(J10=J4,J10=J8)," ",J10) | U8: =SUMIF($J$4:$J$7,T8,$K$4:$K$7) -> 0 | V8: =SUMIF($I$8:$J$9,T8,$K$6:$K$9) -> 0 | W8: =SUMIF($J$10:$J$13,T8,$K$10:$K$13) -> 0 | X8: =SUMIF($J$14:$J$17,T8,$K$14:$K$17) -> 0 | Z8: =IF(OR(T8=" ",T7=" "),T9,T8) | AB8: =IF(OR(Z8=" ",Z7=" "),Z9,Z8) | AC8: 3 | AD8: =IF(OR(AB8=" ",AB7=" "),AB9,AB8) | AE8: =SUMIF($J$4:$J$7,AD8,$K$4:$K$7) -> 0 | AF8: =SUMIF($I$8:$J$9,AD8,$K$6:$K$9) -> 0 | AG8: =SUMIF($J$10:$J$13,AD8,$K$10:$K$13) -> 0 | AH8: =SUMIF($J$14:$J$17,AD8,$K$14:$K$17) -> 0 | AJ8: 3 | AK8: =IF(AD8=0," ",AD8) | AL8: =IF(AE8=0," ",AE8) | AM8: =IF(AF8=0," ",AF8) | AN8: =IF(AG8=0," ",AG8) | AO8: =IF(AH8=0," ",AH8)
A9: 3 | B9: =пр.хода!AH9 | C9: =IFERROR(VLOOKUP(B9,пр.взв!$D$6:$Q$70,3,0),"") | D9: =IFERROR(VLOOKUP(B9,пр.взв!$D$6:$Q$70,4,0),"") | E9: =IFERROR(VLOOKUP(B9,пр.взв!$D$6:$Q$70,6,0),"") | F9: =IFERROR(VLOOKUP(B9,пр.взв!$D$6:$Q$70,7,0),"") | G9: =IFERROR(VLOOKUP(B9,пр.взв!$D$6:$Q$70,8,0),"") | H9: =IFERROR(VLOOKUP(B9,пр.взв!$D$6:$Q$70,10,0),"") | L9: 4 | M9: Кемеровская | N9: =SUMIF($J$4:$J$7,"кем",$K$4:$K$7) -> 0 | O9: =SUMIF($I$8:$J$9,"кем",$K$6:$K$9) -> 0 | P9: =SUMIF($J$10:$J$13,"кем",$K$10:$K$13) -> 0 | Q9: =SUMIF($J$14:$J$17,"кем",$K$14:$K$17) -> 0 | S9: 4 | T9: =IF(OR(J12=J4,J12=J8,J12=J10)," ",J12) | U9: =SUMIF($J$4:$J$7,T9,$K$4:$K$7) -> 0 | V9: =SUMIF($I$8:$J$9,T9,$K$6:$K$9) -> 0 | W9: =SUMIF($J$10:$J$13,T9,$K$10:$K$13) -> 0 | X9: =SUMIF($J$14:$J$17,T9,$K$14:$K$17) -> 0 | Z9: =IF(OR(T7=" ",T8=" ",T9=" "),T10,T9) | AB9: =IF(OR(Z7=" ",Z8=" ",Z9=" "),Z10,Z9) | AC9: 4 | AD9: =IF(OR(AB7=" ",AB8=" ",AB9=" "),AB10,AB9) | AE9: =SUMIF($J$4:$J$7,AD9,$K$4:$K$7) -> 0 | AF9: =SUMIF($I$8:$J$9,AD9,$K$6:$K$9) -> 0 | AG9: =SUMIF($J$10:$J$13,AD9,$K$10:$K$13) -> 0 | AH9: =SUMIF($J$14:$J$17,AD9,$K$14:$K$17) -> 0 | AJ9: 4 | AK9: =IF(AD9=0," ",AD9) | AL9: =IF(AE9=0," ",AE9) | AM9: =IF(AF9=0," ",AF9) | AN9: =IF(AG9=0," ",AG9) | AO9: =IF(AH9=0," ",AH9)
A10: 5 | B10: =пр.хода!AH10 | C10: =IFERROR(VLOOKUP(B10,пр.взв!$D$6:$Q$70,3,0),"") | D10: =IFERROR(VLOOKUP(B10,пр.взв!$D$6:$Q$70,4,0),"") | E10: =IFERROR(VLOOKUP(B10,пр.взв!$D$6:$Q$70,6,0),"") | F10: =IFERROR(VLOOKUP(B10,пр.взв!$D$6:$Q$70,7,0),"") | G10: =IFERROR(VLOOKUP(B10,пр.взв!$D$6:$Q$70,8,0),"") | H10: =IFERROR(VLOOKUP(B10,пр.взв!$D$6:$Q$70,10,0),"") | J10: =IFERROR(LEFT(F8,FIND(",",F8)-1),F8) | K10: 1 | L10: 5 | M10: Красноярский | N10: =SUMIF($J$4:$J$7,"кра",$K$4:$K$7) -> 0 | O10: =SUMIF($I$8:$J$9,"кра",$K$6:$K$9) -> 0 | P10: =SUMIF($J$10:$J$13,"кра",$K$10:$K$13) -> 0 | Q10: =SUMIF($J$14:$J$17,"кра",$K$14:$K$17) -> 0 | S10: 5 | T10: =IF(OR(J14=J4,J14=J8,J14=J10,J14=J12)," ",J14) | U10: =SUMIF($J$4:$J$7,T10,$K$4:$K$7) -> 0 | V10: =SUMIF($I$8:$J$9,T10,$K$6:$K$9) -> 0 | W10: =SUMIF($J$10:$J$13,T10,$K$10:$K$13) -> 0 | X10: =SUMIF($J$14:$J$17,T10,$K$14:$K$17) -> 0 | Z10: =IF(OR(T7=" ",T8=" ",T9=" ",T10=" "),T11,T10) | AB10: =IF(OR(Z7=" ",Z8=" ",Z9=" ")," ",Z10) | AC10: 5 | AD10: =IF(OR(AB7=" ",AB8=" ",AB9=" ")," ",AB10) | AE10: =SUMIF($J$4:$J$7,AD10,$K$4:$K$7) -> 0 | AF10: =SUMIF($I$8:$J$9,AD10,$K$6:$K$9) -> 0 | AG10: =SUMIF($J$10:$J$13,AD10,$K$10:$K$13) -> 0 | AH10: =SUMIF($J$14:$J$17,AD10,$K$14:$K$17) -> 0 | AJ10: 5 | AK10: =IF(AD10=0," ",AD10) | AL10: =IF(AE10=0," ",AE10) | AM10: =IF(AF10=0," ",AF10) | AN10: =IF(AG10=0," ",AG10) | AO10: =IF(AH10=0," ",AH10)
A11: 5 | B11: =пр.хода!AH11 | C11: =IFERROR(VLOOKUP(B11,пр.взв!$D$6:$Q$70,3,0),"") | D11: =IFERROR(VLOOKUP(B11,пр.взв!$D$6:$Q$70,4,0),"") | E11: =IFERROR(VLOOKUP(B11,пр.взв!$D$6:$Q$70,6,0),"") | F11: =IFERROR(VLOOKUP(B11,пр.взв!$D$6:$Q$70,7,0),"") | G11: =IFERROR(VLOOKUP(B11,пр.взв!$D$6:$Q$70,8,0),"") | H11: =IFERROR(VLOOKUP(B11,пр.взв!$D$6:$Q$70,10,0),"") | L11: 6 | M11: Новосибирская | N11: =SUMIF($J$4:$J$7,"нов",$K$4:$K$7) -> 0 | O11: =SUMIF($I$8:$J$9,"нов",$K$6:$K$9) -> 0 | P11: =SUMIF($J$10:$J$13,"нов",$K$10:$K$13) -> 0 | Q11: =SUMIF($J$14:$J$17,"нов",$K$14:$K$17) -> 0 | S11: 6 | T11: =IF(OR(J16=J4,J16=J8,J16=J10,J16=J12,J16=J14)," ",J16) | U11: =SUMIF($J$4:$J$7,T11,$K$4:$K$7) -> 0 | V11: =SUMIF($I$8:$J$9,T11,$K$6:$K$9) -> 0 | W11: =SUMIF($J$10:$J$13,T11,$K$10:$K$13) -> 0 | X11: =SUMIF($J$14:$J$17,T11,$K$8:$K$17) -> 0 | Z11: =IF(OR(T7=" ",T8=" ",T9=" ",T10=" ")," ",T11) | AB11: =IF(OR(Z7=" ",Z8=" ",Z9=" ",Z10=" ")," ",Z11) | AC11: 6 | AD11: =IF(OR(AB7=" ",AB8=" ",AB9=" ",AB10=" ")," ",AB11) | AE11: =SUMIF($J$4:$J$7,AD11,$K$4:$K$7) -> 0 | AF11: =SUMIF($I$8:$J$9,AD11,$K$6:$K$9) -> 0 | AG11: =SUMIF($J$10:$J$13,AD11,$K$10:$K$13) -> 0 | AH11: =SUMIF($J$14:$J$17,AD11,$K$14:$K$17) -> 0 | AJ11: 6 | AK11: =IF(AD11=0," ",AD11) | AL11: =IF(AE11=0," ",AE11) | AM11: =IF(AF11=0," ",AF11) | AN11: =IF(AG11=0," ",AG11) | AO11: =IF(AH11=0," ",AH11)
A12: 5 | B12: =пр.хода!AH12 | C12: =IFERROR(VLOOKUP(B12,пр.взв!$D$6:$Q$70,3,0),"") | D12: =IFERROR(VLOOKUP(B12,пр.взв!$D$6:$Q$70,4,0),"") | E12: =IFERROR(VLOOKUP(B12,пр.взв!$D$6:$Q$70,6,0),"") | F12: =IFERROR(VLOOKUP(B12,пр.взв!$D$6:$Q$70,7,0),"") | G12: =IFERROR(VLOOKUP(B12,пр.взв!$D$6:$Q$70,8,0),"") | H12: =IFERROR(VLOOKUP(B12,пр.взв!$D$6:$Q$70,10,0),"") | J12: =IFERROR(LEFT(F9,FIND(",",F9)-1),F9) | K12: 1 | L12: 7 | M12: Омская | N12: =SUMIF($J$4:$J$7,"омс",$K$4:$K$7) -> 0 | O12: =SUMIF($I$8:$J$9,"омс",$K$6:$K$9) -> 0 | P12: =SUMIF($J$10:$J$13,"омс",$K$10:$K$13) -> 0 | Q12: =SUMIF($J$14:$J$17,"омс",$K$14:$K$17) -> 0 | T12: =IF(OR(J15=J7,J15=J11,J15=J13)," ",J15) | AE12: =SUM(AE6:AE11) -> 1 | AF12: =SUM(AF6:AF11) -> 4 | AG12: =SUM(AG6:AG11) -> 2 | AH12: =SUM(AH6:AH11) -> 2 | AL12: =SUM(AL6:AL11) -> 1 | AM12: =SUM(AM6:AM11) -> 4 | AN12: =SUM(AN6:AN11) -> 2 | AO12: =SUM(AO6:AO11) -> 2
A13: 5 | B13: =пр.хода!AH13 | C13: =IFERROR(VLOOKUP(B13,пр.взв!$D$6:$Q$70,3,0),"") | D13: =IFERROR(VLOOKUP(B13,пр.взв!$D$6:$Q$70,4,0),"") | E13: =IFERROR(VLOOKUP(B13,пр.взв!$D$6:$Q$70,6,0),"") | F13: =IFERROR(VLOOKUP(B13,пр.взв!$D$6:$Q$70,7,0),"") | G13: =IFERROR(VLOOKUP(B13,пр.взв!$D$6:$Q$70,8,0),"") | H13: =IFERROR(VLOOKUP(B13,пр.взв!$D$6:$Q$70,10,0),"") | L13: 8 | M13: Р.Алтай | N13: =SUMIF($J$4:$J$7,"р.а",$K$4:$K$7) -> 0 | O13: =SUMIF($I$8:$J$9,"р.а",$K$6:$K$9) -> 0 | P13: =SUMIF($J$10:$J$13,"р.а",$K$10:$K$13) -> 0 | Q13: =SUMIF($J$14:$J$17,"р.а",$K$14:$K$17) -> 0 | T13: =IF(OR(J16=J8,J16=J12,J16=J14)," ",J16)
A14: 9-16 | B14: =пр.хода!AH14 | C14: =IFERROR(VLOOKUP(B14,пр.взв!$D$6:$Q$70,3,0),"") | D14: =IFERROR(VLOOKUP(B14,пр.взв!$D$6:$Q$70,4,0),"") | E14: =IFERROR(VLOOKUP(B14,пр.взв!$D$6:$Q$70,6,0),"") | F14: =IFERROR(VLOOKUP(B14,пр.взв!$D$6:$Q$70,7,0),"") | G14: =IFERROR(VLOOKUP(B14,пр.взв!$D$6:$Q$70,8,0),"") | H14: =IFERROR(VLOOKUP(B14,пр.взв!$D$6:$Q$70,10,0),"") | J14: =IFERROR(LEFT(F10,FIND(",",F10)-1),F10) | K14: 1 | L14: 9 | M14: Р.Бурятия | N14: =SUMIF($J$4:$J$7,"р.б",$K$4:$K$7) -> 0 | O14: =SUMIF($I$8:$J$9,"р.б",$K$6:$K$9) -> 0 | P14: =SUMIF($J$10:$J$13,"р.б",$K$10:$K$13) -> 0 | Q14: =SUMIF($J$14:$J$17,"р.б",$K$14:$K$17) -> 0
A15: 9-16 | B15: =пр.хода!AH15 | C15: =IFERROR(VLOOKUP(B15,пр.взв!$D$6:$Q$70,3,0),"") | D15: =IFERROR(VLOOKUP(B15,пр.взв!$D$6:$Q$70,4,0),"") | E15: =IFERROR(VLOOKUP(B15,пр.взв!$D$6:$Q$70,6,0),"") | F15: =IFERROR(VLOOKUP(B15,пр.взв!$D$6:$Q$70,7,0),"") | G15: =IFERROR(VLOOKUP(B15,пр.взв!$D$6:$Q$70,8,0),"") | H15: =IFERROR(VLOOKUP(B15,пр.взв!$D$6:$Q$70,10,0),"") | L15: 10 | M15: Р.Хакасия | N15: =SUMIF($J$4:$J$7,"р.х",$K$4:$K$7) -> 0 | O15: =SUMIF($I$8:$J$9,"р.х",$K$6:$K$9) -> 0 | P15: =SUMIF($J$10:$J$13,"р.х",$K$10:$K$13) -> 0 | Q15: =SUMIF($J$14:$J$17,"р.х",$K$14:$K$17) -> 0
A16: 9-16 | B16: =пр.хода!AH16 | C16: =IFERROR(VLOOKUP(B16,пр.взв!$D$6:$Q$70,3,0),"") | D16: =IFERROR(VLOOKUP(B16,пр.взв!$D$6:$Q$70,4,0),"") | E16: =IFERROR(VLOOKUP(B16,пр.взв!$D$6:$Q$70,6,0),"") | F16: =IFERROR(VLOOKUP(B16,пр.взв!$D$6:$Q$70,7,0),"") | G16: =IFERROR(VLOOKUP(B16,пр.взв!$D$6:$Q$70,8,0),"") | H16: =IFERROR(VLOOKUP(B16,пр.взв!$D$6:$Q$70,10,0),"") | J16: =IFERROR(LEFT(F11,FIND(",",F11)-1),F11) | K16: 1 | L16: 11 | M16: Томская | N16: =SUMIF($J$4:$J$7,"том",$K$4:$K$7) -> 0 | O16: =SUMIF($I$8:$J$9,"том",$K$6:$K$9) -> 0 | P16: =SUMIF($J$10:$J$13,"том",$K$10:$K$13) -> 0 | Q16: =SUMIF($J$14:$J$17,"том",$K$14:$K$17) -> 0
A17: 9-16 | B17: =пр.хода!AH17 | C17: =IFERROR(VLOOKUP(B17,пр.взв!$D$6:$Q$70,3,0),"") | D17: =IFERROR(VLOOKUP(B17,пр.взв!$D$6:$Q$70,4,0),"") | E17: =IFERROR(VLOOKUP(B17,пр.взв!$D$6:$Q$70,6,0),"") | F17: =IFERROR(VLOOKUP(B17,пр.взв!$D$6:$Q$70,7,0),"") | G17: =IFERROR(VLOOKUP(B17,пр.взв!$D$6:$Q$70,8,0),"") | H17: =IFERROR(VLOOKUP(B17,пр.взв!$D$6:$Q$70,10,0),"") | L17: 12 | M17: Мос | N17: =SUMIF($J$4:$J$7,"Мос",$K$4:$K$7) -> 0 | O17: =SUMIF($I$8:$J$9,"Мос",$K$6:$K$9) -> 0 | P17: =SUMIF($J$10:$J$13,"Мос",$K$10:$K$13) -> 0 | Q17: =SUMIF($J$14:$J$17,"Мос",$K$14:$K$17) -> 0
A18: 9-16 | B18: =пр.хода!AH18 | C18: =IFERROR(VLOOKUP(B18,пр.взв!$D$6:$Q$70,3,0),"") | D18: =IFERROR(VLOOKUP(B18,пр.взв!$D$6:$Q$70,4,0),"") | E18: =IFERROR(VLOOKUP(B18,пр.взв!$D$6:$Q$70,6,0),"") | F18: =IFERROR(VLOOKUP(B18,пр.взв!$D$6:$Q$70,7,0),"") | G18: =IFERROR(VLOOKUP(B18,пр.взв!$D$6:$Q$70,8,0),"") | H18: =IFERROR(VLOOKUP(B18,пр.взв!$D$6:$Q$70,10,0),"") | N18: =SUM(N6:N17) -> 1 | O18: =SUM(O6:O17) -> 0 | P18: =SUM(P6:P17) -> 0 | Q18: =SUM(Q6:Q17) -> 0 | U18: =SUM(U6:U17) -> 1 | V18: =SUM(V6:V17) -> 4 | W18: =SUM(W6:W17) -> 2 | X18: =SUM(X6:X17) -> 2
A19: 9-16 | B19: =пр.хода!AH19 | C19: =IFERROR(VLOOKUP(B19,пр.взв!$D$6:$Q$70,3,0),"") | D19: =IFERROR(VLOOKUP(B19,пр.взв!$D$6:$Q$70,4,0),"") | E19: =IFERROR(VLOOKUP(B19,пр.взв!$D$6:$Q$70,6,0),"") | F19: =IFERROR(VLOOKUP(B19,пр.взв!$D$6:$Q$70,7,0),"") | G19: =IFERROR(VLOOKUP(B19,пр.взв!$D$6:$Q$70,8,0),"") | H19: =IFERROR(VLOOKUP(B19,пр.взв!$D$6:$Q$70,10,0),"")
A20: 9-16 | B20: =пр.хода!AH20 | C20: =IFERROR(VLOOKUP(B20,пр.взв!$D$6:$Q$70,3,0),"") | D20: =IFERROR(VLOOKUP(B20,пр.взв!$D$6:$Q$70,4,0),"") | E20: =IFERROR(VLOOKUP(B20,пр.взв!$D$6:$Q$70,6,0),"") | F20: =IFERROR(VLOOKUP(B20,пр.взв!$D$6:$Q$70,7,0),"") | G20: =IFERROR(VLOOKUP(B20,пр.взв!$D$6:$Q$70,8,0),"") | H20: =IFERROR(VLOOKUP(B20,пр.взв!$D$6:$Q$70,10,0),"")
A21: 9-16 | B21: =пр.хода!AH21 | C21: =IFERROR(VLOOKUP(B21,пр.взв!$D$6:$Q$70,3,0),"") | D21: =IFERROR(VLOOKUP(B21,пр.взв!$D$6:$Q$70,4,0),"") | E21: =IFERROR(VLOOKUP(B21,пр.взв!$D$6:$Q$70,6,0),"") | F21: =IFERROR(VLOOKUP(B21,пр.взв!$D$6:$Q$70,7,0),"") | G21: =IFERROR(VLOOKUP(B21,пр.взв!$D$6:$Q$70,8,0),"") | H21: =IFERROR(VLOOKUP(B21,пр.взв!$D$6:$Q$70,10,0),"")
A22: 17-32 | B22: =пр.хода!AH22 | C22: =IFERROR(VLOOKUP(B22,пр.взв!$D$6:$Q$70,3,0),"") | D22: =IFERROR(VLOOKUP(B22,пр.взв!$D$6:$Q$70,4,0),"") | E22: =IFERROR(VLOOKUP(B22,пр.взв!$D$6:$Q$70,6,0),"") | F22: =IFERROR(VLOOKUP(B22,пр.взв!$D$6:$Q$70,7,0),"") | G22: =IFERROR(VLOOKUP(B22,пр.взв!$D$6:$Q$70,8,0),"") | H22: =IFERROR(VLOOKUP(B22,пр.взв!$D$6:$Q$70,10,0),"")
A23: 17-32 | B23: =пр.хода!AH23 | C23: =IFERROR(VLOOKUP(B23,пр.взв!$D$6:$Q$70,3,0),"") | D23: =IFERROR(VLOOKUP(B23,пр.взв!$D$6:$Q$70,4,0),"") | E23: =IFERROR(VLOOKUP(B23,пр.взв!$D$6:$Q$70,6,0),"") | F23: =IFERROR(VLOOKUP(B23,пр.взв!$D$6:$Q$70,7,0),"") | G23: =IFERROR(VLOOKUP(B23,пр.взв!$D$6:$Q$70,8,0),"") | H23: =IFERROR(VLOOKUP(B23,пр.взв!$D$6:$Q$70,10,0),"")
A24: 17-32 | B24: =пр.хода!AH24 | C24: =IFERROR(VLOOKUP(B24,пр.взв!$D$6:$Q$70,3,0),"") | D24: =IFERROR(VLOOKUP(B24,пр.взв!$D$6:$Q$70,4,0),"") | E24: =IFERROR(VLOOKUP(B24,пр.взв!$D$6:$Q$70,6,0),"") | F24: =IFERROR(VLOOKUP(B24,пр.взв!$D$6:$Q$70,7,0),"") | G24: =IFERROR(VLOOKUP(B24,пр.взв!$D$6:$Q$70,8,0),"") | H24: =IFERROR(VLOOKUP(B24,пр.взв!$D$6:$Q$70,10,0),"")
A25: 17-32 | B25: =пр.хода!AH25 | C25: =IFERROR(VLOOKUP(B25,пр.взв!$D$6:$Q$70,3,0),"") | D25: =IFERROR(VLOOKUP(B25,пр.взв!$D$6:$Q$70,4,0),"") | E25: =IFERROR(VLOOKUP(B25,пр.взв!$D$6:$Q$70,6,0),"") | F25: =IFERROR(VLOOKUP(B25,пр.взв!$D$6:$Q$70,7,0),"") | G25: =IFERROR(VLOOKUP(B25,пр.взв!$D$6:$Q$70,8,0),"") | H25: =IFERROR(VLOOKUP(B25,пр.взв!$D$6:$Q$70,10,0),"")
A26: 17-32 | B26: =пр.хода!AH26 | C26: =IFERROR(VLOOKUP(B26,пр.взв!$D$6:$Q$70,3,0),"") | D26: =IFERROR(VLOOKUP(B26,пр.взв!$D$6:$Q$70,4,0),"") | E26: =IFERROR(VLOOKUP(B26,пр.взв!$D$6:$Q$70,6,0),"") | F26: =IFERROR(VLOOKUP(B26,пр.взв!$D$6:$Q$70,7,0),"") | G26: =IFERROR(VLOOKUP(B26,пр.взв!$D$6:$Q$70,8,0),"") | H26: =IFERROR(VLOOKUP(B26,пр.взв!$D$6:$Q$70,10,0),"")
A27: 17-32 | B27: =пр.хода!AH27 | C27: =IFERROR(VLOOKUP(B27,пр.взв!$D$6:$Q$70,3,0),"") | D27: =IFERROR(VLOOKUP(B27,пр.взв!$D$6:$Q$70,4,0),"") | E27: =IFERROR(VLOOKUP(B27,пр.взв!$D$6:$Q$70,6,0),"") | F27: =IFERROR(VLOOKUP(B27,пр.взв!$D$6:$Q$70,7,0),"") | G27: =IFERROR(VLOOKUP(B27,пр.взв!$D$6:$Q$70,8,0),"") | H27: =IFERROR(VLOOKUP(B27,пр.взв!$D$6:$Q$70,10,0),"")
A28: 17-32 | B28: =пр.хода!AH28 | C28: =IFERROR(VLOOKUP(B28,пр.взв!$D$6:$Q$70,3,0),"") | D28: =IFERROR(VLOOKUP(B28,пр.взв!$D$6:$Q$70,4,0),"") | E28: =IFERROR(VLOOKUP(B28,пр.взв!$D$6:$Q$70,6,0),"") | F28: =IFERROR(VLOOKUP(B28,пр.взв!$D$6:$Q$70,7,0),"") | G28: =IFERROR(VLOOKUP(B28,пр.взв!$D$6:$Q$70,8,0),"") | H28: =IFERROR(VLOOKUP(B28,пр.взв!$D$6:$Q$70,10,0),"")
A29: 17-32 | B29: =пр.хода!AH29 | C29: =IFERROR(VLOOKUP(B29,пр.взв!$D$6:$Q$70,3,0),"") | D29: =IFERROR(VLOOKUP(B29,пр.взв!$D$6:$Q$70,4,0),"") | E29: =IFERROR(VLOOKUP(B29,пр.взв!$D$6:$Q$70,6,0),"") | F29: =IFERROR(VLOOKUP(B29,пр.взв!$D$6:$Q$70,7,0),"") | G29: =IFERROR(VLOOKUP(B29,пр.взв!$D$6:$Q$70,8,0),"") | H29: =IFERROR(VLOOKUP(B29,пр.взв!$D$6:$Q$70,10,0),"")
A30: 17-32 | B30: =пр.хода!AH30 | C30: =IFERROR(VLOOKUP(B30,пр.взв!$D$6:$Q$70,3,0),"") | D30: =IFERROR(VLOOKUP(B30,пр.взв!$D$6:$Q$70,4,0),"") | E30: =IFERROR(VLOOKUP(B30,пр.взв!$D$6:$Q$70,6,0),"") | F30: =IFERROR(VLOOKUP(B30,пр.взв!$D$6:$Q$70,7,0),"") | G30: =IFERROR(VLOOKUP(B30,пр.взв!$D$6:$Q$70,8,0),"") | H30: =IFERROR(VLOOKUP(B30,пр.взв!$D$6:$Q$70,10,0),"")
... A69: 64 | B69: =пр.хода!AH69 -> 64 | C69: =IFERROR(VLOOKUP(B69,пр.взв!$D$6:$Q$70,3,0),"") | D69: =IFERROR(VLOOKUP(B69,пр.взв!$D$6:$Q$70,4,0),"") | E69: =IFERROR(VLOOKUP(B69,пр.взв!$D$6:$Q$70,6,0),"") | F69: =IFERROR(VLOOKUP(B69,пр.взв!$D$6:$Q$70,7,0),"") | G69: =IFERROR(VLOOKUP(B69,пр.взв!$D$6:$Q$70,8,0),"") | H69: =IFERROR(VLOOKUP(B69,пр.взв!$D$6:$Q$70,10,0),"")
A71: =пр.хода!A73 -> Гл.судья, судья ВК | F71: =пр.хода!G73 -> Редин Д.А. | H71: =пр.хода!J73 -> Хабаровский кр.
A74: =пр.хода!T73 -> Гл.секретарь, судья ВК | F74: =пр.хода!AB73 -> Мордовин С.Н. | H74: =пр.хода!AC73 -> Р.Алт, Майма

Sheet наградной лист
A1: =пр.взв!C2 -> Первенство России по самбо (боевое) юниоры 18-20 лет (отбор на Первенство Мира и Европы) ЕКП № 23752
A2: =пр.взв!C3 -> 13.02 - 17.02.2022 г. г. В-Пышма
A3: НАГРАДНОЙ ЛИСТ БОЕВОЕ
D4: =пр.взв!G4 -> В.к. 58 кг
A6: I м | B6: =IFERROR(VLOOKUP(J6,пр.взв!$D$6:$Q$70,2,0),"") | H6: =IFERROR(VLOOKUP(J6,пр.взв!$D$6:$Q$70,4,0),"") | J6: =пр.хода!N32 -> 0
B8: =IFERROR(VLOOKUP(J6,пр.взв!$D$6:$Q$70,6,0),"") | E8: =IFERROR(VLOOKUP(J6,пр.взв!$D$6:$Q$70,7,0),"")
A11: II м | B11: =IFERROR(VLOOKUP(J11,пр.взв!$D$6:$Q$70,2,0),"") | H11: =IFERROR(VLOOKUP(J11,пр.взв!$D$6:$Q$21,4,0),"") | J11: =пр.хода!N40
B13: =IFERROR(VLOOKUP(J11,пр.взв!$D$6:$Q$21,6,0),"") | E13: =IFERROR(VLOOKUP(J11,пр.взв!$D$6:$Q$70,7,0),"")
A16: III м | B16: =IFERROR(VLOOKUP(J16,пр.взв!$D$6:$Q$70,2,0),"") | H16: =IFERROR(VLOOKUP(J16,пр.взв!$D$6:$Q$21,4,0),"") | J16: =пр.хода!AH8
B18: =IFERROR(VLOOKUP(J16,пр.взв!$D$6:$Q$21,6,0),"") | E18: =IFERROR(VLOOKUP(J16,пр.взв!$D$6:$Q$21,7,0),"")
A21: III м | B21: =IFERROR(VLOOKUP(J21,пр.взв!$D$6:$Q$70,2,0),"") | H21: =IFERROR(VLOOKUP(J21,пр.взв!$D$6:$Q$21,4,0),"") | J21: =пр.хода!M47
B23: =IFERROR(VLOOKUP(J21,пр.взв!$D$6:$Q$21,6,0),"") | E23: =IFERROR(VLOOKUP(J21,пр.взв!$D$6:$Q$21,7,0),"")
A26: Тренер победителя:
A28: =IFERROR(VLOOKUP(J28,пр.взв!$B$7:$H$70,7,0),"") | J28: =пр.хода!M32 -> 0
A32: Награждение проводят:

Sheet Ст Б
A1: Чемпионат России по БОЕВОМУ САМБО
H2: =пр.взв!D4 -> 0
A3: 2 | B3: =VLOOKUP(A3,#REF!,2,FALSE) -> #REF! | C3: =VLOOKUP(A3,#REF!,3,FALSE) -> #REF! | D3: =VLOOKUP(A3,#REF!,4,FALSE) -> #REF!
H4: Подгруппа Б
A5: 34 | B5: =VLOOKUP(A5,#REF!,2,FALSE) -> #REF! | C5: =VLOOKUP(A5,#REF!,3,FALSE) -> #REF! | D5: =VLOOKUP(A5,#REF!,4,FALSE) -> #REF!
A7: 18 | B7: =VLOOKUP(A7,#REF!,2,FALSE) -> #REF! | C7: =VLOOKUP(A7,#REF!,3,FALSE) -> #REF! | D7: =VLOOKUP(A7,#REF!,4,FALSE) -> #REF!
A9: 50 | B9: =VLOOKUP(A9,#REF!,2,FALSE) -> #REF! | C9: =VLOOKUP(A9,#REF!,3,FALSE) -> #REF! | D9: =VLOOKUP(A9,#REF!,4,FALSE) -> #REF!
A11: 10 | B11: =VLOOKUP(A11,#REF!,2,FALSE) -> #REF! | C11: =VLOOKUP(A11,#REF!,3,FALSE) -> #REF! | D11: =VLOOKUP(A11,#REF!,4,FALSE) -> #REF!
A13: 42 | B13: =VLOOKUP(A13,#REF!,2,FALSE) -> #REF! | C13: =VLOOKUP(A13,#REF!,3,FALSE) -> #REF! | D13: =VLOOKUP(A13,#REF!,4,FALSE) -> #REF!
A15: 26 | B15: =VLOOKUP(A15,#REF!,2,FALSE) -> #REF! | C15: =VLOOKUP(A15,#REF!,3,FALSE) -> #REF! | D15: =VLOOKUP(A15,#REF!,4,FALSE) -> #REF!
A17: 58 | B17: =VLOOKUP(A17,#REF!,2,FALSE) -> #REF! | C17: =VLOOKUP(A17,#REF!,3,FALSE) -> #REF! | D17: =VLOOKUP(A17,#REF!,4,FALSE) -> #REF!
A19: 6 | B19: =VLOOKUP(A19,#REF!,2,FALSE) -> #REF! | C19: =VLOOKUP(A19,#REF!,3,FALSE) -> #REF! | D19: =VLOOKUP(A19,#REF!,4,FALSE) -> #REF!
A21: 38 | B21: =VLOOKUP(A21,#REF!,2,FALSE) -> #REF! | C21: =VLOOKUP(A21,#REF!,3,FALSE) -> #REF! | D21: =VLOOKUP(A21,#REF!,4,FALSE) -> #REF!
A23: 22 | B23: =VLOOKUP(A23,#REF!,2,FALSE) -> #REF! | C23: =VLOOKUP(A23,#REF!,3,FALSE) -> #REF! | D23: =VLOOKUP(A23,#REF!,4,FALSE) -> #REF!
A25: 54 | B25: =VLOOKUP(A25,#REF!,2,FALSE) -> #REF! | C25: =VLOOKUP(A25,#REF!,3,FALSE) -> #REF! | D25: =VLOOKUP(A25,#REF!,4,FALSE) -> #REF!
A27: 14 | B27: =VLOOKUP(A27,#REF!,2,FALSE) -> #REF! | C27: =VLOOKUP(A27,#REF!,3,FALSE) -> #REF! | D27: =VLOOKUP(A27,#REF!,4,FALSE) -> #REF!
... A66: 64 | B66: =VLOOKUP(A66,#REF!,2,FALSE) -> #REF! | C66: =VLOOKUP(A66,#REF!,3,FALSE) -> #REF! | D66: =VLOOKUP(A66,#REF!,4,FALSE) -> #REF!
A70: Утешительные встречи | E70: =H2 -> 0 | G70: Подгруппа Б1

Sheet Ст А
A1: Чемпионат России по БОЕВОМУ САМБО
H2: =пр.взв!D4 -> 0
A3: 1 | B3: =VLOOKUP(A3,#REF!,2,FALSE) -> #REF! | C3: =VLOOKUP(A3,#REF!,3,FALSE) -> #REF! | D3: =VLOOKUP(A3,#REF!,4,FALSE) -> #REF!
A5: 33 | B5: =VLOOKUP(A5,#REF!,2,FALSE) -> #REF! | C5: =VLOOKUP(A5,#REF!,3,FALSE) -> #REF! | D5: =VLOOKUP(A5,#REF!,4,FALSE) -> #REF! | H5: Подгруппа А
A7: 17 | B7: =VLOOKUP(A7,#REF!,2,FALSE) -> #REF! | C7: =VLOOKUP(A7,#REF!,3,FALSE) -> #REF! | D7: =VLOOKUP(A7,#REF!,4,FALSE) -> #REF!
A9: 49 | B9: =VLOOKUP(A9,#REF!,2,FALSE) -> #REF! | C9: =VLOOKUP(A9,#REF!,3,FALSE) -> #REF! | D9: =VLOOKUP(A9,#REF!,4,FALSE) -> #REF!
A11: 9 | B11: =VLOOKUP(A11,#REF!,2,FALSE) -> #REF! | C11: =VLOOKUP(A11,#REF!,3,FALSE) -> #REF! | D11: =VLOOKUP(A11,#REF!,4,FALSE) -> #REF!
A13: 41 | B13: =VLOOKUP(A13,#REF!,2,FALSE) -> #REF! | C13: =VLOOKUP(A13,#REF!,3,FALSE) -> #REF! | D13: =VLOOKUP(A13,#REF!,4,FALSE) -> #REF!
A15: 25 | B15: =VLOOKUP(A15,#REF!,2,FALSE) -> #REF! | C15: =VLOOKUP(A15,#REF!,3,FALSE) -> #REF! | D15: =VLOOKUP(A15,#REF!,4,FALSE) -> #REF!
A17: 57 | B17: =VLOOKUP(A17,#REF!,2,FALSE) -> #REF! | C17: =VLOOKUP(A17,#REF!,3,FALSE) -> #REF! | D17: =VLOOKUP(A17,#REF!,4,FALSE) -> #REF!
A19: 5 | B19: =VLOOKUP(A19,#REF!,2,FALSE) -> #REF! | C19: =VLOOKUP(A19,#REF!,3,FALSE) -> #REF! | D19: =VLOOKUP(A19,#REF!,4,FALSE) -> #REF!
A21: 37 | B21: =VLOOKUP(A21,#REF!,2,FALSE) -> #REF! | C21: =VLOOKUP(A21,#REF!,3,FALSE) -> #REF! | D21: =VLOOKUP(A21,#REF!,4,FALSE) -> #REF!
A23: 21 | B23: =VLOOKUP(A23,#REF!,2,FALSE) -> #REF! | C23: =VLOOKUP(A23,#REF!,3,FALSE) -> #REF! | D23: =VLOOKUP(A23,#REF!,4,FALSE) -> #REF!
A25: 53 | B25: =VLOOKUP(A25,#REF!,2,FALSE) -> #REF! | C25: =VLOOKUP(A25,#REF!,3,FALSE) -> #REF! | D25: =VLOOKUP(A25,#REF!,4,FALSE) -> #REF!
A27: 13 | B27: =VLOOKUP(A27,#REF!,2,FALSE) -> #REF! | C27: =VLOOKUP(A27,#REF!,3,FALSE) -> #REF! | D27: =VLOOKUP(A27,#REF!,4,FALSE) -> #REF!
A29: 45 | B29: =VLOOKUP(A29,#REF!,2,FALSE) -> #REF! | C29: =VLOOKUP(A29,#REF!,3,FALSE) -> #REF! | D29: =VLOOKUP(A29,#REF!,4,FALSE) -> #REF!
... A66: 63 | B66: =VLOOKUP(A66,#REF!,2,FALSE) -> #REF! | C66: =VLOOKUP(A66,#REF!,3,FALSE) -> #REF! | D66: =VLOOKUP(A66,#REF!,4,FALSE) -> #REF!
A72: Утешительные встречи | E72: =HYPERLINK(#REF!) -> #REF! | G72: Подгруппа А1
