Workbook
Name Е4кр: пр.хода!$BT$6:$BT$117
Name Е5кр: пр.хода!$BZ$6:$BZ$117
Name Е6кр: пр.хода!$CF$6:$CF$117
Name ЕстьПустые: пр.хода!$BQ$6:$BQ$117
Name Н4кр: пр.хода!$BU$6:$BU$117
Name Н5кр: пр.хода!$CA$6:$CA$117
Name Н6кр: пр.хода!$CG$6:$CG$117
Name НетПустых: пр.хода!$BS$6:$BS$23
Name разряд: пр.взв!$K$7:$K$70
Name разряд: #REF!
Name субъект: пр.взв!$L$7:$L$70
Name субъект: #REF!

Sheet пр.взв
A1: select Col1,Col3,Col4,Col5,Col6,Col10,Col12,Col13,Col14,Col15,Col16,Col17 WHERE Col1>1 | C1: ПРОТОКОЛ ВЗВЕШИВАНИЯ БОЕВОЕ САМБО | N1: https://docs.google.com/spreadsheets/d/11MlfNHE9chBth-cekZDrxtVONQxoJjPYlN4uZUVSGBY/edit#gid=946786355 | O1: =IF(O2="98+",99,O2) -> 58
C2: =IFERROR(__xludf.DUMMYFUNCTION("IMPORTRANGE(N1,""Реквизиты!A1"")"),"Первенство России по самбо (боевое) юниоры 18-20 лет (отбор на Первенство Мира и Европы) ЕКП № 23752") -> Первенство России по самбо (боевое) юниоры 18-20 лет (отбор на Первенство Мира и Европы) ЕКП № 23752 | O2: 58 | P2: В.к. | Q2: кг
C3: =IFERROR(__xludf.DUMMYFUNCTION("IMPORTRANGE(N1,""Реквизиты!A3"")"),"13.02 - 17.02.2022 г. г. В-Пышма") -> 13.02 - 17.02.2022 г. г. В-Пышма | O3: =COUNTA(F6:F1000) -> 33 | P3: участников | AX3: =SUM(AX7:AX12) -> 0
G4: =P2&" "&O2&" "&Q2 -> В.к. 58 кг | Y4: Мандатка
A5: ВК | B5: ВК | C5: № п/п | D5: № п/ж | E5: Ф.И.О. | F5: Ф.И.О. | G5: Дата рожд., разряд | H5: Разряд | I5: Округ, субъект, город, ведомство | K5: Субъект | L5: № карточки | M5: Тренер
A6: 58 | B6: 58 | D6: 1 | E6: ТАГИРОВ Рабазан | F6: ТАГИРОВ Рабазан Курбанович | G6: 19.11.03, КМС | H6: КМС | I6: ЦФО | J6: Ярославская, Рыбинск, МС | K6: Ярославская | M6: Некербан | N6: {=IF(D6:D1000="","",(LEFT(F6:F1000,FIND(" ",F6:F1000)-1)))} -> ТАГИРОВ | O6: 53 | Q6: =N7 -> ГУСЕЙНОВ | R6: =N8 -> БАЛТРУШИН | S6: =N9 -> ЮНУСОВ | T6: =N10 -> КОРОБЦОВ | U6: =N11 -> АБДУРАХМАНОВ | V6: =N12 -> ХАБИБУЛАЕВ | W6: =N13 -> ДЕХНИЧ | Y6: Субъект, город. | Z6: =Q6 -> ГУСЕЙНОВ | AA6: =R6 -> БАЛТРУШИН | AB6: =S6 -> ЮНУСОВ | AC6: =T6 -> КОРОБЦОВ | AD6: =U6 -> АБДУРАХМАНОВ | AE6: =V6 -> ХАБИБУЛАЕВ | AF6: =W6 -> ДЕХНИЧ
A7: 58 | B7: 58 | C7: 6 | D7: 2 | E7: ГУСЕЙНОВ Намик | F7: ГУСЕЙНОВ Намик Шарофат Оглы | G7: 08.05.04, 3p | H7: 3p | I7: ПФО | J7: Нижегородская обл., Кстово, ГБОУ ДО СШОР по самбо | K7: Нижегородская | M7: Чугреев А.В, Фролов ИМ | N7: ГУСЕЙНОВ | O7: 58 | Q7: =SUMIFS($J$7:$J$88,$L$7:$L$88,P7,$K$7:$K$88,Q$6) -> 0 | R7: =SUMIFS($J$7:$J$88,$L$7:$L$88,P7,$K$7:$K$88,R$6) -> 0 | S7: =SUMIFS($J$7:$J$88,$L$7:$L$88,P7,$K$7:$K$88,S$6) -> 0 | T7: =SUMIFS($J$7:$J$88,$L$7:$L$88,P7,$K$7:$K$88,T$6) -> 0 | U7: =SUMIFS($J$7:$J$88,$L$7:$L$88,P7,$K$7:$K$88,U$6) -> 0 | V7: =SUMIFS($J$7:$J$88,$L$7:$L$88,P7,$K$7:$K$88,V$6) -> 0 | W7: =SUMIFS($J$7:$J$88,$L$7:$L$88,P7,$K$7:$K$88,W$6) -> 0 | Y7: =P7 -> 0 | Z7: =IF(Q7=0," ",Q7) | AA7: =IF(R7=0," ",R7) | AB7: =IF(S7=0," ",S7) | AC7: =IF(T7=0," ",T7) | AD7: =IF(U7=0," ",U7) | AE7: =IF(V7=0," ",V7) | AF7: =IF(W7=0," ",W7) | AH7: =SUM(Z7:AF70) -> 0
A8: 58 | B8: 58 | C8: 14 | D8: 3 | E8: БАЛТРУШИН Сергей | F8: БАЛТРУШИН Сергей Сергеевич | G8: 02.12.03, КМС | H8: КМС | I8: СЗФО | J8: Санкт-Петербург, СанктПетербург, МО | K8: Санкт-Петербург | M8: (Талдиев А.А., Коршунов А.И.) | N8: БАЛТРУШИН | O8: 64 | Q8: =SUMIFS($J$7:$J$88,$L$7:$L$88,P8,$K$7:$K$88,Q$6) -> 0 | R8: =SUMIFS($J$7:$J$88,$L$7:$L$88,P8,$K$7:$K$88,R$6) -> 0 | S8: =SUMIFS($J$7:$J$88,$L$7:$L$88,P8,$K$7:$K$88,S$6) -> 0 | T8: =SUMIFS($J$7:$J$88,$L$7:$L$88,P8,$K$7:$K$88,T$6) -> 0 | U8: =SUMIFS($J$7:$J$88,$L$7:$L$88,P8,$K$7:$K$88,U$6) -> 0 | V8: =SUMIFS($J$7:$J$88,$L$7:$L$88,P8,$K$7:$K$88,V$6) -> 0 | W8: =SUMIFS($J$7:$J$88,$L$7:$L$88,P8,$K$7:$K$88,W$6) -> 0 | Y8: =P8 -> 0 | Z8: =IF($Y$8=$Y$7," ",IF(Q8=0," ",Q8)) | AA8: =IF($Y$8=$Y$7," ",IF(R8=0," ",R8)) | AB8: =IF($Y$8=$Y$7," ",IF(S8=0," ",S8)) | AC8: =IF($Y$8=$Y$7," ",IF(T8=0," ",T8)) | AD8: =IF(U8=0," ",U8) | AE8: =IF(V8=0," ",V8) | AF8: =IF(W8=0," ",W8)
A9: 58 | B9: 58 | C9: 14 | D9: 4 | E9: ЮНУСОВ Ильгиз | F9: ЮНУСОВ Ильгиз Ильясович | G9: 23.10.03, КМС | H9: КМС | I9: ПФО | J9: Р.Татарстан, Казань, МО | K9: Р.Татарстан | M9: Иванов В.А., Андронов А.Г. | N9: ЮНУСОВ | O9: 71 | Q9: =SUMIFS($J$7:$J$88,$L$7:$L$88,P9,$K$7:$K$88,Q$6) -> 0 | R9: =SUMIFS($J$7:$J$88,$L$7:$L$88,P9,$K$7:$K$88,R$6) -> 0 | S9: =SUMIFS($J$7:$J$88,$L$7:$L$88,P9,$K$7:$K$88,S$6) -> 0 | T9: =SUMIFS($J$7:$J$88,$L$7:$L$88,P9,$K$7:$K$88,T$6) -> 0 | U9: =SUMIFS($J$7:$J$88,$L$7:$L$88,P9,$K$7:$K$88,U$6) -> 0 | V9: =SUMIFS($J$7:$J$88,$L$7:$L$88,P9,$K$7:$K$88,V$6) -> 0 | W9: =SUMIFS($J$7:$J$88,$L$7:$L$88,P9,$K$7:$K$88,W$6) -> 0 | Y9: =P9 -> 0 | Z9: =IF(OR($Y9=$Y7,$Y9=$Y8)," ",IF(Q9=0," ",Q9)) | AA9: =IF(OR($Y9=$Y7,$Y9=$Y8)," ",IF(R9=0," ",R9)) | AB9: =IF(OR($Y9=$Y7,$Y9=$Y8)," ",IF(S9=0," ",S9)) | AC9: =IF(OR($Y9=$Y7,$Y9=$Y8)," ",IF(T9=0," ",T9)) | AD9: =IF(U9=0," ",U9) | AE9: =IF(V9=0," ",V9) | AF9: =IF(W9=0," ",W9)
A10: 58 | B10: 58 | C10: 32 | D10: 5 | E10: КОРОБЦОВ Алексей | F10: КОРОБЦОВ Алексей Алексеевич | G10: 25.12.04, КМС | H10: КМС | I10: ДВФО | J10: Камчатский, Петропавловск-Камчатский, МС | K10: Камчатский | M10: Островский Евгений Валерьевич | N10: КОРОБЦОВ | O10: 79 | Q10: =SUMIFS($J$7:$J$88,$L$7:$L$88,P10,$K$7:$K$88,Q$6) -> 0 | R10: =SUMIFS($J$7:$J$88,$L$7:$L$88,P10,$K$7:$K$88,R$6) -> 0 | S10: =SUMIFS($J$7:$J$88,$L$7:$L$88,P10,$K$7:$K$88,S$6) -> 0 | T10: =SUMIFS($J$7:$J$88,$L$7:$L$88,P10,$K$7:$K$88,T$6) -> 0 | U10: =SUMIFS($J$7:$J$88,$L$7:$L$88,P10,$K$7:$K$88,U$6) -> 0 | V10: =SUMIFS($J$7:$J$88,$L$7:$L$88,P10,$K$7:$K$88,V$6) -> 0 | W10: =SUMIFS($J$7:$J$88,$L$7:$L$88,P10,$K$7:$K$88,W$6) -> 0 | Y10: =P10 -> 0 | Z10: =IF(OR($Y10=$Y8,$Y10=$Y9,$Y10=$Y7)," ",IF(Q10=0," ",Q10)) | AA10: =IF(OR($Y10=$Y8,$Y10=$Y9,$Y10=$Y7)," ",IF(R10=0," ",R10)) | AB10: =IF(OR($Y10=$Y8,$Y10=$Y9,$Y10=$Y7)," ",IF(S10=0," ",S10)) | AC10: =IF(OR($Y10=$Y8,$Y10=$Y9,$Y10=$Y7)," ",IF(T10=0," ",T10)) | AD10: =IF(U10=0," ",U10) | AE10: =IF(V10=0," ",V10) | AF10: =IF(W10=0," ",W10)
A11: 58 | B11: 58 | C11: 32 | D11: 6 | E11: АБДУРАХМАНОВ Муслим | F11: АБДУРАХМАНОВ Муслим Альбертович | G11: 12.06.04, КМС | H11: КМС | I11: МОС | J11: г. Москва, Москва, Самбо-70 | K11: Москва | M11: Елесин Николай Анатольевич | N11: АБДУРАХМАНОВ | O11: 88 | Q11: =SUMIFS($J$7:$J$88,$L$7:$L$88,P11,$K$7:$K$88,Q$6) -> 0 | R11: =SUMIFS($J$7:$J$88,$L$7:$L$88,P11,$K$7:$K$88,R$6) -> 0 | S11: =SUMIFS($J$7:$J$88,$L$7:$L$88,P11,$K$7:$K$88,S$6) -> 0 | T11: =SUMIFS($J$7:$J$88,$L$7:$L$88,P11,$K$7:$K$88,T$6) -> 0 | U11: =SUMIFS($J$7:$J$88,$L$7:$L$88,P11,$K$7:$K$88,U$6) -> 0 | V11: =SUMIFS($J$7:$J$88,$L$7:$L$88,P11,$K$7:$K$88,V$6) -> 0 | W11: =SUMIFS($J$7:$J$88,$L$7:$L$88,P11,$K$7:$K$88,W$6) -> 0 | Y11: =P11 -> 0 | Z11: =IF(OR($Y11=$Y9,$Y11=$Y10,$Y11=$Y8,$Y11=$Y7)," ",IF(Q11=0," ",Q11)) | AA11: =IF(OR($Y11=$Y9,$Y11=$Y10,$Y11=$Y8,$Y11=$Y7)," ",IF(R11=0," ",R11)) | AB11: =IF(OR($Y11=$Y9,$Y11=$Y10,$Y11=$Y8,$Y11=$Y7)," ",IF(S11=0," ",S11)) | AC11: =IF(OR($Y11=$Y9,$Y11=$Y10,$Y11=$Y8,$Y11=$Y7)," ",IF(T11=0," ",T11)) | AD11: =IF(U11=0," ",U11) | AE11: =IF(V11=0," ",V11) | AF11: =IF(W11=0," ",W11)
A12: 58 | B12: 58 | C12: 9 | D12: 7 | E12: ХАБИБУЛАЕВ Турпал | F12: ХАБИБУЛАЕВ Турпал Ибрагимович | G12: 25.04.04, КМС | H12: КМС | I12: СКФО | J12: Чеченская, Грозный , МС | K12: Чеченская | M12: Мустыгов Майрбек Хабибулаев Шейх-Мансур | N12: ХАБИБУЛАЕВ | O12: 98 | Q12: =SUMIFS($J$7:$J$88,$L$7:$L$88,P12,$K$7:$K$88,Q$6) -> 0 | R12: =SUMIFS($J$7:$J$88,$L$7:$L$88,P12,$K$7:$K$88,R$6) -> 0 | S12: =SUMIFS($J$7:$J$88,$L$7:$L$88,P12,$K$7:$K$88,S$6) -> 0 | T12: =SUMIFS($J$7:$J$88,$L$7:$L$88,P12,$K$7:$K$88,T$6) -> 0 | U12: =SUMIFS($J$7:$J$88,$L$7:$L$88,P12,$K$7:$K$88,U$6) -> 0 | V12: =SUMIFS($J$7:$J$88,$L$7:$L$88,P12,$K$7:$K$88,V$6) -> 0 | W12: =SUMIFS($J$7:$J$88,$L$7:$L$88,P12,$K$7:$K$88,W$6) -> 0 | Y12: =P12 -> 0 | Z12: =IF(OR($Y12=$Y10,$Y12=$Y11,$Y12=$Y9,$Y12=$Y8,$Y12=$Y7)," ",IF(Q12=0," ",Q12)) | AA12: =IF(OR($Y12=$Y10,$Y12=$Y11,$Y12=$Y9,$Y12=$Y8,$Y12=$Y7)," ",IF(R12=0," ",R12)) | AB12: =IF(OR($Y12=$Y10,$Y12=$Y11,$Y12=$Y9,$Y12=$Y8,$Y12=$Y7)," ",IF(S12=0," ",S12)) | AC12: =IF(OR($Y12=$Y10,$Y12=$Y11,$Y12=$Y9,$Y12=$Y8,$Y12=$Y7)," ",IF(T12=0," ",T12)) | AD12: =IF(U12=0," ",U12) | AE12: =IF(V12=0," ",V12) | AF12: =IF(W12=0," ",W12)
A13: 58 | B13: 58 | C13: 9 | D13: 8 | E13: ДЕХНИЧ Глеб | F13: ДЕХНИЧ Глеб Денисович | G13: 18.07.03, 1р | H13: 1р | I13: УФО | J13: Челябинская обл., Челябинск, ДЮСШ №11 г. Челябинск | K13: Челябинская | M13: Педько М.А. | N13: ДЕХНИЧ | O13: 98+ | Q13: =SUMIFS($J$7:$J$88,$L$7:$L$88,P13,$K$7:$K$88,Q$6) -> 0 | R13: =SUMIFS($J$7:$J$88,$L$7:$L$88,P13,$K$7:$K$88,R$6) -> 0 | S13: =SUMIFS($J$7:$J$88,$L$7:$L$88,P13,$K$7:$K$88,S$6) -> 0 | T13: =SUMIFS($J$7:$J$88,$L$7:$L$88,P13,$K$7:$K$88,T$6) -> 0 | U13: =SUMIFS($J$7:$J$88,$L$7:$L$88,P13,$K$7:$K$88,U$6) -> 0 | V13: =SUMIFS($J$7:$J$88,$L$7:$L$88,P13,$K$7:$K$88,V$6) -> 0 | W13: =SUMIFS($J$7:$J$88,$L$7:$L$88,P13,$K$7:$K$88,W$6) -> 0 | Y13: =P13 -> 0 | Z13: =IF(OR($Y13=$Y11,$Y13=$Y12,$Y13=$Y10,$Y13=$Y9,$Y13=$Y8,$Y13=$Y7)," ",IF(Q13=0," ",Q13)) | AA13: =IF(OR($Y13=$Y11,$Y13=$Y12,$Y13=$Y10,$Y13=$Y9,$Y13=$Y8,$Y13=$Y7)," ",IF(R13=0," ",R13)) | AB13: =IF(OR($Y13=$Y11,$Y13=$Y12,$Y13=$Y10,$Y13=$Y9,$Y13=$Y8,$Y13=$Y7)," ",IF(S13=0," ",S13)) | AC13: =IF(OR($Y13=$Y11,$Y13=$Y12,$Y13=$Y10,$Y13=$Y9,$Y13=$Y8,$Y13=$Y7)," ",IF(T13=0," ",T13)) | AD13: =IF(U13=0," ",U13) | AE13: =IF(V13=0," ",V13) | AF13: =IF(W13=0," ",W13)
A14: 58 | B14: 58 | C14: 9 | D14: 9 | E14: КАКАДЖАНОВ Рустам | F14: КАКАДЖАНОВ Рустам Ильбайевич | G14: 22.03.05, КМС | H14: КМС | I14: ЦФО | J14: Московская обл., Воскресенск, ГБУ МО СШОР по единоборствам | K14: Московская | M14: Баринова М.В Тунгия Д.М | N14: КАКАДЖАНОВ | O14: 65 | Q14: =SUMIFS($J$7:$J$88,$L$7:$L$88,P14,$K$7:$K$88,Q$6) -> 0 | R14: =SUMIFS($J$7:$J$88,$L$7:$L$88,P14,$K$7:$K$88,R$6) -> 0 | S14: =SUMIFS($J$7:$J$88,$L$7:$L$88,P14,$K$7:$K$88,S$6) -> 0 | T14: =SUMIFS($J$7:$J$88,$L$7:$L$88,P14,$K$7:$K$88,T$6) -> 0 | U14: =SUMIFS($J$7:$J$88,$L$7:$L$88,P14,$K$7:$K$88,U$6) -> 0 | V14: =SUMIFS($J$7:$J$88,$L$7:$L$88,P14,$K$7:$K$88,V$6) -> 0 | W14: =SUMIFS($J$7:$J$88,$L$7:$L$88,P14,$K$7:$K$88,W$6) -> 0 | Y14: =P14 -> 0 | Z14: =IF(OR($Y14=$Y12,$Y14=$Y13,$Y14=$Y11,$Y14=$Y10,$Y14=$Y9,$Y14=$Y7)," ",IF(Q14=0," ",Q14)) | AA14: =IF(OR($Y14=$Y12,$Y14=$Y13,$Y14=$Y11,$Y14=$Y10,$Y14=$Y9,$Y14=$Y7)," ",IF(R14=0," ",R14)) | AB14: =IF(OR($Y14=$Y12,$Y14=$Y13,$Y14=$Y11,$Y14=$Y10,$Y14=$Y9,$Y14=$Y7)," ",IF(S14=0," ",S14)) | AC14: =IF(OR($Y14=$Y12,$Y14=$Y13,$Y14=$Y11,$Y14=$Y10,$Y14=$Y9,$Y14=$Y7)," ",IF(T14=0," ",T14)) | AD14: =IF(U14=0," ",U14) | AE14: =IF(V14=0," ",V14) | AF14: =IF(W14=0," ",W14)
A15: 58 | B15: 58 | C15: 16 | D15: 10 | E15: АМИРОВ Исмаил | F15: АМИРОВ Исмаил Магомедович | G15: 26.09.03, КМС | H15: КМС | I15: СКФО | J15: Чеченская, Грозный, МС | K15: Чеченская | M15: Мустыгов Майрбек | N15: АМИРОВ | O15: 71 | Q15: =SUMIFS($J$7:$J$88,$L$7:$L$88,P15,$K$7:$K$88,Q$6) -> 0 | R15: =SUMIFS($J$7:$J$88,$L$7:$L$88,P15,$K$7:$K$88,R$6) -> 0 | S15: =SUMIFS($J$7:$J$88,$L$7:$L$88,P15,$K$7:$K$88,S$6) -> 0 | T15: =SUMIFS($J$7:$J$88,$L$7:$L$88,P15,$K$7:$K$88,T$6) -> 0 | U15: =SUMIFS($J$7:$J$88,$L$7:$L$88,P15,$K$7:$K$88,U$6) -> 0 | V15: =SUMIFS($J$7:$J$88,$L$7:$L$88,P15,$K$7:$K$88,V$6) -> 0 | W15: =SUMIFS($J$7:$J$88,$L$7:$L$88,P15,$K$7:$K$88,W$6) -> 0 | Y15: =P15 -> 0 | Z15: =IF(OR($Y15=$Y13,$Y15=$Y14,$Y15=$Y12,$Y15=$Y11,$Y15=$Y10,$Y15=$Y8,$Y15=$Y7)," ",IF(Q15=0," ",Q15)) | AA15: =IF(OR($Y15=$Y13,$Y15=$Y14,$Y15=$Y12,$Y15=$Y11,$Y15=$Y10,$Y15=$Y8,$Y15=$Y7)," ",IF(R15=0," ",R15)) | AB15: =IF(OR($Y15=$Y13,$Y15=$Y14,$Y15=$Y12,$Y15=$Y11,$Y15=$Y10,$Y15=$Y8,$Y15=$Y7)," ",IF(S15=0," ",S15)) | AC15: =IF(OR($Y15=$Y13,$Y15=$Y14,$Y15=$Y12,$Y15=$Y11,$Y15=$Y10,$Y15=$Y8,$Y15=$Y7)," ",IF(T15=0," ",T15)) | AD15: =IF(U15=0," ",U15) | AE15: =IF(V15=0," ",V15) | AF15: =IF(W15=0," ",W15)
A16: 58 | B16: 58 | C16: 16 | D16: 11 | E16: АРСАМИКОВ Ибрахим | F16: АРСАМИКОВ Ибрахим Адамович | G16: 03.08.05, КМС | H16: КМС | I16: МОС | J16: г. Москва, Москва, Самбо-70 строгино | K16: Москва | M16: Иванов Н.С Зиатдинов Р.А | N16: АРСАМИКОВ | Q16: =SUMIFS($J$7:$J$88,$L$7:$L$88,P16,$K$7:$K$88,Q$6) -> 0 | R16: =SUMIFS($J$7:$J$88,$L$7:$L$88,P16,$K$7:$K$88,R$6) -> 0 | S16: =SUMIFS($J$7:$J$88,$L$7:$L$88,P16,$K$7:$K$88,S$6) -> 0 | T16: =SUMIFS($J$7:$J$88,$L$7:$L$88,P16,$K$7:$K$88,T$6) -> 0 | U16: =SUMIFS($J$7:$J$88,$L$7:$L$88,P16,$K$7:$K$88,U$6) -> 0 | V16: =SUMIFS($J$7:$J$88,$L$7:$L$88,P16,$K$7:$K$88,V$6) -> 0 | W16: =SUMIFS($J$7:$J$88,$L$7:$L$88,P16,$K$7:$K$88,W$6) -> 0 | Y16: =P16 -> 0 | Z16: =IF(OR($Y16=$Y14,$Y16=$Y15,$Y16=$Y13,$Y16=$Y12,$Y16=$Y11,$Y16=$Y9,$Y16=$Y8,$Y16=$Y7)," ",IF(Q16=0," ",Q16)) | AA16: =IF(OR($Y16=$Y14,$Y16=$Y15,$Y16=$Y13,$Y16=$Y12,$Y16=$Y11,$Y16=$Y9,$Y16=$Y8,$Y16=$Y7)," ",IF(R16=0," ",R16)) | AB16: =IF(OR($Y16=$Y14,$Y16=$Y15,$Y16=$Y13,$Y16=$Y12,$Y16=$Y11,$Y16=$Y9,$Y16=$Y8,$Y16=$Y7)," ",IF(S16=0," ",S16)) | AC16: =IF(OR($Y16=$Y14,$Y16=$Y15,$Y16=$Y13,$Y16=$Y12,$Y16=$Y11,$Y16=$Y9,$Y16=$Y8,$Y16=$Y7)," ",IF(T16=0," ",T16)) | AD16: =IF(U16=0," ",U16) | AE16: =IF(V16=0," ",V16) | AF16: =IF(W16=0," ",W16)
A17: 58 | B17: 58 | C17: 22 | D17: 12 | E17: ГАЖДИЕВ Завир | F17: ГАЖДИЕВ Завир Агавердиевич | G17: 27.11.03, МС | H17: МС | I17: СКФО | J17: Респ. Дагестан, Каспийск, СШОР | K17: Р.Дагестан | M17: Джанбеков Т. Магомедов М. | N17: ГАЖДИЕВ | Q17: =SUMIFS($J$7:$J$88,$L$7:$L$88,P17,$K$7:$K$88,Q$6) -> 0 | R17: =SUMIFS($J$7:$J$88,$L$7:$L$88,P17,$K$7:$K$88,R$6) -> 0 | S17: =SUMIFS($J$7:$J$88,$L$7:$L$88,P17,$K$7:$K$88,S$6) -> 0 | T17: =SUMIFS($J$7:$J$88,$L$7:$L$88,P17,$K$7:$K$88,T$6) -> 0 | U17: =SUMIFS($J$7:$J$88,$L$7:$L$88,P17,$K$7:$K$88,U$6) -> 0 | V17: =SUMIFS($J$7:$J$88,$L$7:$L$88,P17,$K$7:$K$88,V$6) -> 0 | W17: =SUMIFS($J$7:$J$88,$L$7:$L$88,P17,$K$7:$K$88,W$6) -> 0 | Y17: =P17 -> 0 | Z17: =IF(OR($Y17=$Y15,$Y17=$Y16,$Y17=$Y14,$Y17=$Y13,$Y17=$Y12,$Y17=$Y10,$Y17=$Y9,$Y17=$Y8,$Y17=$Y7)," ",IF(Q17=0," ",Q17)) | AA17: =IF(OR($Y17=$Y15,$Y17=$Y16,$Y17=$Y14,$Y17=$Y13,$Y17=$Y12,$Y17=$Y10,$Y17=$Y9,$Y17=$Y8,$Y17=$Y7)," ",IF(R17=0," ",R17)) | AB17: =IF(OR($Y17=$Y15,$Y17=$Y16,$Y17=$Y14,$Y17=$Y13,$Y17=$Y12,$Y17=$Y10,$Y17=$Y9,$Y17=$Y8,$Y17=$Y7)," ",IF(S17=0," ",S17)) | AC17: =IF(OR($Y17=$Y15,$Y17=$Y16,$Y17=$Y14,$Y17=$Y13,$Y17=$Y12,$Y17=$Y10,$Y17=$Y9,$Y17=$Y8,$Y17=$Y7)," ",IF(T17=0," ",T17)) | AD17: =IF(U17=0," ",U17) | AE17: =IF(V17=0," ",V17) | AF17: =IF(W17=0," ",W17)
A18: 58 | B18: 58 | C18: 22 | D18: 13 | E18: СШИВНОВ Владислав | F18: СШИВНОВ Владислав Андреевич | G18: 03.03.04, КМС | H18: КМС | I18: ПФО | J18: Нижегородская обл., Кстово, ГБОУ ДО СШОР по самбо | K18: Нижегородская | M18: Чугреев А.В, Фролов ИМ | N18: СШИВНОВ | Q18: =SUMIFS($J$7:$J$88,$L$7:$L$88,P18,$K$7:$K$88,Q$6) -> 0 | R18: =SUMIFS($J$7:$J$88,$L$7:$L$88,P18,$K$7:$K$88,R$6) -> 0 | S18: =SUMIFS($J$7:$J$88,$L$7:$L$88,P18,$K$7:$K$88,S$6) -> 0 | T18: =SUMIFS($J$7:$J$88,$L$7:$L$88,P18,$K$7:$K$88,T$6) -> 0 | U18: =SUMIFS($J$7:$J$88,$L$7:$L$88,P18,$K$7:$K$88,U$6) -> 0 | V18: =SUMIFS($J$7:$J$88,$L$7:$L$88,P18,$K$7:$K$88,V$6) -> 0 | W18: =SUMIFS($J$7:$J$88,$L$7:$L$88,P18,$K$7:$K$88,W$6) -> 0 | Y18: =P18 -> 0 | Z18: =IF(OR($Y18=$Y16,$Y18=$Y17,$Y18=$Y15,$Y18=$Y14,$Y18=$Y13,$Y18=$Y11,$Y18=$Y10,$Y18=$Y9,$Y18=$Y8,$Y18=$Y7)," ",IF(Q18=0," ",Q18)) | AA18: =IF(OR($Y18=$Y16,$Y18=$Y17,$Y18=$Y15,$Y18=$Y14,$Y18=$Y13,$Y18=$Y11,$Y18=$Y10,$Y18=$Y9,$Y18=$Y8,$Y18=$Y7)," ",IF(R18=0," ",R18)) | AB18: =IF(OR($Y18=$Y16,$Y18=$Y17,$Y18=$Y15,$Y18=$Y14,$Y18=$Y13,$Y18=$Y11,$Y18=$Y10,$Y18=$Y9,$Y18=$Y8,$Y18=$Y7)," ",IF(S18=0," ",S18)) | AC18: =IF(OR($Y18=$Y16,$Y18=$Y17,$Y18=$Y15,$Y18=$Y14,$Y18=$Y13,$Y18=$Y11,$Y18=$Y10,$Y18=$Y9,$Y18=$Y8,$Y18=$Y7)," ",IF(T18=0," ",T18)) | AD18: =IF(U18=0," ",U18) | AE18: =IF(V18=0," ",V18) | AF18: =IF(W18=0," ",W18)
A19: 58 | B19: 58 | C19: 22 | D19: 14 | E19: ДОНДОКОВ Мунко | F19: ДОНДОКОВ Мунко Амгаланович | G19: 10.10.04, КМС | H19: КМС | I19: ДВФО | J19: Респ. Бурятия, Улан-Удэ, Федерация самбо Республики Бурятия | K19: Р.Бурятия | M19: Жигжитов Ж.Б | N19: ДОНДОКОВ | Q19: =SUMIFS($J$7:$J$88,$L$7:$L$88,P19,$K$7:$K$88,Q$6) -> 0 | R19: =SUMIFS($J$7:$J$88,$L$7:$L$88,P19,$K$7:$K$88,R$6) -> 0 | S19: =SUMIFS($J$7:$J$88,$L$7:$L$88,P19,$K$7:$K$88,S$6) -> 0 | T19: =SUMIFS($J$7:$J$88,$L$7:$L$88,P19,$K$7:$K$88,T$6) -> 0 | U19: =SUMIFS($J$7:$J$88,$L$7:$L$88,P19,$K$7:$K$88,U$6) -> 0 | V19: =SUMIFS($J$7:$J$88,$L$7:$L$88,P19,$K$7:$K$88,V$6) -> 0 | W19: =SUMIFS($J$7:$J$88,$L$7:$L$88,P19,$K$7:$K$88,W$6) -> 0 | Y19: =P19 -> 0 | Z19: =IF(Q19=0," ",Q19) | AA19: =IF(R19=0," ",R19) | AB19: =IF(S19=0," ",S19) | AC19: =IF(T19=0," ",T19) | AD19: =IF(U19=0," ",U19) | AE19: =IF(V19=0," ",V19) | AF19: =IF(W19=0," ",W19)
A20: 58 | B20: 58 | C20: 3 | D20: 15 | E20: ОЧУР Сай-Булат | F20: ОЧУР Сай-Булат Шолбанович | G20: 14.10.04, КМС | H20: КМС | I20: СФО | J20: Р.Тыва, Кызыл , МС | K20: Р.Тыва | M20: Монгуш А.А. | N20: ОЧУР | Q20: =SUMIFS($J$7:$J$88,$L$7:$L$88,P20,$K$7:$K$88,Q$6) -> 0 | R20: =SUMIFS($J$7:$J$88,$L$7:$L$88,P20,$K$7:$K$88,R$6) -> 0 | S20: =SUMIFS($J$7:$J$88,$L$7:$L$88,P20,$K$7:$K$88,S$6) -> 0 | T20: =SUMIFS($J$7:$J$88,$L$7:$L$88,P20,$K$7:$K$88,T$6) -> 0 | U20: =SUMIFS($J$7:$J$88,$L$7:$L$88,P20,$K$7:$K$88,U$6) -> 0 | V20: =SUMIFS($J$7:$J$88,$L$7:$L$88,P20,$K$7:$K$88,V$6) -> 0 | W20: =SUMIFS($J$7:$J$88,$L$7:$L$88,P20,$K$7:$K$88,W$6) -> 0 | Y20: =P20 -> 0 | Z20: =IF(Q20=0," ",Q20) | AA20: =IF(R20=0," ",R20) | AB20: =IF(S20=0," ",S20) | AC20: =IF(T20=0," ",T20) | AD20: =IF(U20=0," ",U20) | AE20: =IF(V20=0," ",V20) | AF20: =IF(W20=0," ",W20)
A21: 58 | B21: 58 | C21: 21 | D21: 16 | E21: НУРЕЛОВ Кайрат | F21: НУРЕЛОВ Кайрат Жанибекович | G21: 12.12.03, КМС | H21: КМС | I21: СФО | J21: Р.Алтай, Горно-Алтайск , Д | K21: Р.Алтай | M21: Тайпинов В. Л. | N21: НУРЕЛОВ | Q21: =SUMIFS($J$7:$J$88,$L$7:$L$88,P21,$K$7:$K$88,Q$6) -> 0 | R21: =SUMIFS($J$7:$J$88,$L$7:$L$88,P21,$K$7:$K$88,R$6) -> 0 | S21: =SUMIFS($J$7:$J$88,$L$7:$L$88,P21,$K$7:$K$88,S$6) -> 0 | T21: =SUMIFS($J$7:$J$88,$L$7:$L$88,P21,$K$7:$K$88,T$6) -> 0 | U21: =SUMIFS($J$7:$J$88,$L$7:$L$88,P21,$K$7:$K$88,U$6) -> 0 | V21: =SUMIFS($J$7:$J$88,$L$7:$L$88,P21,$K$7:$K$88,V$6) -> 0 | W21: =SUMIFS($J$7:$J$88,$L$7:$L$88,P21,$K$7:$K$88,W$6) -> 0 | Y21: =P21 -> 0 | Z21: =IF(Q21=0," ",Q21) | AA21: =IF(R21=0," ",R21) | AB21: =IF(S21=0," ",S21) | AC21: =IF(T21=0," ",T21) | AD21: =IF(U21=0," ",U21) | AE21: =IF(V21=0," ",V21) | AF21: =IF(W21=0," ",W21)
A22: 58 | B22: 58 | C22: 23 | D22: 17 | E22: ЮНУСОВ Ильнур | F22: ЮНУСОВ Ильнур Ильясович | G22: 23.10.03, КМС | H22: КМС | I22: ПФО | J22: Р.Татарстан, Казань, МО | K22: Р.Татарстан | M22: Иванов В.А | N22: ЮНУСОВ | Q22: =SUMIFS($J$7:$J$88,$L$7:$L$88,P22,$K$7:$K$88,Q$6) -> 0 | R22: =SUMIFS($J$7:$J$88,$L$7:$L$88,P22,$K$7:$K$88,R$6) -> 0 | S22: =SUMIFS($J$7:$J$88,$L$7:$L$88,P22,$K$7:$K$88,S$6) -> 0 | T22: =SUMIFS($J$7:$J$88,$L$7:$L$88,P22,$K$7:$K$88,T$6) -> 0 | U22: =SUMIFS($J$7:$J$88,$L$7:$L$88,P22,$K$7:$K$88,U$6) -> 0 | V22: =SUMIFS($J$7:$J$88,$L$7:$L$88,P22,$K$7:$K$88,V$6) -> 0 | W22: =SUMIFS($J$7:$J$88,$L$7:$L$88,P22,$K$7:$K$88,W$6) -> 0 | Y22: =P22 -> 0 | Z22: =IF(Q22=0," ",Q22) | AA22: =IF(R22=0," ",R22) | AB22: =IF(S22=0," ",S22) | AC22: =IF(T22=0," ",T22) | AD22: =IF(U22=0," ",U22) | AE22: =IF(V22=0," ",V22) | AF22: =IF(W22=0," ",W22)
A23: 58 | B23: 58 | C23: 12 | D23: 18 | E23: УМАЕВ Азамат | F23: УМАЕВ Азамат Асланович | G23: 13.12.04, КМС | H23: КМС | I23: ЦФО | J23: Московская, Королев , МО | K23: Московская | M23: Авагян А.М. Малов М.В. | N23: УМАЕВ | Q23: =SUMIFS($J$7:$J$88,$L$7:$L$88,P23,$K$7:$K$88,Q$6) -> 0 | R23: =SUMIFS($J$7:$J$88,$L$7:$L$88,P23,$K$7:$K$88,R$6) -> 0 | S23: =SUMIFS($J$7:$J$88,$L$7:$L$88,P23,$K$7:$K$88,S$6) -> 0 | T23: =SUMIFS($J$7:$J$88,$L$7:$L$88,P23,$K$7:$K$88,T$6) -> 0 | U23: =SUMIFS($J$7:$J$88,$L$7:$L$88,P23,$K$7:$K$88,U$6) -> 0 | V23: =SUMIFS($J$7:$J$88,$L$7:$L$88,P23,$K$7:$K$88,V$6) -> 0 | W23: =SUMIFS($J$7:$J$88,$L$7:$L$88,P23,$K$7:$K$88,W$6) -> 0 | Y23: =P23 -> 0 | Z23: =IF(Q23=0," ",Q23) | AA23: =IF(R23=0," ",R23) | AB23: =IF(S23=0," ",S23) | AC23: =IF(T23=0," ",T23) | AD23: =IF(U23=0," ",U23) | AE23: =IF(V23=0," ",V23) | AF23: =IF(W23=0," ",W23)
A24: 58 | B24: 58 | C24: 26 | D24: 19 | E24: АЛМАДАКОВ Рамиль | F24: АЛМАДАКОВ Рамиль Тофикович | G24: 13.01.04, КМС | H24: КМС | I24: СФО | J24: Р.Алтай, Горно-Алтайск, Д | K24: Р.Алтай | M24: Кеденов С.Э. Еликов Б.П. | N24: АЛМАДАКОВ | Q24: =SUMIFS($J$7:$J$88,$L$7:$L$88,P24,$K$7:$K$88,Q$6) -> 0 | R24: =SUMIFS($J$7:$J$88,$L$7:$L$88,P24,$K$7:$K$88,R$6) -> 0 | S24: =SUMIFS($J$7:$J$88,$L$7:$L$88,P24,$K$7:$K$88,S$6) -> 0 | T24: =SUMIFS($J$7:$J$88,$L$7:$L$88,P24,$K$7:$K$88,T$6) -> 0 | U24: =SUMIFS($J$7:$J$88,$L$7:$L$88,P24,$K$7:$K$88,U$6) -> 0 | V24: =SUMIFS($J$7:$J$88,$L$7:$L$88,P24,$K$7:$K$88,V$6) -> 0 | W24: =SUMIFS($J$7:$J$88,$L$7:$L$88,P24,$K$7:$K$88,W$6) -> 0 | Y24: =P24 -> 0 | Z24: =IF(Q24=0," ",Q24) | AA24: =IF(R24=0," ",R24) | AB24: =IF(S24=0," ",S24) | AC24: =IF(T24=0," ",T24) | AD24: =IF(U24=0," ",U24) | AE24: =IF(V24=0," ",V24) | AF24: =IF(W24=0," ",W24)
A25: 58 | B25: 58 | C25: 26 | D25: 20 | E25: ФИЛИППОВ Олег | F25: ФИЛИППОВ Олег Олегович | G25: 12.08.03, МС | H25: МС | I25: СЗФО | J25: Калининградская, Калининград , МС | K25: Калининградская | M25: Азаров Д.А Мктрчян С.Р | N25: ФИЛИППОВ | Q25: =SUMIFS($J$7:$J$88,$L$7:$L$88,P25,$K$7:$K$88,Q$6) -> 0 | R25: =SUMIFS($J$7:$J$88,$L$7:$L$88,P25,$K$7:$K$88,R$6) -> 0 | S25: =SUMIFS($J$7:$J$88,$L$7:$L$88,P25,$K$7:$K$88,S$6) -> 0 | T25: =SUMIFS($J$7:$J$88,$L$7:$L$88,P25,$K$7:$K$88,T$6) -> 0 | U25: =SUMIFS($J$7:$J$88,$L$7:$L$88,P25,$K$7:$K$88,U$6) -> 0 | V25: =SUMIFS($J$7:$J$88,$L$7:$L$88,P25,$K$7:$K$88,V$6) -> 0 | W25: =SUMIFS($J$7:$J$88,$L$7:$L$88,P25,$K$7:$K$88,W$6) -> 0 | Y25: =P25 -> 0 | Z25: =IF(Q25=0," ",Q25) | AA25: =IF(R25=0," ",R25) | AB25: =IF(S25=0," ",S25) | AC25: =IF(T25=0," ",T25) | AD25: =IF(U25=0," ",U25) | AE25: =IF(V25=0," ",V25) | AF25: =IF(W25=0," ",W25)
A26: 58 | B26: 58 | C26: 17 | D26: 21 | E26: ШИШКОВ Данил | F26: ШИШКОВ Данил Артёмович | G26: 12.08.03, КМС | H26: КМС | I26: СФО | J26: Иркутская, Железногорск -Илимский , МС | K26: Иркутская | M26: Муромец А.Г., Дроганов Д.А. | N26: ШИШКОВ | Q26: =SUMIFS($J$7:$J$88,$L$7:$L$88,P26,$K$7:$K$88,Q$6) -> 0 | R26: =SUMIFS($J$7:$J$88,$L$7:$L$88,P26,$K$7:$K$88,R$6) -> 0 | S26: =SUMIFS($J$7:$J$88,$L$7:$L$88,P26,$K$7:$K$88,S$6) -> 0 | T26: =SUMIFS($J$7:$J$88,$L$7:$L$88,P26,$K$7:$K$88,T$6) -> 0 | U26: =SUMIFS($J$7:$J$88,$L$7:$L$88,P26,$K$7:$K$88,U$6) -> 0 | V26: =SUMIFS($J$7:$J$88,$L$7:$L$88,P26,$K$7:$K$88,V$6) -> 0 | W26: =SUMIFS($J$7:$J$88,$L$7:$L$88,P26,$K$7:$K$88,W$6) -> 0 | Y26: =P26 -> 0 | Z26: =IF(Q26=0," ",Q26) | AA26: =IF(R26=0," ",R26) | AB26: =IF(S26=0," ",S26) | AC26: =IF(T26=0," ",T26) | AD26: =IF(U26=0," ",U26) | AE26: =IF(V26=0," ",V26) | AF26: =IF(W26=0," ",W26)
A27: 58 | B27: 58 | C27: 17 | D27: 22 | E27: АЛЛАБЕРГЕНОВ Богдан | F27: АЛЛАБЕРГЕНОВ Богдан Адилбекович | G27: 19.05.04, КМС | H27: КМС | I27: ПФО | J27: Самарская обл., Самара, МБУ го Самара «СШОР-11» им ВВ Ольховского | K27: Самарская | M27: Сулейманов РЖ, Родомакин ЮС. | N27: АЛЛАБЕРГЕНОВ | Q27: =SUMIFS($J$7:$J$88,$L$7:$L$88,P27,$K$7:$K$88,Q$6) -> 0 | R27: =SUMIFS($J$7:$J$88,$L$7:$L$88,P27,$K$7:$K$88,R$6) -> 0 | S27: =SUMIFS($J$7:$J$88,$L$7:$L$88,P27,$K$7:$K$88,S$6) -> 0 | T27: =SUMIFS($J$7:$J$88,$L$7:$L$88,P27,$K$7:$K$88,T$6) -> 0 | U27: =SUMIFS($J$7:$J$88,$L$7:$L$88,P27,$K$7:$K$88,U$6) -> 0 | V27: =SUMIFS($J$7:$J$88,$L$7:$L$88,P27,$K$7:$K$88,V$6) -> 0 | W27: =SUMIFS($J$7:$J$88,$L$7:$L$88,P27,$K$7:$K$88,W$6) -> 0 | Y27: =P27 -> 0 | Z27: =IF(Q27=0," ",Q27) | AA27: =IF(R27=0," ",R27) | AB27: =IF(S27=0," ",S27) | AC27: =IF(T27=0," ",T27) | AD27: =IF(U27=0," ",U27) | AE27: =IF(V27=0," ",V27) | AF27: =IF(W27=0," ",W27)
A28: 58 | B28: 58 | C28: 17 | D28: 23 | E28: ООРЖАК Айдын | F28: ООРЖАК Айдын Монгун-Оолович | G28: 13.04.03, КМС | H28: КМС | I28: ДВФО | J28: Респ. Бурятия, Улан-Удэ, Сш №17 | K28: Р.Бурятия | M28: Будажапов А.Ц | N28: ООРЖАК | Q28: =SUMIFS($J$7:$J$88,$L$7:$L$88,P28,$K$7:$K$88,Q$6) -> 0 | R28: =SUMIFS($J$7:$J$88,$L$7:$L$88,P28,$K$7:$K$88,R$6) -> 0 | S28: =SUMIFS($J$7:$J$88,$L$7:$L$88,P28,$K$7:$K$88,S$6) -> 0 | T28: =SUMIFS($J$7:$J$88,$L$7:$L$88,P28,$K$7:$K$88,T$6) -> 0 | U28: =SUMIFS($J$7:$J$88,$L$7:$L$88,P28,$K$7:$K$88,U$6) -> 0 | V28: =SUMIFS($J$7:$J$88,$L$7:$L$88,P28,$K$7:$K$88,V$6) -> 0 | W28: =SUMIFS($J$7:$J$88,$L$7:$L$88,P28,$K$7:$K$88,W$6) -> 0 | Y28: =P28 -> 0 | Z28: =IF(Q28=0," ",Q28) | AA28: =IF(R28=0," ",R28) | AB28: =IF(S28=0," ",S28) | AC28: =IF(T28=0," ",T28) | AD28: =IF(U28=0," ",U28) | AE28: =IF(V28=0," ",V28) | AF28: =IF(W28=0," ",W28)
A29: 58 | B29: 58 | C29: 18 | D29: 24 | E29: СЕДИНИН Никита | F29: СЕДИНИН Никита Андреевич | G29: 11.03.04, КМС | H29: КМС | I29: ПФО | J29: Пермский, Краснокамск, МО | K29: Пермский | M29: Спирин А.В. Стаценко Д.К. | N29: СЕДИНИН | Q29: =SUMIFS($J$7:$J$88,$L$7:$L$88,P29,$K$7:$K$88,Q$6) -> 0 | R29: =SUMIFS($J$7:$J$88,$L$7:$L$88,P29,$K$7:$K$88,R$6) -> 0 | S29: =SUMIFS($J$7:$J$88,$L$7:$L$88,P29,$K$7:$K$88,S$6) -> 0 | T29: =SUMIFS($J$7:$J$88,$L$7:$L$88,P29,$K$7:$K$88,T$6) -> 0 | U29: =SUMIFS($J$7:$J$88,$L$7:$L$88,P29,$K$7:$K$88,U$6) -> 0 | V29: =SUMIFS($J$7:$J$88,$L$7:$L$88,P29,$K$7:$K$88,V$6) -> 0 | W29: =SUMIFS($J$7:$J$88,$L$7:$L$88,P29,$K$7:$K$88,W$6) -> 0 | Y29: =P29 -> 0 | Z29: =IF(Q29=0," ",Q29) | AA29: =IF(R29=0," ",R29) | AB29: =IF(S29=0," ",S29) | AC29: =IF(T29=0," ",T29) | AD29: =IF(U29=0," ",U29) | AE29: =IF(V29=0," ",V29) | AF29: =IF(W29=0," ",W29)
A30: 58 | B30: 58 | C30: 10 | D30: 25 | E30: МАГОМЕДОВ Саид | F30: МАГОМЕДОВ Саид Расулович | G30: 03.06.03, 1p | H30: 3p | I30: СКФО | J30: Респ. Дагестан, Махачкала, СШОР | K30: Р.Дагестан | M30: Раджабов Р. Магомедов М. | N30: МАГОМЕДОВ | Q30: =SUMIFS($J$7:$J$88,$L$7:$L$88,P30,$K$7:$K$88,Q$6) -> 0 | R30: =SUMIFS($J$7:$J$88,$L$7:$L$88,P30,$K$7:$K$88,R$6) -> 0 | S30: =SUMIFS($J$7:$J$88,$L$7:$L$88,P30,$K$7:$K$88,S$6) -> 0 | T30: =SUMIFS($J$7:$J$88,$L$7:$L$88,P30,$K$7:$K$88,T$6) -> 0 | U30: =SUMIFS($J$7:$J$88,$L$7:$L$88,P30,$K$7:$K$88,U$6) -> 0 | V30: =SUMIFS($J$7:$J$88,$L$7:$L$88,P30,$K$7:$K$88,V$6) -> 0 | W30: =SUMIFS($J$7:$J$88,$L$7:$L$88,P30,$K$7:$K$88,W$6) -> 0 | Y30: =P30 -> 0 | Z30: =IF(Q30=0," ",Q30) | AA30: =IF(R30=0," ",R30) | AB30: =IF(S30=0," ",S30) | AC30: =IF(T30=0," ",T30) | AD30: =IF(U30=0," ",U30) | AE30: =IF(V30=0," ",V30) | AF30: =IF(W30=0," ",W30)
... A33: 58 | B33: 58 | C33: 10 | D33: 28 | E33: ЯХЪЯЕВ Мансур | F33: ЯХЪЯЕВ Мансур Асланбекович | G33: 27.09.04, КМС | H33: КМС | I33: СКФО | J33: Респ. Чеченская, Грозный, БК АХМАТ | K33: Чеченская | M33: Алиев Магомед Маулдыевич | N33: ЯХЪЯЕВ | Q33: =SUMIFS($J$7:$J$88,$L$7:$L$88,P33,$K$7:$K$88,Q$6) -> 0 | R33: =SUMIFS($J$7:$J$88,$L$7:$L$88,P33,$K$7:$K$88,R$6) -> 0 | S33: =SUMIFS($J$7:$J$88,$L$7:$L$88,P33,$K$7:$K$88,S$6) -> 0 | T33: =SUMIFS($J$7:$J$88,$L$7:$L$88,P33,$K$7:$K$88,T$6) -> 0 | U33: =SUMIFS($J$7:$J$88,$L$7:$L$88,P33,$K$7:$K$88,U$6) -> 0 | V33: =SUMIFS($J$7:$J$88,$L$7:$L$88,P33,$K$7:$K$88,V$6) -> 0 | W33: =SUMIFS($J$7:$J$88,$L$7:$L$88,P33,$K$7:$K$88,W$6) -> 0 | Y33: =P33 -> 0 | Z33: =IF(Q33=0," ",Q33) | AA33: =IF(R33=0," ",R33) | AB33: =IF(S33=0," ",S33) | AC33: =IF(T33=0," ",T33) | AD33: =IF(U33=0," ",U33) | AE33: =IF(V33=0," ",V33) | AF33: =IF(W33=0," ",W33)
A34: 58 | B34: 58 | D34: 29 | E34: ТАРАНЧЕНКО Дмитрий | F34: ТАРАНЧЕНКО Дмитрий Геннадьевич | G34: 20.11.04, КМС | H34: КМС | I34: УФО | J34: Свердловская, Нижний Тагил, МС | K34: Свердловская | M34: Матвеев С.В., Гориславский И. А. | N34: ТАРАНЧЕНКО | Q34: =SUMIFS($J$7:$J$88,$L$7:$L$88,P34,$K$7:$K$88,Q$6) -> 0 | R34: =SUMIFS($J$7:$J$88,$L$7:$L$88,P34,$K$7:$K$88,R$6) -> 0 | S34: =SUMIFS($J$7:$J$88,$L$7:$L$88,P34,$K$7:$K$88,S$6) -> 0 | T34: =SUMIFS($J$7:$J$88,$L$7:$L$88,P34,$K$7:$K$88,T$6) -> 0 | U34: =SUMIFS($J$7:$J$88,$L$7:$L$88,P34,$K$7:$K$88,U$6) -> 0 | V34: =SUMIFS($J$7:$J$88,$L$7:$L$88,P34,$K$7:$K$88,V$6) -> 0 | W34: =SUMIFS($J$7:$J$88,$L$7:$L$88,P34,$K$7:$K$88,W$6) -> 0 | Y34: =P34 -> 0 | Z34: =IF(Q34=0," ",Q34) | AA34: =IF(R34=0," ",R34) | AB34: =IF(S34=0," ",S34) | AC34: =IF(T34=0," ",T34) | AD34: =IF(U34=0," ",U34) | AE34: =IF(V34=0," ",V34) | AF34: =IF(W34=0," ",W34)
A35: 58 | B35: 58 | C35: 5 | D35: 30 | E35: АНТАДИКОВ Игорь | F35: АНТАДИКОВ Игорь Алексеевич | G35: 17.11.04, КМС | H35: КМС | I35: СФО | J35: Р.Алтай, Горно-Алтайск, Д | K35: Р.Алтай | M35: Казанин И.В | N35: АНТАДИКОВ | Q35: =SUMIFS($J$7:$J$88,$L$7:$L$88,P35,$K$7:$K$88,Q$6) -> 0 | R35: =SUMIFS($J$7:$J$88,$L$7:$L$88,P35,$K$7:$K$88,R$6) -> 0 | S35: =SUMIFS($J$7:$J$88,$L$7:$L$88,P35,$K$7:$K$88,S$6) -> 0 | T35: =SUMIFS($J$7:$J$88,$L$7:$L$88,P35,$K$7:$K$88,T$6) -> 0 | U35: =SUMIFS($J$7:$J$88,$L$7:$L$88,P35,$K$7:$K$88,U$6) -> 0 | V35: =SUMIFS($J$7:$J$88,$L$7:$L$88,P35,$K$7:$K$88,V$6) -> 0 | W35: =SUMIFS($J$7:$J$88,$L$7:$L$88,P35,$K$7:$K$88,W$6) -> 0 | Y35: =P35 -> 0 | Z35: =IF(Q35=0," ",Q35) | AA35: =IF(R35=0," ",R35) | AB35: =IF(S35=0," ",S35) | AC35: =IF(T35=0," ",T35) | AD35: =IF(U35=0," ",U35) | AE35: =IF(V35=0," ",V35) | AF35: =IF(W35=0," ",W35)
A36: 58 | B36: 58 | C36: 24 | D36: 31 | E36: СЕДИН Данил | F36: СЕДИН Данил Вячеславович | G36: 29.07.03, КМС | H36: КМС | I36: ПФО | J36: Пермский край, Пермь, СШОР Витязь г. Перми им. И. И. Пономарёва | K36: Пермский | M36: Спирин А. В., Шилов А. С. | N36: СЕДИН | Q36: =SUMIFS($J$7:$J$88,$L$7:$L$88,P36,$K$7:$K$88,Q$6) -> 0 | R36: =SUMIFS($J$7:$J$88,$L$7:$L$88,P36,$K$7:$K$88,R$6) -> 0 | S36: =SUMIFS($J$7:$J$88,$L$7:$L$88,P36,$K$7:$K$88,S$6) -> 0 | T36: =SUMIFS($J$7:$J$88,$L$7:$L$88,P36,$K$7:$K$88,T$6) -> 0 | U36: =SUMIFS($J$7:$J$88,$L$7:$L$88,P36,$K$7:$K$88,U$6) -> 0 | V36: =SUMIFS($J$7:$J$88,$L$7:$L$88,P36,$K$7:$K$88,V$6) -> 0 | W36: =SUMIFS($J$7:$J$88,$L$7:$L$88,P36,$K$7:$K$88,W$6) -> 0 | Y36: =P36 -> 0 | Z36: =IF(Q36=0," ",Q36) | AA36: =IF(R36=0," ",R36) | AB36: =IF(S36=0," ",S36) | AC36: =IF(T36=0," ",T36) | AD36: =IF(U36=0," ",U36) | AE36: =IF(V36=0," ",V36) | AF36: =IF(W36=0," ",W36)
A37: 58 | B37: 58 | C37: 25 | D37: 32 | E37: КОЛПАКОВ Сергей | F37: КОЛПАКОВ Сергей Александрович | G37: 20.04.03, МС | H37: МС | I37: ПФО | J37: Нижегородская обл., Кстово, ГБОУ ДО СШОР по самбо | K37: Нижегородская | M37: Чугреев А.В, Фролов ИМ | N37: КОЛПАКОВ | Q37: =SUMIFS($J$7:$J$88,$L$7:$L$88,P37,$K$7:$K$88,Q$6) -> 0 | R37: =SUMIFS($J$7:$J$88,$L$7:$L$88,P37,$K$7:$K$88,R$6) -> 0 | S37: =SUMIFS($J$7:$J$88,$L$7:$L$88,P37,$K$7:$K$88,S$6) -> 0 | T37: =SUMIFS($J$7:$J$88,$L$7:$L$88,P37,$K$7:$K$88,T$6) -> 0 | U37: =SUMIFS($J$7:$J$88,$L$7:$L$88,P37,$K$7:$K$88,U$6) -> 0 | V37: =SUMIFS($J$7:$J$88,$L$7:$L$88,P37,$K$7:$K$88,V$6) -> 0 | W37: =SUMIFS($J$7:$J$88,$L$7:$L$88,P37,$K$7:$K$88,W$6) -> 0 | Y37: =P37 -> 0 | Z37: =IF(Q37=0," ",Q37) | AA37: =IF(R37=0," ",R37) | AB37: =IF(S37=0," ",S37) | AC37: =IF(T37=0," ",T37) | AD37: =IF(U37=0," ",U37) | AE37: =IF(V37=0," ",V37) | AF37: =IF(W37=0," ",W37)
A38: 58 | B38: 58 | C38: 27 | D38: 33 | E38: ТАДЫШЕВ Данил | F38: ТАДЫШЕВ Данил Борисович | G38: 30.08.04, КМС | H38: КМС | I38: СФО | J38: Р.Алтай, Горно алтайск, Д | K38: Р.Алтай | M38: Тайпинов.В.Л | N38: ТАДЫШЕВ | Q38: =SUMIFS($J$7:$J$88,$L$7:$L$88,P38,$K$7:$K$88,Q$6) -> 0 | R38: =SUMIFS($J$7:$J$88,$L$7:$L$88,P38,$K$7:$K$88,R$6) -> 0 | S38: =SUMIFS($J$7:$J$88,$L$7:$L$88,P38,$K$7:$K$88,S$6) -> 0 | T38: =SUMIFS($J$7:$J$88,$L$7:$L$88,P38,$K$7:$K$88,T$6) -> 0 | U38: =SUMIFS($J$7:$J$88,$L$7:$L$88,P38,$K$7:$K$88,U$6) -> 0 | V38: =SUMIFS($J$7:$J$88,$L$7:$L$88,P38,$K$7:$K$88,V$6) -> 0 | W38: =SUMIFS($J$7:$J$88,$L$7:$L$88,P38,$K$7:$K$88,W$6) -> 0 | Y38: =P38 -> 0 | Z38: =IF(Q38=0," ",Q38) | AA38: =IF(R38=0," ",R38) | AB38: =IF(S38=0," ",S38) | AC38: =IF(T38=0," ",T38) | AD38: =IF(U38=0," ",U38) | AE38: =IF(V38=0," ",V38) | AF38: =IF(W38=0," ",W38)
Q39: =SUMIFS($J$7:$J$88,$L$7:$L$88,P39,$K$7:$K$88,Q$6) -> 0 | R39: =SUMIFS($J$7:$J$88,$L$7:$L$88,P39,$K$7:$K$88,R$6) -> 0 | S39: =SUMIFS($J$7:$J$88,$L$7:$L$88,P39,$K$7:$K$88,S$6) -> 0 | T39: =SUMIFS($J$7:$J$88,$L$7:$L$88,P39,$K$7:$K$88,T$6) -> 0 | U39: =SUMIFS($J$7:$J$88,$L$7:$L$88,P39,$K$7:$K$88,U$6) -> 0 | V39: =SUMIFS($J$7:$J$88,$L$7:$L$88,P39,$K$7:$K$88,V$6) -> 0 | W39: =SUMIFS($J$7:$J$88,$L$7:$L$88,P39,$K$7:$K$88,W$6) -> 0 | X39: =SUM(Q7:T38) -> 0 | Y39: =P39 -> 0 | Z39: =IF(Q39=0," ",Q39) | AA39: =IF(R39=0," ",R39) | AB39: =IF(S39=0," ",S39) | AC39: =IF(T39=0," ",T39) | AD39: =IF(U39=0," ",U39) | AE39: =IF(V39=0," ",V39) | AF39: =IF(W39=0," ",W39)
Q40: =SUMIFS($J$7:$J$88,$L$7:$L$88,P40,$K$7:$K$88,Q$6) -> 0 | R40: =SUMIFS($J$7:$J$88,$L$7:$L$88,P40,$K$7:$K$88,R$6) -> 0 | S40: =SUMIFS($J$7:$J$88,$L$7:$L$88,P40,$K$7:$K$88,S$6) -> 0 | T40: =SUMIFS($J$7:$J$88,$L$7:$L$88,P40,$K$7:$K$88,T$6) -> 0 | U40: =SUMIFS($J$7:$J$88,$L$7:$L$88,P40,$K$7:$K$88,U$6) -> 0 | V40: =SUMIFS($J$7:$J$88,$L$7:$L$88,P40,$K$7:$K$88,V$6) -> 0 | W40: =SUMIFS($J$7:$J$88,$L$7:$L$88,P40,$K$7:$K$88,W$6) -> 0 | Y40: =P40 -> 0 | Z40: =IF(Q40=0," ",Q40) | AA40: =IF(R40=0," ",R40) | AB40: =IF(S40=0," ",S40) | AC40: =IF(T40=0," ",T40) | AD40: =IF(U40=0," ",U40) | AE40: =IF(V40=0," ",V40) | AF40: =IF(W40=0," ",W40)
Q41: =SUMIFS($J$7:$J$88,$L$7:$L$88,P41,$K$7:$K$88,Q$6) -> 0 | R41: =SUMIFS($J$7:$J$88,$L$7:$L$88,P41,$K$7:$K$88,R$6) -> 0 | S41: =SUMIFS($J$7:$J$88,$L$7:$L$88,P41,$K$7:$K$88,S$6) -> 0 | T41: =SUMIFS($J$7:$J$88,$L$7:$L$88,P41,$K$7:$K$88,T$6) -> 0 | U41: =SUMIFS($J$7:$J$88,$L$7:$L$88,P41,$K$7:$K$88,U$6) -> 0 | V41: =SUMIFS($J$7:$J$88,$L$7:$L$88,P41,$K$7:$K$88,V$6) -> 0 | W41: =SUMIFS($J$7:$J$88,$L$7:$L$88,P41,$K$7:$K$88,W$6) -> 0 | Y41: =P41 -> 0 | Z41: =IF(Q41=0," ",Q41) | AA41: =IF(R41=0," ",R41) | AB41: =IF(S41=0," ",S41) | AC41: =IF(T41=0," ",T41) | AD41: =IF(U41=0," ",U41) | AE41: =IF(V41=0," ",V41) | AF41: =IF(W41=0," ",W41)
Q42: =SUMIFS($J$7:$J$88,$L$7:$L$88,P42,$K$7:$K$88,Q$6) -> 0 | R42: =SUMIFS($J$7:$J$88,$L$7:$L$88,P42,$K$7:$K$88,R$6) -> 0 | S42: =SUMIFS($J$7:$J$88,$L$7:$L$88,P42,$K$7:$K$88,S$6) -> 0 | T42: =SUMIFS($J$7:$J$88,$L$7:$L$88,P42,$K$7:$K$88,T$6) -> 0 | U42: =SUMIFS($J$7:$J$88,$L$7:$L$88,P42,$K$7:$K$88,U$6) -> 0 | V42: =SUMIFS($J$7:$J$88,$L$7:$L$88,P42,$K$7:$K$88,V$6) -> 0 | W42: =SUMIFS($J$7:$J$88,$L$7:$L$88,P42,$K$7:$K$88,W$6) -> 0 | Y42: =P42 -> 0 | Z42: =IF(Q42=0," ",Q42) | AA42: =IF(R42=0," ",R42) | AB42: =IF(S42=0," ",S42) | AC42: =IF(T42=0," ",T42) | AD42: =IF(U42=0," ",U42) | AE42: =IF(V42=0," ",V42) | AF42: =IF(W42=0," ",W42)
...

Sheet пр.хода
F1: ВСЕРОССИЙСКАЯ ФЕДЕРАЦИЯ САМБО | AB1: =пр.взв!$D$4 -> 0 | AD1: =пр.взв!G4 -> В.к. 58 кг
F2: ПРОТОКОЛ ХОДА СОРЕВНОВАНИЙ
C3: =пр.взв!C2 -> Первенство России по самбо (боевое) юниоры 18-20 лет (отбор на Первенство Мира и Европы) ЕКП № 23752 | AD3: =AH3&" "&AI3 -> 33 участников | AH3: =пр.взв!O3 -> 33 | AI3: участников
A4: Подгруппа А | H4: =пр.взв!C3 -> 13.02 - 17.02.2022 г. г. В-Пышма | AB4: Подгруппа Б
A5: 1 | B5: =IFERROR(VLOOKUP(A5,пр.взв!$D$6:$Q$70,2,0),"") -> ТАГИРОВ Рабазан | C5: =IFERROR(VLOOKUP(A5,пр.взв!$D$6:$Q$70,5,0),"") -> КМС | D5: =IFERROR(VLOOKUP(A5,пр.взв!$D$6:$Q$70,8,0),"") -> Ярославская | AB5: =IFERROR(VLOOKUP(AE5,пр.взв!$D$6:$Q$70,2,0),"") -> ГУСЕЙНОВ Намик | AC5: =IFERROR(VLOOKUP(AE5,пр.взв!$D$6:$Q$70,5,0),"") -> 3p | AD5: =IFERROR(VLOOKUP(AE5,пр.взв!$D$6:$Q$70,8,0),"") -> Нижегородская | AE5: 2
AA6: 2 | AH6: =N32 -> 0 | AK6: 1
A7: 33 | B7: =IFERROR(VLOOKUP(A7,пр.взв!$D$6:$Q$70,2,0),"") -> ТАДЫШЕВ Данил | C7: =IFERROR(VLOOKUP(A7,пр.взв!$D$6:$Q$70,5,0),"") -> КМС | D7: =IFERROR(VLOOKUP(A7,пр.взв!$D$6:$Q$70,8,0),"") -> Р.Алтай | AB7: =IFERROR(VLOOKUP(AE7,пр.взв!$D$6:$Q$70,2,0),"") | AC7: =IFERROR(VLOOKUP(AE7,пр.взв!$D$6:$Q$70,5,0),"") | AD7: =IFERROR(VLOOKUP(AE7,пр.взв!$D$6:$Q$70,8,0),"") | AE7: 34 | AH7: =N40 | AK7: 2
AG8: 3м | AH8: =IF(M36=""," ",IF(M36=K20,K53,K20)) | AI8: 3 | AK8: 3
A9: 17 | B9: =IFERROR(VLOOKUP(A9,пр.взв!$D$6:$Q$70,2,0),"") -> ЮНУСОВ Ильнур | C9: =IFERROR(VLOOKUP(A9,пр.взв!$D$6:$Q$70,5,0),"") -> КМС | D9: =IFERROR(VLOOKUP(A9,пр.взв!$D$6:$Q$70,8,0),"") -> Р.Татарстан | AB9: =IFERROR(VLOOKUP(AE9,пр.взв!$D$6:$Q$70,2,0),"") -> УМАЕВ Азамат | AC9: =IFERROR(VLOOKUP(AE9,пр.взв!$D$6:$Q$70,5,0),"") -> КМС | AD9: =IFERROR(VLOOKUP(AE9,пр.взв!$D$6:$Q$70,8,0),"") -> Московская | AE9: 18 | AG9: 3м | AH9: =IF(S36=""," ",IF(S36=U20,U53,U20)) | AI9: 4 | AK9: 5
E10: 17 | AA10: 18 | AG10: 5м | AH10: =IF(K20=""," ",IF(K20=I12,I28,I12)) | AI10: 5 | AK10: 6
A11: 49 | B11: =IFERROR(VLOOKUP(A11,пр.взв!$D$6:$Q$70,2,0),"") | C11: =IFERROR(VLOOKUP(A11,пр.взв!$D$6:$Q$70,5,0),"") | D11: =IFERROR(VLOOKUP(A11,пр.взв!$D$6:$Q$70,8,0),"") | AB11: =IFERROR(VLOOKUP(AE11,пр.взв!$D$6:$Q$70,2,0),"") | AC11: =IFERROR(VLOOKUP(AE11,пр.взв!$D$6:$Q$70,5,0),"") | AD11: =IFERROR(VLOOKUP(AE11,пр.взв!$D$6:$Q$70,8,0),"") | AE11: 50 | AG11: 5м | AH11: =IF(K53=""," ",IF(K53=I45,I61,I45)) | AI11: 6 | AK11: 7
AG12: 5м | AH12: =IF(U20=""," ",IF(U20=W12,W28,U20)) | AI12: 7 | AK12: 8
A13: 9 | B13: =IFERROR(VLOOKUP(A13,пр.взв!$D$6:$Q$70,2,0),"") -> КАКАДЖАНОВ Рустам | C13: =IFERROR(VLOOKUP(A13,пр.взв!$D$6:$Q$70,5,0),"") -> КМС | D13: =IFERROR(VLOOKUP(A13,пр.взв!$D$6:$Q$70,8,0),"") -> Московская | AB13: =IFERROR(VLOOKUP(AE13,пр.взв!$D$6:$Q$70,2,0),"") -> АМИРОВ Исмаил | AC13: =IFERROR(VLOOKUP(AE13,пр.взв!$D$6:$Q$70,5,0),"") -> КМС | AD13: =IFERROR(VLOOKUP(AE13,пр.взв!$D$6:$Q$70,8,0),"") -> Чеченская | AE13: 10 | AG13: 5м | AH13: =IF(U53=""," ",IF(U53=W45,W61,W45)) | AI13: 8 | AK13: 10
E14: 9 | AA14: 10 | AG14: 9м | AH14: =IF(I12=""," ",IF(I12=G8,G16,G8)) | AI14: 9 | AK14: 11
A15: 41 | B15: =IFERROR(VLOOKUP(A15,пр.взв!$D$6:$Q$70,2,0),"") | C15: =IFERROR(VLOOKUP(A15,пр.взв!$D$6:$Q$70,5,0),"") | D15: =IFERROR(VLOOKUP(A15,пр.взв!$D$6:$Q$70,8,0),"") | AB15: =IFERROR(VLOOKUP(AE15,пр.взв!$D$6:$Q$70,2,0),"") | AC15: =IFERROR(VLOOKUP(AE15,пр.взв!$D$6:$Q$70,5,0),"") | AD15: =IFERROR(VLOOKUP(AE15,пр.взв!$D$6:$Q$70,8,0),"") | AE15: 42 | AG15: 9м | AH15: =IF(I28=""," ",IF(I28=G24,G32,G24)) | AI15: 10 | AK15: 12
AG16: 9м | AH16: =IF(I45=""," ",IF(I45=G41,G49,G41)) | AI16: 11 | AK16: 13
A17: 25 | B17: =IFERROR(VLOOKUP(A17,пр.взв!$D$6:$Q$70,2,0),"") -> МАГОМЕДОВ Саид | C17: =IFERROR(VLOOKUP(A17,пр.взв!$D$6:$Q$70,5,0),"") -> 3p | D17: =IFERROR(VLOOKUP(A17,пр.взв!$D$6:$Q$70,8,0),"") -> Р.Дагестан | AB17: =IFERROR(VLOOKUP(AE17,пр.взв!$D$6:$Q$70,2,0),"") -> АКОБЯН Мартин | AC17: =IFERROR(VLOOKUP(AE17,пр.взв!$D$6:$Q$70,5,0),"") -> КМС | AD17: =IFERROR(VLOOKUP(AE17,пр.взв!$D$6:$Q$70,8,0),"") -> Р.Татарстан | AE17: 26 | AG17: 9м | AH17: =IF(I61=""," ",IF(I61=G57,G65,G57)) | AI17: 12 | AK17: 14
E18: 25 | AA18: 26 | AG18: 9м | AH18: =IF(W12=""," ",IF(W12=Y8,Y16,Y8)) | AI18: 13 | AK18: 15
A19: 57 | B19: =IFERROR(VLOOKUP(A19,пр.взв!$D$6:$Q$70,2,0),"") | C19: =IFERROR(VLOOKUP(A19,пр.взв!$D$6:$Q$70,5,0),"") | D19: =IFERROR(VLOOKUP(A19,пр.взв!$D$6:$Q$70,8,0),"") | AB19: =IFERROR(VLOOKUP(AE19,пр.взв!$D$6:$Q$70,2,0),"") | AC19: =IFERROR(VLOOKUP(AE19,пр.взв!$D$6:$Q$70,5,0),"") | AD19: =IFERROR(VLOOKUP(AE19,пр.взв!$D$6:$Q$70,8,0),"") | AE19: 58 | AG19: 9м | AH19: =IF(W28=""," ",IF(W28=Y24,Y32,Y24)) | AI19: 14 | AK19: 16
AG20: 9м | AH20: =IF(W45=""," ",IF(W45=Y41,Y49,Y41)) | AI20: 15 | AK20: 17
A21: 5 | B21: =IFERROR(VLOOKUP(A21,пр.взв!$D$6:$Q$70,2,0),"") -> КОРОБЦОВ Алексей | C21: =IFERROR(VLOOKUP(A21,пр.взв!$D$6:$Q$70,5,0),"") -> КМС | D21: =IFERROR(VLOOKUP(A21,пр.взв!$D$6:$Q$70,8,0),"") -> Камчатский | AB21: =IFERROR(VLOOKUP(AE21,пр.взв!$D$6:$Q$70,2,0),"") -> АБДУРАХМАНОВ Муслим | AC21: =IFERROR(VLOOKUP(AE21,пр.взв!$D$6:$Q$70,5,0),"") -> КМС | AD21: =IFERROR(VLOOKUP(AE21,пр.взв!$D$6:$Q$70,8,0),"") -> Москва | AE21: 6 | AG21: 9м | AH21: =IF(W61=""," ",IF(W61=Y57,Y65,Y57)) | AI21: 16 | AK21: 18
E22: 5 | AA22: 6 | AG22: 17 | AH22: =IF(G8=""," ",IF(E6=G8,E10,E6)) | AI22: 17 | AK22: 19
A23: 37 | B23: =IFERROR(VLOOKUP(A23,пр.взв!$D$6:$Q$70,2,0),"") | C23: =IFERROR(VLOOKUP(A23,пр.взв!$D$6:$Q$70,5,0),"") | D23: =IFERROR(VLOOKUP(A23,пр.взв!$D$6:$Q$70,8,0),"") | AB23: =IFERROR(VLOOKUP(AE23,пр.взв!$D$6:$Q$70,2,0),"") | AC23: =IFERROR(VLOOKUP(AE23,пр.взв!$D$6:$Q$70,5,0),"") | AD23: =IFERROR(VLOOKUP(AE23,пр.взв!$D$6:$Q$70,8,0),"") | AE23: 38 | AG23: 18 | AH23: =IF(G16=""," ",IF(E14=G16,E18,E14)) | AI23: 18 | AK23: 20
AG24: 19 | AH24: =IF(G24=""," ",IF(E22=G24,E26,E22)) | AI24: 19 | AK24: 21
A25: 21 | B25: =IFERROR(VLOOKUP(A25,пр.взв!$D$6:$Q$70,2,0),"") -> ШИШКОВ Данил | C25: =IFERROR(VLOOKUP(A25,пр.взв!$D$6:$Q$70,5,0),"") -> КМС | D25: =IFERROR(VLOOKUP(A25,пр.взв!$D$6:$Q$70,8,0),"") -> Иркутская | AB25: =IFERROR(VLOOKUP(AE25,пр.взв!$D$6:$Q$70,2,0),"") -> АЛЛАБЕРГЕНОВ Богдан | AC25: =IFERROR(VLOOKUP(AE25,пр.взв!$D$6:$Q$70,5,0),"") -> КМС | AD25: =IFERROR(VLOOKUP(AE25,пр.взв!$D$6:$Q$70,8,0),"") -> Самарская | AE25: 22 | AG25: 20 | AH25: =IF(G32=""," ",IF(E30=G32,E34,E30)) | AI25: 20 | AK25: 22
E26: 21 | P26: 3 м | AA26: 22 | AG26: 21 | AH26: =IF(G41=""," ",IF(E39=G41,E43,E39)) | AI26: 21 | AK26: 23
A27: 53 | B27: =IFERROR(VLOOKUP(A27,пр.взв!$D$6:$Q$70,2,0),"") | C27: =IFERROR(VLOOKUP(A27,пр.взв!$D$6:$Q$70,5,0),"") | D27: =IFERROR(VLOOKUP(A27,пр.взв!$D$6:$Q$70,8,0),"") | N27: =IFERROR(VLOOKUP(AH8,пр.взв!$D$6:$Q$70,2,0),"") | AB27: =IFERROR(VLOOKUP(AE27,пр.взв!$D$6:$Q$70,2,0),"") | AC27: =IFERROR(VLOOKUP(AE27,пр.взв!$D$6:$Q$70,5,0),"") | AD27: =IFERROR(VLOOKUP(AE27,пр.взв!$D$6:$Q$70,8,0),"") | AE27: 54 | AG27: 22 | AH27: =IF(G49=""," ",IF(E47=G49,E51,E47)) | AI27: 22 | AK27: 24
AG28: 23 | AH28: =IF(G57=""," ",IF(E55=G57,E59,E55)) | AI28: 23 | AK28: 25
A29: 13 | B29: =IFERROR(VLOOKUP(A29,пр.взв!$D$6:$Q$70,2,0),"") -> СШИВНОВ Владислав | C29: =IFERROR(VLOOKUP(A29,пр.взв!$D$6:$Q$70,5,0),"") -> КМС | D29: =IFERROR(VLOOKUP(A29,пр.взв!$D$6:$Q$70,8,0),"") -> Нижегородская | AB29: =IFERROR(VLOOKUP(AE29,пр.взв!$D$6:$Q$70,2,0),"") -> ДОНДОКОВ Мунко | AC29: =IFERROR(VLOOKUP(AE29,пр.взв!$D$6:$Q$70,5,0),"") -> КМС | AD29: =IFERROR(VLOOKUP(AE29,пр.взв!$D$6:$Q$70,8,0),"") -> Р.Бурятия | AE29: 14 | AG29: 24 | AH29: =IF(G65=""," ",IF(E63=G65,E67,E63)) | AI29: 24 | AK29: 26
E30: 13 | AA30: 14 | AG30: 25 | AH30: =IF(Y8=""," ",IF(Y8=AA6,AA10,AA6)) | AI30: 25 | AK30: 27
A31: 45 | B31: =IFERROR(VLOOKUP(A31,пр.взв!$D$6:$Q$70,2,0),"") | C31: =IFERROR(VLOOKUP(A31,пр.взв!$D$6:$Q$70,5,0),"") | D31: =IFERROR(VLOOKUP(A31,пр.взв!$D$6:$Q$70,8,0),"") | P31: 1 м | AB31: =IFERROR(VLOOKUP(AE31,пр.взв!$D$6:$Q$70,2,0),"") | AC31: =IFERROR(VLOOKUP(AE31,пр.взв!$D$6:$Q$70,5,0),"") | AD31: =IFERROR(VLOOKUP(AE31,пр.взв!$D$6:$Q$70,8,0),"") | AE31: 46 | AG31: 26 | AH31: =IF(Y16=""," ",IF(Y16=AA14,AA18,AA14)) | AI31: 26 | AK31: 28
AG32: 27 | AH32: =IF(Y24=""," ",IF(Y24=AA22,AA26,AA22)) | AI32: 27 | AK32: 29
A33: 29 | B33: =IFERROR(VLOOKUP(A33,пр.взв!$D$6:$Q$70,2,0),"") -> ТАРАНЧЕНКО Дмитрий | C33: =IFERROR(VLOOKUP(A33,пр.взв!$D$6:$Q$70,5,0),"") -> КМС | D33: =IFERROR(VLOOKUP(A33,пр.взв!$D$6:$Q$70,8,0),"") -> Свердловская | N33: =IFERROR(VLOOKUP(N32,пр.взв!$D$6:$Q$70,2,0),"") | AB33: =IFERROR(VLOOKUP(AE33,пр.взв!$D$6:$Q$70,2,0),"") -> АНТАДИКОВ Игорь | AC33: =IFERROR(VLOOKUP(AE33,пр.взв!$D$6:$Q$70,5,0),"") -> КМС | AD33: =IFERROR(VLOOKUP(AE33,пр.взв!$D$6:$Q$70,8,0),"") -> Р.Алтай | AE33: 30 | AG33: 28 | AH33: =IF(Y32=""," ",IF(Y32=AA30,AA34,AA30)) | AI33: 28 | AK33: 30
E34: 29 | AA34: 30 | AG34: 29 | AH34: =IF(Y41=""," ",IF(Y41=AA39,AA43,AA39)) | AI34: 29 | AK34: 31
A35: 61 | B35: =IFERROR(VLOOKUP(A35,пр.взв!$D$6:$Q$70,2,0),"") | C35: =IFERROR(VLOOKUP(A35,пр.взв!$D$6:$Q$70,5,0),"") | D35: =IFERROR(VLOOKUP(A35,пр.взв!$D$6:$Q$70,8,0),"") | AB35: =IFERROR(VLOOKUP(AE35,пр.взв!$D$6:$Q$70,2,0),"") | AC35: =IFERROR(VLOOKUP(AE35,пр.взв!$D$6:$Q$70,5,0),"") | AD35: =IFERROR(VLOOKUP(AE35,пр.взв!$D$6:$Q$70,8,0),"") | AE35: 62 | AG35: 30 | AH35: =IF(Y49=""," ",IF(Y49=AA47,AA51,AA47)) | AI35: 30 | AK35: 32
AG36: 31 | AH36: =IF(Y57=""," ",IF(Y57=AA55,AA59,AA55)) | AI36: 31 | AK36: 33
AH37: =IF(Y58=""," ",IF(Y58=AA56,AA60,AA56)) | AI37: 32 | AK37: 34
A38: 3 | B38: =IFERROR(VLOOKUP(A38,пр.взв!$D$6:$Q$70,2,0),"") -> БАЛТРУШИН Сергей | C38: =IFERROR(VLOOKUP(A38,пр.взв!$D$6:$Q$70,5,0),"") -> КМС | D38: =IFERROR(VLOOKUP(A38,пр.взв!$D$6:$Q$70,8,0),"") -> Санкт-Петербург | AB38: =IFERROR(VLOOKUP(AE38,пр.взв!$D$6:$Q$70,2,0),"") -> ЮНУСОВ Ильгиз | AC38: =IFERROR(VLOOKUP(AE38,пр.взв!$D$6:$Q$70,5,0),"") -> КМС | AD38: =IFERROR(VLOOKUP(AE38,пр.взв!$D$6:$Q$70,8,0),"") -> Р.Татарстан | AE38: 4 | AG38: 32 | AH38: =IF(Y65=""," ",IF(Y65=AA63,AA67,AA63)) | AI38: 32 | AK38: 35
E39: 3 | P39: 2 м | AA39: 4 | AG39: 33 | AH39: =IF(E6=""," ",IF(E6=A5,A7,A5)) | AI39: 33 | AK39: 36
A40: 35 | B40: =IFERROR(VLOOKUP(A40,пр.взв!$D$6:$Q$70,2,0),"") | C40: =IFERROR(VLOOKUP(A40,пр.взв!$D$6:$Q$70,5,0),"") | D40: =IFERROR(VLOOKUP(A40,пр.взв!$D$6:$Q$70,8,0),"") | M40: =AH70 | N40: =IF(N32=""," ",IF(M36=N32,S36,M36)) | AB40: =IFERROR(VLOOKUP(AE40,пр.взв!$D$6:$Q$70,2,0),"") | AC40: =IFERROR(VLOOKUP(AE40,пр.взв!$D$6:$Q$70,5,0),"") | AD40: =IFERROR(VLOOKUP(AE40,пр.взв!$D$6:$Q$70,8,0),"") | AE40: 36 | AH40: =IF(E14=""," ",IF(E14=A13,A15,A13)) -> 41 | AI40: 34 | AK40: 37
...

Sheet круги
B1: ВСТРЕЧИ ПО КРУГАМ | L1: ВСТРЕЧИ ПО КРУГАМ
B2: =пр.взв!$D$4 -> 0 | L2: =пр.взв!$D$4 -> 0
B3: 0 | C3: КОВЕР | L3: =B3 -> 0 | M3: КОВЕР
B4: A | C4: (Круг) | F4: 1/32 | L4: Б | M4: (Круг) | P4: 1/32
A5: № встр | B5: № п/ж | C5: Ф.И.О. | D5: Д. р., разряд | E5: Вед., регион | G5: Оценки | H5: Очки | I5: Рез-т | J5: Время | K5: № встр | L5: № п/ж | M5: Ф.И.О. | N5: Д. р., разряд | O5: Вед., регион | Q5: Оценки | R5: Очки | S5: Рез-т | T5: Время
A7: 1 | B7: 1 | C7: =IFERROR(VLOOKUP(B7,пр.взв!$D$6:$Q$70,2,0),"") -> ТАГИРОВ Рабазан | D7: =IFERROR(VLOOKUP(B7,пр.взв!$D$6:$Q$70,5,0),"") -> КМС | E7: =IFERROR(VLOOKUP(B7,пр.взв!$D$6:$Q$70,6,0),"") -> ЦФО | F7: =IFERROR(VLOOKUP(B7,пр.взв!$D$6:$Q$70,8,0),"") -> Ярославская | K7: 17 | L7: 2 | M7: =IFERROR(VLOOKUP(L7,пр.взв!$D$6:$Q$70,2,0),"") -> ГУСЕЙНОВ Намик | N7: =IFERROR(VLOOKUP(L7,пр.взв!$D$6:$Q$70,5,0),"") -> 3p | O7: =IFERROR(VLOOKUP(L7,пр.взв!$D$6:$Q$70,6,0),"") -> ПФО | P7: =IFERROR(VLOOKUP(L7,пр.взв!$D$6:$Q$70,8,0),"") -> Нижегородская
B8: 33 | C8: =IFERROR(VLOOKUP(B8,пр.взв!$D$6:$Q$70,2,0),"") -> ТАДЫШЕВ Данил | D8: =IFERROR(VLOOKUP(B8,пр.взв!$D$6:$Q$70,5,0),"") -> КМС | E8: =IFERROR(VLOOKUP(B8,пр.взв!$D$6:$Q$70,6,0),"") -> СФО | F8: =IFERROR(VLOOKUP(B8,пр.взв!$D$6:$Q$70,8,0),"") -> Р.Алтай | L8: 34 | M8: =IFERROR(VLOOKUP(L8,пр.взв!$D$6:$Q$70,2,0),"") | N8: =IFERROR(VLOOKUP(L8,пр.взв!$D$6:$Q$70,5,0),"") | O8: =IFERROR(VLOOKUP(L8,пр.взв!$D$6:$Q$70,6,0),"") | P8: =IFERROR(VLOOKUP(L8,пр.взв!$D$6:$Q$70,8,0),"")
A9: 2 | B9: 17 | C9: =IFERROR(VLOOKUP(B9,пр.взв!$D$6:$Q$70,2,0),"") -> ЮНУСОВ Ильнур | D9: =IFERROR(VLOOKUP(B9,пр.взв!$D$6:$Q$70,5,0),"") -> КМС | E9: =IFERROR(VLOOKUP(B9,пр.взв!$D$6:$Q$70,6,0),"") -> ПФО | F9: =IFERROR(VLOOKUP(B9,пр.взв!$D$6:$Q$70,8,0),"") -> Р.Татарстан | K9: 18 | L9: 18 | M9: =IFERROR(VLOOKUP(L9,пр.взв!$D$6:$Q$70,2,0),"") -> УМАЕВ Азамат | N9: =IFERROR(VLOOKUP(L9,пр.взв!$D$6:$Q$70,5,0),"") -> КМС | O9: =IFERROR(VLOOKUP(L9,пр.взв!$D$6:$Q$70,6,0),"") -> ЦФО | P9: =IFERROR(VLOOKUP(L9,пр.взв!$D$6:$Q$70,8,0),"") -> Московская
B10: 49 | C10: =IFERROR(VLOOKUP(B10,пр.взв!$D$6:$Q$70,2,0),"") | D10: =IFERROR(VLOOKUP(B10,пр.взв!$D$6:$Q$70,5,0),"") | E10: =IFERROR(VLOOKUP(B10,пр.взв!$D$6:$Q$70,6,0),"") | F10: =IFERROR(VLOOKUP(B10,пр.взв!$D$6:$Q$70,8,0),"") | L10: 50 | M10: =IFERROR(VLOOKUP(L10,пр.взв!$D$6:$Q$70,2,0),"") | N10: =IFERROR(VLOOKUP(L10,пр.взв!$D$6:$Q$70,5,0),"") | O10: =IFERROR(VLOOKUP(L10,пр.взв!$D$6:$Q$70,6,0),"") | P10: =IFERROR(VLOOKUP(L10,пр.взв!$D$6:$Q$70,8,0),"")
A11: 3 | B11: 9 | C11: =IFERROR(VLOOKUP(B11,пр.взв!$D$6:$Q$70,2,0),"") -> КАКАДЖАНОВ Рустам | D11: =IFERROR(VLOOKUP(B11,пр.взв!$D$6:$Q$70,5,0),"") -> КМС | E11: =IFERROR(VLOOKUP(B11,пр.взв!$D$6:$Q$70,6,0),"") -> ЦФО | F11: =IFERROR(VLOOKUP(B11,пр.взв!$D$6:$Q$70,8,0),"") -> Московская | K11: 19 | L11: 10 | M11: =IFERROR(VLOOKUP(L11,пр.взв!$D$6:$Q$70,2,0),"") -> АМИРОВ Исмаил | N11: =IFERROR(VLOOKUP(L11,пр.взв!$D$6:$Q$70,5,0),"") -> КМС | O11: =IFERROR(VLOOKUP(L11,пр.взв!$D$6:$Q$70,6,0),"") -> СКФО | P11: =IFERROR(VLOOKUP(L11,пр.взв!$D$6:$Q$70,8,0),"") -> Чеченская
B12: 41 | C12: =IFERROR(VLOOKUP(B12,пр.взв!$D$6:$Q$70,2,0),"") | D12: =IFERROR(VLOOKUP(B12,пр.взв!$D$6:$Q$70,5,0),"") | E12: =IFERROR(VLOOKUP(B12,пр.взв!$D$6:$Q$70,6,0),"") | F12: =IFERROR(VLOOKUP(B12,пр.взв!$D$6:$Q$70,8,0),"") | L12: 42 | M12: =IFERROR(VLOOKUP(L12,пр.взв!$D$6:$Q$70,2,0),"") | N12: =IFERROR(VLOOKUP(L12,пр.взв!$D$6:$Q$70,5,0),"") | O12: =IFERROR(VLOOKUP(L12,пр.взв!$D$6:$Q$70,6,0),"") | P12: =IFERROR(VLOOKUP(L12,пр.взв!$D$6:$Q$70,8,0),"")
A13: 4 | B13: 25 | C13: =IFERROR(VLOOKUP(B13,пр.взв!$D$6:$Q$70,2,0),"") -> МАГОМЕДОВ Саид | D13: =IFERROR(VLOOKUP(B13,пр.взв!$D$6:$Q$70,5,0),"") -> 3p | E13: =IFERROR(VLOOKUP(B13,пр.взв!$D$6:$Q$70,6,0),"") -> СКФО | F13: =IFERROR(VLOOKUP(B13,пр.взв!$D$6:$Q$70,8,0),"") -> Р.Дагестан | K13: 20 | L13: 26 | M13: =IFERROR(VLOOKUP(L13,пр.взв!$D$6:$Q$70,2,0),"") -> АКОБЯН Мартин | N13: =IFERROR(VLOOKUP(L13,пр.взв!$D$6:$Q$70,5,0),"") -> КМС | O13: =IFERROR(VLOOKUP(L13,пр.взв!$D$6:$Q$70,6,0),"") -> ПФО | P13: =IFERROR(VLOOKUP(L13,пр.взв!$D$6:$Q$70,8,0),"") -> Р.Татарстан
B14: 57 | C14: =IFERROR(VLOOKUP(B14,пр.взв!$D$6:$Q$70,2,0),"") | D14: =IFERROR(VLOOKUP(B14,пр.взв!$D$6:$Q$70,5,0),"") | E14: =IFERROR(VLOOKUP(B14,пр.взв!$D$6:$Q$70,6,0),"") | F14: =IFERROR(VLOOKUP(B14,пр.взв!$D$6:$Q$70,8,0),"") | L14: 58 | M14: =IFERROR(VLOOKUP(L14,пр.взв!$D$6:$Q$70,2,0),"") | N14: =IFERROR(VLOOKUP(L14,пр.взв!$D$6:$Q$70,5,0),"") | O14: =IFERROR(VLOOKUP(L14,пр.взв!$D$6:$Q$70,6,0),"") | P14: =IFERROR(VLOOKUP(L14,пр.взв!$D$6:$Q$70,8,0),"")
A15: 5 | B15: 5 | C15: =IFERROR(VLOOKUP(B15,пр.взв!$D$6:$Q$70,2,0),"") -> КОРОБЦОВ Алексей | D15: =IFERROR(VLOOKUP(B15,пр.взв!$D$6:$Q$70,5,0),"") -> КМС | E15: =IFERROR(VLOOKUP(B15,пр.взв!$D$6:$Q$70,6,0),"") -> ДВФО | F15: =IFERROR(VLOOKUP(B15,пр.взв!$D$6:$Q$70,8,0),"") -> Камчатский | K15: 21 | L15: 6 | M15: =IFERROR(VLOOKUP(L15,пр.взв!$D$6:$Q$70,2,0),"") -> АБДУРАХМАНОВ Муслим | N15: =IFERROR(VLOOKUP(L15,пр.взв!$D$6:$Q$70,5,0),"") -> КМС | O15: =IFERROR(VLOOKUP(L15,пр.взв!$D$6:$Q$70,6,0),"") -> МОС | P15: =IFERROR(VLOOKUP(L15,пр.взв!$D$6:$Q$70,8,0),"") -> Москва
B16: 37 | C16: =IFERROR(VLOOKUP(B16,пр.взв!$D$6:$Q$70,2,0),"") | D16: =IFERROR(VLOOKUP(B16,пр.взв!$D$6:$Q$70,5,0),"") | E16: =IFERROR(VLOOKUP(B16,пр.взв!$D$6:$Q$70,6,0),"") | F16: =IFERROR(VLOOKUP(B16,пр.взв!$D$6:$Q$70,8,0),"") | L16: 38 | M16: =IFERROR(VLOOKUP(L16,пр.взв!$D$6:$Q$70,2,0),"") | N16: =IFERROR(VLOOKUP(L16,пр.взв!$D$6:$Q$70,5,0),"") | O16: =IFERROR(VLOOKUP(L16,пр.взв!$D$6:$Q$70,6,0),"") | P16: =IFERROR(VLOOKUP(L16,пр.взв!$D$6:$Q$70,8,0),"")
A17: 6 | B17: 21 | C17: =IFERROR(VLOOKUP(B17,пр.взв!$D$6:$Q$70,2,0),"") -> ШИШКОВ Данил | D17: =IFERROR(VLOOKUP(B17,пр.взв!$D$6:$Q$70,5,0),"") -> КМС | E17: =IFERROR(VLOOKUP(B17,пр.взв!$D$6:$Q$70,6,0),"") -> СФО | F17: =IFERROR(VLOOKUP(B17,пр.взв!$D$6:$Q$70,8,0),"") -> Иркутская | K17: 22 | L17: 22 | M17: =IFERROR(VLOOKUP(L17,пр.взв!$D$6:$Q$70,2,0),"") -> АЛЛАБЕРГЕНОВ Богдан | N17: =IFERROR(VLOOKUP(L17,пр.взв!$D$6:$Q$70,5,0),"") -> КМС | O17: =IFERROR(VLOOKUP(L17,пр.взв!$D$6:$Q$70,6,0),"") -> ПФО | P17: =IFERROR(VLOOKUP(L17,пр.взв!$D$6:$Q$70,8,0),"") -> Самарская
B18: 53 | C18: =IFERROR(VLOOKUP(B18,пр.взв!$D$6:$Q$70,2,0),"") | D18: =IFERROR(VLOOKUP(B18,пр.взв!$D$6:$Q$70,5,0),"") | E18: =IFERROR(VLOOKUP(B18,пр.взв!$D$6:$Q$70,6,0),"") | F18: =IFERROR(VLOOKUP(B18,пр.взв!$D$6:$Q$70,8,0),"") | L18: 54 | M18: =IFERROR(VLOOKUP(L18,пр.взв!$D$6:$Q$70,2,0),"") | N18: =IFERROR(VLOOKUP(L18,пр.взв!$D$6:$Q$70,5,0),"") | O18: =IFERROR(VLOOKUP(L18,пр.взв!$D$6:$Q$70,6,0),"") | P18: =IFERROR(VLOOKUP(L18,пр.взв!$D$6:$Q$70,8,0),"")
A19: 7 | B19: 13 | C19: =IFERROR(VLOOKUP(B19,пр.взв!$D$6:$Q$70,2,0),"") -> СШИВНОВ Владислав | D19: =IFERROR(VLOOKUP(B19,пр.взв!$D$6:$Q$70,5,0),"") -> КМС | E19: =IFERROR(VLOOKUP(B19,пр.взв!$D$6:$Q$70,6,0),"") -> ПФО | F19: =IFERROR(VLOOKUP(B19,пр.взв!$D$6:$Q$70,8,0),"") -> Нижегородская | K19: 23 | L19: 14 | M19: =IFERROR(VLOOKUP(L19,пр.взв!$D$6:$Q$70,2,0),"") -> ДОНДОКОВ Мунко | N19: =IFERROR(VLOOKUP(L19,пр.взв!$D$6:$Q$70,5,0),"") -> КМС | O19: =IFERROR(VLOOKUP(L19,пр.взв!$D$6:$Q$70,6,0),"") -> ДВФО | P19: =IFERROR(VLOOKUP(L19,пр.взв!$D$6:$Q$70,8,0),"") -> Р.Бурятия
B20: 45 | C20: =IFERROR(VLOOKUP(B20,пр.взв!$D$6:$Q$70,2,0),"") | D20: =IFERROR(VLOOKUP(B20,пр.взв!$D$6:$Q$70,5,0),"") | E20: =IFERROR(VLOOKUP(B20,пр.взв!$D$6:$Q$70,6,0),"") | F20: =IFERROR(VLOOKUP(B20,пр.взв!$D$6:$Q$70,8,0),"") | L20: 46 | M20: =IFERROR(VLOOKUP(L20,пр.взв!$D$6:$Q$70,2,0),"") | N20: =IFERROR(VLOOKUP(L20,пр.взв!$D$6:$Q$70,5,0),"") | O20: =IFERROR(VLOOKUP(L20,пр.взв!$D$6:$Q$70,6,0),"") | P20: =IFERROR(VLOOKUP(L20,пр.взв!$D$6:$Q$70,8,0),"")
A21: 8 | B21: 29 | C21: =IFERROR(VLOOKUP(B21,пр.взв!$D$6:$Q$70,2,0),"") -> ТАРАНЧЕНКО Дмитрий | D21: =IFERROR(VLOOKUP(B21,пр.взв!$D$6:$Q$70,5,0),"") -> КМС | E21: =IFERROR(VLOOKUP(B21,пр.взв!$D$6:$Q$70,6,0),"") -> УФО | F21: =IFERROR(VLOOKUP(B21,пр.взв!$D$6:$Q$70,8,0),"") -> Свердловская | K21: 24 | L21: 30 | M21: =IFERROR(VLOOKUP(L21,пр.взв!$D$6:$Q$70,2,0),"") -> АНТАДИКОВ Игорь | N21: =IFERROR(VLOOKUP(L21,пр.взв!$D$6:$Q$70,5,0),"") -> КМС | O21: =IFERROR(VLOOKUP(L21,пр.взв!$D$6:$Q$70,6,0),"") -> СФО | P21: =IFERROR(VLOOKUP(L21,пр.взв!$D$6:$Q$70,8,0),"") -> Р.Алтай
B22: 61 | C22: =IFERROR(VLOOKUP(B22,пр.взв!$D$6:$Q$70,2,0),"") | D22: =IFERROR(VLOOKUP(B22,пр.взв!$D$6:$Q$70,5,0),"") | E22: =IFERROR(VLOOKUP(B22,пр.взв!$D$6:$Q$70,6,0),"") | F22: =IFERROR(VLOOKUP(B22,пр.взв!$D$6:$Q$70,8,0),"") | L22: 62 | M22: =IFERROR(VLOOKUP(L22,пр.взв!$D$6:$Q$70,2,0),"") | N22: =IFERROR(VLOOKUP(L22,пр.взв!$D$6:$Q$70,5,0),"") | O22: =IFERROR(VLOOKUP(L22,пр.взв!$D$6:$Q$70,6,0),"") | P22: =IFERROR(VLOOKUP(L22,пр.взв!$D$6:$Q$70,8,0),"")
A23: 9 | B23: 3 | C23: =IFERROR(VLOOKUP(B23,пр.взв!$D$6:$Q$70,2,0),"") -> БАЛТРУШИН Сергей | D23: =IFERROR(VLOOKUP(B23,пр.взв!$D$6:$Q$70,5,0),"") -> КМС | E23: =IFERROR(VLOOKUP(B23,пр.взв!$D$6:$Q$70,6,0),"") -> СЗФО | F23: =IFERROR(VLOOKUP(B23,пр.взв!$D$6:$Q$70,8,0),"") -> Санкт-Петербург | K23: 25 | L23: 4 | M23: =IFERROR(VLOOKUP(L23,пр.взв!$D$6:$Q$70,2,0),"") -> ЮНУСОВ Ильгиз | N23: =IFERROR(VLOOKUP(L23,пр.взв!$D$6:$Q$70,5,0),"") -> КМС | O23: =IFERROR(VLOOKUP(L23,пр.взв!$D$6:$Q$70,6,0),"") -> ПФО | P23: =IFERROR(VLOOKUP(L23,пр.взв!$D$6:$Q$70,8,0),"") -> Р.Татарстан
B24: 35 | C24: =IFERROR(VLOOKUP(B24,пр.взв!$D$6:$Q$70,2,0),"") | D24: =IFERROR(VLOOKUP(B24,пр.взв!$D$6:$Q$70,5,0),"") | E24: =IFERROR(VLOOKUP(B24,пр.взв!$D$6:$Q$70,6,0),"") | F24: =IFERROR(VLOOKUP(B24,пр.взв!$D$6:$Q$70,8,0),"") | L24: 36 | M24: =IFERROR(VLOOKUP(L24,пр.взв!$D$6:$Q$70,2,0),"") | N24: =IFERROR(VLOOKUP(L24,пр.взв!$D$6:$Q$70,5,0),"") | O24: =IFERROR(VLOOKUP(L24,пр.взв!$D$6:$Q$70,6,0),"") | P24: =IFERROR(VLOOKUP(L24,пр.взв!$D$6:$Q$70,8,0),"")
A25: 10 | B25: 19 | C25: =IFERROR(VLOOKUP(B25,пр.взв!$D$6:$Q$70,2,0),"") -> АЛМАДАКОВ Рамиль | D25: =IFERROR(VLOOKUP(B25,пр.взв!$D$6:$Q$70,5,0),"") -> КМС | E25: =IFERROR(VLOOKUP(B25,пр.взв!$D$6:$Q$70,6,0),"") -> СФО | F25: =IFERROR(VLOOKUP(B25,пр.взв!$D$6:$Q$70,8,0),"") -> Р.Алтай | K25: 26 | L25: 20 | M25: =IFERROR(VLOOKUP(L25,пр.взв!$D$6:$Q$70,2,0),"") -> ФИЛИППОВ Олег | N25: =IFERROR(VLOOKUP(L25,пр.взв!$D$6:$Q$70,5,0),"") -> МС | O25: =IFERROR(VLOOKUP(L25,пр.взв!$D$6:$Q$70,6,0),"") -> СЗФО | P25: =IFERROR(VLOOKUP(L25,пр.взв!$D$6:$Q$70,8,0),"") -> Калининградская
B26: 51 | C26: =IFERROR(VLOOKUP(B26,пр.взв!$D$6:$Q$70,2,0),"") | D26: =IFERROR(VLOOKUP(B26,пр.взв!$D$6:$Q$70,5,0),"") | E26: =IFERROR(VLOOKUP(B26,пр.взв!$D$6:$Q$70,6,0),"") | F26: =IFERROR(VLOOKUP(B26,пр.взв!$D$6:$Q$70,8,0),"") | L26: 52 | M26: =IFERROR(VLOOKUP(L26,пр.взв!$D$6:$Q$70,2,0),"") | N26: =IFERROR(VLOOKUP(L26,пр.взв!$D$6:$Q$70,5,0),"") | O26: =IFERROR(VLOOKUP(L26,пр.взв!$D$6:$Q$70,6,0),"") | P26: =IFERROR(VLOOKUP(L26,пр.взв!$D$6:$Q$70,8,0),"")
A27: 11 | B27: 11 | C27: =IFERROR(VLOOKUP(B27,пр.взв!$D$6:$Q$70,2,0),"") -> АРСАМИКОВ Ибрахим | D27: =IFERROR(VLOOKUP(B27,пр.взв!$D$6:$Q$70,5,0),"") -> КМС | E27: =IFERROR(VLOOKUP(B27,пр.взв!$D$6:$Q$70,6,0),"") -> МОС | F27: =IFERROR(VLOOKUP(B27,пр.взв!$D$6:$Q$70,8,0),"") -> Москва | K27: 27 | L27: 12 | M27: =IFERROR(VLOOKUP(L27,пр.взв!$D$6:$Q$70,2,0),"") -> ГАЖДИЕВ Завир | N27: =IFERROR(VLOOKUP(L27,пр.взв!$D$6:$Q$70,5,0),"") -> МС | O27: =IFERROR(VLOOKUP(L27,пр.взв!$D$6:$Q$70,6,0),"") -> СКФО | P27: =IFERROR(VLOOKUP(L27,пр.взв!$D$6:$Q$70,8,0),"") -> Р.Дагестан
B28: 43 | C28: =IFERROR(VLOOKUP(B28,пр.взв!$D$6:$Q$70,2,0),"") | D28: =IFERROR(VLOOKUP(B28,пр.взв!$D$6:$Q$70,5,0),"") | E28: =IFERROR(VLOOKUP(B28,пр.взв!$D$6:$Q$70,6,0),"") | F28: =IFERROR(VLOOKUP(B28,пр.взв!$D$6:$Q$70,8,0),"") | L28: 44 | M28: =IFERROR(VLOOKUP(L28,пр.взв!$D$6:$Q$70,2,0),"") | N28: =IFERROR(VLOOKUP(L28,пр.взв!$D$6:$Q$70,5,0),"") | O28: =IFERROR(VLOOKUP(L28,пр.взв!$D$6:$Q$70,6,0),"") | P28: =IFERROR(VLOOKUP(L28,пр.взв!$D$6:$Q$70,8,0),"")
A29: 12 | B29: 27 | C29: =IFERROR(VLOOKUP(B29,пр.взв!$D$6:$Q$70,2,0),"") -> БЛАГОДАРИН Артур | D29: =IFERROR(VLOOKUP(B29,пр.взв!$D$6:$Q$70,5,0),"") -> КМС | E29: =IFERROR(VLOOKUP(B29,пр.взв!$D$6:$Q$70,6,0),"") -> ПФО | F29: =IFERROR(VLOOKUP(B29,пр.взв!$D$6:$Q$70,8,0),"") -> Ульяновская | K29: 28 | L29: 28 | M29: =IFERROR(VLOOKUP(L29,пр.взв!$D$6:$Q$70,2,0),"") -> ЯХЪЯЕВ Мансур | N29: =IFERROR(VLOOKUP(L29,пр.взв!$D$6:$Q$70,5,0),"") -> КМС | O29: =IFERROR(VLOOKUP(L29,пр.взв!$D$6:$Q$70,6,0),"") -> СКФО | P29: =IFERROR(VLOOKUP(L29,пр.взв!$D$6:$Q$70,8,0),"") -> Чеченская
B30: 59 | C30: =IFERROR(VLOOKUP(B30,пр.взв!$D$6:$Q$70,2,0),"") | D30: =IFERROR(VLOOKUP(B30,пр.взв!$D$6:$Q$70,5,0),"") | E30: =IFERROR(VLOOKUP(B30,пр.взв!$D$6:$Q$70,6,0),"") | F30: =IFERROR(VLOOKUP(B30,пр.взв!$D$6:$Q$70,8,0),"") | L30: 60 | M30: =IFERROR(VLOOKUP(L30,пр.взв!$D$6:$Q$70,2,0),"") | N30: =IFERROR(VLOOKUP(L30,пр.взв!$D$6:$Q$70,5,0),"") | O30: =IFERROR(VLOOKUP(L30,пр.взв!$D$6:$Q$70,6,0),"") | P30: =IFERROR(VLOOKUP(L30,пр.взв!$D$6:$Q$70,8,0),"")
A31: 13 | B31: 7 | C31: =IFERROR(VLOOKUP(B31,пр.взв!$D$6:$Q$70,2,0),"") -> ХАБИБУЛАЕВ Турпал | D31: =IFERROR(VLOOKUP(B31,пр.взв!$D$6:$Q$70,5,0),"") -> КМС | E31: =IFERROR(VLOOKUP(B31,пр.взв!$D$6:$Q$70,6,0),"") -> СКФО | F31: =IFERROR(VLOOKUP(B31,пр.взв!$D$6:$Q$70,8,0),"") -> Чеченская | K31: 29 | L31: 8 | M31: =IFERROR(VLOOKUP(L31,пр.взв!$D$6:$Q$70,2,0),"") -> ДЕХНИЧ Глеб | N31: =IFERROR(VLOOKUP(L31,пр.взв!$D$6:$Q$70,5,0),"") -> 1р | O31: =IFERROR(VLOOKUP(L31,пр.взв!$D$6:$Q$70,6,0),"") -> УФО | P31: =IFERROR(VLOOKUP(L31,пр.взв!$D$6:$Q$70,8,0),"") -> Челябинская
B32: 39 | C32: =IFERROR(VLOOKUP(B32,пр.взв!$D$6:$Q$70,2,0),"") | D32: =IFERROR(VLOOKUP(B32,пр.взв!$D$6:$Q$70,5,0),"") | E32: =IFERROR(VLOOKUP(B32,пр.взв!$D$6:$Q$70,6,0),"") | F32: =IFERROR(VLOOKUP(B32,пр.взв!$D$6:$Q$70,8,0),"") | L32: 40 | M32: =IFERROR(VLOOKUP(L32,пр.взв!$D$6:$Q$70,2,0),"") | N32: =IFERROR(VLOOKUP(L32,пр.взв!$D$6:$Q$70,5,0),"") | O32: =IFERROR(VLOOKUP(L32,пр.взв!$D$6:$Q$70,6,0),"") | P32: =IFERROR(VLOOKUP(L32,пр.взв!$D$6:$Q$70,8,0),"")
A33: 14 | B33: 23 | C33: =IFERROR(VLOOKUP(B33,пр.взв!$D$6:$Q$70,2,0),"") -> ООРЖАК Айдын | D33: =IFERROR(VLOOKUP(B33,пр.взв!$D$6:$Q$70,5,0),"") -> КМС | E33: =IFERROR(VLOOKUP(B33,пр.взв!$D$6:$Q$70,6,0),"") -> ДВФО | F33: =IFERROR(VLOOKUP(B33,пр.взв!$D$6:$Q$70,8,0),"") -> Р.Бурятия | K33: 30 | L33: 24 | M33: =IFERROR(VLOOKUP(L33,пр.взв!$D$6:$Q$70,2,0),"") -> СЕДИНИН Никита | N33: =IFERROR(VLOOKUP(L33,пр.взв!$D$6:$Q$70,5,0),"") -> КМС | O33: =IFERROR(VLOOKUP(L33,пр.взв!$D$6:$Q$70,6,0),"") -> ПФО | P33: =IFERROR(VLOOKUP(L33,пр.взв!$D$6:$Q$70,8,0),"") -> Пермский
B34: 55 | C34: =IFERROR(VLOOKUP(B34,пр.взв!$D$6:$Q$70,2,0),"") | D34: =IFERROR(VLOOKUP(B34,пр.взв!$D$6:$Q$70,5,0),"") | E34: =IFERROR(VLOOKUP(B34,пр.взв!$D$6:$Q$70,6,0),"") | F34: =IFERROR(VLOOKUP(B34,пр.взв!$D$6:$Q$70,8,0),"") | L34: 56 | M34: =IFERROR(VLOOKUP(L34,пр.взв!$D$6:$Q$70,2,0),"") | N34: =IFERROR(VLOOKUP(L34,пр.взв!$D$6:$Q$70,5,0),"") | O34: =IFERROR(VLOOKUP(L34,пр.взв!$D$6:$Q$70,6,0),"") | P34: =IFERROR(VLOOKUP(L34,пр.взв!$D$6:$Q$70,8,0),"")
A35: 15 | B35: 15 | C35: =IFERROR(VLOOKUP(B35,пр.взв!$D$6:$Q$70,2,0),"") -> ОЧУР Сай-Булат | D35: =IFERROR(VLOOKUP(B35,пр.взв!$D$6:$Q$70,5,0),"") -> КМС | E35: =IFERROR(VLOOKUP(B35,пр.взв!$D$6:$Q$70,6,0),"") -> СФО | F35: =IFERROR(VLOOKUP(B35,пр.взв!$D$6:$Q$70,8,0),"") -> Р.Тыва | K35: 31 | L35: 16 | M35: =IFERROR(VLOOKUP(L35,пр.взв!$D$6:$Q$70,2,0),"") -> НУРЕЛОВ Кайрат | N35: =IFERROR(VLOOKUP(L35,пр.взв!$D$6:$Q$70,5,0),"") -> КМС | O35: =IFERROR(VLOOKUP(L35,пр.взв!$D$6:$Q$70,6,0),"") -> СФО | P35: =IFERROR(VLOOKUP(L35,пр.взв!$D$6:$Q$70,8,0),"") -> Р.Алтай
